{"text_format":"1","workbook":"xlsx","n_sheets":11,"sheets":["ENTER DATA HERE","TA Properties","SEND DATA","Guidance on Completion","CLEAR ALL DATA","ARCHIVE","Generate HL3","Lookup Lists","TA STOCK AVAILABLE","TA STOCK LOOKUP","TA STOCK LIST"],"not_rendered":{"charts":0,"images":3,"macros":1,"external_links":0,"defined_names":1,"comments":3,"pivot_tables":0},"unopened":[],"bounds":{"document_bytes":16777216,"sheet_cells":100000,"rows_first":2000,"rows_last":500,"rows_between":2000,"halvings":0,"cell_chars":16384,"cell_head_chars":4096},"cells_cut":0,"cells_raw":0,"read":"whole","date_system":"1900"}

{"sheet":"ENTER DATA HERE","index":0,"n_rows":10000,"n_cols":21,"rows_kept":4500,"cut":true,"hidden":false,"merged":[[6,12,6,13],[6,4,6,8],[6,1,6,3],[6,9,6,11]],"bounds":{"rows_first":2000,"rows_last":500,"rows_between":2000,"halvings":0}}
["Local Authority","Orkney",null,null,null,null,null,null,null,null,null,null,null,null,null,null,null,{"$f":"SUM(R8:R9)","v":1},{"$f":"SUM(S8:S9)","v":0},{"$f":"S1-R1","v":-1},"Check if HL1 for every Offer"]
["Local Office","Main",null,null,null,null,null,null,null,null,null,null,null,null,null,null,null,null,null,null,"Should be zero at all times"]
[]
[]
[]
[]
[null,"For LA Use Only",null,null,"Make Offers",null,null,null,null,"Check In",null,null,"Check Out",null,"Automatically Generated"]
["HL1 APPREF\n(Must be provided for all cases)","First Name","Last Name","Are There Any Children In The Household Or Is Any Household Member Pregnant?","Date Offered","Property Address\n(LA Use Only)","Accommodation Type (Hide)","UPRN HASH","Accepted","Taken Up?","Entry Date","Is The Accommodation Unsuitable?","Exit Date","Is It In Breach?","HL1 APPREF\n(Must be provided for all cases)-Date Offered-UPRN HASH",1,null,1,0]
[]
["","","","","","",{"$f":"IF(F10<>\"\",VLOOKUP($F10,'TA STOCK LOOKUP'!$A$2:$C$202,2,FALSE),\"\")","v":""},{"$f":"IF(G10<>\"\",VLOOKUP($F10,'TA STOCK LOOKUP'!$A$2:$C$202,3,FALSE),\"\")","v":""},"","","","","","",null,null,null,1,1]
["","","","","","",{"$f":"IF(F11<>\"\",VLOOKUP($F11,'TA STOCK LOOKUP'!$A$2:$C$202,2,FALSE),\"\")","v":""},{"$f":"IF(G11<>\"\",VLOOKUP($F11,'TA STOCK LOOKUP'!$A$2:$C$202,3,FALSE),\"\")","v":""},"","","","","","","123-42101-FEDA389E EA8DFA90 AA191060 2FE30C50 BCC95545",1,null,1,1]
["","","","","","",{"$f":"IF(F12<>\"\",VLOOKUP($F12,'TA STOCK LOOKUP'!$A$2:$C$202,2,FALSE),\"\")","v":""},{"$f":"IF(G12<>\"\",VLOOKUP($F12,'TA STOCK LOOKUP'!$A$2:$C$202,3,FALSE),\"\")","v":""},"","","","","","","22222222-42103-1F702448 CE7EA45F D9BD37DA 6CC168CF BF2640B0",1,null,1,1]
["","","","","","",{"$f":"IF(F13<>\"\",VLOOKUP($F13,'TA STOCK LOOKUP'!$A$2:$C$202,2,FALSE),\"\")","v":""},{"$f":"IF(G13<>\"\",VLOOKUP($F13,'TA STOCK LOOKUP'!$A$2:$C$202,3,FALSE),\"\")","v":""},"","","","","","","cccc-42103-B17E37F1 40F1EC86 096031B7 B5E37A68 29AC5B77",1,null,1,1]
["","","","","","",{"$f":"IF(F14<>\"\",VLOOKUP($F14,'TA STOCK LOOKUP'!$A$2:$C$202,2,FALSE),\"\")","v":""},{"$f":"IF(G14<>\"\",VLOOKUP($F14,'TA STOCK LOOKUP'!$A$2:$C$202,3,FALSE),\"\")","v":""},"","","","","","",null,null,null,1,1]
["","","","","","",{"$f":"IF(F15<>\"\",VLOOKUP($F15,'TA STOCK LOOKUP'!$A$2:$C$202,2,FALSE),\"\")","v":""},{"$f":"IF(G15<>\"\",VLOOKUP($F15,'TA STOCK LOOKUP'!$A$2:$C$202,3,FALSE),\"\")","v":""},"","","","","","",null,null,null,1,1]
["","","","","","",{"$f":"IF(F16<>\"\",VLOOKUP($F16,'TA STOCK LOOKUP'!$A$2:$C$202,2,FALSE),\"\")","v":""},{"$f":"IF(G16<>\"\",VLOOKUP($F16,'TA STOCK LOOKUP'!$A$2:$C$202,3,FALSE),\"\")","v":""},"","","","","","",null,null,null,1,1]
["","","","","","",{"$f":"IF(F17<>\"\",VLOOKUP($F17,'TA STOCK LOOKUP'!$A$2:$C$202,2,FALSE),\"\")","v":""},{"$f":"IF(G17<>\"\",VLOOKUP($F17,'TA STOCK LOOKUP'!$A$2:$C$202,3,FALSE),\"\")","v":""},"","","","","","",null,null,null,1,1]
["","","","","","",{"$f":"IF(F18<>\"\",VLOOKUP($F18,'TA STOCK LOOKUP'!$A$2:$C$202,2,FALSE),\"\")","v":""},{"$f":"IF(G18<>\"\",VLOOKUP($F18,'TA STOCK LOOKUP'!$A$2:$C$202,3,FALSE),\"\")","v":""},"","","","","","",null,null,null,1,1]
["","","","","","",{"$f":"IF(F19<>\"\",VLOOKUP($F19,'TA STOCK LOOKUP'!$A$2:$C$202,2,FALSE),\"\")","v":""},{"$f":"IF(G19<>\"\",VLOOKUP($F19,'TA STOCK LOOKUP'!$A$2:$C$202,3,FALSE),\"\")","v":""},"","","","","","",null,null,null,1,1]
["","","","","","",{"$f":"IF(F20<>\"\",VLOOKUP($F20,'TA STOCK LOOKUP'!$A$2:$C$202,2,FALSE),\"\")","v":""},{"$f":"IF(G20<>\"\",VLOOKUP($F20,'TA STOCK LOOKUP'!$A$2:$C$202,3,FALSE),\"\")","v":""},"","","","","","",null,null,null,1,1]
["","","","","","",{"$f":"IF(F21<>\"\",VLOOKUP($F21,'TA STOCK LOOKUP'!$A$2:$C$202,2,FALSE),\"\")","v":""},{"$f":"IF(G21<>\"\",VLOOKUP($F21,'TA STOCK LOOKUP'!$A$2:$C$202,3,FALSE),\"\")","v":""},"","","","","","",null,null,null,1,1]
["","","","","","",{"$f":"IF(F22<>\"\",VLOOKUP($F22,'TA STOCK LOOKUP'!$A$2:$C$202,2,FALSE),\"\")","v":""},{"$f":"IF(G22<>\"\",VLOOKUP($F22,'TA STOCK LOOKUP'!$A$2:$C$202,3,FALSE),\"\")","v":""},"","","","","","",null,null,null,1,1]
["","","","","","",{"$f":"IF(F23<>\"\",VLOOKUP($F23,'TA STOCK LOOKUP'!$A$2:$C$202,2,FALSE),\"\")","v":""},{"$f":"IF(G23<>\"\",VLOOKUP($F23,'TA STOCK LOOKUP'!$A$2:$C$202,3,FALSE),\"\")","v":""},"","","","","","",null,null,null,1,1]
["","","","","","",{"$f":"IF(F24<>\"\",VLOOKUP($F24,'TA STOCK LOOKUP'!$A$2:$C$202,2,FALSE),\"\")","v":""},{"$f":"IF(G24<>\"\",VLOOKUP($F24,'TA STOCK LOOKUP'!$A$2:$C$202,3,FALSE),\"\")","v":""},"","","","","","",null,null,null,1,1]
["","","","","","",{"$f":"IF(F25<>\"\",VLOOKUP($F25,'TA STOCK LOOKUP'!$A$2:$C$202,2,FALSE),\"\")","v":""},{"$f":"IF(G25<>\"\",VLOOKUP($F25,'TA STOCK LOOKUP'!$A$2:$C$202,3,FALSE),\"\")","v":""},"","","","","","",null,null,null,1,1]
["","","","","","",{"$f":"IF(F26<>\"\",VLOOKUP($F26,'TA STOCK LOOKUP'!$A$2:$C$202,2,FALSE),\"\")","v":""},{"$f":"IF(G26<>\"\",VLOOKUP($F26,'TA STOCK LOOKUP'!$A$2:$C$202,3,FALSE),\"\")","v":""},"","","","","","",null,null,null,1,1]
["","","","","","",{"$f":"IF(F27<>\"\",VLOOKUP($F27,'TA STOCK LOOKUP'!$A$2:$C$202,2,FALSE),\"\")","v":""},{"$f":"IF(G27<>\"\",VLOOKUP($F27,'TA STOCK LOOKUP'!$A$2:$C$202,3,FALSE),\"\")","v":""},"","","","","","",null,null,null,1,1]
["","","","","","",{"$f":"IF(F28<>\"\",VLOOKUP($F28,'TA STOCK LOOKUP'!$A$2:$C$202,2,FALSE),\"\")","v":""},{"$f":"IF(G28<>\"\",VLOOKUP($F28,'TA STOCK LOOKUP'!$A$2:$C$202,3,FALSE),\"\")","v":""},"","","","","","",null,null,null,1,1]
["","","","","","",{"$f":"IF(F29<>\"\",VLOOKUP($F29,'TA STOCK LOOKUP'!$A$2:$C$202,2,FALSE),\"\")","v":""},{"$f":"IF(G29<>\"\",VLOOKUP($F29,'TA STOCK LOOKUP'!$A$2:$C$202,3,FALSE),\"\")","v":""},"","","","","","",null,null,null,1,1]
["","","","","","",{"$f":"IF(F30<>\"\",VLOOKUP($F30,'TA STOCK LOOKUP'!$A$2:$C$202,2,FALSE),\"\")","v":""},{"$f":"IF(G30<>\"\",VLOOKUP($F30,'TA STOCK LOOKUP'!$A$2:$C$202,3,FALSE),\"\")","v":""},"","","","","","",null,null,null,1,1]
["","","","","","",{"$f":"IF(F31<>\"\",VLOOKUP($F31,'TA STOCK LOOKUP'!$A$2:$C$202,2,FALSE),\"\")","v":""},{"$f":"IF(G31<>\"\",VLOOKUP($F31,'TA STOCK LOOKUP'!$A$2:$C$202,3,FALSE),\"\")","v":""},"","","","","","",null,null,null,1,1]
["","","","","","",{"$f":"IF(F32<>\"\",VLOOKUP($F32,'TA STOCK LOOKUP'!$A$2:$C$202,2,FALSE),\"\")","v":""},{"$f":"IF(G32<>\"\",VLOOKUP($F32,'TA STOCK LOOKUP'!$A$2:$C$202,3,FALSE),\"\")","v":""},"","","","","",""]
["","","","","","",{"$f":"IF(F33<>\"\",VLOOKUP($F33,'TA STOCK LOOKUP'!$A$2:$C$202,2,FALSE),\"\")","v":""},{"$f":"IF(G33<>\"\",VLOOKUP($F33,'TA STOCK LOOKUP'!$A$2:$C$202,3,FALSE),\"\")","v":""},"","","","","",""]
["","","","","","",{"$f":"IF(F34<>\"\",VLOOKUP($F34,'TA STOCK LOOKUP'!$A$2:$C$202,2,FALSE),\"\")","v":""},{"$f":"IF(G34<>\"\",VLOOKUP($F34,'TA STOCK LOOKUP'!$A$2:$C$202,3,FALSE),\"\")","v":""},"","","","","",""]
["","","","","","",{"$f":"IF(F35<>\"\",VLOOKUP($F35,'TA STOCK LOOKUP'!$A$2:$C$202,2,FALSE),\"\")","v":""},{"$f":"IF(G35<>\"\",VLOOKUP($F35,'TA STOCK LOOKUP'!$A$2:$C$202,3,FALSE),\"\")","v":""},"","","","","",""]
["","","","","","",{"$f":"IF(F36<>\"\",VLOOKUP($F36,'TA STOCK LOOKUP'!$A$2:$C$202,2,FALSE),\"\")","v":""},{"$f":"IF(G36<>\"\",VLOOKUP($F36,'TA STOCK LOOKUP'!$A$2:$C$202,3,FALSE),\"\")","v":""},"","","","","",""]
["","","","","","",{"$f":"IF(F37<>\"\",VLOOKUP($F37,'TA STOCK LOOKUP'!$A$2:$C$202,2,FALSE),\"\")","v":""},{"$f":"IF(G37<>\"\",VLOOKUP($F37,'TA STOCK LOOKUP'!$A$2:$C$202,3,FALSE),\"\")","v":""},"","","","","",""]
["","","","","","",{"$f":"IF(F38<>\"\",VLOOKUP($F38,'TA STOCK LOOKUP'!$A$2:$C$202,2,FALSE),\"\")","v":""},{"$f":"IF(G38<>\"\",VLOOKUP($F38,'TA STOCK LOOKUP'!$A$2:$C$202,3,FALSE),\"\")","v":""},"","","","","",""]
["","","","","","",{"$f":"IF(F39<>\"\",VLOOKUP($F39,'TA STOCK LOOKUP'!$A$2:$C$202,2,FALSE),\"\")","v":""},{"$f":"IF(G39<>\"\",VLOOKUP($F39,'TA STOCK LOOKUP'!$A$2:$C$202,3,FALSE),\"\")","v":""},"","","","","",""]
["","","","","","",{"$f":"IF(F40<>\"\",VLOOKUP($F40,'TA STOCK LOOKUP'!$A$2:$C$202,2,FALSE),\"\")","v":""},{"$f":"IF(G40<>\"\",VLOOKUP($F40,'TA STOCK LOOKUP'!$A$2:$C$202,3,FALSE),\"\")","v":""},"","","","","",""]
["","","","","","",{"$f":"IF(F41<>\"\",VLOOKUP($F41,'TA STOCK LOOKUP'!$A$2:$C$202,2,FALSE),\"\")","v":""},{"$f":"IF(G41<>\"\",VLOOKUP($F41,'TA STOCK LOOKUP'!$A$2:$C$202,3,FALSE),\"\")","v":""},"","","","","",""]
["","","","","","",{"$f":"IF(F42<>\"\",VLOOKUP($F42,'TA STOCK LOOKUP'!$A$2:$C$202,2,FALSE),\"\")","v":""},{"$f":"IF(G42<>\"\",VLOOKUP($F42,'TA STOCK LOOKUP'!$A$2:$C$202,3,FALSE),\"\")","v":""},"","","","","",""]
["","","","","","",{"$f":"IF(F43<>\"\",VLOOKUP($F43,'TA STOCK LOOKUP'!$A$2:$C$202,2,FALSE),\"\")","v":""},{"$f":"IF(G43<>\"\",VLOOKUP($F43,'TA STOCK LOOKUP'!$A$2:$C$202,3,FALSE),\"\")","v":""},"","","","","",""]
["","","","","","",{"$f":"IF(F44<>\"\",VLOOKUP($F44,'TA STOCK LOOKUP'!$A$2:$C$202,2,FALSE),\"\")","v":""},{"$f":"IF(G44<>\"\",VLOOKUP($F44,'TA STOCK LOOKUP'!$A$2:$C$202,3,FALSE),\"\")","v":""},"","","","","",""]
["","","","","","",{"$f":"IF(F45<>\"\",VLOOKUP($F45,'TA STOCK LOOKUP'!$A$2:$C$202,2,FALSE),\"\")","v":""},{"$f":"IF(G45<>\"\",VLOOKUP($F45,'TA STOCK LOOKUP'!$A$2:$C$202,3,FALSE),\"\")","v":""},"","","","","",""]
["","","","","","",{"$f":"IF(F46<>\"\",VLOOKUP($F46,'TA STOCK LOOKUP'!$A$2:$C$202,2,FALSE),\"\")","v":""},{"$f":"IF(G46<>\"\",VLOOKUP($F46,'TA STOCK LOOKUP'!$A$2:$C$202,3,FALSE),\"\")","v":""},"","","","","",""]
["","","","","","",{"$f":"IF(F47<>\"\",VLOOKUP($F47,'TA STOCK LOOKUP'!$A$2:$C$202,2,FALSE),\"\")","v":""},{"$f":"IF(G47<>\"\",VLOOKUP($F47,'TA STOCK LOOKUP'!$A$2:$C$202,3,FALSE),\"\")","v":""},"","","","","",""]
["","","","","","",{"$f":"IF(F48<>\"\",VLOOKUP($F48,'TA STOCK LOOKUP'!$A$2:$C$202,2,FALSE),\"\")","v":""},{"$f":"IF(G48<>\"\",VLOOKUP($F48,'TA STOCK LOOKUP'!$A$2:$C$202,3,FALSE),\"\")","v":""},"","","","","",""]
["","","","","","",{"$f":"IF(F49<>\"\",VLOOKUP($F49,'TA STOCK LOOKUP'!$A$2:$C$202,2,FALSE),\"\")","v":""},{"$f":"IF(G49<>\"\",VLOOKUP($F49,'TA STOCK LOOKUP'!$A$2:$C$202,3,FALSE),\"\")","v":""},"","","","","",""]
["","","","","","",{"$f":"IF(F50<>\"\",VLOOKUP($F50,'TA STOCK LOOKUP'!$A$2:$C$202,2,FALSE),\"\")","v":""},{"$f":"IF(G50<>\"\",VLOOKUP($F50,'TA STOCK LOOKUP'!$A$2:$C$202,3,FALSE),\"\")","v":""},"","","","","",""]
["","","","","","",{"$f":"IF(F51<>\"\",VLOOKUP($F51,'TA STOCK LOOKUP'!$A$2:$C$202,2,FALSE),\"\")","v":""},{"$f":"IF(G51<>\"\",VLOOKUP($F51,'TA STOCK LOOKUP'!$A$2:$C$202,3,FALSE),\"\")","v":""},"","","","","",""]
["","","","","","",{"$f":"IF(F52<>\"\",VLOOKUP($F52,'TA STOCK LOOKUP'!$A$2:$C$202,2,FALSE),\"\")","v":""},{"$f":"IF(G52<>\"\",VLOOKUP($F52,'TA STOCK LOOKUP'!$A$2:$C$202,3,FALSE),\"\")","v":""},"","","","","",""]
["","","","","","",{"$f":"IF(F53<>\"\",VLOOKUP($F53,'TA STOCK LOOKUP'!$A$2:$C$202,2,FALSE),\"\")","v":""},{"$f":"IF(G53<>\"\",VLOOKUP($F53,'TA STOCK LOOKUP'!$A$2:$C$202,3,FALSE),\"\")","v":""},"","","","","",""]
["","","","","","",{"$f":"IF(F54<>\"\",VLOOKUP($F54,'TA STOCK LOOKUP'!$A$2:$C$202,2,FALSE),\"\")","v":""},{"$f":"IF(G54<>\"\",VLOOKUP($F54,'TA STOCK LOOKUP'!$A$2:$C$202,3,FALSE),\"\")","v":""},"","","","","",""]
["","","","","","",{"$f":"IF(F55<>\"\",VLOOKUP($F55,'TA STOCK LOOKUP'!$A$2:$C$202,2,FALSE),\"\")","v":""},{"$f":"IF(G55<>\"\",VLOOKUP($F55,'TA STOCK LOOKUP'!$A$2:$C$202,3,FALSE),\"\")","v":""},"","","","","",""]
["","","","","","",{"$f":"IF(F56<>\"\",VLOOKUP($F56,'TA STOCK LOOKUP'!$A$2:$C$202,2,FALSE),\"\")","v":""},{"$f":"IF(G56<>\"\",VLOOKUP($F56,'TA STOCK LOOKUP'!$A$2:$C$202,3,FALSE),\"\")","v":""},"","","","","",""]
["","","","","","",{"$f":"IF(F57<>\"\",VLOOKUP($F57,'TA STOCK LOOKUP'!$A$2:$C$202,2,FALSE),\"\")","v":""},{"$f":"IF(G57<>\"\",VLOOKUP($F57,'TA STOCK LOOKUP'!$A$2:$C$202,3,FALSE),\"\")","v":""},"","","","","",""]
["","","","","","",{"$f":"IF(F58<>\"\",VLOOKUP($F58,'TA STOCK LOOKUP'!$A$2:$C$202,2,FALSE),\"\")","v":""},{"$f":"IF(G58<>\"\",VLOOKUP($F58,'TA STOCK LOOKUP'!$A$2:$C$202,3,FALSE),\"\")","v":""},"","","","","",""]
["","","","","","",{"$f":"IF(F59<>\"\",VLOOKUP($F59,'TA STOCK LOOKUP'!$A$2:$C$202,2,FALSE),\"\")","v":""},{"$f":"IF(G59<>\"\",VLOOKUP($F59,'TA STOCK LOOKUP'!$A$2:$C$202,3,FALSE),\"\")","v":""},"","","","","",""]
["","","","","","",{"$f":"IF(F60<>\"\",VLOOKUP($F60,'TA STOCK LOOKUP'!$A$2:$C$202,2,FALSE),\"\")","v":""},{"$f":"IF(G60<>\"\",VLOOKUP($F60,'TA STOCK LOOKUP'!$A$2:$C$202,3,FALSE),\"\")","v":""},"","","","","",""]
["","","","","","",{"$f":"IF(F61<>\"\",VLOOKUP($F61,'TA STOCK LOOKUP'!$A$2:$C$202,2,FALSE),\"\")","v":""},{"$f":"IF(G61<>\"\",VLOOKUP($F61,'TA STOCK LOOKUP'!$A$2:$C$202,3,FALSE),\"\")","v":""},"","","","","",""]
["","","","","","",{"$f":"IF(F62<>\"\",VLOOKUP($F62,'TA STOCK LOOKUP'!$A$2:$C$202,2,FALSE),\"\")","v":""},{"$f":"IF(G62<>\"\",VLOOKUP($F62,'TA STOCK LOOKUP'!$A$2:$C$202,3,FALSE),\"\")","v":""},"","","","","",""]
["","","","","","",{"$f":"IF(F63<>\"\",VLOOKUP($F63,'TA STOCK LOOKUP'!$A$2:$C$202,2,FALSE),\"\")","v":""},{"$f":"IF(G63<>\"\",VLOOKUP($F63,'TA STOCK LOOKUP'!$A$2:$C$202,3,FALSE),\"\")","v":""},"","","","","",""]
["","","","","","",{"$f":"IF(F64<>\"\",VLOOKUP($F64,'TA STOCK LOOKUP'!$A$2:$C$202,2,FALSE),\"\")","v":""},{"$f":"IF(G64<>\"\",VLOOKUP($F64,'TA STOCK LOOKUP'!$A$2:$C$202,3,FALSE),\"\")","v":""},"","","","","",""]
["","","","","","",{"$f":"IF(F65<>\"\",VLOOKUP($F65,'TA STOCK LOOKUP'!$A$2:$C$202,2,FALSE),\"\")","v":""},{"$f":"IF(G65<>\"\",VLOOKUP($F65,'TA STOCK LOOKUP'!$A$2:$C$202,3,FALSE),\"\")","v":""},"","","","","",""]
["","","","","","",{"$f":"IF(F66<>\"\",VLOOKUP($F66,'TA STOCK LOOKUP'!$A$2:$C$202,2,FALSE),\"\")","v":""},{"$f":"IF(G66<>\"\",VLOOKUP($F66,'TA STOCK LOOKUP'!$A$2:$C$202,3,FALSE),\"\")","v":""},"","","","","",""]
["","","","","","",{"$f":"IF(F67<>\"\",VLOOKUP($F67,'TA STOCK LOOKUP'!$A$2:$C$202,2,FALSE),\"\")","v":""},{"$f":"IF(G67<>\"\",VLOOKUP($F67,'TA STOCK LOOKUP'!$A$2:$C$202,3,FALSE),\"\")","v":""},"","","","","",""]
["","","","","","",{"$f":"IF(F68<>\"\",VLOOKUP($F68,'TA STOCK LOOKUP'!$A$2:$C$202,2,FALSE),\"\")","v":""},{"$f":"IF(G68<>\"\",VLOOKUP($F68,'TA STOCK LOOKUP'!$A$2:$C$202,3,FALSE),\"\")","v":""},"","","","","",""]
["","","","","","",{"$f":"IF(F69<>\"\",VLOOKUP($F69,'TA STOCK LOOKUP'!$A$2:$C$202,2,FALSE),\"\")","v":""},{"$f":"IF(G69<>\"\",VLOOKUP($F69,'TA STOCK LOOKUP'!$A$2:$C$202,3,FALSE),\"\")","v":""},"","","","","",""]
["","","","","","",{"$f":"IF(F70<>\"\",VLOOKUP($F70,'TA STOCK LOOKUP'!$A$2:$C$202,2,FALSE),\"\")","v":""},{"$f":"IF(G70<>\"\",VLOOKUP($F70,'TA STOCK LOOKUP'!$A$2:$C$202,3,FALSE),\"\")","v":""},"","","","","",""]
["","","","","","",{"$f":"IF(F71<>\"\",VLOOKUP($F71,'TA STOCK LOOKUP'!$A$2:$C$202,2,FALSE),\"\")","v":""},{"$f":"IF(G71<>\"\",VLOOKUP($F71,'TA STOCK LOOKUP'!$A$2:$C$202,3,FALSE),\"\")","v":""},"","","","","",""]
["","","","","","",{"$f":"IF(F72<>\"\",VLOOKUP($F72,'TA STOCK LOOKUP'!$A$2:$C$202,2,FALSE),\"\")","v":""},{"$f":"IF(G72<>\"\",VLOOKUP($F72,'TA STOCK LOOKUP'!$A$2:$C$202,3,FALSE),\"\")","v":""},"","","","","",""]
["","","","","","",{"$f":"IF(F73<>\"\",VLOOKUP($F73,'TA STOCK LOOKUP'!$A$2:$C$202,2,FALSE),\"\")","v":""},{"$f":"IF(G73<>\"\",VLOOKUP($F73,'TA STOCK LOOKUP'!$A$2:$C$202,3,FALSE),\"\")","v":""},"","","","","",""]
["","","","","","",{"$f":"IF(F74<>\"\",VLOOKUP($F74,'TA STOCK LOOKUP'!$A$2:$C$202,2,FALSE),\"\")","v":""},{"$f":"IF(G74<>\"\",VLOOKUP($F74,'TA STOCK LOOKUP'!$A$2:$C$202,3,FALSE),\"\")","v":""},"","","","","",""]
["","","","","","",{"$f":"IF(F75<>\"\",VLOOKUP($F75,'TA STOCK LOOKUP'!$A$2:$C$202,2,FALSE),\"\")","v":""},{"$f":"IF(G75<>\"\",VLOOKUP($F75,'TA STOCK LOOKUP'!$A$2:$C$202,3,FALSE),\"\")","v":""},"","","","","",""]
["","","","","","",{"$f":"IF(F76<>\"\",VLOOKUP($F76,'TA STOCK LOOKUP'!$A$2:$C$202,2,FALSE),\"\")","v":""},{"$f":"IF(G76<>\"\",VLOOKUP($F76,'TA STOCK LOOKUP'!$A$2:$C$202,3,FALSE),\"\")","v":""},"","","","","",""]
["","","","","","",{"$f":"IF(F77<>\"\",VLOOKUP($F77,'TA STOCK LOOKUP'!$A$2:$C$202,2,FALSE),\"\")","v":""},{"$f":"IF(G77<>\"\",VLOOKUP($F77,'TA STOCK LOOKUP'!$A$2:$C$202,3,FALSE),\"\")","v":""},"","","","","",""]
["","","","","","",{"$f":"IF(F78<>\"\",VLOOKUP($F78,'TA STOCK LOOKUP'!$A$2:$C$202,2,FALSE),\"\")","v":""},{"$f":"IF(G78<>\"\",VLOOKUP($F78,'TA STOCK LOOKUP'!$A$2:$C$202,3,FALSE),\"\")","v":""},"","","","","",""]
["","","","","","",{"$f":"IF(F79<>\"\",VLOOKUP($F79,'TA STOCK LOOKUP'!$A$2:$C$202,2,FALSE),\"\")","v":""},{"$f":"IF(G79<>\"\",VLOOKUP($F79,'TA STOCK LOOKUP'!$A$2:$C$202,3,FALSE),\"\")","v":""},"","","","","",""]
["","","","","","",{"$f":"IF(F80<>\"\",VLOOKUP($F80,'TA STOCK LOOKUP'!$A$2:$C$202,2,FALSE),\"\")","v":""},{"$f":"IF(G80<>\"\",VLOOKUP($F80,'TA STOCK LOOKUP'!$A$2:$C$202,3,FALSE),\"\")","v":""},"","","","","",""]
["","","","","","",{"$f":"IF(F81<>\"\",VLOOKUP($F81,'TA STOCK LOOKUP'!$A$2:$C$202,2,FALSE),\"\")","v":""},{"$f":"IF(G81<>\"\",VLOOKUP($F81,'TA STOCK LOOKUP'!$A$2:$C$202,3,FALSE),\"\")","v":""},"","","","","",""]
["","","","","","",{"$f":"IF(F82<>\"\",VLOOKUP($F82,'TA STOCK LOOKUP'!$A$2:$C$202,2,FALSE),\"\")","v":""},{"$f":"IF(G82<>\"\",VLOOKUP($F82,'TA STOCK LOOKUP'!$A$2:$C$202,3,FALSE),\"\")","v":""},"","","","","",""]
["","","","","","",{"$f":"IF(F83<>\"\",VLOOKUP($F83,'TA STOCK LOOKUP'!$A$2:$C$202,2,FALSE),\"\")","v":""},{"$f":"IF(G83<>\"\",VLOOKUP($F83,'TA STOCK LOOKUP'!$A$2:$C$202,3,FALSE),\"\")","v":""},"","","","","",""]
["","","","","","",{"$f":"IF(F84<>\"\",VLOOKUP($F84,'TA STOCK LOOKUP'!$A$2:$C$202,2,FALSE),\"\")","v":""},{"$f":"IF(G84<>\"\",VLOOKUP($F84,'TA STOCK LOOKUP'!$A$2:$C$202,3,FALSE),\"\")","v":""},"","","","","",""]
["","","","","","",{"$f":"IF(F85<>\"\",VLOOKUP($F85,'TA STOCK LOOKUP'!$A$2:$C$202,2,FALSE),\"\")","v":""},{"$f":"IF(G85<>\"\",VLOOKUP($F85,'TA STOCK LOOKUP'!$A$2:$C$202,3,FALSE),\"\")","v":""},"","","","","",""]
["","","","","","",{"$f":"IF(F86<>\"\",VLOOKUP($F86,'TA STOCK LOOKUP'!$A$2:$C$202,2,FALSE),\"\")","v":""},{"$f":"IF(G86<>\"\",VLOOKUP($F86,'TA STOCK LOOKUP'!$A$2:$C$202,3,FALSE),\"\")","v":""},"","","","","",""]
["","","","","","",{"$f":"IF(F87<>\"\",VLOOKUP($F87,'TA STOCK LOOKUP'!$A$2:$C$202,2,FALSE),\"\")","v":""},{"$f":"IF(G87<>\"\",VLOOKUP($F87,'TA STOCK LOOKUP'!$A$2:$C$202,3,FALSE),\"\")","v":""},"","","","","",""]
["","","","","","",{"$f":"IF(F88<>\"\",VLOOKUP($F88,'TA STOCK LOOKUP'!$A$2:$C$202,2,FALSE),\"\")","v":""},{"$f":"IF(G88<>\"\",VLOOKUP($F88,'TA STOCK LOOKUP'!$A$2:$C$202,3,FALSE),\"\")","v":""},"","","","","",""]
["","","","","","",{"$f":"IF(F89<>\"\",VLOOKUP($F89,'TA STOCK LOOKUP'!$A$2:$C$202,2,FALSE),\"\")","v":""},{"$f":"IF(G89<>\"\",VLOOKUP($F89,'TA STOCK LOOKUP'!$A$2:$C$202,3,FALSE),\"\")","v":""},"","","","","",""]
["","","","","","",{"$f":"IF(F90<>\"\",VLOOKUP($F90,'TA STOCK LOOKUP'!$A$2:$C$202,2,FALSE),\"\")","v":""},{"$f":"IF(G90<>\"\",VLOOKUP($F90,'TA STOCK LOOKUP'!$A$2:$C$202,3,FALSE),\"\")","v":""},"","","","","",""]
["","","","","","",{"$f":"IF(F91<>\"\",VLOOKUP($F91,'TA STOCK LOOKUP'!$A$2:$C$202,2,FALSE),\"\")","v":""},{"$f":"IF(G91<>\"\",VLOOKUP($F91,'TA STOCK LOOKUP'!$A$2:$C$202,3,FALSE),\"\")","v":""},"","","","","",""]
["","","","","","",{"$f":"IF(F92<>\"\",VLOOKUP($F92,'TA STOCK LOOKUP'!$A$2:$C$202,2,FALSE),\"\")","v":""},{"$f":"IF(G92<>\"\",VLOOKUP($F92,'TA STOCK LOOKUP'!$A$2:$C$202,3,FALSE),\"\")","v":""},"","","","","",""]
["","","","","","",{"$f":"IF(F93<>\"\",VLOOKUP($F93,'TA STOCK LOOKUP'!$A$2:$C$202,2,FALSE),\"\")","v":""},{"$f":"IF(G93<>\"\",VLOOKUP($F93,'TA STOCK LOOKUP'!$A$2:$C$202,3,FALSE),\"\")","v":""},"","","","","",""]
["","","","","","",{"$f":"IF(F94<>\"\",VLOOKUP($F94,'TA STOCK LOOKUP'!$A$2:$C$202,2,FALSE),\"\")","v":""},{"$f":"IF(G94<>\"\",VLOOKUP($F94,'TA STOCK LOOKUP'!$A$2:$C$202,3,FALSE),\"\")","v":""},"","","","","",""]
["","","","","","",{"$f":"IF(F95<>\"\",VLOOKUP($F95,'TA STOCK LOOKUP'!$A$2:$C$202,2,FALSE),\"\")","v":""},{"$f":"IF(G95<>\"\",VLOOKUP($F95,'TA STOCK LOOKUP'!$A$2:$C$202,3,FALSE),\"\")","v":""},"","","","","",""]
["","","","","","",{"$f":"IF(F96<>\"\",VLOOKUP($F96,'TA STOCK LOOKUP'!$A$2:$C$202,2,FALSE),\"\")","v":""},{"$f":"IF(G96<>\"\",VLOOKUP($F96,'TA STOCK LOOKUP'!$A$2:$C$202,3,FALSE),\"\")","v":""},"","","","","",""]
["","","","","","",{"$f":"IF(F97<>\"\",VLOOKUP($F97,'TA STOCK LOOKUP'!$A$2:$C$202,2,FALSE),\"\")","v":""},{"$f":"IF(G97<>\"\",VLOOKUP($F97,'TA STOCK LOOKUP'!$A$2:$C$202,3,FALSE),\"\")","v":""},"","","","","",""]
["","","","","","",{"$f":"IF(F98<>\"\",VLOOKUP($F98,'TA STOCK LOOKUP'!$A$2:$C$202,2,FALSE),\"\")","v":""},{"$f":"IF(G98<>\"\",VLOOKUP($F98,'TA STOCK LOOKUP'!$A$2:$C$202,3,FALSE),\"\")","v":""},"","","","","",""]
["","","","","","",{"$f":"IF(F99<>\"\",VLOOKUP($F99,'TA STOCK LOOKUP'!$A$2:$C$202,2,FALSE),\"\")","v":""},{"$f":"IF(G99<>\"\",VLOOKUP($F99,'TA STOCK LOOKUP'!$A$2:$C$202,3,FALSE),\"\")","v":""},"","","","","",""]
["","","","","","",{"$f":"IF(F100<>\"\",VLOOKUP($F100,'TA STOCK LOOKUP'!$A$2:$C$202,2,FALSE),\"\")","v":""},{"$f":"IF(G100<>\"\",VLOOKUP($F100,'TA STOCK LOOKUP'!$A$2:$C$202,3,FALSE),\"\")","v":""},"","","","","",""]
["","","","","","",{"$f":"IF(F101<>\"\",VLOOKUP($F101,'TA STOCK LOOKUP'!$A$2:$C$202,2,FALSE),\"\")","v":""},{"$f":"IF(G101<>\"\",VLOOKUP($F101,'TA STOCK LOOKUP'!$A$2:$C$202,3,FALSE),\"\")","v":""},"","","","","",""]
["","","","","","",{"$f":"IF(F102<>\"\",VLOOKUP($F102,'TA STOCK LOOKUP'!$A$2:$C$202,2,FALSE),\"\")","v":""},{"$f":"IF(G102<>\"\",VLOOKUP($F102,'TA STOCK LOOKUP'!$A$2:$C$202,3,FALSE),\"\")","v":""},"","","","","",""]
["","","","","","",{"$f":"IF(F103<>\"\",VLOOKUP($F103,'TA STOCK LOOKUP'!$A$2:$C$202,2,FALSE),\"\")","v":""},{"$f":"IF(G103<>\"\",VLOOKUP($F103,'TA STOCK LOOKUP'!$A$2:$C$202,3,FALSE),\"\")","v":""},"","","","","",""]
["","","","","","",{"$f":"IF(F104<>\"\",VLOOKUP($F104,'TA STOCK LOOKUP'!$A$2:$C$202,2,FALSE),\"\")","v":""},{"$f":"IF(G104<>\"\",VLOOKUP($F104,'TA STOCK LOOKUP'!$A$2:$C$202,3,FALSE),\"\")","v":""},"","","","","",""]
["","","","","","",{"$f":"IF(F105<>\"\",VLOOKUP($F105,'TA STOCK LOOKUP'!$A$2:$C$202,2,FALSE),\"\")","v":""},{"$f":"IF(G105<>\"\",VLOOKUP($F105,'TA STOCK LOOKUP'!$A$2:$C$202,3,FALSE),\"\")","v":""},"","","","","",""]
["","","","","","",{"$f":"IF(F106<>\"\",VLOOKUP($F106,'TA STOCK LOOKUP'!$A$2:$C$202,2,FALSE),\"\")","v":""},{"$f":"IF(G106<>\"\",VLOOKUP($F106,'TA STOCK LOOKUP'!$A$2:$C$202,3,FALSE),\"\")","v":""},"","","","","",""]
["","","","","","",{"$f":"IF(F107<>\"\",VLOOKUP($F107,'TA STOCK LOOKUP'!$A$2:$C$202,2,FALSE),\"\")","v":""},{"$f":"IF(G107<>\"\",VLOOKUP($F107,'TA STOCK LOOKUP'!$A$2:$C$202,3,FALSE),\"\")","v":""},"","","","","",""]
["","","","","","",{"$f":"IF(F108<>\"\",VLOOKUP($F108,'TA STOCK LOOKUP'!$A$2:$C$202,2,FALSE),\"\")","v":""},{"$f":"IF(G108<>\"\",VLOOKUP($F108,'TA STOCK LOOKUP'!$A$2:$C$202,3,FALSE),\"\")","v":""},"","","","","",""]
["","","","","","",{"$f":"IF(F109<>\"\",VLOOKUP($F109,'TA STOCK LOOKUP'!$A$2:$C$202,2,FALSE),\"\")","v":""},{"$f":"IF(G109<>\"\",VLOOKUP($F109,'TA STOCK LOOKUP'!$A$2:$C$202,3,FALSE),\"\")","v":""},"","","","","",""]
["","","","","","",{"$f":"IF(F110<>\"\",VLOOKUP($F110,'TA STOCK LOOKUP'!$A$2:$C$202,2,FALSE),\"\")","v":""},{"$f":"IF(G110<>\"\",VLOOKUP($F110,'TA STOCK LOOKUP'!$A$2:$C$202,3,FALSE),\"\")","v":""},"","","","","",""]
["","","","","","",{"$f":"IF(F111<>\"\",VLOOKUP($F111,'TA STOCK LOOKUP'!$A$2:$C$202,2,FALSE),\"\")","v":""},{"$f":"IF(G111<>\"\",VLOOKUP($F111,'TA STOCK LOOKUP'!$A$2:$C$202,3,FALSE),\"\")","v":""},"","","","","",""]
["","","","","","",{"$f":"IF(F112<>\"\",VLOOKUP($F112,'TA STOCK LOOKUP'!$A$2:$C$202,2,FALSE),\"\")","v":""},{"$f":"IF(G112<>\"\",VLOOKUP($F112,'TA STOCK LOOKUP'!$A$2:$C$202,3,FALSE),\"\")","v":""},"","","","","",""]
["","","","","","",{"$f":"IF(F113<>\"\",VLOOKUP($F113,'TA STOCK LOOKUP'!$A$2:$C$202,2,FALSE),\"\")","v":""},{"$f":"IF(G113<>\"\",VLOOKUP($F113,'TA STOCK LOOKUP'!$A$2:$C$202,3,FALSE),\"\")","v":""},"","","","","",""]
["","","","","","",{"$f":"IF(F114<>\"\",VLOOKUP($F114,'TA STOCK LOOKUP'!$A$2:$C$202,2,FALSE),\"\")","v":""},{"$f":"IF(G114<>\"\",VLOOKUP($F114,'TA STOCK LOOKUP'!$A$2:$C$202,3,FALSE),\"\")","v":""},"","","","","",""]
["","","","","","",{"$f":"IF(F115<>\"\",VLOOKUP($F115,'TA STOCK LOOKUP'!$A$2:$C$202,2,FALSE),\"\")","v":""},{"$f":"IF(G115<>\"\",VLOOKUP($F115,'TA STOCK LOOKUP'!$A$2:$C$202,3,FALSE),\"\")","v":""},"","","","","",""]
["","","","","","",{"$f":"IF(F116<>\"\",VLOOKUP($F116,'TA STOCK LOOKUP'!$A$2:$C$202,2,FALSE),\"\")","v":""},{"$f":"IF(G116<>\"\",VLOOKUP($F116,'TA STOCK LOOKUP'!$A$2:$C$202,3,FALSE),\"\")","v":""},"","","","","",""]
["","","","","","",{"$f":"IF(F117<>\"\",VLOOKUP($F117,'TA STOCK LOOKUP'!$A$2:$C$202,2,FALSE),\"\")","v":""},{"$f":"IF(G117<>\"\",VLOOKUP($F117,'TA STOCK LOOKUP'!$A$2:$C$202,3,FALSE),\"\")","v":""},"","","","","",""]
["","","","","","",{"$f":"IF(F118<>\"\",VLOOKUP($F118,'TA STOCK LOOKUP'!$A$2:$C$202,2,FALSE),\"\")","v":""},{"$f":"IF(G118<>\"\",VLOOKUP($F118,'TA STOCK LOOKUP'!$A$2:$C$202,3,FALSE),\"\")","v":""},"","","","","",""]
["","","","","","",{"$f":"IF(F119<>\"\",VLOOKUP($F119,'TA STOCK LOOKUP'!$A$2:$C$202,2,FALSE),\"\")","v":""},{"$f":"IF(G119<>\"\",VLOOKUP($F119,'TA STOCK LOOKUP'!$A$2:$C$202,3,FALSE),\"\")","v":""},"","","","","",""]
["","","","","","",{"$f":"IF(F120<>\"\",VLOOKUP($F120,'TA STOCK LOOKUP'!$A$2:$C$202,2,FALSE),\"\")","v":""},{"$f":"IF(G120<>\"\",VLOOKUP($F120,'TA STOCK LOOKUP'!$A$2:$C$202,3,FALSE),\"\")","v":""},"","","","","",""]
["","","","","","",{"$f":"IF(F121<>\"\",VLOOKUP($F121,'TA STOCK LOOKUP'!$A$2:$C$202,2,FALSE),\"\")","v":""},{"$f":"IF(G121<>\"\",VLOOKUP($F121,'TA STOCK LOOKUP'!$A$2:$C$202,3,FALSE),\"\")","v":""},"","","","","",""]
["","","","","","",{"$f":"IF(F122<>\"\",VLOOKUP($F122,'TA STOCK LOOKUP'!$A$2:$C$202,2,FALSE),\"\")","v":""},{"$f":"IF(G122<>\"\",VLOOKUP($F122,'TA STOCK LOOKUP'!$A$2:$C$202,3,FALSE),\"\")","v":""},"","","","","",""]
["","","","","","",{"$f":"IF(F123<>\"\",VLOOKUP($F123,'TA STOCK LOOKUP'!$A$2:$C$202,2,FALSE),\"\")","v":""},{"$f":"IF(G123<>\"\",VLOOKUP($F123,'TA STOCK LOOKUP'!$A$2:$C$202,3,FALSE),\"\")","v":""},"","","","","",""]
["","","","","","",{"$f":"IF(F124<>\"\",VLOOKUP($F124,'TA STOCK LOOKUP'!$A$2:$C$202,2,FALSE),\"\")","v":""},{"$f":"IF(G124<>\"\",VLOOKUP($F124,'TA STOCK LOOKUP'!$A$2:$C$202,3,FALSE),\"\")","v":""},"","","","","",""]
["","","","","","",{"$f":"IF(F125<>\"\",VLOOKUP($F125,'TA STOCK LOOKUP'!$A$2:$C$202,2,FALSE),\"\")","v":""},{"$f":"IF(G125<>\"\",VLOOKUP($F125,'TA STOCK LOOKUP'!$A$2:$C$202,3,FALSE),\"\")","v":""},"","","","","",""]
["","","","","","",{"$f":"IF(F126<>\"\",VLOOKUP($F126,'TA STOCK LOOKUP'!$A$2:$C$202,2,FALSE),\"\")","v":""},{"$f":"IF(G126<>\"\",VLOOKUP($F126,'TA STOCK LOOKUP'!$A$2:$C$202,3,FALSE),\"\")","v":""},"","","","","",""]
["","","","","","",{"$f":"IF(F127<>\"\",VLOOKUP($F127,'TA STOCK LOOKUP'!$A$2:$C$202,2,FALSE),\"\")","v":""},{"$f":"IF(G127<>\"\",VLOOKUP($F127,'TA STOCK LOOKUP'!$A$2:$C$202,3,FALSE),\"\")","v":""},"","","","","",""]
["","","","","","",{"$f":"IF(F128<>\"\",VLOOKUP($F128,'TA STOCK LOOKUP'!$A$2:$C$202,2,FALSE),\"\")","v":""},{"$f":"IF(G128<>\"\",VLOOKUP($F128,'TA STOCK LOOKUP'!$A$2:$C$202,3,FALSE),\"\")","v":""},"","","","","",""]
["","","","","","",{"$f":"IF(F129<>\"\",VLOOKUP($F129,'TA STOCK LOOKUP'!$A$2:$C$202,2,FALSE),\"\")","v":""},{"$f":"IF(G129<>\"\",VLOOKUP($F129,'TA STOCK LOOKUP'!$A$2:$C$202,3,FALSE),\"\")","v":""},"","","","","",""]
["","","","","","",{"$f":"IF(F130<>\"\",VLOOKUP($F130,'TA STOCK LOOKUP'!$A$2:$C$202,2,FALSE),\"\")","v":""},{"$f":"IF(G130<>\"\",VLOOKUP($F130,'TA STOCK LOOKUP'!$A$2:$C$202,3,FALSE),\"\")","v":""},"","","","","",""]
["","","","","","",{"$f":"IF(F131<>\"\",VLOOKUP($F131,'TA STOCK LOOKUP'!$A$2:$C$202,2,FALSE),\"\")","v":""},{"$f":"IF(G131<>\"\",VLOOKUP($F131,'TA STOCK LOOKUP'!$A$2:$C$202,3,FALSE),\"\")","v":""},"","","","","",""]
["","","","","","",{"$f":"IF(F132<>\"\",VLOOKUP($F132,'TA STOCK LOOKUP'!$A$2:$C$202,2,FALSE),\"\")","v":""},{"$f":"IF(G132<>\"\",VLOOKUP($F132,'TA STOCK LOOKUP'!$A$2:$C$202,3,FALSE),\"\")","v":""},"","","","","",""]
["","","","","","",{"$f":"IF(F133<>\"\",VLOOKUP($F133,'TA STOCK LOOKUP'!$A$2:$C$202,2,FALSE),\"\")","v":""},{"$f":"IF(G133<>\"\",VLOOKUP($F133,'TA STOCK LOOKUP'!$A$2:$C$202,3,FALSE),\"\")","v":""},"","","","","",""]
["","","","","","",{"$f":"IF(F134<>\"\",VLOOKUP($F134,'TA STOCK LOOKUP'!$A$2:$C$202,2,FALSE),\"\")","v":""},{"$f":"IF(G134<>\"\",VLOOKUP($F134,'TA STOCK LOOKUP'!$A$2:$C$202,3,FALSE),\"\")","v":""},"","","","","",""]
["","","","","","",{"$f":"IF(F135<>\"\",VLOOKUP($F135,'TA STOCK LOOKUP'!$A$2:$C$202,2,FALSE),\"\")","v":""},{"$f":"IF(G135<>\"\",VLOOKUP($F135,'TA STOCK LOOKUP'!$A$2:$C$202,3,FALSE),\"\")","v":""},"","","","","",""]
["","","","","","",{"$f":"IF(F136<>\"\",VLOOKUP($F136,'TA STOCK LOOKUP'!$A$2:$C$202,2,FALSE),\"\")","v":""},{"$f":"IF(G136<>\"\",VLOOKUP($F136,'TA STOCK LOOKUP'!$A$2:$C$202,3,FALSE),\"\")","v":""},"","","","","",""]
["","","","","","",{"$f":"IF(F137<>\"\",VLOOKUP($F137,'TA STOCK LOOKUP'!$A$2:$C$202,2,FALSE),\"\")","v":""},{"$f":"IF(G137<>\"\",VLOOKUP($F137,'TA STOCK LOOKUP'!$A$2:$C$202,3,FALSE),\"\")","v":""},"","","","","",""]
["","","","","","",{"$f":"IF(F138<>\"\",VLOOKUP($F138,'TA STOCK LOOKUP'!$A$2:$C$202,2,FALSE),\"\")","v":""},{"$f":"IF(G138<>\"\",VLOOKUP($F138,'TA STOCK LOOKUP'!$A$2:$C$202,3,FALSE),\"\")","v":""},"","","","","",""]
["","","","","","",{"$f":"IF(F139<>\"\",VLOOKUP($F139,'TA STOCK LOOKUP'!$A$2:$C$202,2,FALSE),\"\")","v":""},{"$f":"IF(G139<>\"\",VLOOKUP($F139,'TA STOCK LOOKUP'!$A$2:$C$202,3,FALSE),\"\")","v":""},"","","","","",""]
["","","","","","",{"$f":"IF(F140<>\"\",VLOOKUP($F140,'TA STOCK LOOKUP'!$A$2:$C$202,2,FALSE),\"\")","v":""},{"$f":"IF(G140<>\"\",VLOOKUP($F140,'TA STOCK LOOKUP'!$A$2:$C$202,3,FALSE),\"\")","v":""},"","","","","",""]
["","","","","","",{"$f":"IF(F141<>\"\",VLOOKUP($F141,'TA STOCK LOOKUP'!$A$2:$C$202,2,FALSE),\"\")","v":""},{"$f":"IF(G141<>\"\",VLOOKUP($F141,'TA STOCK LOOKUP'!$A$2:$C$202,3,FALSE),\"\")","v":""},"","","","","",""]
["","","","","","",{"$f":"IF(F142<>\"\",VLOOKUP($F142,'TA STOCK LOOKUP'!$A$2:$C$202,2,FALSE),\"\")","v":""},{"$f":"IF(G142<>\"\",VLOOKUP($F142,'TA STOCK LOOKUP'!$A$2:$C$202,3,FALSE),\"\")","v":""},"","","","","",""]
["","","","","","",{"$f":"IF(F143<>\"\",VLOOKUP($F143,'TA STOCK LOOKUP'!$A$2:$C$202,2,FALSE),\"\")","v":""},{"$f":"IF(G143<>\"\",VLOOKUP($F143,'TA STOCK LOOKUP'!$A$2:$C$202,3,FALSE),\"\")","v":""},"","","","","",""]
["","","","","","",{"$f":"IF(F144<>\"\",VLOOKUP($F144,'TA STOCK LOOKUP'!$A$2:$C$202,2,FALSE),\"\")","v":""},{"$f":"IF(G144<>\"\",VLOOKUP($F144,'TA STOCK LOOKUP'!$A$2:$C$202,3,FALSE),\"\")","v":""},"","","","","",""]
["","","","","","",{"$f":"IF(F145<>\"\",VLOOKUP($F145,'TA STOCK LOOKUP'!$A$2:$C$202,2,FALSE),\"\")","v":""},{"$f":"IF(G145<>\"\",VLOOKUP($F145,'TA STOCK LOOKUP'!$A$2:$C$202,3,FALSE),\"\")","v":""},"","","","","",""]
["","","","","","",{"$f":"IF(F146<>\"\",VLOOKUP($F146,'TA STOCK LOOKUP'!$A$2:$C$202,2,FALSE),\"\")","v":""},{"$f":"IF(G146<>\"\",VLOOKUP($F146,'TA STOCK LOOKUP'!$A$2:$C$202,3,FALSE),\"\")","v":""},"","","","","",""]
["","","","","","",{"$f":"IF(F147<>\"\",VLOOKUP($F147,'TA STOCK LOOKUP'!$A$2:$C$202,2,FALSE),\"\")","v":""},{"$f":"IF(G147<>\"\",VLOOKUP($F147,'TA STOCK LOOKUP'!$A$2:$C$202,3,FALSE),\"\")","v":""},"","","","","",""]
["","","","","","",{"$f":"IF(F148<>\"\",VLOOKUP($F148,'TA STOCK LOOKUP'!$A$2:$C$202,2,FALSE),\"\")","v":""},{"$f":"IF(G148<>\"\",VLOOKUP($F148,'TA STOCK LOOKUP'!$A$2:$C$202,3,FALSE),\"\")","v":""},"","","","","",""]
["","","","","","",{"$f":"IF(F149<>\"\",VLOOKUP($F149,'TA STOCK LOOKUP'!$A$2:$C$202,2,FALSE),\"\")","v":""},{"$f":"IF(G149<>\"\",VLOOKUP($F149,'TA STOCK LOOKUP'!$A$2:$C$202,3,FALSE),\"\")","v":""},"","","","","",""]
["","","","","","",{"$f":"IF(F150<>\"\",VLOOKUP($F150,'TA STOCK LOOKUP'!$A$2:$C$202,2,FALSE),\"\")","v":""},{"$f":"IF(G150<>\"\",VLOOKUP($F150,'TA STOCK LOOKUP'!$A$2:$C$202,3,FALSE),\"\")","v":""},"","","","","",""]
["","","","","","",{"$f":"IF(F151<>\"\",VLOOKUP($F151,'TA STOCK LOOKUP'!$A$2:$C$202,2,FALSE),\"\")","v":""},{"$f":"IF(G151<>\"\",VLOOKUP($F151,'TA STOCK LOOKUP'!$A$2:$C$202,3,FALSE),\"\")","v":""},"","","","","",""]
["","","","","","",{"$f":"IF(F152<>\"\",VLOOKUP($F152,'TA STOCK LOOKUP'!$A$2:$C$202,2,FALSE),\"\")","v":""},{"$f":"IF(G152<>\"\",VLOOKUP($F152,'TA STOCK LOOKUP'!$A$2:$C$202,3,FALSE),\"\")","v":""},"","","","","",""]
["","","","","","",{"$f":"IF(F153<>\"\",VLOOKUP($F153,'TA STOCK LOOKUP'!$A$2:$C$202,2,FALSE),\"\")","v":""},{"$f":"IF(G153<>\"\",VLOOKUP($F153,'TA STOCK LOOKUP'!$A$2:$C$202,3,FALSE),\"\")","v":""},"","","","","",""]
["","","","","","",{"$f":"IF(F154<>\"\",VLOOKUP($F154,'TA STOCK LOOKUP'!$A$2:$C$202,2,FALSE),\"\")","v":""},{"$f":"IF(G154<>\"\",VLOOKUP($F154,'TA STOCK LOOKUP'!$A$2:$C$202,3,FALSE),\"\")","v":""},"","","","","",""]
["","","","","","",{"$f":"IF(F155<>\"\",VLOOKUP($F155,'TA STOCK LOOKUP'!$A$2:$C$202,2,FALSE),\"\")","v":""},{"$f":"IF(G155<>\"\",VLOOKUP($F155,'TA STOCK LOOKUP'!$A$2:$C$202,3,FALSE),\"\")","v":""},"","","","","",""]
["","","","","","",{"$f":"IF(F156<>\"\",VLOOKUP($F156,'TA STOCK LOOKUP'!$A$2:$C$202,2,FALSE),\"\")","v":""},{"$f":"IF(G156<>\"\",VLOOKUP($F156,'TA STOCK LOOKUP'!$A$2:$C$202,3,FALSE),\"\")","v":""},"","","","","",""]
["","","","","","",{"$f":"IF(F157<>\"\",VLOOKUP($F157,'TA STOCK LOOKUP'!$A$2:$C$202,2,FALSE),\"\")","v":""},{"$f":"IF(G157<>\"\",VLOOKUP($F157,'TA STOCK LOOKUP'!$A$2:$C$202,3,FALSE),\"\")","v":""},"","","","","",""]
["","","","","","",{"$f":"IF(F158<>\"\",VLOOKUP($F158,'TA STOCK LOOKUP'!$A$2:$C$202,2,FALSE),\"\")","v":""},{"$f":"IF(G158<>\"\",VLOOKUP($F158,'TA STOCK LOOKUP'!$A$2:$C$202,3,FALSE),\"\")","v":""},"","","","","",""]
["","","","","","",{"$f":"IF(F159<>\"\",VLOOKUP($F159,'TA STOCK LOOKUP'!$A$2:$C$202,2,FALSE),\"\")","v":""},{"$f":"IF(G159<>\"\",VLOOKUP($F159,'TA STOCK LOOKUP'!$A$2:$C$202,3,FALSE),\"\")","v":""},"","","","","",""]
["","","","","","",{"$f":"IF(F160<>\"\",VLOOKUP($F160,'TA STOCK LOOKUP'!$A$2:$C$202,2,FALSE),\"\")","v":""},{"$f":"IF(G160<>\"\",VLOOKUP($F160,'TA STOCK LOOKUP'!$A$2:$C$202,3,FALSE),\"\")","v":""},"","","","","",""]
["","","","","","",{"$f":"IF(F161<>\"\",VLOOKUP($F161,'TA STOCK LOOKUP'!$A$2:$C$202,2,FALSE),\"\")","v":""},{"$f":"IF(G161<>\"\",VLOOKUP($F161,'TA STOCK LOOKUP'!$A$2:$C$202,3,FALSE),\"\")","v":""},"","","","","",""]
["","","","","","",{"$f":"IF(F162<>\"\",VLOOKUP($F162,'TA STOCK LOOKUP'!$A$2:$C$202,2,FALSE),\"\")","v":""},{"$f":"IF(G162<>\"\",VLOOKUP($F162,'TA STOCK LOOKUP'!$A$2:$C$202,3,FALSE),\"\")","v":""},"","","","","",""]
["","","","","","",{"$f":"IF(F163<>\"\",VLOOKUP($F163,'TA STOCK LOOKUP'!$A$2:$C$202,2,FALSE),\"\")","v":""},{"$f":"IF(G163<>\"\",VLOOKUP($F163,'TA STOCK LOOKUP'!$A$2:$C$202,3,FALSE),\"\")","v":""},"","","","","",""]
["","","","","","",{"$f":"IF(F164<>\"\",VLOOKUP($F164,'TA STOCK LOOKUP'!$A$2:$C$202,2,FALSE),\"\")","v":""},{"$f":"IF(G164<>\"\",VLOOKUP($F164,'TA STOCK LOOKUP'!$A$2:$C$202,3,FALSE),\"\")","v":""},"","","","","",""]
["","","","","","",{"$f":"IF(F165<>\"\",VLOOKUP($F165,'TA STOCK LOOKUP'!$A$2:$C$202,2,FALSE),\"\")","v":""},{"$f":"IF(G165<>\"\",VLOOKUP($F165,'TA STOCK LOOKUP'!$A$2:$C$202,3,FALSE),\"\")","v":""},"","","","","",""]
["","","","","","",{"$f":"IF(F166<>\"\",VLOOKUP($F166,'TA STOCK LOOKUP'!$A$2:$C$202,2,FALSE),\"\")","v":""},{"$f":"IF(G166<>\"\",VLOOKUP($F166,'TA STOCK LOOKUP'!$A$2:$C$202,3,FALSE),\"\")","v":""},"","","","","",""]
["","","","","","",{"$f":"IF(F167<>\"\",VLOOKUP($F167,'TA STOCK LOOKUP'!$A$2:$C$202,2,FALSE),\"\")","v":""},{"$f":"IF(G167<>\"\",VLOOKUP($F167,'TA STOCK LOOKUP'!$A$2:$C$202,3,FALSE),\"\")","v":""},"","","","","",""]
["","","","","","",{"$f":"IF(F168<>\"\",VLOOKUP($F168,'TA STOCK LOOKUP'!$A$2:$C$202,2,FALSE),\"\")","v":""},{"$f":"IF(G168<>\"\",VLOOKUP($F168,'TA STOCK LOOKUP'!$A$2:$C$202,3,FALSE),\"\")","v":""},"","","","","",""]
["","","","","","",{"$f":"IF(F169<>\"\",VLOOKUP($F169,'TA STOCK LOOKUP'!$A$2:$C$202,2,FALSE),\"\")","v":""},{"$f":"IF(G169<>\"\",VLOOKUP($F169,'TA STOCK LOOKUP'!$A$2:$C$202,3,FALSE),\"\")","v":""},"","","","","",""]
["","","","","","",{"$f":"IF(F170<>\"\",VLOOKUP($F170,'TA STOCK LOOKUP'!$A$2:$C$202,2,FALSE),\"\")","v":""},{"$f":"IF(G170<>\"\",VLOOKUP($F170,'TA STOCK LOOKUP'!$A$2:$C$202,3,FALSE),\"\")","v":""},"","","","","",""]
["","","","","","",{"$f":"IF(F171<>\"\",VLOOKUP($F171,'TA STOCK LOOKUP'!$A$2:$C$202,2,FALSE),\"\")","v":""},{"$f":"IF(G171<>\"\",VLOOKUP($F171,'TA STOCK LOOKUP'!$A$2:$C$202,3,FALSE),\"\")","v":""},"","","","","",""]
["","","","","","",{"$f":"IF(F172<>\"\",VLOOKUP($F172,'TA STOCK LOOKUP'!$A$2:$C$202,2,FALSE),\"\")","v":""},{"$f":"IF(G172<>\"\",VLOOKUP($F172,'TA STOCK LOOKUP'!$A$2:$C$202,3,FALSE),\"\")","v":""},"","","","","",""]
["","","","","","",{"$f":"IF(F173<>\"\",VLOOKUP($F173,'TA STOCK LOOKUP'!$A$2:$C$202,2,FALSE),\"\")","v":""},{"$f":"IF(G173<>\"\",VLOOKUP($F173,'TA STOCK LOOKUP'!$A$2:$C$202,3,FALSE),\"\")","v":""},"","","","","",""]
["","","","","","",{"$f":"IF(F174<>\"\",VLOOKUP($F174,'TA STOCK LOOKUP'!$A$2:$C$202,2,FALSE),\"\")","v":""},{"$f":"IF(G174<>\"\",VLOOKUP($F174,'TA STOCK LOOKUP'!$A$2:$C$202,3,FALSE),\"\")","v":""},"","","","","",""]
["","","","","","",{"$f":"IF(F175<>\"\",VLOOKUP($F175,'TA STOCK LOOKUP'!$A$2:$C$202,2,FALSE),\"\")","v":""},{"$f":"IF(G175<>\"\",VLOOKUP($F175,'TA STOCK LOOKUP'!$A$2:$C$202,3,FALSE),\"\")","v":""},"","","","","",""]
["","","","","","",{"$f":"IF(F176<>\"\",VLOOKUP($F176,'TA STOCK LOOKUP'!$A$2:$C$202,2,FALSE),\"\")","v":""},{"$f":"IF(G176<>\"\",VLOOKUP($F176,'TA STOCK LOOKUP'!$A$2:$C$202,3,FALSE),\"\")","v":""},"","","","","",""]
["","","","","","",{"$f":"IF(F177<>\"\",VLOOKUP($F177,'TA STOCK LOOKUP'!$A$2:$C$202,2,FALSE),\"\")","v":""},{"$f":"IF(G177<>\"\",VLOOKUP($F177,'TA STOCK LOOKUP'!$A$2:$C$202,3,FALSE),\"\")","v":""},"","","","","",""]
["","","","","","",{"$f":"IF(F178<>\"\",VLOOKUP($F178,'TA STOCK LOOKUP'!$A$2:$C$202,2,FALSE),\"\")","v":""},{"$f":"IF(G178<>\"\",VLOOKUP($F178,'TA STOCK LOOKUP'!$A$2:$C$202,3,FALSE),\"\")","v":""},"","","","","",""]
["","","","","","",{"$f":"IF(F179<>\"\",VLOOKUP($F179,'TA STOCK LOOKUP'!$A$2:$C$202,2,FALSE),\"\")","v":""},{"$f":"IF(G179<>\"\",VLOOKUP($F179,'TA STOCK LOOKUP'!$A$2:$C$202,3,FALSE),\"\")","v":""},"","","","","",""]
["","","","","","",{"$f":"IF(F180<>\"\",VLOOKUP($F180,'TA STOCK LOOKUP'!$A$2:$C$202,2,FALSE),\"\")","v":""},{"$f":"IF(G180<>\"\",VLOOKUP($F180,'TA STOCK LOOKUP'!$A$2:$C$202,3,FALSE),\"\")","v":""},"","","","","",""]
["","","","","","",{"$f":"IF(F181<>\"\",VLOOKUP($F181,'TA STOCK LOOKUP'!$A$2:$C$202,2,FALSE),\"\")","v":""},{"$f":"IF(G181<>\"\",VLOOKUP($F181,'TA STOCK LOOKUP'!$A$2:$C$202,3,FALSE),\"\")","v":""},"","","","","",""]
["","","","","","",{"$f":"IF(F182<>\"\",VLOOKUP($F182,'TA STOCK LOOKUP'!$A$2:$C$202,2,FALSE),\"\")","v":""},{"$f":"IF(G182<>\"\",VLOOKUP($F182,'TA STOCK LOOKUP'!$A$2:$C$202,3,FALSE),\"\")","v":""},"","","","","",""]
["","","","","","",{"$f":"IF(F183<>\"\",VLOOKUP($F183,'TA STOCK LOOKUP'!$A$2:$C$202,2,FALSE),\"\")","v":""},{"$f":"IF(G183<>\"\",VLOOKUP($F183,'TA STOCK LOOKUP'!$A$2:$C$202,3,FALSE),\"\")","v":""},"","","","","",""]
["","","","","","",{"$f":"IF(F184<>\"\",VLOOKUP($F184,'TA STOCK LOOKUP'!$A$2:$C$202,2,FALSE),\"\")","v":""},{"$f":"IF(G184<>\"\",VLOOKUP($F184,'TA STOCK LOOKUP'!$A$2:$C$202,3,FALSE),\"\")","v":""},"","","","","",""]
["","","","","","",{"$f":"IF(F185<>\"\",VLOOKUP($F185,'TA STOCK LOOKUP'!$A$2:$C$202,2,FALSE),\"\")","v":""},{"$f":"IF(G185<>\"\",VLOOKUP($F185,'TA STOCK LOOKUP'!$A$2:$C$202,3,FALSE),\"\")","v":""},"","","","","",""]
["","","","","","",{"$f":"IF(F186<>\"\",VLOOKUP($F186,'TA STOCK LOOKUP'!$A$2:$C$202,2,FALSE),\"\")","v":""},{"$f":"IF(G186<>\"\",VLOOKUP($F186,'TA STOCK LOOKUP'!$A$2:$C$202,3,FALSE),\"\")","v":""},"","","","","",""]
["","","","","","",{"$f":"IF(F187<>\"\",VLOOKUP($F187,'TA STOCK LOOKUP'!$A$2:$C$202,2,FALSE),\"\")","v":""},{"$f":"IF(G187<>\"\",VLOOKUP($F187,'TA STOCK LOOKUP'!$A$2:$C$202,3,FALSE),\"\")","v":""},"","","","","",""]
["","","","","","",{"$f":"IF(F188<>\"\",VLOOKUP($F188,'TA STOCK LOOKUP'!$A$2:$C$202,2,FALSE),\"\")","v":""},{"$f":"IF(G188<>\"\",VLOOKUP($F188,'TA STOCK LOOKUP'!$A$2:$C$202,3,FALSE),\"\")","v":""},"","","","","",""]
["","","","","","",{"$f":"IF(F189<>\"\",VLOOKUP($F189,'TA STOCK LOOKUP'!$A$2:$C$202,2,FALSE),\"\")","v":""},{"$f":"IF(G189<>\"\",VLOOKUP($F189,'TA STOCK LOOKUP'!$A$2:$C$202,3,FALSE),\"\")","v":""},"","","","","",""]
["","","","","","",{"$f":"IF(F190<>\"\",VLOOKUP($F190,'TA STOCK LOOKUP'!$A$2:$C$202,2,FALSE),\"\")","v":""},{"$f":"IF(G190<>\"\",VLOOKUP($F190,'TA STOCK LOOKUP'!$A$2:$C$202,3,FALSE),\"\")","v":""},"","","","","",""]
["","","","","","",{"$f":"IF(F191<>\"\",VLOOKUP($F191,'TA STOCK LOOKUP'!$A$2:$C$202,2,FALSE),\"\")","v":""},{"$f":"IF(G191<>\"\",VLOOKUP($F191,'TA STOCK LOOKUP'!$A$2:$C$202,3,FALSE),\"\")","v":""},"","","","","",""]
["","","","","","",{"$f":"IF(F192<>\"\",VLOOKUP($F192,'TA STOCK LOOKUP'!$A$2:$C$202,2,FALSE),\"\")","v":""},{"$f":"IF(G192<>\"\",VLOOKUP($F192,'TA STOCK LOOKUP'!$A$2:$C$202,3,FALSE),\"\")","v":""},"","","","","",""]
["","","","","","",{"$f":"IF(F193<>\"\",VLOOKUP($F193,'TA STOCK LOOKUP'!$A$2:$C$202,2,FALSE),\"\")","v":""},{"$f":"IF(G193<>\"\",VLOOKUP($F193,'TA STOCK LOOKUP'!$A$2:$C$202,3,FALSE),\"\")","v":""},"","","","","",""]
["","","","","","",{"$f":"IF(F194<>\"\",VLOOKUP($F194,'TA STOCK LOOKUP'!$A$2:$C$202,2,FALSE),\"\")","v":""},{"$f":"IF(G194<>\"\",VLOOKUP($F194,'TA STOCK LOOKUP'!$A$2:$C$202,3,FALSE),\"\")","v":""},"","","","","",""]
["","","","","","",{"$f":"IF(F195<>\"\",VLOOKUP($F195,'TA STOCK LOOKUP'!$A$2:$C$202,2,FALSE),\"\")","v":""},{"$f":"IF(G195<>\"\",VLOOKUP($F195,'TA STOCK LOOKUP'!$A$2:$C$202,3,FALSE),\"\")","v":""},"","","","","",""]
["","","","","","",{"$f":"IF(F196<>\"\",VLOOKUP($F196,'TA STOCK LOOKUP'!$A$2:$C$202,2,FALSE),\"\")","v":""},{"$f":"IF(G196<>\"\",VLOOKUP($F196,'TA STOCK LOOKUP'!$A$2:$C$202,3,FALSE),\"\")","v":""},"","","","","",""]
["","","","","","",{"$f":"IF(F197<>\"\",VLOOKUP($F197,'TA STOCK LOOKUP'!$A$2:$C$202,2,FALSE),\"\")","v":""},{"$f":"IF(G197<>\"\",VLOOKUP($F197,'TA STOCK LOOKUP'!$A$2:$C$202,3,FALSE),\"\")","v":""},"","","","","",""]
["","","","","","",{"$f":"IF(F198<>\"\",VLOOKUP($F198,'TA STOCK LOOKUP'!$A$2:$C$202,2,FALSE),\"\")","v":""},{"$f":"IF(G198<>\"\",VLOOKUP($F198,'TA STOCK LOOKUP'!$A$2:$C$202,3,FALSE),\"\")","v":""},"","","","","",""]
["","","","","","",{"$f":"IF(F199<>\"\",VLOOKUP($F199,'TA STOCK LOOKUP'!$A$2:$C$202,2,FALSE),\"\")","v":""},{"$f":"IF(G199<>\"\",VLOOKUP($F199,'TA STOCK LOOKUP'!$A$2:$C$202,3,FALSE),\"\")","v":""},"","","","","",""]
["","","","","","",{"$f":"IF(F200<>\"\",VLOOKUP($F200,'TA STOCK LOOKUP'!$A$2:$C$202,2,FALSE),\"\")","v":""},{"$f":"IF(G200<>\"\",VLOOKUP($F200,'TA STOCK LOOKUP'!$A$2:$C$202,3,FALSE),\"\")","v":""},"","","","","",""]
["","","","","","",{"$f":"IF(F201<>\"\",VLOOKUP($F201,'TA STOCK LOOKUP'!$A$2:$C$202,2,FALSE),\"\")","v":""},{"$f":"IF(G201<>\"\",VLOOKUP($F201,'TA STOCK LOOKUP'!$A$2:$C$202,3,FALSE),\"\")","v":""},"","","","","",""]
["","","","","","",{"$f":"IF(F202<>\"\",VLOOKUP($F202,'TA STOCK LOOKUP'!$A$2:$C$202,2,FALSE),\"\")","v":""},{"$f":"IF(G202<>\"\",VLOOKUP($F202,'TA STOCK LOOKUP'!$A$2:$C$202,3,FALSE),\"\")","v":""},"","","","","",""]
["","","","","","",{"$f":"IF(F203<>\"\",VLOOKUP($F203,'TA STOCK LOOKUP'!$A$2:$C$202,2,FALSE),\"\")","v":""},{"$f":"IF(G203<>\"\",VLOOKUP($F203,'TA STOCK LOOKUP'!$A$2:$C$202,3,FALSE),\"\")","v":""},"","","","","",""]
["","","","","","",{"$f":"IF(F204<>\"\",VLOOKUP($F204,'TA STOCK LOOKUP'!$A$2:$C$202,2,FALSE),\"\")","v":""},{"$f":"IF(G204<>\"\",VLOOKUP($F204,'TA STOCK LOOKUP'!$A$2:$C$202,3,FALSE),\"\")","v":""},"","","","","",""]
["","","","","","",{"$f":"IF(F205<>\"\",VLOOKUP($F205,'TA STOCK LOOKUP'!$A$2:$C$202,2,FALSE),\"\")","v":""},{"$f":"IF(G205<>\"\",VLOOKUP($F205,'TA STOCK LOOKUP'!$A$2:$C$202,3,FALSE),\"\")","v":""},"","","","","",""]
["","","","","","",{"$f":"IF(F206<>\"\",VLOOKUP($F206,'TA STOCK LOOKUP'!$A$2:$C$202,2,FALSE),\"\")","v":""},{"$f":"IF(G206<>\"\",VLOOKUP($F206,'TA STOCK LOOKUP'!$A$2:$C$202,3,FALSE),\"\")","v":""},"","","","","",""]
["","","","","","",{"$f":"IF(F207<>\"\",VLOOKUP($F207,'TA STOCK LOOKUP'!$A$2:$C$202,2,FALSE),\"\")","v":""},{"$f":"IF(G207<>\"\",VLOOKUP($F207,'TA STOCK LOOKUP'!$A$2:$C$202,3,FALSE),\"\")","v":""},"","","","","",""]
["","","","","","",{"$f":"IF(F208<>\"\",VLOOKUP($F208,'TA STOCK LOOKUP'!$A$2:$C$202,2,FALSE),\"\")","v":""},{"$f":"IF(G208<>\"\",VLOOKUP($F208,'TA STOCK LOOKUP'!$A$2:$C$202,3,FALSE),\"\")","v":""},"","","","","",""]
["","","","","","",{"$f":"IF(F209<>\"\",VLOOKUP($F209,'TA STOCK LOOKUP'!$A$2:$C$202,2,FALSE),\"\")","v":""},{"$f":"IF(G209<>\"\",VLOOKUP($F209,'TA STOCK LOOKUP'!$A$2:$C$202,3,FALSE),\"\")","v":""},"","","","","",""]
["","","","","","",{"$f":"IF(F210<>\"\",VLOOKUP($F210,'TA STOCK LOOKUP'!$A$2:$C$202,2,FALSE),\"\")","v":""},{"$f":"IF(G210<>\"\",VLOOKUP($F210,'TA STOCK LOOKUP'!$A$2:$C$202,3,FALSE),\"\")","v":""},"","","","","",""]
["","","","","","",{"$f":"IF(F211<>\"\",VLOOKUP($F211,'TA STOCK LOOKUP'!$A$2:$C$202,2,FALSE),\"\")","v":""},{"$f":"IF(G211<>\"\",VLOOKUP($F211,'TA STOCK LOOKUP'!$A$2:$C$202,3,FALSE),\"\")","v":""},"","","","","",""]
["","","","","","",{"$f":"IF(F212<>\"\",VLOOKUP($F212,'TA STOCK LOOKUP'!$A$2:$C$202,2,FALSE),\"\")","v":""},{"$f":"IF(G212<>\"\",VLOOKUP($F212,'TA STOCK LOOKUP'!$A$2:$C$202,3,FALSE),\"\")","v":""},"","","","","",""]
["","","","","","",{"$f":"IF(F213<>\"\",VLOOKUP($F213,'TA STOCK LOOKUP'!$A$2:$C$202,2,FALSE),\"\")","v":""},{"$f":"IF(G213<>\"\",VLOOKUP($F213,'TA STOCK LOOKUP'!$A$2:$C$202,3,FALSE),\"\")","v":""},"","","","","",""]
["","","","","","",{"$f":"IF(F214<>\"\",VLOOKUP($F214,'TA STOCK LOOKUP'!$A$2:$C$202,2,FALSE),\"\")","v":""},{"$f":"IF(G214<>\"\",VLOOKUP($F214,'TA STOCK LOOKUP'!$A$2:$C$202,3,FALSE),\"\")","v":""},"","","","","",""]
["","","","","","",{"$f":"IF(F215<>\"\",VLOOKUP($F215,'TA STOCK LOOKUP'!$A$2:$C$202,2,FALSE),\"\")","v":""},{"$f":"IF(G215<>\"\",VLOOKUP($F215,'TA STOCK LOOKUP'!$A$2:$C$202,3,FALSE),\"\")","v":""},"","","","","",""]
["","","","","","",{"$f":"IF(F216<>\"\",VLOOKUP($F216,'TA STOCK LOOKUP'!$A$2:$C$202,2,FALSE),\"\")","v":""},{"$f":"IF(G216<>\"\",VLOOKUP($F216,'TA STOCK LOOKUP'!$A$2:$C$202,3,FALSE),\"\")","v":""},"","","","","",""]
["","","","","","",{"$f":"IF(F217<>\"\",VLOOKUP($F217,'TA STOCK LOOKUP'!$A$2:$C$202,2,FALSE),\"\")","v":""},{"$f":"IF(G217<>\"\",VLOOKUP($F217,'TA STOCK LOOKUP'!$A$2:$C$202,3,FALSE),\"\")","v":""},"","","","","",""]
["","","","","","",{"$f":"IF(F218<>\"\",VLOOKUP($F218,'TA STOCK LOOKUP'!$A$2:$C$202,2,FALSE),\"\")","v":""},{"$f":"IF(G218<>\"\",VLOOKUP($F218,'TA STOCK LOOKUP'!$A$2:$C$202,3,FALSE),\"\")","v":""},"","","","","",""]
["","","","","","",{"$f":"IF(F219<>\"\",VLOOKUP($F219,'TA STOCK LOOKUP'!$A$2:$C$202,2,FALSE),\"\")","v":""},{"$f":"IF(G219<>\"\",VLOOKUP($F219,'TA STOCK LOOKUP'!$A$2:$C$202,3,FALSE),\"\")","v":""},"","","","","",""]
["","","","","","",{"$f":"IF(F220<>\"\",VLOOKUP($F220,'TA STOCK LOOKUP'!$A$2:$C$202,2,FALSE),\"\")","v":""},{"$f":"IF(G220<>\"\",VLOOKUP($F220,'TA STOCK LOOKUP'!$A$2:$C$202,3,FALSE),\"\")","v":""},"","","","","",""]
["","","","","","",{"$f":"IF(F221<>\"\",VLOOKUP($F221,'TA STOCK LOOKUP'!$A$2:$C$202,2,FALSE),\"\")","v":""},{"$f":"IF(G221<>\"\",VLOOKUP($F221,'TA STOCK LOOKUP'!$A$2:$C$202,3,FALSE),\"\")","v":""},"","","","","",""]
["","","","","","",{"$f":"IF(F222<>\"\",VLOOKUP($F222,'TA STOCK LOOKUP'!$A$2:$C$202,2,FALSE),\"\")","v":""},{"$f":"IF(G222<>\"\",VLOOKUP($F222,'TA STOCK LOOKUP'!$A$2:$C$202,3,FALSE),\"\")","v":""},"","","","","",""]
["","","","","","",{"$f":"IF(F223<>\"\",VLOOKUP($F223,'TA STOCK LOOKUP'!$A$2:$C$202,2,FALSE),\"\")","v":""},{"$f":"IF(G223<>\"\",VLOOKUP($F223,'TA STOCK LOOKUP'!$A$2:$C$202,3,FALSE),\"\")","v":""},"","","","","",""]
["","","","","","",{"$f":"IF(F224<>\"\",VLOOKUP($F224,'TA STOCK LOOKUP'!$A$2:$C$202,2,FALSE),\"\")","v":""},{"$f":"IF(G224<>\"\",VLOOKUP($F224,'TA STOCK LOOKUP'!$A$2:$C$202,3,FALSE),\"\")","v":""},"","","","","",""]
["","","","","","",{"$f":"IF(F225<>\"\",VLOOKUP($F225,'TA STOCK LOOKUP'!$A$2:$C$202,2,FALSE),\"\")","v":""},{"$f":"IF(G225<>\"\",VLOOKUP($F225,'TA STOCK LOOKUP'!$A$2:$C$202,3,FALSE),\"\")","v":""},"","","","","",""]
["","","","","","",{"$f":"IF(F226<>\"\",VLOOKUP($F226,'TA STOCK LOOKUP'!$A$2:$C$202,2,FALSE),\"\")","v":""},{"$f":"IF(G226<>\"\",VLOOKUP($F226,'TA STOCK LOOKUP'!$A$2:$C$202,3,FALSE),\"\")","v":""},"","","","","",""]
["","","","","","",{"$f":"IF(F227<>\"\",VLOOKUP($F227,'TA STOCK LOOKUP'!$A$2:$C$202,2,FALSE),\"\")","v":""},{"$f":"IF(G227<>\"\",VLOOKUP($F227,'TA STOCK LOOKUP'!$A$2:$C$202,3,FALSE),\"\")","v":""},"","","","","",""]
["","","","","","",{"$f":"IF(F228<>\"\",VLOOKUP($F228,'TA STOCK LOOKUP'!$A$2:$C$202,2,FALSE),\"\")","v":""},{"$f":"IF(G228<>\"\",VLOOKUP($F228,'TA STOCK LOOKUP'!$A$2:$C$202,3,FALSE),\"\")","v":""},"","","","","",""]
["","","","","","",{"$f":"IF(F229<>\"\",VLOOKUP($F229,'TA STOCK LOOKUP'!$A$2:$C$202,2,FALSE),\"\")","v":""},{"$f":"IF(G229<>\"\",VLOOKUP($F229,'TA STOCK LOOKUP'!$A$2:$C$202,3,FALSE),\"\")","v":""},"","","","","",""]
["","","","","","",{"$f":"IF(F230<>\"\",VLOOKUP($F230,'TA STOCK LOOKUP'!$A$2:$C$202,2,FALSE),\"\")","v":""},{"$f":"IF(G230<>\"\",VLOOKUP($F230,'TA STOCK LOOKUP'!$A$2:$C$202,3,FALSE),\"\")","v":""},"","","","","",""]
["","","","","","",{"$f":"IF(F231<>\"\",VLOOKUP($F231,'TA STOCK LOOKUP'!$A$2:$C$202,2,FALSE),\"\")","v":""},{"$f":"IF(G231<>\"\",VLOOKUP($F231,'TA STOCK LOOKUP'!$A$2:$C$202,3,FALSE),\"\")","v":""},"","","","","",""]
["","","","","","",{"$f":"IF(F232<>\"\",VLOOKUP($F232,'TA STOCK LOOKUP'!$A$2:$C$202,2,FALSE),\"\")","v":""},{"$f":"IF(G232<>\"\",VLOOKUP($F232,'TA STOCK LOOKUP'!$A$2:$C$202,3,FALSE),\"\")","v":""},"","","","","",""]
["","","","","","",{"$f":"IF(F233<>\"\",VLOOKUP($F233,'TA STOCK LOOKUP'!$A$2:$C$202,2,FALSE),\"\")","v":""},{"$f":"IF(G233<>\"\",VLOOKUP($F233,'TA STOCK LOOKUP'!$A$2:$C$202,3,FALSE),\"\")","v":""},"","","","","",""]
["","","","","","",{"$f":"IF(F234<>\"\",VLOOKUP($F234,'TA STOCK LOOKUP'!$A$2:$C$202,2,FALSE),\"\")","v":""},{"$f":"IF(G234<>\"\",VLOOKUP($F234,'TA STOCK LOOKUP'!$A$2:$C$202,3,FALSE),\"\")","v":""},"","","","","",""]
["","","","","","",{"$f":"IF(F235<>\"\",VLOOKUP($F235,'TA STOCK LOOKUP'!$A$2:$C$202,2,FALSE),\"\")","v":""},{"$f":"IF(G235<>\"\",VLOOKUP($F235,'TA STOCK LOOKUP'!$A$2:$C$202,3,FALSE),\"\")","v":""},"","","","","",""]
["","","","","","",{"$f":"IF(F236<>\"\",VLOOKUP($F236,'TA STOCK LOOKUP'!$A$2:$C$202,2,FALSE),\"\")","v":""},{"$f":"IF(G236<>\"\",VLOOKUP($F236,'TA STOCK LOOKUP'!$A$2:$C$202,3,FALSE),\"\")","v":""},"","","","","",""]
["","","","","","",{"$f":"IF(F237<>\"\",VLOOKUP($F237,'TA STOCK LOOKUP'!$A$2:$C$202,2,FALSE),\"\")","v":""},{"$f":"IF(G237<>\"\",VLOOKUP($F237,'TA STOCK LOOKUP'!$A$2:$C$202,3,FALSE),\"\")","v":""},"","","","","",""]
["","","","","","",{"$f":"IF(F238<>\"\",VLOOKUP($F238,'TA STOCK LOOKUP'!$A$2:$C$202,2,FALSE),\"\")","v":""},{"$f":"IF(G238<>\"\",VLOOKUP($F238,'TA STOCK LOOKUP'!$A$2:$C$202,3,FALSE),\"\")","v":""},"","","","","",""]
["","","","","","",{"$f":"IF(F239<>\"\",VLOOKUP($F239,'TA STOCK LOOKUP'!$A$2:$C$202,2,FALSE),\"\")","v":""},{"$f":"IF(G239<>\"\",VLOOKUP($F239,'TA STOCK LOOKUP'!$A$2:$C$202,3,FALSE),\"\")","v":""},"","","","","",""]
["","","","","","",{"$f":"IF(F240<>\"\",VLOOKUP($F240,'TA STOCK LOOKUP'!$A$2:$C$202,2,FALSE),\"\")","v":""},{"$f":"IF(G240<>\"\",VLOOKUP($F240,'TA STOCK LOOKUP'!$A$2:$C$202,3,FALSE),\"\")","v":""},"","","","","",""]
["","","","","","",{"$f":"IF(F241<>\"\",VLOOKUP($F241,'TA STOCK LOOKUP'!$A$2:$C$202,2,FALSE),\"\")","v":""},{"$f":"IF(G241<>\"\",VLOOKUP($F241,'TA STOCK LOOKUP'!$A$2:$C$202,3,FALSE),\"\")","v":""},"","","","","",""]
["","","","","","",{"$f":"IF(F242<>\"\",VLOOKUP($F242,'TA STOCK LOOKUP'!$A$2:$C$202,2,FALSE),\"\")","v":""},{"$f":"IF(G242<>\"\",VLOOKUP($F242,'TA STOCK LOOKUP'!$A$2:$C$202,3,FALSE),\"\")","v":""},"","","","","",""]
["","","","","","",{"$f":"IF(F243<>\"\",VLOOKUP($F243,'TA STOCK LOOKUP'!$A$2:$C$202,2,FALSE),\"\")","v":""},{"$f":"IF(G243<>\"\",VLOOKUP($F243,'TA STOCK LOOKUP'!$A$2:$C$202,3,FALSE),\"\")","v":""},"","","","","",""]
["","","","","","",{"$f":"IF(F244<>\"\",VLOOKUP($F244,'TA STOCK LOOKUP'!$A$2:$C$202,2,FALSE),\"\")","v":""},{"$f":"IF(G244<>\"\",VLOOKUP($F244,'TA STOCK LOOKUP'!$A$2:$C$202,3,FALSE),\"\")","v":""},"","","","","",""]
["","","","","","",{"$f":"IF(F245<>\"\",VLOOKUP($F245,'TA STOCK LOOKUP'!$A$2:$C$202,2,FALSE),\"\")","v":""},{"$f":"IF(G245<>\"\",VLOOKUP($F245,'TA STOCK LOOKUP'!$A$2:$C$202,3,FALSE),\"\")","v":""},"","","","","",""]
["","","","","","",{"$f":"IF(F246<>\"\",VLOOKUP($F246,'TA STOCK LOOKUP'!$A$2:$C$202,2,FALSE),\"\")","v":""},{"$f":"IF(G246<>\"\",VLOOKUP($F246,'TA STOCK LOOKUP'!$A$2:$C$202,3,FALSE),\"\")","v":""},"","","","","",""]
["","","","","","",{"$f":"IF(F247<>\"\",VLOOKUP($F247,'TA STOCK LOOKUP'!$A$2:$C$202,2,FALSE),\"\")","v":""},{"$f":"IF(G247<>\"\",VLOOKUP($F247,'TA STOCK LOOKUP'!$A$2:$C$202,3,FALSE),\"\")","v":""},"","","","","",""]
["","","","","","",{"$f":"IF(F248<>\"\",VLOOKUP($F248,'TA STOCK LOOKUP'!$A$2:$C$202,2,FALSE),\"\")","v":""},{"$f":"IF(G248<>\"\",VLOOKUP($F248,'TA STOCK LOOKUP'!$A$2:$C$202,3,FALSE),\"\")","v":""},"","","","","",""]
["","","","","","",{"$f":"IF(F249<>\"\",VLOOKUP($F249,'TA STOCK LOOKUP'!$A$2:$C$202,2,FALSE),\"\")","v":""},{"$f":"IF(G249<>\"\",VLOOKUP($F249,'TA STOCK LOOKUP'!$A$2:$C$202,3,FALSE),\"\")","v":""},"","","","","",""]
["","","","","","",{"$f":"IF(F250<>\"\",VLOOKUP($F250,'TA STOCK LOOKUP'!$A$2:$C$202,2,FALSE),\"\")","v":""},{"$f":"IF(G250<>\"\",VLOOKUP($F250,'TA STOCK LOOKUP'!$A$2:$C$202,3,FALSE),\"\")","v":""},"","","","","",""]
["","","","","","",{"$f":"IF(F251<>\"\",VLOOKUP($F251,'TA STOCK LOOKUP'!$A$2:$C$202,2,FALSE),\"\")","v":""},{"$f":"IF(G251<>\"\",VLOOKUP($F251,'TA STOCK LOOKUP'!$A$2:$C$202,3,FALSE),\"\")","v":""},"","","","","",""]
["","","","","","",{"$f":"IF(F252<>\"\",VLOOKUP($F252,'TA STOCK LOOKUP'!$A$2:$C$202,2,FALSE),\"\")","v":""},{"$f":"IF(G252<>\"\",VLOOKUP($F252,'TA STOCK LOOKUP'!$A$2:$C$202,3,FALSE),\"\")","v":""},"","","","","",""]
["","","","","","",{"$f":"IF(F253<>\"\",VLOOKUP($F253,'TA STOCK LOOKUP'!$A$2:$C$202,2,FALSE),\"\")","v":""},{"$f":"IF(G253<>\"\",VLOOKUP($F253,'TA STOCK LOOKUP'!$A$2:$C$202,3,FALSE),\"\")","v":""},"","","","","",""]
["","","","","","",{"$f":"IF(F254<>\"\",VLOOKUP($F254,'TA STOCK LOOKUP'!$A$2:$C$202,2,FALSE),\"\")","v":""},{"$f":"IF(G254<>\"\",VLOOKUP($F254,'TA STOCK LOOKUP'!$A$2:$C$202,3,FALSE),\"\")","v":""},"","","","","",""]
["","","","","","",{"$f":"IF(F255<>\"\",VLOOKUP($F255,'TA STOCK LOOKUP'!$A$2:$C$202,2,FALSE),\"\")","v":""},{"$f":"IF(G255<>\"\",VLOOKUP($F255,'TA STOCK LOOKUP'!$A$2:$C$202,3,FALSE),\"\")","v":""},"","","","","",""]
["","","","","","",{"$f":"IF(F256<>\"\",VLOOKUP($F256,'TA STOCK LOOKUP'!$A$2:$C$202,2,FALSE),\"\")","v":""},{"$f":"IF(G256<>\"\",VLOOKUP($F256,'TA STOCK LOOKUP'!$A$2:$C$202,3,FALSE),\"\")","v":""},"","","","","",""]
["","","","","","",{"$f":"IF(F257<>\"\",VLOOKUP($F257,'TA STOCK LOOKUP'!$A$2:$C$202,2,FALSE),\"\")","v":""},{"$f":"IF(G257<>\"\",VLOOKUP($F257,'TA STOCK LOOKUP'!$A$2:$C$202,3,FALSE),\"\")","v":""},"","","","","",""]
["","","","","","",{"$f":"IF(F258<>\"\",VLOOKUP($F258,'TA STOCK LOOKUP'!$A$2:$C$202,2,FALSE),\"\")","v":""},{"$f":"IF(G258<>\"\",VLOOKUP($F258,'TA STOCK LOOKUP'!$A$2:$C$202,3,FALSE),\"\")","v":""},"","","","","",""]
["","","","","","",{"$f":"IF(F259<>\"\",VLOOKUP($F259,'TA STOCK LOOKUP'!$A$2:$C$202,2,FALSE),\"\")","v":""},{"$f":"IF(G259<>\"\",VLOOKUP($F259,'TA STOCK LOOKUP'!$A$2:$C$202,3,FALSE),\"\")","v":""},"","","","","",""]
["","","","","","",{"$f":"IF(F260<>\"\",VLOOKUP($F260,'TA STOCK LOOKUP'!$A$2:$C$202,2,FALSE),\"\")","v":""},{"$f":"IF(G260<>\"\",VLOOKUP($F260,'TA STOCK LOOKUP'!$A$2:$C$202,3,FALSE),\"\")","v":""},"","","","","",""]
["","","","","","",{"$f":"IF(F261<>\"\",VLOOKUP($F261,'TA STOCK LOOKUP'!$A$2:$C$202,2,FALSE),\"\")","v":""},{"$f":"IF(G261<>\"\",VLOOKUP($F261,'TA STOCK LOOKUP'!$A$2:$C$202,3,FALSE),\"\")","v":""},"","","","","",""]
["","","","","","",{"$f":"IF(F262<>\"\",VLOOKUP($F262,'TA STOCK LOOKUP'!$A$2:$C$202,2,FALSE),\"\")","v":""},{"$f":"IF(G262<>\"\",VLOOKUP($F262,'TA STOCK LOOKUP'!$A$2:$C$202,3,FALSE),\"\")","v":""},"","","","","",""]
["","","","","","",{"$f":"IF(F263<>\"\",VLOOKUP($F263,'TA STOCK LOOKUP'!$A$2:$C$202,2,FALSE),\"\")","v":""},{"$f":"IF(G263<>\"\",VLOOKUP($F263,'TA STOCK LOOKUP'!$A$2:$C$202,3,FALSE),\"\")","v":""},"","","","","",""]
["","","","","","",{"$f":"IF(F264<>\"\",VLOOKUP($F264,'TA STOCK LOOKUP'!$A$2:$C$202,2,FALSE),\"\")","v":""},{"$f":"IF(G264<>\"\",VLOOKUP($F264,'TA STOCK LOOKUP'!$A$2:$C$202,3,FALSE),\"\")","v":""},"","","","","",""]
["","","","","","",{"$f":"IF(F265<>\"\",VLOOKUP($F265,'TA STOCK LOOKUP'!$A$2:$C$202,2,FALSE),\"\")","v":""},{"$f":"IF(G265<>\"\",VLOOKUP($F265,'TA STOCK LOOKUP'!$A$2:$C$202,3,FALSE),\"\")","v":""},"","","","","",""]
["","","","","","",{"$f":"IF(F266<>\"\",VLOOKUP($F266,'TA STOCK LOOKUP'!$A$2:$C$202,2,FALSE),\"\")","v":""},{"$f":"IF(G266<>\"\",VLOOKUP($F266,'TA STOCK LOOKUP'!$A$2:$C$202,3,FALSE),\"\")","v":""},"","","","","",""]
["","","","","","",{"$f":"IF(F267<>\"\",VLOOKUP($F267,'TA STOCK LOOKUP'!$A$2:$C$202,2,FALSE),\"\")","v":""},{"$f":"IF(G267<>\"\",VLOOKUP($F267,'TA STOCK LOOKUP'!$A$2:$C$202,3,FALSE),\"\")","v":""},"","","","","",""]
["","","","","","",{"$f":"IF(F268<>\"\",VLOOKUP($F268,'TA STOCK LOOKUP'!$A$2:$C$202,2,FALSE),\"\")","v":""},{"$f":"IF(G268<>\"\",VLOOKUP($F268,'TA STOCK LOOKUP'!$A$2:$C$202,3,FALSE),\"\")","v":""},"","","","","",""]
["","","","","","",{"$f":"IF(F269<>\"\",VLOOKUP($F269,'TA STOCK LOOKUP'!$A$2:$C$202,2,FALSE),\"\")","v":""},{"$f":"IF(G269<>\"\",VLOOKUP($F269,'TA STOCK LOOKUP'!$A$2:$C$202,3,FALSE),\"\")","v":""},"","","","","",""]
["","","","","","",{"$f":"IF(F270<>\"\",VLOOKUP($F270,'TA STOCK LOOKUP'!$A$2:$C$202,2,FALSE),\"\")","v":""},{"$f":"IF(G270<>\"\",VLOOKUP($F270,'TA STOCK LOOKUP'!$A$2:$C$202,3,FALSE),\"\")","v":""},"","","","","",""]
["","","","","","",{"$f":"IF(F271<>\"\",VLOOKUP($F271,'TA STOCK LOOKUP'!$A$2:$C$202,2,FALSE),\"\")","v":""},{"$f":"IF(G271<>\"\",VLOOKUP($F271,'TA STOCK LOOKUP'!$A$2:$C$202,3,FALSE),\"\")","v":""},"","","","","",""]
["","","","","","",{"$f":"IF(F272<>\"\",VLOOKUP($F272,'TA STOCK LOOKUP'!$A$2:$C$202,2,FALSE),\"\")","v":""},{"$f":"IF(G272<>\"\",VLOOKUP($F272,'TA STOCK LOOKUP'!$A$2:$C$202,3,FALSE),\"\")","v":""},"","","","","",""]
["","","","","","",{"$f":"IF(F273<>\"\",VLOOKUP($F273,'TA STOCK LOOKUP'!$A$2:$C$202,2,FALSE),\"\")","v":""},{"$f":"IF(G273<>\"\",VLOOKUP($F273,'TA STOCK LOOKUP'!$A$2:$C$202,3,FALSE),\"\")","v":""},"","","","","",""]
["","","","","","",{"$f":"IF(F274<>\"\",VLOOKUP($F274,'TA STOCK LOOKUP'!$A$2:$C$202,2,FALSE),\"\")","v":""},{"$f":"IF(G274<>\"\",VLOOKUP($F274,'TA STOCK LOOKUP'!$A$2:$C$202,3,FALSE),\"\")","v":""},"","","","","",""]
["","","","","","",{"$f":"IF(F275<>\"\",VLOOKUP($F275,'TA STOCK LOOKUP'!$A$2:$C$202,2,FALSE),\"\")","v":""},{"$f":"IF(G275<>\"\",VLOOKUP($F275,'TA STOCK LOOKUP'!$A$2:$C$202,3,FALSE),\"\")","v":""},"","","","","",""]
["","","","","","",{"$f":"IF(F276<>\"\",VLOOKUP($F276,'TA STOCK LOOKUP'!$A$2:$C$202,2,FALSE),\"\")","v":""},{"$f":"IF(G276<>\"\",VLOOKUP($F276,'TA STOCK LOOKUP'!$A$2:$C$202,3,FALSE),\"\")","v":""},"","","","","",""]
["","","","","","",{"$f":"IF(F277<>\"\",VLOOKUP($F277,'TA STOCK LOOKUP'!$A$2:$C$202,2,FALSE),\"\")","v":""},{"$f":"IF(G277<>\"\",VLOOKUP($F277,'TA STOCK LOOKUP'!$A$2:$C$202,3,FALSE),\"\")","v":""},"","","","","",""]
["","","","","","",{"$f":"IF(F278<>\"\",VLOOKUP($F278,'TA STOCK LOOKUP'!$A$2:$C$202,2,FALSE),\"\")","v":""},{"$f":"IF(G278<>\"\",VLOOKUP($F278,'TA STOCK LOOKUP'!$A$2:$C$202,3,FALSE),\"\")","v":""},"","","","","",""]
["","","","","","",{"$f":"IF(F279<>\"\",VLOOKUP($F279,'TA STOCK LOOKUP'!$A$2:$C$202,2,FALSE),\"\")","v":""},{"$f":"IF(G279<>\"\",VLOOKUP($F279,'TA STOCK LOOKUP'!$A$2:$C$202,3,FALSE),\"\")","v":""},"","","","","",""]
["","","","","","",{"$f":"IF(F280<>\"\",VLOOKUP($F280,'TA STOCK LOOKUP'!$A$2:$C$202,2,FALSE),\"\")","v":""},{"$f":"IF(G280<>\"\",VLOOKUP($F280,'TA STOCK LOOKUP'!$A$2:$C$202,3,FALSE),\"\")","v":""},"","","","","",""]
["","","","","","",{"$f":"IF(F281<>\"\",VLOOKUP($F281,'TA STOCK LOOKUP'!$A$2:$C$202,2,FALSE),\"\")","v":""},{"$f":"IF(G281<>\"\",VLOOKUP($F281,'TA STOCK LOOKUP'!$A$2:$C$202,3,FALSE),\"\")","v":""},"","","","","",""]
["","","","","","",{"$f":"IF(F282<>\"\",VLOOKUP($F282,'TA STOCK LOOKUP'!$A$2:$C$202,2,FALSE),\"\")","v":""},{"$f":"IF(G282<>\"\",VLOOKUP($F282,'TA STOCK LOOKUP'!$A$2:$C$202,3,FALSE),\"\")","v":""},"","","","","",""]
["","","","","","",{"$f":"IF(F283<>\"\",VLOOKUP($F283,'TA STOCK LOOKUP'!$A$2:$C$202,2,FALSE),\"\")","v":""},{"$f":"IF(G283<>\"\",VLOOKUP($F283,'TA STOCK LOOKUP'!$A$2:$C$202,3,FALSE),\"\")","v":""},"","","","","",""]
["","","","","","",{"$f":"IF(F284<>\"\",VLOOKUP($F284,'TA STOCK LOOKUP'!$A$2:$C$202,2,FALSE),\"\")","v":""},{"$f":"IF(G284<>\"\",VLOOKUP($F284,'TA STOCK LOOKUP'!$A$2:$C$202,3,FALSE),\"\")","v":""},"","","","","",""]
["","","","","","",{"$f":"IF(F285<>\"\",VLOOKUP($F285,'TA STOCK LOOKUP'!$A$2:$C$202,2,FALSE),\"\")","v":""},{"$f":"IF(G285<>\"\",VLOOKUP($F285,'TA STOCK LOOKUP'!$A$2:$C$202,3,FALSE),\"\")","v":""},"","","","","",""]
["","","","","","",{"$f":"IF(F286<>\"\",VLOOKUP($F286,'TA STOCK LOOKUP'!$A$2:$C$202,2,FALSE),\"\")","v":""},{"$f":"IF(G286<>\"\",VLOOKUP($F286,'TA STOCK LOOKUP'!$A$2:$C$202,3,FALSE),\"\")","v":""},"","","","","",""]
["","","","","","",{"$f":"IF(F287<>\"\",VLOOKUP($F287,'TA STOCK LOOKUP'!$A$2:$C$202,2,FALSE),\"\")","v":""},{"$f":"IF(G287<>\"\",VLOOKUP($F287,'TA STOCK LOOKUP'!$A$2:$C$202,3,FALSE),\"\")","v":""},"","","","","",""]
["","","","","","",{"$f":"IF(F288<>\"\",VLOOKUP($F288,'TA STOCK LOOKUP'!$A$2:$C$202,2,FALSE),\"\")","v":""},{"$f":"IF(G288<>\"\",VLOOKUP($F288,'TA STOCK LOOKUP'!$A$2:$C$202,3,FALSE),\"\")","v":""},"","","","","",""]
["","","","","","",{"$f":"IF(F289<>\"\",VLOOKUP($F289,'TA STOCK LOOKUP'!$A$2:$C$202,2,FALSE),\"\")","v":""},{"$f":"IF(G289<>\"\",VLOOKUP($F289,'TA STOCK LOOKUP'!$A$2:$C$202,3,FALSE),\"\")","v":""},"","","","","",""]
["","","","","","",{"$f":"IF(F290<>\"\",VLOOKUP($F290,'TA STOCK LOOKUP'!$A$2:$C$202,2,FALSE),\"\")","v":""},{"$f":"IF(G290<>\"\",VLOOKUP($F290,'TA STOCK LOOKUP'!$A$2:$C$202,3,FALSE),\"\")","v":""},"","","","","",""]
["","","","","","",{"$f":"IF(F291<>\"\",VLOOKUP($F291,'TA STOCK LOOKUP'!$A$2:$C$202,2,FALSE),\"\")","v":""},{"$f":"IF(G291<>\"\",VLOOKUP($F291,'TA STOCK LOOKUP'!$A$2:$C$202,3,FALSE),\"\")","v":""},"","","","","",""]
["","","","","","",{"$f":"IF(F292<>\"\",VLOOKUP($F292,'TA STOCK LOOKUP'!$A$2:$C$202,2,FALSE),\"\")","v":""},{"$f":"IF(G292<>\"\",VLOOKUP($F292,'TA STOCK LOOKUP'!$A$2:$C$202,3,FALSE),\"\")","v":""},"","","","","",""]
["","","","","","",{"$f":"IF(F293<>\"\",VLOOKUP($F293,'TA STOCK LOOKUP'!$A$2:$C$202,2,FALSE),\"\")","v":""},{"$f":"IF(G293<>\"\",VLOOKUP($F293,'TA STOCK LOOKUP'!$A$2:$C$202,3,FALSE),\"\")","v":""},"","","","","",""]
["","","","","","",{"$f":"IF(F294<>\"\",VLOOKUP($F294,'TA STOCK LOOKUP'!$A$2:$C$202,2,FALSE),\"\")","v":""},{"$f":"IF(G294<>\"\",VLOOKUP($F294,'TA STOCK LOOKUP'!$A$2:$C$202,3,FALSE),\"\")","v":""},"","","","","",""]
["","","","","","",{"$f":"IF(F295<>\"\",VLOOKUP($F295,'TA STOCK LOOKUP'!$A$2:$C$202,2,FALSE),\"\")","v":""},{"$f":"IF(G295<>\"\",VLOOKUP($F295,'TA STOCK LOOKUP'!$A$2:$C$202,3,FALSE),\"\")","v":""},"","","","","",""]
["","","","","","",{"$f":"IF(F296<>\"\",VLOOKUP($F296,'TA STOCK LOOKUP'!$A$2:$C$202,2,FALSE),\"\")","v":""},{"$f":"IF(G296<>\"\",VLOOKUP($F296,'TA STOCK LOOKUP'!$A$2:$C$202,3,FALSE),\"\")","v":""},"","","","","",""]
["","","","","","",{"$f":"IF(F297<>\"\",VLOOKUP($F297,'TA STOCK LOOKUP'!$A$2:$C$202,2,FALSE),\"\")","v":""},{"$f":"IF(G297<>\"\",VLOOKUP($F297,'TA STOCK LOOKUP'!$A$2:$C$202,3,FALSE),\"\")","v":""},"","","","","",""]
["","","","","","",{"$f":"IF(F298<>\"\",VLOOKUP($F298,'TA STOCK LOOKUP'!$A$2:$C$202,2,FALSE),\"\")","v":""},{"$f":"IF(G298<>\"\",VLOOKUP($F298,'TA STOCK LOOKUP'!$A$2:$C$202,3,FALSE),\"\")","v":""},"","","","","",""]
["","","","","","",{"$f":"IF(F299<>\"\",VLOOKUP($F299,'TA STOCK LOOKUP'!$A$2:$C$202,2,FALSE),\"\")","v":""},{"$f":"IF(G299<>\"\",VLOOKUP($F299,'TA STOCK LOOKUP'!$A$2:$C$202,3,FALSE),\"\")","v":""},"","","","","",""]
["","","","","","",{"$f":"IF(F300<>\"\",VLOOKUP($F300,'TA STOCK LOOKUP'!$A$2:$C$202,2,FALSE),\"\")","v":""},{"$f":"IF(G300<>\"\",VLOOKUP($F300,'TA STOCK LOOKUP'!$A$2:$C$202,3,FALSE),\"\")","v":""},"","","","","",""]
["","","","","","",{"$f":"IF(F301<>\"\",VLOOKUP($F301,'TA STOCK LOOKUP'!$A$2:$C$202,2,FALSE),\"\")","v":""},{"$f":"IF(G301<>\"\",VLOOKUP($F301,'TA STOCK LOOKUP'!$A$2:$C$202,3,FALSE),\"\")","v":""},"","","","","",""]
["","","","","","",{"$f":"IF(F302<>\"\",VLOOKUP($F302,'TA STOCK LOOKUP'!$A$2:$C$202,2,FALSE),\"\")","v":""},{"$f":"IF(G302<>\"\",VLOOKUP($F302,'TA STOCK LOOKUP'!$A$2:$C$202,3,FALSE),\"\")","v":""},"","","","","",""]
["","","","","","",{"$f":"IF(F303<>\"\",VLOOKUP($F303,'TA STOCK LOOKUP'!$A$2:$C$202,2,FALSE),\"\")","v":""},{"$f":"IF(G303<>\"\",VLOOKUP($F303,'TA STOCK LOOKUP'!$A$2:$C$202,3,FALSE),\"\")","v":""},"","","","","",""]
["","","","","","",{"$f":"IF(F304<>\"\",VLOOKUP($F304,'TA STOCK LOOKUP'!$A$2:$C$202,2,FALSE),\"\")","v":""},{"$f":"IF(G304<>\"\",VLOOKUP($F304,'TA STOCK LOOKUP'!$A$2:$C$202,3,FALSE),\"\")","v":""},"","","","","",""]
["","","","","","",{"$f":"IF(F305<>\"\",VLOOKUP($F305,'TA STOCK LOOKUP'!$A$2:$C$202,2,FALSE),\"\")","v":""},{"$f":"IF(G305<>\"\",VLOOKUP($F305,'TA STOCK LOOKUP'!$A$2:$C$202,3,FALSE),\"\")","v":""},"","","","","",""]
["","","","","","",{"$f":"IF(F306<>\"\",VLOOKUP($F306,'TA STOCK LOOKUP'!$A$2:$C$202,2,FALSE),\"\")","v":""},{"$f":"IF(G306<>\"\",VLOOKUP($F306,'TA STOCK LOOKUP'!$A$2:$C$202,3,FALSE),\"\")","v":""},"","","","","",""]
["","","","","","",{"$f":"IF(F307<>\"\",VLOOKUP($F307,'TA STOCK LOOKUP'!$A$2:$C$202,2,FALSE),\"\")","v":""},{"$f":"IF(G307<>\"\",VLOOKUP($F307,'TA STOCK LOOKUP'!$A$2:$C$202,3,FALSE),\"\")","v":""},"","","","","",""]
["","","","","","",{"$f":"IF(F308<>\"\",VLOOKUP($F308,'TA STOCK LOOKUP'!$A$2:$C$202,2,FALSE),\"\")","v":""},{"$f":"IF(G308<>\"\",VLOOKUP($F308,'TA STOCK LOOKUP'!$A$2:$C$202,3,FALSE),\"\")","v":""},"","","","","",""]
["","","","","","",{"$f":"IF(F309<>\"\",VLOOKUP($F309,'TA STOCK LOOKUP'!$A$2:$C$202,2,FALSE),\"\")","v":""},{"$f":"IF(G309<>\"\",VLOOKUP($F309,'TA STOCK LOOKUP'!$A$2:$C$202,3,FALSE),\"\")","v":""},"","","","","",""]
["","","","","","",{"$f":"IF(F310<>\"\",VLOOKUP($F310,'TA STOCK LOOKUP'!$A$2:$C$202,2,FALSE),\"\")","v":""},{"$f":"IF(G310<>\"\",VLOOKUP($F310,'TA STOCK LOOKUP'!$A$2:$C$202,3,FALSE),\"\")","v":""},"","","","","",""]
["","","","","","",{"$f":"IF(F311<>\"\",VLOOKUP($F311,'TA STOCK LOOKUP'!$A$2:$C$202,2,FALSE),\"\")","v":""},{"$f":"IF(G311<>\"\",VLOOKUP($F311,'TA STOCK LOOKUP'!$A$2:$C$202,3,FALSE),\"\")","v":""},"","","","","",""]
["","","","","","",{"$f":"IF(F312<>\"\",VLOOKUP($F312,'TA STOCK LOOKUP'!$A$2:$C$202,2,FALSE),\"\")","v":""},{"$f":"IF(G312<>\"\",VLOOKUP($F312,'TA STOCK LOOKUP'!$A$2:$C$202,3,FALSE),\"\")","v":""},"","","","","",""]
["","","","","","",{"$f":"IF(F313<>\"\",VLOOKUP($F313,'TA STOCK LOOKUP'!$A$2:$C$202,2,FALSE),\"\")","v":""},{"$f":"IF(G313<>\"\",VLOOKUP($F313,'TA STOCK LOOKUP'!$A$2:$C$202,3,FALSE),\"\")","v":""},"","","","","",""]
["","","","","","",{"$f":"IF(F314<>\"\",VLOOKUP($F314,'TA STOCK LOOKUP'!$A$2:$C$202,2,FALSE),\"\")","v":""},{"$f":"IF(G314<>\"\",VLOOKUP($F314,'TA STOCK LOOKUP'!$A$2:$C$202,3,FALSE),\"\")","v":""},"","","","","",""]
["","","","","","",{"$f":"IF(F315<>\"\",VLOOKUP($F315,'TA STOCK LOOKUP'!$A$2:$C$202,2,FALSE),\"\")","v":""},{"$f":"IF(G315<>\"\",VLOOKUP($F315,'TA STOCK LOOKUP'!$A$2:$C$202,3,FALSE),\"\")","v":""},"","","","","",""]
["","","","","","",{"$f":"IF(F316<>\"\",VLOOKUP($F316,'TA STOCK LOOKUP'!$A$2:$C$202,2,FALSE),\"\")","v":""},{"$f":"IF(G316<>\"\",VLOOKUP($F316,'TA STOCK LOOKUP'!$A$2:$C$202,3,FALSE),\"\")","v":""},"","","","","",""]
["","","","","","",{"$f":"IF(F317<>\"\",VLOOKUP($F317,'TA STOCK LOOKUP'!$A$2:$C$202,2,FALSE),\"\")","v":""},{"$f":"IF(G317<>\"\",VLOOKUP($F317,'TA STOCK LOOKUP'!$A$2:$C$202,3,FALSE),\"\")","v":""},"","","","","",""]
["","","","","","",{"$f":"IF(F318<>\"\",VLOOKUP($F318,'TA STOCK LOOKUP'!$A$2:$C$202,2,FALSE),\"\")","v":""},{"$f":"IF(G318<>\"\",VLOOKUP($F318,'TA STOCK LOOKUP'!$A$2:$C$202,3,FALSE),\"\")","v":""},"","","","","",""]
["","","","","","",{"$f":"IF(F319<>\"\",VLOOKUP($F319,'TA STOCK LOOKUP'!$A$2:$C$202,2,FALSE),\"\")","v":""},{"$f":"IF(G319<>\"\",VLOOKUP($F319,'TA STOCK LOOKUP'!$A$2:$C$202,3,FALSE),\"\")","v":""},"","","","","",""]
["","","","","","",{"$f":"IF(F320<>\"\",VLOOKUP($F320,'TA STOCK LOOKUP'!$A$2:$C$202,2,FALSE),\"\")","v":""},{"$f":"IF(G320<>\"\",VLOOKUP($F320,'TA STOCK LOOKUP'!$A$2:$C$202,3,FALSE),\"\")","v":""},"","","","","",""]
["","","","","","",{"$f":"IF(F321<>\"\",VLOOKUP($F321,'TA STOCK LOOKUP'!$A$2:$C$202,2,FALSE),\"\")","v":""},{"$f":"IF(G321<>\"\",VLOOKUP($F321,'TA STOCK LOOKUP'!$A$2:$C$202,3,FALSE),\"\")","v":""},"","","","","",""]
["","","","","","",{"$f":"IF(F322<>\"\",VLOOKUP($F322,'TA STOCK LOOKUP'!$A$2:$C$202,2,FALSE),\"\")","v":""},{"$f":"IF(G322<>\"\",VLOOKUP($F322,'TA STOCK LOOKUP'!$A$2:$C$202,3,FALSE),\"\")","v":""},"","","","","",""]
["","","","","","",{"$f":"IF(F323<>\"\",VLOOKUP($F323,'TA STOCK LOOKUP'!$A$2:$C$202,2,FALSE),\"\")","v":""},{"$f":"IF(G323<>\"\",VLOOKUP($F323,'TA STOCK LOOKUP'!$A$2:$C$202,3,FALSE),\"\")","v":""},"","","","","",""]
["","","","","","",{"$f":"IF(F324<>\"\",VLOOKUP($F324,'TA STOCK LOOKUP'!$A$2:$C$202,2,FALSE),\"\")","v":""},{"$f":"IF(G324<>\"\",VLOOKUP($F324,'TA STOCK LOOKUP'!$A$2:$C$202,3,FALSE),\"\")","v":""},"","","","","",""]
["","","","","","",{"$f":"IF(F325<>\"\",VLOOKUP($F325,'TA STOCK LOOKUP'!$A$2:$C$202,2,FALSE),\"\")","v":""},{"$f":"IF(G325<>\"\",VLOOKUP($F325,'TA STOCK LOOKUP'!$A$2:$C$202,3,FALSE),\"\")","v":""},"","","","","",""]
["","","","","","",{"$f":"IF(F326<>\"\",VLOOKUP($F326,'TA STOCK LOOKUP'!$A$2:$C$202,2,FALSE),\"\")","v":""},{"$f":"IF(G326<>\"\",VLOOKUP($F326,'TA STOCK LOOKUP'!$A$2:$C$202,3,FALSE),\"\")","v":""},"","","","","",""]
["","","","","","",{"$f":"IF(F327<>\"\",VLOOKUP($F327,'TA STOCK LOOKUP'!$A$2:$C$202,2,FALSE),\"\")","v":""},{"$f":"IF(G327<>\"\",VLOOKUP($F327,'TA STOCK LOOKUP'!$A$2:$C$202,3,FALSE),\"\")","v":""},"","","","","",""]
["","","","","","",{"$f":"IF(F328<>\"\",VLOOKUP($F328,'TA STOCK LOOKUP'!$A$2:$C$202,2,FALSE),\"\")","v":""},{"$f":"IF(G328<>\"\",VLOOKUP($F328,'TA STOCK LOOKUP'!$A$2:$C$202,3,FALSE),\"\")","v":""},"","","","","",""]
["","","","","","",{"$f":"IF(F329<>\"\",VLOOKUP($F329,'TA STOCK LOOKUP'!$A$2:$C$202,2,FALSE),\"\")","v":""},{"$f":"IF(G329<>\"\",VLOOKUP($F329,'TA STOCK LOOKUP'!$A$2:$C$202,3,FALSE),\"\")","v":""},"","","","","",""]
["","","","","","",{"$f":"IF(F330<>\"\",VLOOKUP($F330,'TA STOCK LOOKUP'!$A$2:$C$202,2,FALSE),\"\")","v":""},{"$f":"IF(G330<>\"\",VLOOKUP($F330,'TA STOCK LOOKUP'!$A$2:$C$202,3,FALSE),\"\")","v":""},"","","","","",""]
["","","","","","",{"$f":"IF(F331<>\"\",VLOOKUP($F331,'TA STOCK LOOKUP'!$A$2:$C$202,2,FALSE),\"\")","v":""},{"$f":"IF(G331<>\"\",VLOOKUP($F331,'TA STOCK LOOKUP'!$A$2:$C$202,3,FALSE),\"\")","v":""},"","","","","",""]
["","","","","","",{"$f":"IF(F332<>\"\",VLOOKUP($F332,'TA STOCK LOOKUP'!$A$2:$C$202,2,FALSE),\"\")","v":""},{"$f":"IF(G332<>\"\",VLOOKUP($F332,'TA STOCK LOOKUP'!$A$2:$C$202,3,FALSE),\"\")","v":""},"","","","","",""]
["","","","","","",{"$f":"IF(F333<>\"\",VLOOKUP($F333,'TA STOCK LOOKUP'!$A$2:$C$202,2,FALSE),\"\")","v":""},{"$f":"IF(G333<>\"\",VLOOKUP($F333,'TA STOCK LOOKUP'!$A$2:$C$202,3,FALSE),\"\")","v":""},"","","","","",""]
["","","","","","",{"$f":"IF(F334<>\"\",VLOOKUP($F334,'TA STOCK LOOKUP'!$A$2:$C$202,2,FALSE),\"\")","v":""},{"$f":"IF(G334<>\"\",VLOOKUP($F334,'TA STOCK LOOKUP'!$A$2:$C$202,3,FALSE),\"\")","v":""},"","","","","",""]
["","","","","","",{"$f":"IF(F335<>\"\",VLOOKUP($F335,'TA STOCK LOOKUP'!$A$2:$C$202,2,FALSE),\"\")","v":""},{"$f":"IF(G335<>\"\",VLOOKUP($F335,'TA STOCK LOOKUP'!$A$2:$C$202,3,FALSE),\"\")","v":""},"","","","","",""]
["","","","","","",{"$f":"IF(F336<>\"\",VLOOKUP($F336,'TA STOCK LOOKUP'!$A$2:$C$202,2,FALSE),\"\")","v":""},{"$f":"IF(G336<>\"\",VLOOKUP($F336,'TA STOCK LOOKUP'!$A$2:$C$202,3,FALSE),\"\")","v":""},"","","","","",""]
["","","","","","",{"$f":"IF(F337<>\"\",VLOOKUP($F337,'TA STOCK LOOKUP'!$A$2:$C$202,2,FALSE),\"\")","v":""},{"$f":"IF(G337<>\"\",VLOOKUP($F337,'TA STOCK LOOKUP'!$A$2:$C$202,3,FALSE),\"\")","v":""},"","","","","",""]
["","","","","","",{"$f":"IF(F338<>\"\",VLOOKUP($F338,'TA STOCK LOOKUP'!$A$2:$C$202,2,FALSE),\"\")","v":""},{"$f":"IF(G338<>\"\",VLOOKUP($F338,'TA STOCK LOOKUP'!$A$2:$C$202,3,FALSE),\"\")","v":""},"","","","","",""]
["","","","","","",{"$f":"IF(F339<>\"\",VLOOKUP($F339,'TA STOCK LOOKUP'!$A$2:$C$202,2,FALSE),\"\")","v":""},{"$f":"IF(G339<>\"\",VLOOKUP($F339,'TA STOCK LOOKUP'!$A$2:$C$202,3,FALSE),\"\")","v":""},"","","","","",""]
["","","","","","",{"$f":"IF(F340<>\"\",VLOOKUP($F340,'TA STOCK LOOKUP'!$A$2:$C$202,2,FALSE),\"\")","v":""},{"$f":"IF(G340<>\"\",VLOOKUP($F340,'TA STOCK LOOKUP'!$A$2:$C$202,3,FALSE),\"\")","v":""},"","","","","",""]
["","","","","","",{"$f":"IF(F341<>\"\",VLOOKUP($F341,'TA STOCK LOOKUP'!$A$2:$C$202,2,FALSE),\"\")","v":""},{"$f":"IF(G341<>\"\",VLOOKUP($F341,'TA STOCK LOOKUP'!$A$2:$C$202,3,FALSE),\"\")","v":""},"","","","","",""]
["","","","","","",{"$f":"IF(F342<>\"\",VLOOKUP($F342,'TA STOCK LOOKUP'!$A$2:$C$202,2,FALSE),\"\")","v":""},{"$f":"IF(G342<>\"\",VLOOKUP($F342,'TA STOCK LOOKUP'!$A$2:$C$202,3,FALSE),\"\")","v":""},"","","","","",""]
["","","","","","",{"$f":"IF(F343<>\"\",VLOOKUP($F343,'TA STOCK LOOKUP'!$A$2:$C$202,2,FALSE),\"\")","v":""},{"$f":"IF(G343<>\"\",VLOOKUP($F343,'TA STOCK LOOKUP'!$A$2:$C$202,3,FALSE),\"\")","v":""},"","","","","",""]
["","","","","","",{"$f":"IF(F344<>\"\",VLOOKUP($F344,'TA STOCK LOOKUP'!$A$2:$C$202,2,FALSE),\"\")","v":""},{"$f":"IF(G344<>\"\",VLOOKUP($F344,'TA STOCK LOOKUP'!$A$2:$C$202,3,FALSE),\"\")","v":""},"","","","","",""]
["","","","","","",{"$f":"IF(F345<>\"\",VLOOKUP($F345,'TA STOCK LOOKUP'!$A$2:$C$202,2,FALSE),\"\")","v":""},{"$f":"IF(G345<>\"\",VLOOKUP($F345,'TA STOCK LOOKUP'!$A$2:$C$202,3,FALSE),\"\")","v":""},"","","","","",""]
["","","","","","",{"$f":"IF(F346<>\"\",VLOOKUP($F346,'TA STOCK LOOKUP'!$A$2:$C$202,2,FALSE),\"\")","v":""},{"$f":"IF(G346<>\"\",VLOOKUP($F346,'TA STOCK LOOKUP'!$A$2:$C$202,3,FALSE),\"\")","v":""},"","","","","",""]
["","","","","","",{"$f":"IF(F347<>\"\",VLOOKUP($F347,'TA STOCK LOOKUP'!$A$2:$C$202,2,FALSE),\"\")","v":""},{"$f":"IF(G347<>\"\",VLOOKUP($F347,'TA STOCK LOOKUP'!$A$2:$C$202,3,FALSE),\"\")","v":""},"","","","","",""]
["","","","","","",{"$f":"IF(F348<>\"\",VLOOKUP($F348,'TA STOCK LOOKUP'!$A$2:$C$202,2,FALSE),\"\")","v":""},{"$f":"IF(G348<>\"\",VLOOKUP($F348,'TA STOCK LOOKUP'!$A$2:$C$202,3,FALSE),\"\")","v":""},"","","","","",""]
["","","","","","",{"$f":"IF(F349<>\"\",VLOOKUP($F349,'TA STOCK LOOKUP'!$A$2:$C$202,2,FALSE),\"\")","v":""},{"$f":"IF(G349<>\"\",VLOOKUP($F349,'TA STOCK LOOKUP'!$A$2:$C$202,3,FALSE),\"\")","v":""},"","","","","",""]
["","","","","","",{"$f":"IF(F350<>\"\",VLOOKUP($F350,'TA STOCK LOOKUP'!$A$2:$C$202,2,FALSE),\"\")","v":""},{"$f":"IF(G350<>\"\",VLOOKUP($F350,'TA STOCK LOOKUP'!$A$2:$C$202,3,FALSE),\"\")","v":""},"","","","","",""]
["","","","","","",{"$f":"IF(F351<>\"\",VLOOKUP($F351,'TA STOCK LOOKUP'!$A$2:$C$202,2,FALSE),\"\")","v":""},{"$f":"IF(G351<>\"\",VLOOKUP($F351,'TA STOCK LOOKUP'!$A$2:$C$202,3,FALSE),\"\")","v":""},"","","","","",""]
["","","","","","",{"$f":"IF(F352<>\"\",VLOOKUP($F352,'TA STOCK LOOKUP'!$A$2:$C$202,2,FALSE),\"\")","v":""},{"$f":"IF(G352<>\"\",VLOOKUP($F352,'TA STOCK LOOKUP'!$A$2:$C$202,3,FALSE),\"\")","v":""},"","","","","",""]
["","","","","","",{"$f":"IF(F353<>\"\",VLOOKUP($F353,'TA STOCK LOOKUP'!$A$2:$C$202,2,FALSE),\"\")","v":""},{"$f":"IF(G353<>\"\",VLOOKUP($F353,'TA STOCK LOOKUP'!$A$2:$C$202,3,FALSE),\"\")","v":""},"","","","","",""]
["","","","","","",{"$f":"IF(F354<>\"\",VLOOKUP($F354,'TA STOCK LOOKUP'!$A$2:$C$202,2,FALSE),\"\")","v":""},{"$f":"IF(G354<>\"\",VLOOKUP($F354,'TA STOCK LOOKUP'!$A$2:$C$202,3,FALSE),\"\")","v":""},"","","","","",""]
["","","","","","",{"$f":"IF(F355<>\"\",VLOOKUP($F355,'TA STOCK LOOKUP'!$A$2:$C$202,2,FALSE),\"\")","v":""},{"$f":"IF(G355<>\"\",VLOOKUP($F355,'TA STOCK LOOKUP'!$A$2:$C$202,3,FALSE),\"\")","v":""},"","","","","",""]
["","","","","","",{"$f":"IF(F356<>\"\",VLOOKUP($F356,'TA STOCK LOOKUP'!$A$2:$C$202,2,FALSE),\"\")","v":""},{"$f":"IF(G356<>\"\",VLOOKUP($F356,'TA STOCK LOOKUP'!$A$2:$C$202,3,FALSE),\"\")","v":""},"","","","","",""]
["","","","","","",{"$f":"IF(F357<>\"\",VLOOKUP($F357,'TA STOCK LOOKUP'!$A$2:$C$202,2,FALSE),\"\")","v":""},{"$f":"IF(G357<>\"\",VLOOKUP($F357,'TA STOCK LOOKUP'!$A$2:$C$202,3,FALSE),\"\")","v":""},"","","","","",""]
["","","","","","",{"$f":"IF(F358<>\"\",VLOOKUP($F358,'TA STOCK LOOKUP'!$A$2:$C$202,2,FALSE),\"\")","v":""},{"$f":"IF(G358<>\"\",VLOOKUP($F358,'TA STOCK LOOKUP'!$A$2:$C$202,3,FALSE),\"\")","v":""},"","","","","",""]
["","","","","","",{"$f":"IF(F359<>\"\",VLOOKUP($F359,'TA STOCK LOOKUP'!$A$2:$C$202,2,FALSE),\"\")","v":""},{"$f":"IF(G359<>\"\",VLOOKUP($F359,'TA STOCK LOOKUP'!$A$2:$C$202,3,FALSE),\"\")","v":""},"","","","","",""]
["","","","","","",{"$f":"IF(F360<>\"\",VLOOKUP($F360,'TA STOCK LOOKUP'!$A$2:$C$202,2,FALSE),\"\")","v":""},{"$f":"IF(G360<>\"\",VLOOKUP($F360,'TA STOCK LOOKUP'!$A$2:$C$202,3,FALSE),\"\")","v":""},"","","","","",""]
["","","","","","",{"$f":"IF(F361<>\"\",VLOOKUP($F361,'TA STOCK LOOKUP'!$A$2:$C$202,2,FALSE),\"\")","v":""},{"$f":"IF(G361<>\"\",VLOOKUP($F361,'TA STOCK LOOKUP'!$A$2:$C$202,3,FALSE),\"\")","v":""},"","","","","",""]
["","","","","","",{"$f":"IF(F362<>\"\",VLOOKUP($F362,'TA STOCK LOOKUP'!$A$2:$C$202,2,FALSE),\"\")","v":""},{"$f":"IF(G362<>\"\",VLOOKUP($F362,'TA STOCK LOOKUP'!$A$2:$C$202,3,FALSE),\"\")","v":""},"","","","","",""]
["","","","","","",{"$f":"IF(F363<>\"\",VLOOKUP($F363,'TA STOCK LOOKUP'!$A$2:$C$202,2,FALSE),\"\")","v":""},{"$f":"IF(G363<>\"\",VLOOKUP($F363,'TA STOCK LOOKUP'!$A$2:$C$202,3,FALSE),\"\")","v":""},"","","","","",""]
["","","","","","",{"$f":"IF(F364<>\"\",VLOOKUP($F364,'TA STOCK LOOKUP'!$A$2:$C$202,2,FALSE),\"\")","v":""},{"$f":"IF(G364<>\"\",VLOOKUP($F364,'TA STOCK LOOKUP'!$A$2:$C$202,3,FALSE),\"\")","v":""},"","","","","",""]
["","","","","","",{"$f":"IF(F365<>\"\",VLOOKUP($F365,'TA STOCK LOOKUP'!$A$2:$C$202,2,FALSE),\"\")","v":""},{"$f":"IF(G365<>\"\",VLOOKUP($F365,'TA STOCK LOOKUP'!$A$2:$C$202,3,FALSE),\"\")","v":""},"","","","","",""]
["","","","","","",{"$f":"IF(F366<>\"\",VLOOKUP($F366,'TA STOCK LOOKUP'!$A$2:$C$202,2,FALSE),\"\")","v":""},{"$f":"IF(G366<>\"\",VLOOKUP($F366,'TA STOCK LOOKUP'!$A$2:$C$202,3,FALSE),\"\")","v":""},"","","","","",""]
["","","","","","",{"$f":"IF(F367<>\"\",VLOOKUP($F367,'TA STOCK LOOKUP'!$A$2:$C$202,2,FALSE),\"\")","v":""},{"$f":"IF(G367<>\"\",VLOOKUP($F367,'TA STOCK LOOKUP'!$A$2:$C$202,3,FALSE),\"\")","v":""},"","","","","",""]
["","","","","","",{"$f":"IF(F368<>\"\",VLOOKUP($F368,'TA STOCK LOOKUP'!$A$2:$C$202,2,FALSE),\"\")","v":""},{"$f":"IF(G368<>\"\",VLOOKUP($F368,'TA STOCK LOOKUP'!$A$2:$C$202,3,FALSE),\"\")","v":""},"","","","","",""]
["","","","","","",{"$f":"IF(F369<>\"\",VLOOKUP($F369,'TA STOCK LOOKUP'!$A$2:$C$202,2,FALSE),\"\")","v":""},{"$f":"IF(G369<>\"\",VLOOKUP($F369,'TA STOCK LOOKUP'!$A$2:$C$202,3,FALSE),\"\")","v":""},"","","","","",""]
["","","","","","",{"$f":"IF(F370<>\"\",VLOOKUP($F370,'TA STOCK LOOKUP'!$A$2:$C$202,2,FALSE),\"\")","v":""},{"$f":"IF(G370<>\"\",VLOOKUP($F370,'TA STOCK LOOKUP'!$A$2:$C$202,3,FALSE),\"\")","v":""},"","","","","",""]
["","","","","","",{"$f":"IF(F371<>\"\",VLOOKUP($F371,'TA STOCK LOOKUP'!$A$2:$C$202,2,FALSE),\"\")","v":""},{"$f":"IF(G371<>\"\",VLOOKUP($F371,'TA STOCK LOOKUP'!$A$2:$C$202,3,FALSE),\"\")","v":""},"","","","","",""]
["","","","","","",{"$f":"IF(F372<>\"\",VLOOKUP($F372,'TA STOCK LOOKUP'!$A$2:$C$202,2,FALSE),\"\")","v":""},{"$f":"IF(G372<>\"\",VLOOKUP($F372,'TA STOCK LOOKUP'!$A$2:$C$202,3,FALSE),\"\")","v":""},"","","","","",""]
["","","","","","",{"$f":"IF(F373<>\"\",VLOOKUP($F373,'TA STOCK LOOKUP'!$A$2:$C$202,2,FALSE),\"\")","v":""},{"$f":"IF(G373<>\"\",VLOOKUP($F373,'TA STOCK LOOKUP'!$A$2:$C$202,3,FALSE),\"\")","v":""},"","","","","",""]
["","","","","","",{"$f":"IF(F374<>\"\",VLOOKUP($F374,'TA STOCK LOOKUP'!$A$2:$C$202,2,FALSE),\"\")","v":""},{"$f":"IF(G374<>\"\",VLOOKUP($F374,'TA STOCK LOOKUP'!$A$2:$C$202,3,FALSE),\"\")","v":""},"","","","","",""]
["","","","","","",{"$f":"IF(F375<>\"\",VLOOKUP($F375,'TA STOCK LOOKUP'!$A$2:$C$202,2,FALSE),\"\")","v":""},{"$f":"IF(G375<>\"\",VLOOKUP($F375,'TA STOCK LOOKUP'!$A$2:$C$202,3,FALSE),\"\")","v":""},"","","","","",""]
["","","","","","",{"$f":"IF(F376<>\"\",VLOOKUP($F376,'TA STOCK LOOKUP'!$A$2:$C$202,2,FALSE),\"\")","v":""},{"$f":"IF(G376<>\"\",VLOOKUP($F376,'TA STOCK LOOKUP'!$A$2:$C$202,3,FALSE),\"\")","v":""},"","","","","",""]
["","","","","","",{"$f":"IF(F377<>\"\",VLOOKUP($F377,'TA STOCK LOOKUP'!$A$2:$C$202,2,FALSE),\"\")","v":""},{"$f":"IF(G377<>\"\",VLOOKUP($F377,'TA STOCK LOOKUP'!$A$2:$C$202,3,FALSE),\"\")","v":""},"","","","","",""]
["","","","","","",{"$f":"IF(F378<>\"\",VLOOKUP($F378,'TA STOCK LOOKUP'!$A$2:$C$202,2,FALSE),\"\")","v":""},{"$f":"IF(G378<>\"\",VLOOKUP($F378,'TA STOCK LOOKUP'!$A$2:$C$202,3,FALSE),\"\")","v":""},"","","","","",""]
["","","","","","",{"$f":"IF(F379<>\"\",VLOOKUP($F379,'TA STOCK LOOKUP'!$A$2:$C$202,2,FALSE),\"\")","v":""},{"$f":"IF(G379<>\"\",VLOOKUP($F379,'TA STOCK LOOKUP'!$A$2:$C$202,3,FALSE),\"\")","v":""},"","","","","",""]
["","","","","","",{"$f":"IF(F380<>\"\",VLOOKUP($F380,'TA STOCK LOOKUP'!$A$2:$C$202,2,FALSE),\"\")","v":""},{"$f":"IF(G380<>\"\",VLOOKUP($F380,'TA STOCK LOOKUP'!$A$2:$C$202,3,FALSE),\"\")","v":""},"","","","","",""]
["","","","","","",{"$f":"IF(F381<>\"\",VLOOKUP($F381,'TA STOCK LOOKUP'!$A$2:$C$202,2,FALSE),\"\")","v":""},{"$f":"IF(G381<>\"\",VLOOKUP($F381,'TA STOCK LOOKUP'!$A$2:$C$202,3,FALSE),\"\")","v":""},"","","","","",""]
["","","","","","",{"$f":"IF(F382<>\"\",VLOOKUP($F382,'TA STOCK LOOKUP'!$A$2:$C$202,2,FALSE),\"\")","v":""},{"$f":"IF(G382<>\"\",VLOOKUP($F382,'TA STOCK LOOKUP'!$A$2:$C$202,3,FALSE),\"\")","v":""},"","","","","",""]
["","","","","","",{"$f":"IF(F383<>\"\",VLOOKUP($F383,'TA STOCK LOOKUP'!$A$2:$C$202,2,FALSE),\"\")","v":""},{"$f":"IF(G383<>\"\",VLOOKUP($F383,'TA STOCK LOOKUP'!$A$2:$C$202,3,FALSE),\"\")","v":""},"","","","","",""]
["","","","","","",{"$f":"IF(F384<>\"\",VLOOKUP($F384,'TA STOCK LOOKUP'!$A$2:$C$202,2,FALSE),\"\")","v":""},{"$f":"IF(G384<>\"\",VLOOKUP($F384,'TA STOCK LOOKUP'!$A$2:$C$202,3,FALSE),\"\")","v":""},"","","","","",""]
["","","","","","",{"$f":"IF(F385<>\"\",VLOOKUP($F385,'TA STOCK LOOKUP'!$A$2:$C$202,2,FALSE),\"\")","v":""},{"$f":"IF(G385<>\"\",VLOOKUP($F385,'TA STOCK LOOKUP'!$A$2:$C$202,3,FALSE),\"\")","v":""},"","","","","",""]
["","","","","","",{"$f":"IF(F386<>\"\",VLOOKUP($F386,'TA STOCK LOOKUP'!$A$2:$C$202,2,FALSE),\"\")","v":""},{"$f":"IF(G386<>\"\",VLOOKUP($F386,'TA STOCK LOOKUP'!$A$2:$C$202,3,FALSE),\"\")","v":""},"","","","","",""]
["","","","","","",{"$f":"IF(F387<>\"\",VLOOKUP($F387,'TA STOCK LOOKUP'!$A$2:$C$202,2,FALSE),\"\")","v":""},{"$f":"IF(G387<>\"\",VLOOKUP($F387,'TA STOCK LOOKUP'!$A$2:$C$202,3,FALSE),\"\")","v":""},"","","","","",""]
["","","","","","",{"$f":"IF(F388<>\"\",VLOOKUP($F388,'TA STOCK LOOKUP'!$A$2:$C$202,2,FALSE),\"\")","v":""},{"$f":"IF(G388<>\"\",VLOOKUP($F388,'TA STOCK LOOKUP'!$A$2:$C$202,3,FALSE),\"\")","v":""},"","","","","",""]
["","","","","","",{"$f":"IF(F389<>\"\",VLOOKUP($F389,'TA STOCK LOOKUP'!$A$2:$C$202,2,FALSE),\"\")","v":""},{"$f":"IF(G389<>\"\",VLOOKUP($F389,'TA STOCK LOOKUP'!$A$2:$C$202,3,FALSE),\"\")","v":""},"","","","","",""]
["","","","","","",{"$f":"IF(F390<>\"\",VLOOKUP($F390,'TA STOCK LOOKUP'!$A$2:$C$202,2,FALSE),\"\")","v":""},{"$f":"IF(G390<>\"\",VLOOKUP($F390,'TA STOCK LOOKUP'!$A$2:$C$202,3,FALSE),\"\")","v":""},"","","","","",""]
["","","","","","",{"$f":"IF(F391<>\"\",VLOOKUP($F391,'TA STOCK LOOKUP'!$A$2:$C$202,2,FALSE),\"\")","v":""},{"$f":"IF(G391<>\"\",VLOOKUP($F391,'TA STOCK LOOKUP'!$A$2:$C$202,3,FALSE),\"\")","v":""},"","","","","",""]
["","","","","","",{"$f":"IF(F392<>\"\",VLOOKUP($F392,'TA STOCK LOOKUP'!$A$2:$C$202,2,FALSE),\"\")","v":""},{"$f":"IF(G392<>\"\",VLOOKUP($F392,'TA STOCK LOOKUP'!$A$2:$C$202,3,FALSE),\"\")","v":""},"","","","","",""]
["","","","","","",{"$f":"IF(F393<>\"\",VLOOKUP($F393,'TA STOCK LOOKUP'!$A$2:$C$202,2,FALSE),\"\")","v":""},{"$f":"IF(G393<>\"\",VLOOKUP($F393,'TA STOCK LOOKUP'!$A$2:$C$202,3,FALSE),\"\")","v":""},"","","","","",""]
["","","","","","",{"$f":"IF(F394<>\"\",VLOOKUP($F394,'TA STOCK LOOKUP'!$A$2:$C$202,2,FALSE),\"\")","v":""},{"$f":"IF(G394<>\"\",VLOOKUP($F394,'TA STOCK LOOKUP'!$A$2:$C$202,3,FALSE),\"\")","v":""},"","","","","",""]
["","","","","","",{"$f":"IF(F395<>\"\",VLOOKUP($F395,'TA STOCK LOOKUP'!$A$2:$C$202,2,FALSE),\"\")","v":""},{"$f":"IF(G395<>\"\",VLOOKUP($F395,'TA STOCK LOOKUP'!$A$2:$C$202,3,FALSE),\"\")","v":""},"","","","","",""]
["","","","","","",{"$f":"IF(F396<>\"\",VLOOKUP($F396,'TA STOCK LOOKUP'!$A$2:$C$202,2,FALSE),\"\")","v":""},{"$f":"IF(G396<>\"\",VLOOKUP($F396,'TA STOCK LOOKUP'!$A$2:$C$202,3,FALSE),\"\")","v":""},"","","","","",""]
["","","","","","",{"$f":"IF(F397<>\"\",VLOOKUP($F397,'TA STOCK LOOKUP'!$A$2:$C$202,2,FALSE),\"\")","v":""},{"$f":"IF(G397<>\"\",VLOOKUP($F397,'TA STOCK LOOKUP'!$A$2:$C$202,3,FALSE),\"\")","v":""},"","","","","",""]
["","","","","","",{"$f":"IF(F398<>\"\",VLOOKUP($F398,'TA STOCK LOOKUP'!$A$2:$C$202,2,FALSE),\"\")","v":""},{"$f":"IF(G398<>\"\",VLOOKUP($F398,'TA STOCK LOOKUP'!$A$2:$C$202,3,FALSE),\"\")","v":""},"","","","","",""]
["","","","","","",{"$f":"IF(F399<>\"\",VLOOKUP($F399,'TA STOCK LOOKUP'!$A$2:$C$202,2,FALSE),\"\")","v":""},{"$f":"IF(G399<>\"\",VLOOKUP($F399,'TA STOCK LOOKUP'!$A$2:$C$202,3,FALSE),\"\")","v":""},"","","","","",""]
["","","","","","",{"$f":"IF(F400<>\"\",VLOOKUP($F400,'TA STOCK LOOKUP'!$A$2:$C$202,2,FALSE),\"\")","v":""},{"$f":"IF(G400<>\"\",VLOOKUP($F400,'TA STOCK LOOKUP'!$A$2:$C$202,3,FALSE),\"\")","v":""},"","","","","",""]
["","","","","","",{"$f":"IF(F401<>\"\",VLOOKUP($F401,'TA STOCK LOOKUP'!$A$2:$C$202,2,FALSE),\"\")","v":""},{"$f":"IF(G401<>\"\",VLOOKUP($F401,'TA STOCK LOOKUP'!$A$2:$C$202,3,FALSE),\"\")","v":""},"","","","","",""]
["","","","","","",{"$f":"IF(F402<>\"\",VLOOKUP($F402,'TA STOCK LOOKUP'!$A$2:$C$202,2,FALSE),\"\")","v":""},{"$f":"IF(G402<>\"\",VLOOKUP($F402,'TA STOCK LOOKUP'!$A$2:$C$202,3,FALSE),\"\")","v":""},"","","","","",""]
["","","","","","",{"$f":"IF(F403<>\"\",VLOOKUP($F403,'TA STOCK LOOKUP'!$A$2:$C$202,2,FALSE),\"\")","v":""},{"$f":"IF(G403<>\"\",VLOOKUP($F403,'TA STOCK LOOKUP'!$A$2:$C$202,3,FALSE),\"\")","v":""},"","","","","",""]
["","","","","","",{"$f":"IF(F404<>\"\",VLOOKUP($F404,'TA STOCK LOOKUP'!$A$2:$C$202,2,FALSE),\"\")","v":""},{"$f":"IF(G404<>\"\",VLOOKUP($F404,'TA STOCK LOOKUP'!$A$2:$C$202,3,FALSE),\"\")","v":""},"","","","","",""]
["","","","","","",{"$f":"IF(F405<>\"\",VLOOKUP($F405,'TA STOCK LOOKUP'!$A$2:$C$202,2,FALSE),\"\")","v":""},{"$f":"IF(G405<>\"\",VLOOKUP($F405,'TA STOCK LOOKUP'!$A$2:$C$202,3,FALSE),\"\")","v":""},"","","","","",""]
["","","","","","",{"$f":"IF(F406<>\"\",VLOOKUP($F406,'TA STOCK LOOKUP'!$A$2:$C$202,2,FALSE),\"\")","v":""},{"$f":"IF(G406<>\"\",VLOOKUP($F406,'TA STOCK LOOKUP'!$A$2:$C$202,3,FALSE),\"\")","v":""},"","","","","",""]
["","","","","","",{"$f":"IF(F407<>\"\",VLOOKUP($F407,'TA STOCK LOOKUP'!$A$2:$C$202,2,FALSE),\"\")","v":""},{"$f":"IF(G407<>\"\",VLOOKUP($F407,'TA STOCK LOOKUP'!$A$2:$C$202,3,FALSE),\"\")","v":""},"","","","","",""]
["","","","","","",{"$f":"IF(F408<>\"\",VLOOKUP($F408,'TA STOCK LOOKUP'!$A$2:$C$202,2,FALSE),\"\")","v":""},{"$f":"IF(G408<>\"\",VLOOKUP($F408,'TA STOCK LOOKUP'!$A$2:$C$202,3,FALSE),\"\")","v":""},"","","","","",""]
["","","","","","",{"$f":"IF(F409<>\"\",VLOOKUP($F409,'TA STOCK LOOKUP'!$A$2:$C$202,2,FALSE),\"\")","v":""},{"$f":"IF(G409<>\"\",VLOOKUP($F409,'TA STOCK LOOKUP'!$A$2:$C$202,3,FALSE),\"\")","v":""},"","","","","",""]
["","","","","","",{"$f":"IF(F410<>\"\",VLOOKUP($F410,'TA STOCK LOOKUP'!$A$2:$C$202,2,FALSE),\"\")","v":""},{"$f":"IF(G410<>\"\",VLOOKUP($F410,'TA STOCK LOOKUP'!$A$2:$C$202,3,FALSE),\"\")","v":""},"","","","","",""]
["","","","","","",{"$f":"IF(F411<>\"\",VLOOKUP($F411,'TA STOCK LOOKUP'!$A$2:$C$202,2,FALSE),\"\")","v":""},{"$f":"IF(G411<>\"\",VLOOKUP($F411,'TA STOCK LOOKUP'!$A$2:$C$202,3,FALSE),\"\")","v":""},"","","","","",""]
["","","","","","",{"$f":"IF(F412<>\"\",VLOOKUP($F412,'TA STOCK LOOKUP'!$A$2:$C$202,2,FALSE),\"\")","v":""},{"$f":"IF(G412<>\"\",VLOOKUP($F412,'TA STOCK LOOKUP'!$A$2:$C$202,3,FALSE),\"\")","v":""},"","","","","",""]
["","","","","","",{"$f":"IF(F413<>\"\",VLOOKUP($F413,'TA STOCK LOOKUP'!$A$2:$C$202,2,FALSE),\"\")","v":""},{"$f":"IF(G413<>\"\",VLOOKUP($F413,'TA STOCK LOOKUP'!$A$2:$C$202,3,FALSE),\"\")","v":""},"","","","","",""]
["","","","","","",{"$f":"IF(F414<>\"\",VLOOKUP($F414,'TA STOCK LOOKUP'!$A$2:$C$202,2,FALSE),\"\")","v":""},{"$f":"IF(G414<>\"\",VLOOKUP($F414,'TA STOCK LOOKUP'!$A$2:$C$202,3,FALSE),\"\")","v":""},"","","","","",""]
["","","","","","",{"$f":"IF(F415<>\"\",VLOOKUP($F415,'TA STOCK LOOKUP'!$A$2:$C$202,2,FALSE),\"\")","v":""},{"$f":"IF(G415<>\"\",VLOOKUP($F415,'TA STOCK LOOKUP'!$A$2:$C$202,3,FALSE),\"\")","v":""},"","","","","",""]
["","","","","","",{"$f":"IF(F416<>\"\",VLOOKUP($F416,'TA STOCK LOOKUP'!$A$2:$C$202,2,FALSE),\"\")","v":""},{"$f":"IF(G416<>\"\",VLOOKUP($F416,'TA STOCK LOOKUP'!$A$2:$C$202,3,FALSE),\"\")","v":""},"","","","","",""]
["","","","","","",{"$f":"IF(F417<>\"\",VLOOKUP($F417,'TA STOCK LOOKUP'!$A$2:$C$202,2,FALSE),\"\")","v":""},{"$f":"IF(G417<>\"\",VLOOKUP($F417,'TA STOCK LOOKUP'!$A$2:$C$202,3,FALSE),\"\")","v":""},"","","","","",""]
["","","","","","",{"$f":"IF(F418<>\"\",VLOOKUP($F418,'TA STOCK LOOKUP'!$A$2:$C$202,2,FALSE),\"\")","v":""},{"$f":"IF(G418<>\"\",VLOOKUP($F418,'TA STOCK LOOKUP'!$A$2:$C$202,3,FALSE),\"\")","v":""},"","","","","",""]
["","","","","","",{"$f":"IF(F419<>\"\",VLOOKUP($F419,'TA STOCK LOOKUP'!$A$2:$C$202,2,FALSE),\"\")","v":""},{"$f":"IF(G419<>\"\",VLOOKUP($F419,'TA STOCK LOOKUP'!$A$2:$C$202,3,FALSE),\"\")","v":""},"","","","","",""]
["","","","","","",{"$f":"IF(F420<>\"\",VLOOKUP($F420,'TA STOCK LOOKUP'!$A$2:$C$202,2,FALSE),\"\")","v":""},{"$f":"IF(G420<>\"\",VLOOKUP($F420,'TA STOCK LOOKUP'!$A$2:$C$202,3,FALSE),\"\")","v":""},"","","","","",""]
["","","","","","",{"$f":"IF(F421<>\"\",VLOOKUP($F421,'TA STOCK LOOKUP'!$A$2:$C$202,2,FALSE),\"\")","v":""},{"$f":"IF(G421<>\"\",VLOOKUP($F421,'TA STOCK LOOKUP'!$A$2:$C$202,3,FALSE),\"\")","v":""},"","","","","",""]
["","","","","","",{"$f":"IF(F422<>\"\",VLOOKUP($F422,'TA STOCK LOOKUP'!$A$2:$C$202,2,FALSE),\"\")","v":""},{"$f":"IF(G422<>\"\",VLOOKUP($F422,'TA STOCK LOOKUP'!$A$2:$C$202,3,FALSE),\"\")","v":""},"","","","","",""]
["","","","","","",{"$f":"IF(F423<>\"\",VLOOKUP($F423,'TA STOCK LOOKUP'!$A$2:$C$202,2,FALSE),\"\")","v":""},{"$f":"IF(G423<>\"\",VLOOKUP($F423,'TA STOCK LOOKUP'!$A$2:$C$202,3,FALSE),\"\")","v":""},"","","","","",""]
["","","","","","",{"$f":"IF(F424<>\"\",VLOOKUP($F424,'TA STOCK LOOKUP'!$A$2:$C$202,2,FALSE),\"\")","v":""},{"$f":"IF(G424<>\"\",VLOOKUP($F424,'TA STOCK LOOKUP'!$A$2:$C$202,3,FALSE),\"\")","v":""},"","","","","",""]
["","","","","","",{"$f":"IF(F425<>\"\",VLOOKUP($F425,'TA STOCK LOOKUP'!$A$2:$C$202,2,FALSE),\"\")","v":""},{"$f":"IF(G425<>\"\",VLOOKUP($F425,'TA STOCK LOOKUP'!$A$2:$C$202,3,FALSE),\"\")","v":""},"","","","","",""]
["","","","","","",{"$f":"IF(F426<>\"\",VLOOKUP($F426,'TA STOCK LOOKUP'!$A$2:$C$202,2,FALSE),\"\")","v":""},{"$f":"IF(G426<>\"\",VLOOKUP($F426,'TA STOCK LOOKUP'!$A$2:$C$202,3,FALSE),\"\")","v":""},"","","","","",""]
["","","","","","",{"$f":"IF(F427<>\"\",VLOOKUP($F427,'TA STOCK LOOKUP'!$A$2:$C$202,2,FALSE),\"\")","v":""},{"$f":"IF(G427<>\"\",VLOOKUP($F427,'TA STOCK LOOKUP'!$A$2:$C$202,3,FALSE),\"\")","v":""},"","","","","",""]
["","","","","","",{"$f":"IF(F428<>\"\",VLOOKUP($F428,'TA STOCK LOOKUP'!$A$2:$C$202,2,FALSE),\"\")","v":""},{"$f":"IF(G428<>\"\",VLOOKUP($F428,'TA STOCK LOOKUP'!$A$2:$C$202,3,FALSE),\"\")","v":""},"","","","","",""]
["","","","","","",{"$f":"IF(F429<>\"\",VLOOKUP($F429,'TA STOCK LOOKUP'!$A$2:$C$202,2,FALSE),\"\")","v":""},{"$f":"IF(G429<>\"\",VLOOKUP($F429,'TA STOCK LOOKUP'!$A$2:$C$202,3,FALSE),\"\")","v":""},"","","","","",""]
["","","","","","",{"$f":"IF(F430<>\"\",VLOOKUP($F430,'TA STOCK LOOKUP'!$A$2:$C$202,2,FALSE),\"\")","v":""},{"$f":"IF(G430<>\"\",VLOOKUP($F430,'TA STOCK LOOKUP'!$A$2:$C$202,3,FALSE),\"\")","v":""},"","","","","",""]
["","","","","","",{"$f":"IF(F431<>\"\",VLOOKUP($F431,'TA STOCK LOOKUP'!$A$2:$C$202,2,FALSE),\"\")","v":""},{"$f":"IF(G431<>\"\",VLOOKUP($F431,'TA STOCK LOOKUP'!$A$2:$C$202,3,FALSE),\"\")","v":""},"","","","","",""]
["","","","","","",{"$f":"IF(F432<>\"\",VLOOKUP($F432,'TA STOCK LOOKUP'!$A$2:$C$202,2,FALSE),\"\")","v":""},{"$f":"IF(G432<>\"\",VLOOKUP($F432,'TA STOCK LOOKUP'!$A$2:$C$202,3,FALSE),\"\")","v":""},"","","","","",""]
["","","","","","",{"$f":"IF(F433<>\"\",VLOOKUP($F433,'TA STOCK LOOKUP'!$A$2:$C$202,2,FALSE),\"\")","v":""},{"$f":"IF(G433<>\"\",VLOOKUP($F433,'TA STOCK LOOKUP'!$A$2:$C$202,3,FALSE),\"\")","v":""},"","","","","",""]
["","","","","","",{"$f":"IF(F434<>\"\",VLOOKUP($F434,'TA STOCK LOOKUP'!$A$2:$C$202,2,FALSE),\"\")","v":""},{"$f":"IF(G434<>\"\",VLOOKUP($F434,'TA STOCK LOOKUP'!$A$2:$C$202,3,FALSE),\"\")","v":""},"","","","","",""]
["","","","","","",{"$f":"IF(F435<>\"\",VLOOKUP($F435,'TA STOCK LOOKUP'!$A$2:$C$202,2,FALSE),\"\")","v":""},{"$f":"IF(G435<>\"\",VLOOKUP($F435,'TA STOCK LOOKUP'!$A$2:$C$202,3,FALSE),\"\")","v":""},"","","","","",""]
["","","","","","",{"$f":"IF(F436<>\"\",VLOOKUP($F436,'TA STOCK LOOKUP'!$A$2:$C$202,2,FALSE),\"\")","v":""},{"$f":"IF(G436<>\"\",VLOOKUP($F436,'TA STOCK LOOKUP'!$A$2:$C$202,3,FALSE),\"\")","v":""},"","","","","",""]
["","","","","","",{"$f":"IF(F437<>\"\",VLOOKUP($F437,'TA STOCK LOOKUP'!$A$2:$C$202,2,FALSE),\"\")","v":""},{"$f":"IF(G437<>\"\",VLOOKUP($F437,'TA STOCK LOOKUP'!$A$2:$C$202,3,FALSE),\"\")","v":""},"","","","","",""]
["","","","","","",{"$f":"IF(F438<>\"\",VLOOKUP($F438,'TA STOCK LOOKUP'!$A$2:$C$202,2,FALSE),\"\")","v":""},{"$f":"IF(G438<>\"\",VLOOKUP($F438,'TA STOCK LOOKUP'!$A$2:$C$202,3,FALSE),\"\")","v":""},"","","","","",""]
["","","","","","",{"$f":"IF(F439<>\"\",VLOOKUP($F439,'TA STOCK LOOKUP'!$A$2:$C$202,2,FALSE),\"\")","v":""},{"$f":"IF(G439<>\"\",VLOOKUP($F439,'TA STOCK LOOKUP'!$A$2:$C$202,3,FALSE),\"\")","v":""},"","","","","",""]
["","","","","","",{"$f":"IF(F440<>\"\",VLOOKUP($F440,'TA STOCK LOOKUP'!$A$2:$C$202,2,FALSE),\"\")","v":""},{"$f":"IF(G440<>\"\",VLOOKUP($F440,'TA STOCK LOOKUP'!$A$2:$C$202,3,FALSE),\"\")","v":""},"","","","","",""]
["","","","","","",{"$f":"IF(F441<>\"\",VLOOKUP($F441,'TA STOCK LOOKUP'!$A$2:$C$202,2,FALSE),\"\")","v":""},{"$f":"IF(G441<>\"\",VLOOKUP($F441,'TA STOCK LOOKUP'!$A$2:$C$202,3,FALSE),\"\")","v":""},"","","","","",""]
["","","","","","",{"$f":"IF(F442<>\"\",VLOOKUP($F442,'TA STOCK LOOKUP'!$A$2:$C$202,2,FALSE),\"\")","v":""},{"$f":"IF(G442<>\"\",VLOOKUP($F442,'TA STOCK LOOKUP'!$A$2:$C$202,3,FALSE),\"\")","v":""},"","","","","",""]
["","","","","","",{"$f":"IF(F443<>\"\",VLOOKUP($F443,'TA STOCK LOOKUP'!$A$2:$C$202,2,FALSE),\"\")","v":""},{"$f":"IF(G443<>\"\",VLOOKUP($F443,'TA STOCK LOOKUP'!$A$2:$C$202,3,FALSE),\"\")","v":""},"","","","","",""]
["","","","","","",{"$f":"IF(F444<>\"\",VLOOKUP($F444,'TA STOCK LOOKUP'!$A$2:$C$202,2,FALSE),\"\")","v":""},{"$f":"IF(G444<>\"\",VLOOKUP($F444,'TA STOCK LOOKUP'!$A$2:$C$202,3,FALSE),\"\")","v":""},"","","","","",""]
["","","","","","",{"$f":"IF(F445<>\"\",VLOOKUP($F445,'TA STOCK LOOKUP'!$A$2:$C$202,2,FALSE),\"\")","v":""},{"$f":"IF(G445<>\"\",VLOOKUP($F445,'TA STOCK LOOKUP'!$A$2:$C$202,3,FALSE),\"\")","v":""},"","","","","",""]
["","","","","","",{"$f":"IF(F446<>\"\",VLOOKUP($F446,'TA STOCK LOOKUP'!$A$2:$C$202,2,FALSE),\"\")","v":""},{"$f":"IF(G446<>\"\",VLOOKUP($F446,'TA STOCK LOOKUP'!$A$2:$C$202,3,FALSE),\"\")","v":""},"","","","","",""]
["","","","","","",{"$f":"IF(F447<>\"\",VLOOKUP($F447,'TA STOCK LOOKUP'!$A$2:$C$202,2,FALSE),\"\")","v":""},{"$f":"IF(G447<>\"\",VLOOKUP($F447,'TA STOCK LOOKUP'!$A$2:$C$202,3,FALSE),\"\")","v":""},"","","","","",""]
["","","","","","",{"$f":"IF(F448<>\"\",VLOOKUP($F448,'TA STOCK LOOKUP'!$A$2:$C$202,2,FALSE),\"\")","v":""},{"$f":"IF(G448<>\"\",VLOOKUP($F448,'TA STOCK LOOKUP'!$A$2:$C$202,3,FALSE),\"\")","v":""},"","","","","",""]
["","","","","","",{"$f":"IF(F449<>\"\",VLOOKUP($F449,'TA STOCK LOOKUP'!$A$2:$C$202,2,FALSE),\"\")","v":""},{"$f":"IF(G449<>\"\",VLOOKUP($F449,'TA STOCK LOOKUP'!$A$2:$C$202,3,FALSE),\"\")","v":""},"","","","","",""]
["","","","","","",{"$f":"IF(F450<>\"\",VLOOKUP($F450,'TA STOCK LOOKUP'!$A$2:$C$202,2,FALSE),\"\")","v":""},{"$f":"IF(G450<>\"\",VLOOKUP($F450,'TA STOCK LOOKUP'!$A$2:$C$202,3,FALSE),\"\")","v":""},"","","","","",""]
["","","","","","",{"$f":"IF(F451<>\"\",VLOOKUP($F451,'TA STOCK LOOKUP'!$A$2:$C$202,2,FALSE),\"\")","v":""},{"$f":"IF(G451<>\"\",VLOOKUP($F451,'TA STOCK LOOKUP'!$A$2:$C$202,3,FALSE),\"\")","v":""},"","","","","",""]
["","","","","","",{"$f":"IF(F452<>\"\",VLOOKUP($F452,'TA STOCK LOOKUP'!$A$2:$C$202,2,FALSE),\"\")","v":""},{"$f":"IF(G452<>\"\",VLOOKUP($F452,'TA STOCK LOOKUP'!$A$2:$C$202,3,FALSE),\"\")","v":""},"","","","","",""]
["","","","","","",{"$f":"IF(F453<>\"\",VLOOKUP($F453,'TA STOCK LOOKUP'!$A$2:$C$202,2,FALSE),\"\")","v":""},{"$f":"IF(G453<>\"\",VLOOKUP($F453,'TA STOCK LOOKUP'!$A$2:$C$202,3,FALSE),\"\")","v":""},"","","","","",""]
["","","","","","",{"$f":"IF(F454<>\"\",VLOOKUP($F454,'TA STOCK LOOKUP'!$A$2:$C$202,2,FALSE),\"\")","v":""},{"$f":"IF(G454<>\"\",VLOOKUP($F454,'TA STOCK LOOKUP'!$A$2:$C$202,3,FALSE),\"\")","v":""},"","","","","",""]
["","","","","","",{"$f":"IF(F455<>\"\",VLOOKUP($F455,'TA STOCK LOOKUP'!$A$2:$C$202,2,FALSE),\"\")","v":""},{"$f":"IF(G455<>\"\",VLOOKUP($F455,'TA STOCK LOOKUP'!$A$2:$C$202,3,FALSE),\"\")","v":""},"","","","","",""]
["","","","","","",{"$f":"IF(F456<>\"\",VLOOKUP($F456,'TA STOCK LOOKUP'!$A$2:$C$202,2,FALSE),\"\")","v":""},{"$f":"IF(G456<>\"\",VLOOKUP($F456,'TA STOCK LOOKUP'!$A$2:$C$202,3,FALSE),\"\")","v":""},"","","","","",""]
["","","","","","",{"$f":"IF(F457<>\"\",VLOOKUP($F457,'TA STOCK LOOKUP'!$A$2:$C$202,2,FALSE),\"\")","v":""},{"$f":"IF(G457<>\"\",VLOOKUP($F457,'TA STOCK LOOKUP'!$A$2:$C$202,3,FALSE),\"\")","v":""},"","","","","",""]
["","","","","","",{"$f":"IF(F458<>\"\",VLOOKUP($F458,'TA STOCK LOOKUP'!$A$2:$C$202,2,FALSE),\"\")","v":""},{"$f":"IF(G458<>\"\",VLOOKUP($F458,'TA STOCK LOOKUP'!$A$2:$C$202,3,FALSE),\"\")","v":""},"","","","","",""]
["","","","","","",{"$f":"IF(F459<>\"\",VLOOKUP($F459,'TA STOCK LOOKUP'!$A$2:$C$202,2,FALSE),\"\")","v":""},{"$f":"IF(G459<>\"\",VLOOKUP($F459,'TA STOCK LOOKUP'!$A$2:$C$202,3,FALSE),\"\")","v":""},"","","","","",""]
["","","","","","",{"$f":"IF(F460<>\"\",VLOOKUP($F460,'TA STOCK LOOKUP'!$A$2:$C$202,2,FALSE),\"\")","v":""},{"$f":"IF(G460<>\"\",VLOOKUP($F460,'TA STOCK LOOKUP'!$A$2:$C$202,3,FALSE),\"\")","v":""},"","","","","",""]
["","","","","","",{"$f":"IF(F461<>\"\",VLOOKUP($F461,'TA STOCK LOOKUP'!$A$2:$C$202,2,FALSE),\"\")","v":""},{"$f":"IF(G461<>\"\",VLOOKUP($F461,'TA STOCK LOOKUP'!$A$2:$C$202,3,FALSE),\"\")","v":""},"","","","","",""]
["","","","","","",{"$f":"IF(F462<>\"\",VLOOKUP($F462,'TA STOCK LOOKUP'!$A$2:$C$202,2,FALSE),\"\")","v":""},{"$f":"IF(G462<>\"\",VLOOKUP($F462,'TA STOCK LOOKUP'!$A$2:$C$202,3,FALSE),\"\")","v":""},"","","","","",""]
["","","","","","",{"$f":"IF(F463<>\"\",VLOOKUP($F463,'TA STOCK LOOKUP'!$A$2:$C$202,2,FALSE),\"\")","v":""},{"$f":"IF(G463<>\"\",VLOOKUP($F463,'TA STOCK LOOKUP'!$A$2:$C$202,3,FALSE),\"\")","v":""},"","","","","",""]
["","","","","","",{"$f":"IF(F464<>\"\",VLOOKUP($F464,'TA STOCK LOOKUP'!$A$2:$C$202,2,FALSE),\"\")","v":""},{"$f":"IF(G464<>\"\",VLOOKUP($F464,'TA STOCK LOOKUP'!$A$2:$C$202,3,FALSE),\"\")","v":""},"","","","","",""]
["","","","","","",{"$f":"IF(F465<>\"\",VLOOKUP($F465,'TA STOCK LOOKUP'!$A$2:$C$202,2,FALSE),\"\")","v":""},{"$f":"IF(G465<>\"\",VLOOKUP($F465,'TA STOCK LOOKUP'!$A$2:$C$202,3,FALSE),\"\")","v":""},"","","","","",""]
["","","","","","",{"$f":"IF(F466<>\"\",VLOOKUP($F466,'TA STOCK LOOKUP'!$A$2:$C$202,2,FALSE),\"\")","v":""},{"$f":"IF(G466<>\"\",VLOOKUP($F466,'TA STOCK LOOKUP'!$A$2:$C$202,3,FALSE),\"\")","v":""},"","","","","",""]
["","","","","","",{"$f":"IF(F467<>\"\",VLOOKUP($F467,'TA STOCK LOOKUP'!$A$2:$C$202,2,FALSE),\"\")","v":""},{"$f":"IF(G467<>\"\",VLOOKUP($F467,'TA STOCK LOOKUP'!$A$2:$C$202,3,FALSE),\"\")","v":""},"","","","","",""]
["","","","","","",{"$f":"IF(F468<>\"\",VLOOKUP($F468,'TA STOCK LOOKUP'!$A$2:$C$202,2,FALSE),\"\")","v":""},{"$f":"IF(G468<>\"\",VLOOKUP($F468,'TA STOCK LOOKUP'!$A$2:$C$202,3,FALSE),\"\")","v":""},"","","","","",""]
["","","","","","",{"$f":"IF(F469<>\"\",VLOOKUP($F469,'TA STOCK LOOKUP'!$A$2:$C$202,2,FALSE),\"\")","v":""},{"$f":"IF(G469<>\"\",VLOOKUP($F469,'TA STOCK LOOKUP'!$A$2:$C$202,3,FALSE),\"\")","v":""},"","","","","",""]
["","","","","","",{"$f":"IF(F470<>\"\",VLOOKUP($F470,'TA STOCK LOOKUP'!$A$2:$C$202,2,FALSE),\"\")","v":""},{"$f":"IF(G470<>\"\",VLOOKUP($F470,'TA STOCK LOOKUP'!$A$2:$C$202,3,FALSE),\"\")","v":""},"","","","","",""]
["","","","","","",{"$f":"IF(F471<>\"\",VLOOKUP($F471,'TA STOCK LOOKUP'!$A$2:$C$202,2,FALSE),\"\")","v":""},{"$f":"IF(G471<>\"\",VLOOKUP($F471,'TA STOCK LOOKUP'!$A$2:$C$202,3,FALSE),\"\")","v":""},"","","","","",""]
["","","","","","",{"$f":"IF(F472<>\"\",VLOOKUP($F472,'TA STOCK LOOKUP'!$A$2:$C$202,2,FALSE),\"\")","v":""},{"$f":"IF(G472<>\"\",VLOOKUP($F472,'TA STOCK LOOKUP'!$A$2:$C$202,3,FALSE),\"\")","v":""},"","","","","",""]
["","","","","","",{"$f":"IF(F473<>\"\",VLOOKUP($F473,'TA STOCK LOOKUP'!$A$2:$C$202,2,FALSE),\"\")","v":""},{"$f":"IF(G473<>\"\",VLOOKUP($F473,'TA STOCK LOOKUP'!$A$2:$C$202,3,FALSE),\"\")","v":""},"","","","","",""]
["","","","","","",{"$f":"IF(F474<>\"\",VLOOKUP($F474,'TA STOCK LOOKUP'!$A$2:$C$202,2,FALSE),\"\")","v":""},{"$f":"IF(G474<>\"\",VLOOKUP($F474,'TA STOCK LOOKUP'!$A$2:$C$202,3,FALSE),\"\")","v":""},"","","","","",""]
["","","","","","",{"$f":"IF(F475<>\"\",VLOOKUP($F475,'TA STOCK LOOKUP'!$A$2:$C$202,2,FALSE),\"\")","v":""},{"$f":"IF(G475<>\"\",VLOOKUP($F475,'TA STOCK LOOKUP'!$A$2:$C$202,3,FALSE),\"\")","v":""},"","","","","",""]
["","","","","","",{"$f":"IF(F476<>\"\",VLOOKUP($F476,'TA STOCK LOOKUP'!$A$2:$C$202,2,FALSE),\"\")","v":""},{"$f":"IF(G476<>\"\",VLOOKUP($F476,'TA STOCK LOOKUP'!$A$2:$C$202,3,FALSE),\"\")","v":""},"","","","","",""]
["","","","","","",{"$f":"IF(F477<>\"\",VLOOKUP($F477,'TA STOCK LOOKUP'!$A$2:$C$202,2,FALSE),\"\")","v":""},{"$f":"IF(G477<>\"\",VLOOKUP($F477,'TA STOCK LOOKUP'!$A$2:$C$202,3,FALSE),\"\")","v":""},"","","","","",""]
["","","","","","",{"$f":"IF(F478<>\"\",VLOOKUP($F478,'TA STOCK LOOKUP'!$A$2:$C$202,2,FALSE),\"\")","v":""},{"$f":"IF(G478<>\"\",VLOOKUP($F478,'TA STOCK LOOKUP'!$A$2:$C$202,3,FALSE),\"\")","v":""},"","","","","",""]
["","","","","","",{"$f":"IF(F479<>\"\",VLOOKUP($F479,'TA STOCK LOOKUP'!$A$2:$C$202,2,FALSE),\"\")","v":""},{"$f":"IF(G479<>\"\",VLOOKUP($F479,'TA STOCK LOOKUP'!$A$2:$C$202,3,FALSE),\"\")","v":""},"","","","","",""]
["","","","","","",{"$f":"IF(F480<>\"\",VLOOKUP($F480,'TA STOCK LOOKUP'!$A$2:$C$202,2,FALSE),\"\")","v":""},{"$f":"IF(G480<>\"\",VLOOKUP($F480,'TA STOCK LOOKUP'!$A$2:$C$202,3,FALSE),\"\")","v":""},"","","","","",""]
["","","","","","",{"$f":"IF(F481<>\"\",VLOOKUP($F481,'TA STOCK LOOKUP'!$A$2:$C$202,2,FALSE),\"\")","v":""},{"$f":"IF(G481<>\"\",VLOOKUP($F481,'TA STOCK LOOKUP'!$A$2:$C$202,3,FALSE),\"\")","v":""},"","","","","",""]
["","","","","","",{"$f":"IF(F482<>\"\",VLOOKUP($F482,'TA STOCK LOOKUP'!$A$2:$C$202,2,FALSE),\"\")","v":""},{"$f":"IF(G482<>\"\",VLOOKUP($F482,'TA STOCK LOOKUP'!$A$2:$C$202,3,FALSE),\"\")","v":""},"","","","","",""]
["","","","","","",{"$f":"IF(F483<>\"\",VLOOKUP($F483,'TA STOCK LOOKUP'!$A$2:$C$202,2,FALSE),\"\")","v":""},{"$f":"IF(G483<>\"\",VLOOKUP($F483,'TA STOCK LOOKUP'!$A$2:$C$202,3,FALSE),\"\")","v":""},"","","","","",""]
["","","","","","",{"$f":"IF(F484<>\"\",VLOOKUP($F484,'TA STOCK LOOKUP'!$A$2:$C$202,2,FALSE),\"\")","v":""},{"$f":"IF(G484<>\"\",VLOOKUP($F484,'TA STOCK LOOKUP'!$A$2:$C$202,3,FALSE),\"\")","v":""},"","","","","",""]
["","","","","","",{"$f":"IF(F485<>\"\",VLOOKUP($F485,'TA STOCK LOOKUP'!$A$2:$C$202,2,FALSE),\"\")","v":""},{"$f":"IF(G485<>\"\",VLOOKUP($F485,'TA STOCK LOOKUP'!$A$2:$C$202,3,FALSE),\"\")","v":""},"","","","","",""]
["","","","","","",{"$f":"IF(F486<>\"\",VLOOKUP($F486,'TA STOCK LOOKUP'!$A$2:$C$202,2,FALSE),\"\")","v":""},{"$f":"IF(G486<>\"\",VLOOKUP($F486,'TA STOCK LOOKUP'!$A$2:$C$202,3,FALSE),\"\")","v":""},"","","","","",""]
["","","","","","",{"$f":"IF(F487<>\"\",VLOOKUP($F487,'TA STOCK LOOKUP'!$A$2:$C$202,2,FALSE),\"\")","v":""},{"$f":"IF(G487<>\"\",VLOOKUP($F487,'TA STOCK LOOKUP'!$A$2:$C$202,3,FALSE),\"\")","v":""},"","","","","",""]
["","","","","","",{"$f":"IF(F488<>\"\",VLOOKUP($F488,'TA STOCK LOOKUP'!$A$2:$C$202,2,FALSE),\"\")","v":""},{"$f":"IF(G488<>\"\",VLOOKUP($F488,'TA STOCK LOOKUP'!$A$2:$C$202,3,FALSE),\"\")","v":""},"","","","","",""]
["","","","","","",{"$f":"IF(F489<>\"\",VLOOKUP($F489,'TA STOCK LOOKUP'!$A$2:$C$202,2,FALSE),\"\")","v":""},{"$f":"IF(G489<>\"\",VLOOKUP($F489,'TA STOCK LOOKUP'!$A$2:$C$202,3,FALSE),\"\")","v":""},"","","","","",""]
["","","","","","",{"$f":"IF(F490<>\"\",VLOOKUP($F490,'TA STOCK LOOKUP'!$A$2:$C$202,2,FALSE),\"\")","v":""},{"$f":"IF(G490<>\"\",VLOOKUP($F490,'TA STOCK LOOKUP'!$A$2:$C$202,3,FALSE),\"\")","v":""},"","","","","",""]
["","","","","","",{"$f":"IF(F491<>\"\",VLOOKUP($F491,'TA STOCK LOOKUP'!$A$2:$C$202,2,FALSE),\"\")","v":""},{"$f":"IF(G491<>\"\",VLOOKUP($F491,'TA STOCK LOOKUP'!$A$2:$C$202,3,FALSE),\"\")","v":""},"","","","","",""]
["","","","","","",{"$f":"IF(F492<>\"\",VLOOKUP($F492,'TA STOCK LOOKUP'!$A$2:$C$202,2,FALSE),\"\")","v":""},{"$f":"IF(G492<>\"\",VLOOKUP($F492,'TA STOCK LOOKUP'!$A$2:$C$202,3,FALSE),\"\")","v":""},"","","","","",""]
["","","","","","",{"$f":"IF(F493<>\"\",VLOOKUP($F493,'TA STOCK LOOKUP'!$A$2:$C$202,2,FALSE),\"\")","v":""},{"$f":"IF(G493<>\"\",VLOOKUP($F493,'TA STOCK LOOKUP'!$A$2:$C$202,3,FALSE),\"\")","v":""},"","","","","",""]
["","","","","","",{"$f":"IF(F494<>\"\",VLOOKUP($F494,'TA STOCK LOOKUP'!$A$2:$C$202,2,FALSE),\"\")","v":""},{"$f":"IF(G494<>\"\",VLOOKUP($F494,'TA STOCK LOOKUP'!$A$2:$C$202,3,FALSE),\"\")","v":""},"","","","","",""]
["","","","","","",{"$f":"IF(F495<>\"\",VLOOKUP($F495,'TA STOCK LOOKUP'!$A$2:$C$202,2,FALSE),\"\")","v":""},{"$f":"IF(G495<>\"\",VLOOKUP($F495,'TA STOCK LOOKUP'!$A$2:$C$202,3,FALSE),\"\")","v":""},"","","","","",""]
["","","","","","",{"$f":"IF(F496<>\"\",VLOOKUP($F496,'TA STOCK LOOKUP'!$A$2:$C$202,2,FALSE),\"\")","v":""},{"$f":"IF(G496<>\"\",VLOOKUP($F496,'TA STOCK LOOKUP'!$A$2:$C$202,3,FALSE),\"\")","v":""},"","","","","",""]
["","","","","","",{"$f":"IF(F497<>\"\",VLOOKUP($F497,'TA STOCK LOOKUP'!$A$2:$C$202,2,FALSE),\"\")","v":""},{"$f":"IF(G497<>\"\",VLOOKUP($F497,'TA STOCK LOOKUP'!$A$2:$C$202,3,FALSE),\"\")","v":""},"","","","","",""]
["","","","","","",{"$f":"IF(F498<>\"\",VLOOKUP($F498,'TA STOCK LOOKUP'!$A$2:$C$202,2,FALSE),\"\")","v":""},{"$f":"IF(G498<>\"\",VLOOKUP($F498,'TA STOCK LOOKUP'!$A$2:$C$202,3,FALSE),\"\")","v":""},"","","","","",""]
["","","","","","",{"$f":"IF(F499<>\"\",VLOOKUP($F499,'TA STOCK LOOKUP'!$A$2:$C$202,2,FALSE),\"\")","v":""},{"$f":"IF(G499<>\"\",VLOOKUP($F499,'TA STOCK LOOKUP'!$A$2:$C$202,3,FALSE),\"\")","v":""},"","","","","",""]
["","","","","","",{"$f":"IF(F500<>\"\",VLOOKUP($F500,'TA STOCK LOOKUP'!$A$2:$C$202,2,FALSE),\"\")","v":""},{"$f":"IF(G500<>\"\",VLOOKUP($F500,'TA STOCK LOOKUP'!$A$2:$C$202,3,FALSE),\"\")","v":""},"","","","","",""]
["","","","","","",{"$f":"IF(F501<>\"\",VLOOKUP($F501,'TA STOCK LOOKUP'!$A$2:$C$202,2,FALSE),\"\")","v":""},{"$f":"IF(G501<>\"\",VLOOKUP($F501,'TA STOCK LOOKUP'!$A$2:$C$202,3,FALSE),\"\")","v":""},"","","","","",""]
["","","","","","",{"$f":"IF(F502<>\"\",VLOOKUP($F502,'TA STOCK LOOKUP'!$A$2:$C$202,2,FALSE),\"\")","v":""},{"$f":"IF(G502<>\"\",VLOOKUP($F502,'TA STOCK LOOKUP'!$A$2:$C$202,3,FALSE),\"\")","v":""},"","","","","",""]
["","","","","","",{"$f":"IF(F503<>\"\",VLOOKUP($F503,'TA STOCK LOOKUP'!$A$2:$C$202,2,FALSE),\"\")","v":""},{"$f":"IF(G503<>\"\",VLOOKUP($F503,'TA STOCK LOOKUP'!$A$2:$C$202,3,FALSE),\"\")","v":""},"","","","","",""]
["","","","","","",{"$f":"IF(F504<>\"\",VLOOKUP($F504,'TA STOCK LOOKUP'!$A$2:$C$202,2,FALSE),\"\")","v":""},{"$f":"IF(G504<>\"\",VLOOKUP($F504,'TA STOCK LOOKUP'!$A$2:$C$202,3,FALSE),\"\")","v":""},"","","","","",""]
["","","","","","",{"$f":"IF(F505<>\"\",VLOOKUP($F505,'TA STOCK LOOKUP'!$A$2:$C$202,2,FALSE),\"\")","v":""},{"$f":"IF(G505<>\"\",VLOOKUP($F505,'TA STOCK LOOKUP'!$A$2:$C$202,3,FALSE),\"\")","v":""},"","","","","",""]
["","","","","","",{"$f":"IF(F506<>\"\",VLOOKUP($F506,'TA STOCK LOOKUP'!$A$2:$C$202,2,FALSE),\"\")","v":""},{"$f":"IF(G506<>\"\",VLOOKUP($F506,'TA STOCK LOOKUP'!$A$2:$C$202,3,FALSE),\"\")","v":""},"","","","","",""]
["","","","","","",{"$f":"IF(F507<>\"\",VLOOKUP($F507,'TA STOCK LOOKUP'!$A$2:$C$202,2,FALSE),\"\")","v":""},{"$f":"IF(G507<>\"\",VLOOKUP($F507,'TA STOCK LOOKUP'!$A$2:$C$202,3,FALSE),\"\")","v":""},"","","","","",""]
["","","","","","",{"$f":"IF(F508<>\"\",VLOOKUP($F508,'TA STOCK LOOKUP'!$A$2:$C$202,2,FALSE),\"\")","v":""},{"$f":"IF(G508<>\"\",VLOOKUP($F508,'TA STOCK LOOKUP'!$A$2:$C$202,3,FALSE),\"\")","v":""},"","","","","",""]
["","","","","","",{"$f":"IF(F509<>\"\",VLOOKUP($F509,'TA STOCK LOOKUP'!$A$2:$C$202,2,FALSE),\"\")","v":""},{"$f":"IF(G509<>\"\",VLOOKUP($F509,'TA STOCK LOOKUP'!$A$2:$C$202,3,FALSE),\"\")","v":""},"","","","","",""]
["","","","","","",{"$f":"IF(F510<>\"\",VLOOKUP($F510,'TA STOCK LOOKUP'!$A$2:$C$202,2,FALSE),\"\")","v":""},{"$f":"IF(G510<>\"\",VLOOKUP($F510,'TA STOCK LOOKUP'!$A$2:$C$202,3,FALSE),\"\")","v":""},"","","","","",""]
["","","","","","",{"$f":"IF(F511<>\"\",VLOOKUP($F511,'TA STOCK LOOKUP'!$A$2:$C$202,2,FALSE),\"\")","v":""},{"$f":"IF(G511<>\"\",VLOOKUP($F511,'TA STOCK LOOKUP'!$A$2:$C$202,3,FALSE),\"\")","v":""},"","","","","",""]
["","","","","","",{"$f":"IF(F512<>\"\",VLOOKUP($F512,'TA STOCK LOOKUP'!$A$2:$C$202,2,FALSE),\"\")","v":""},{"$f":"IF(G512<>\"\",VLOOKUP($F512,'TA STOCK LOOKUP'!$A$2:$C$202,3,FALSE),\"\")","v":""},"","","","","",""]
["","","","","","",{"$f":"IF(F513<>\"\",VLOOKUP($F513,'TA STOCK LOOKUP'!$A$2:$C$202,2,FALSE),\"\")","v":""},{"$f":"IF(G513<>\"\",VLOOKUP($F513,'TA STOCK LOOKUP'!$A$2:$C$202,3,FALSE),\"\")","v":""},"","","","","",""]
["","","","","","",{"$f":"IF(F514<>\"\",VLOOKUP($F514,'TA STOCK LOOKUP'!$A$2:$C$202,2,FALSE),\"\")","v":""},{"$f":"IF(G514<>\"\",VLOOKUP($F514,'TA STOCK LOOKUP'!$A$2:$C$202,3,FALSE),\"\")","v":""},"","","","","",""]
["","","","","","",{"$f":"IF(F515<>\"\",VLOOKUP($F515,'TA STOCK LOOKUP'!$A$2:$C$202,2,FALSE),\"\")","v":""},{"$f":"IF(G515<>\"\",VLOOKUP($F515,'TA STOCK LOOKUP'!$A$2:$C$202,3,FALSE),\"\")","v":""},"","","","","",""]
["","","","","","",{"$f":"IF(F516<>\"\",VLOOKUP($F516,'TA STOCK LOOKUP'!$A$2:$C$202,2,FALSE),\"\")","v":""},{"$f":"IF(G516<>\"\",VLOOKUP($F516,'TA STOCK LOOKUP'!$A$2:$C$202,3,FALSE),\"\")","v":""},"","","","","",""]
["","","","","","",{"$f":"IF(F517<>\"\",VLOOKUP($F517,'TA STOCK LOOKUP'!$A$2:$C$202,2,FALSE),\"\")","v":""},{"$f":"IF(G517<>\"\",VLOOKUP($F517,'TA STOCK LOOKUP'!$A$2:$C$202,3,FALSE),\"\")","v":""},"","","","","",""]
["","","","","","",{"$f":"IF(F518<>\"\",VLOOKUP($F518,'TA STOCK LOOKUP'!$A$2:$C$202,2,FALSE),\"\")","v":""},{"$f":"IF(G518<>\"\",VLOOKUP($F518,'TA STOCK LOOKUP'!$A$2:$C$202,3,FALSE),\"\")","v":""},"","","","","",""]
["","","","","","",{"$f":"IF(F519<>\"\",VLOOKUP($F519,'TA STOCK LOOKUP'!$A$2:$C$202,2,FALSE),\"\")","v":""},{"$f":"IF(G519<>\"\",VLOOKUP($F519,'TA STOCK LOOKUP'!$A$2:$C$202,3,FALSE),\"\")","v":""},"","","","","",""]
["","","","","","",{"$f":"IF(F520<>\"\",VLOOKUP($F520,'TA STOCK LOOKUP'!$A$2:$C$202,2,FALSE),\"\")","v":""},{"$f":"IF(G520<>\"\",VLOOKUP($F520,'TA STOCK LOOKUP'!$A$2:$C$202,3,FALSE),\"\")","v":""},"","","","","",""]
["","","","","","",{"$f":"IF(F521<>\"\",VLOOKUP($F521,'TA STOCK LOOKUP'!$A$2:$C$202,2,FALSE),\"\")","v":""},{"$f":"IF(G521<>\"\",VLOOKUP($F521,'TA STOCK LOOKUP'!$A$2:$C$202,3,FALSE),\"\")","v":""},"","","","","",""]
["","","","","","",{"$f":"IF(F522<>\"\",VLOOKUP($F522,'TA STOCK LOOKUP'!$A$2:$C$202,2,FALSE),\"\")","v":""},{"$f":"IF(G522<>\"\",VLOOKUP($F522,'TA STOCK LOOKUP'!$A$2:$C$202,3,FALSE),\"\")","v":""},"","","","","",""]
["","","","","","",{"$f":"IF(F523<>\"\",VLOOKUP($F523,'TA STOCK LOOKUP'!$A$2:$C$202,2,FALSE),\"\")","v":""},{"$f":"IF(G523<>\"\",VLOOKUP($F523,'TA STOCK LOOKUP'!$A$2:$C$202,3,FALSE),\"\")","v":""},"","","","","",""]
["","","","","","",{"$f":"IF(F524<>\"\",VLOOKUP($F524,'TA STOCK LOOKUP'!$A$2:$C$202,2,FALSE),\"\")","v":""},{"$f":"IF(G524<>\"\",VLOOKUP($F524,'TA STOCK LOOKUP'!$A$2:$C$202,3,FALSE),\"\")","v":""},"","","","","",""]
["","","","","","",{"$f":"IF(F525<>\"\",VLOOKUP($F525,'TA STOCK LOOKUP'!$A$2:$C$202,2,FALSE),\"\")","v":""},{"$f":"IF(G525<>\"\",VLOOKUP($F525,'TA STOCK LOOKUP'!$A$2:$C$202,3,FALSE),\"\")","v":""},"","","","","",""]
["","","","","","",{"$f":"IF(F526<>\"\",VLOOKUP($F526,'TA STOCK LOOKUP'!$A$2:$C$202,2,FALSE),\"\")","v":""},{"$f":"IF(G526<>\"\",VLOOKUP($F526,'TA STOCK LOOKUP'!$A$2:$C$202,3,FALSE),\"\")","v":""},"","","","","",""]
["","","","","","",{"$f":"IF(F527<>\"\",VLOOKUP($F527,'TA STOCK LOOKUP'!$A$2:$C$202,2,FALSE),\"\")","v":""},{"$f":"IF(G527<>\"\",VLOOKUP($F527,'TA STOCK LOOKUP'!$A$2:$C$202,3,FALSE),\"\")","v":""},"","","","","",""]
["","","","","","",{"$f":"IF(F528<>\"\",VLOOKUP($F528,'TA STOCK LOOKUP'!$A$2:$C$202,2,FALSE),\"\")","v":""},{"$f":"IF(G528<>\"\",VLOOKUP($F528,'TA STOCK LOOKUP'!$A$2:$C$202,3,FALSE),\"\")","v":""},"","","","","",""]
["","","","","","",{"$f":"IF(F529<>\"\",VLOOKUP($F529,'TA STOCK LOOKUP'!$A$2:$C$202,2,FALSE),\"\")","v":""},{"$f":"IF(G529<>\"\",VLOOKUP($F529,'TA STOCK LOOKUP'!$A$2:$C$202,3,FALSE),\"\")","v":""},"","","","","",""]
["","","","","","",{"$f":"IF(F530<>\"\",VLOOKUP($F530,'TA STOCK LOOKUP'!$A$2:$C$202,2,FALSE),\"\")","v":""},{"$f":"IF(G530<>\"\",VLOOKUP($F530,'TA STOCK LOOKUP'!$A$2:$C$202,3,FALSE),\"\")","v":""},"","","","","",""]
["","","","","","",{"$f":"IF(F531<>\"\",VLOOKUP($F531,'TA STOCK LOOKUP'!$A$2:$C$202,2,FALSE),\"\")","v":""},{"$f":"IF(G531<>\"\",VLOOKUP($F531,'TA STOCK LOOKUP'!$A$2:$C$202,3,FALSE),\"\")","v":""},"","","","","",""]
["","","","","","",{"$f":"IF(F532<>\"\",VLOOKUP($F532,'TA STOCK LOOKUP'!$A$2:$C$202,2,FALSE),\"\")","v":""},{"$f":"IF(G532<>\"\",VLOOKUP($F532,'TA STOCK LOOKUP'!$A$2:$C$202,3,FALSE),\"\")","v":""},"","","","","",""]
["","","","","","",{"$f":"IF(F533<>\"\",VLOOKUP($F533,'TA STOCK LOOKUP'!$A$2:$C$202,2,FALSE),\"\")","v":""},{"$f":"IF(G533<>\"\",VLOOKUP($F533,'TA STOCK LOOKUP'!$A$2:$C$202,3,FALSE),\"\")","v":""},"","","","","",""]
["","","","","","",{"$f":"IF(F534<>\"\",VLOOKUP($F534,'TA STOCK LOOKUP'!$A$2:$C$202,2,FALSE),\"\")","v":""},{"$f":"IF(G534<>\"\",VLOOKUP($F534,'TA STOCK LOOKUP'!$A$2:$C$202,3,FALSE),\"\")","v":""},"","","","","",""]
["","","","","","",{"$f":"IF(F535<>\"\",VLOOKUP($F535,'TA STOCK LOOKUP'!$A$2:$C$202,2,FALSE),\"\")","v":""},{"$f":"IF(G535<>\"\",VLOOKUP($F535,'TA STOCK LOOKUP'!$A$2:$C$202,3,FALSE),\"\")","v":""},"","","","","",""]
["","","","","","",{"$f":"IF(F536<>\"\",VLOOKUP($F536,'TA STOCK LOOKUP'!$A$2:$C$202,2,FALSE),\"\")","v":""},{"$f":"IF(G536<>\"\",VLOOKUP($F536,'TA STOCK LOOKUP'!$A$2:$C$202,3,FALSE),\"\")","v":""},"","","","","",""]
["","","","","","",{"$f":"IF(F537<>\"\",VLOOKUP($F537,'TA STOCK LOOKUP'!$A$2:$C$202,2,FALSE),\"\")","v":""},{"$f":"IF(G537<>\"\",VLOOKUP($F537,'TA STOCK LOOKUP'!$A$2:$C$202,3,FALSE),\"\")","v":""},"","","","","",""]
["","","","","","",{"$f":"IF(F538<>\"\",VLOOKUP($F538,'TA STOCK LOOKUP'!$A$2:$C$202,2,FALSE),\"\")","v":""},{"$f":"IF(G538<>\"\",VLOOKUP($F538,'TA STOCK LOOKUP'!$A$2:$C$202,3,FALSE),\"\")","v":""},"","","","","",""]
["","","","","","",{"$f":"IF(F539<>\"\",VLOOKUP($F539,'TA STOCK LOOKUP'!$A$2:$C$202,2,FALSE),\"\")","v":""},{"$f":"IF(G539<>\"\",VLOOKUP($F539,'TA STOCK LOOKUP'!$A$2:$C$202,3,FALSE),\"\")","v":""},"","","","","",""]
["","","","","","",{"$f":"IF(F540<>\"\",VLOOKUP($F540,'TA STOCK LOOKUP'!$A$2:$C$202,2,FALSE),\"\")","v":""},{"$f":"IF(G540<>\"\",VLOOKUP($F540,'TA STOCK LOOKUP'!$A$2:$C$202,3,FALSE),\"\")","v":""},"","","","","",""]
["","","","","","",{"$f":"IF(F541<>\"\",VLOOKUP($F541,'TA STOCK LOOKUP'!$A$2:$C$202,2,FALSE),\"\")","v":""},{"$f":"IF(G541<>\"\",VLOOKUP($F541,'TA STOCK LOOKUP'!$A$2:$C$202,3,FALSE),\"\")","v":""},"","","","","",""]
["","","","","","",{"$f":"IF(F542<>\"\",VLOOKUP($F542,'TA STOCK LOOKUP'!$A$2:$C$202,2,FALSE),\"\")","v":""},{"$f":"IF(G542<>\"\",VLOOKUP($F542,'TA STOCK LOOKUP'!$A$2:$C$202,3,FALSE),\"\")","v":""},"","","","","",""]
["","","","","","",{"$f":"IF(F543<>\"\",VLOOKUP($F543,'TA STOCK LOOKUP'!$A$2:$C$202,2,FALSE),\"\")","v":""},{"$f":"IF(G543<>\"\",VLOOKUP($F543,'TA STOCK LOOKUP'!$A$2:$C$202,3,FALSE),\"\")","v":""},"","","","","",""]
["","","","","","",{"$f":"IF(F544<>\"\",VLOOKUP($F544,'TA STOCK LOOKUP'!$A$2:$C$202,2,FALSE),\"\")","v":""},{"$f":"IF(G544<>\"\",VLOOKUP($F544,'TA STOCK LOOKUP'!$A$2:$C$202,3,FALSE),\"\")","v":""},"","","","","",""]
["","","","","","",{"$f":"IF(F545<>\"\",VLOOKUP($F545,'TA STOCK LOOKUP'!$A$2:$C$202,2,FALSE),\"\")","v":""},{"$f":"IF(G545<>\"\",VLOOKUP($F545,'TA STOCK LOOKUP'!$A$2:$C$202,3,FALSE),\"\")","v":""},"","","","","",""]
["","","","","","",{"$f":"IF(F546<>\"\",VLOOKUP($F546,'TA STOCK LOOKUP'!$A$2:$C$202,2,FALSE),\"\")","v":""},{"$f":"IF(G546<>\"\",VLOOKUP($F546,'TA STOCK LOOKUP'!$A$2:$C$202,3,FALSE),\"\")","v":""},"","","","","",""]
["","","","","","",{"$f":"IF(F547<>\"\",VLOOKUP($F547,'TA STOCK LOOKUP'!$A$2:$C$202,2,FALSE),\"\")","v":""},{"$f":"IF(G547<>\"\",VLOOKUP($F547,'TA STOCK LOOKUP'!$A$2:$C$202,3,FALSE),\"\")","v":""},"","","","","",""]
["","","","","","",{"$f":"IF(F548<>\"\",VLOOKUP($F548,'TA STOCK LOOKUP'!$A$2:$C$202,2,FALSE),\"\")","v":""},{"$f":"IF(G548<>\"\",VLOOKUP($F548,'TA STOCK LOOKUP'!$A$2:$C$202,3,FALSE),\"\")","v":""},"","","","","",""]
["","","","","","",{"$f":"IF(F549<>\"\",VLOOKUP($F549,'TA STOCK LOOKUP'!$A$2:$C$202,2,FALSE),\"\")","v":""},{"$f":"IF(G549<>\"\",VLOOKUP($F549,'TA STOCK LOOKUP'!$A$2:$C$202,3,FALSE),\"\")","v":""},"","","","","",""]
["","","","","","",{"$f":"IF(F550<>\"\",VLOOKUP($F550,'TA STOCK LOOKUP'!$A$2:$C$202,2,FALSE),\"\")","v":""},{"$f":"IF(G550<>\"\",VLOOKUP($F550,'TA STOCK LOOKUP'!$A$2:$C$202,3,FALSE),\"\")","v":""},"","","","","",""]
["","","","","","",{"$f":"IF(F551<>\"\",VLOOKUP($F551,'TA STOCK LOOKUP'!$A$2:$C$202,2,FALSE),\"\")","v":""},{"$f":"IF(G551<>\"\",VLOOKUP($F551,'TA STOCK LOOKUP'!$A$2:$C$202,3,FALSE),\"\")","v":""},"","","","","",""]
["","","","","","",{"$f":"IF(F552<>\"\",VLOOKUP($F552,'TA STOCK LOOKUP'!$A$2:$C$202,2,FALSE),\"\")","v":""},{"$f":"IF(G552<>\"\",VLOOKUP($F552,'TA STOCK LOOKUP'!$A$2:$C$202,3,FALSE),\"\")","v":""},"","","","","",""]
["","","","","","",{"$f":"IF(F553<>\"\",VLOOKUP($F553,'TA STOCK LOOKUP'!$A$2:$C$202,2,FALSE),\"\")","v":""},{"$f":"IF(G553<>\"\",VLOOKUP($F553,'TA STOCK LOOKUP'!$A$2:$C$202,3,FALSE),\"\")","v":""},"","","","","",""]
["","","","","","",{"$f":"IF(F554<>\"\",VLOOKUP($F554,'TA STOCK LOOKUP'!$A$2:$C$202,2,FALSE),\"\")","v":""},{"$f":"IF(G554<>\"\",VLOOKUP($F554,'TA STOCK LOOKUP'!$A$2:$C$202,3,FALSE),\"\")","v":""},"","","","","",""]
["","","","","","",{"$f":"IF(F555<>\"\",VLOOKUP($F555,'TA STOCK LOOKUP'!$A$2:$C$202,2,FALSE),\"\")","v":""},{"$f":"IF(G555<>\"\",VLOOKUP($F555,'TA STOCK LOOKUP'!$A$2:$C$202,3,FALSE),\"\")","v":""},"","","","","",""]
["","","","","","",{"$f":"IF(F556<>\"\",VLOOKUP($F556,'TA STOCK LOOKUP'!$A$2:$C$202,2,FALSE),\"\")","v":""},{"$f":"IF(G556<>\"\",VLOOKUP($F556,'TA STOCK LOOKUP'!$A$2:$C$202,3,FALSE),\"\")","v":""},"","","","","",""]
["","","","","","",{"$f":"IF(F557<>\"\",VLOOKUP($F557,'TA STOCK LOOKUP'!$A$2:$C$202,2,FALSE),\"\")","v":""},{"$f":"IF(G557<>\"\",VLOOKUP($F557,'TA STOCK LOOKUP'!$A$2:$C$202,3,FALSE),\"\")","v":""},"","","","","",""]
["","","","","","",{"$f":"IF(F558<>\"\",VLOOKUP($F558,'TA STOCK LOOKUP'!$A$2:$C$202,2,FALSE),\"\")","v":""},{"$f":"IF(G558<>\"\",VLOOKUP($F558,'TA STOCK LOOKUP'!$A$2:$C$202,3,FALSE),\"\")","v":""},"","","","","",""]
["","","","","","",{"$f":"IF(F559<>\"\",VLOOKUP($F559,'TA STOCK LOOKUP'!$A$2:$C$202,2,FALSE),\"\")","v":""},{"$f":"IF(G559<>\"\",VLOOKUP($F559,'TA STOCK LOOKUP'!$A$2:$C$202,3,FALSE),\"\")","v":""},"","","","","",""]
["","","","","","",{"$f":"IF(F560<>\"\",VLOOKUP($F560,'TA STOCK LOOKUP'!$A$2:$C$202,2,FALSE),\"\")","v":""},{"$f":"IF(G560<>\"\",VLOOKUP($F560,'TA STOCK LOOKUP'!$A$2:$C$202,3,FALSE),\"\")","v":""},"","","","","",""]
["","","","","","",{"$f":"IF(F561<>\"\",VLOOKUP($F561,'TA STOCK LOOKUP'!$A$2:$C$202,2,FALSE),\"\")","v":""},{"$f":"IF(G561<>\"\",VLOOKUP($F561,'TA STOCK LOOKUP'!$A$2:$C$202,3,FALSE),\"\")","v":""},"","","","","",""]
["","","","","","",{"$f":"IF(F562<>\"\",VLOOKUP($F562,'TA STOCK LOOKUP'!$A$2:$C$202,2,FALSE),\"\")","v":""},{"$f":"IF(G562<>\"\",VLOOKUP($F562,'TA STOCK LOOKUP'!$A$2:$C$202,3,FALSE),\"\")","v":""},"","","","","",""]
["","","","","","",{"$f":"IF(F563<>\"\",VLOOKUP($F563,'TA STOCK LOOKUP'!$A$2:$C$202,2,FALSE),\"\")","v":""},{"$f":"IF(G563<>\"\",VLOOKUP($F563,'TA STOCK LOOKUP'!$A$2:$C$202,3,FALSE),\"\")","v":""},"","","","","",""]
["","","","","","",{"$f":"IF(F564<>\"\",VLOOKUP($F564,'TA STOCK LOOKUP'!$A$2:$C$202,2,FALSE),\"\")","v":""},{"$f":"IF(G564<>\"\",VLOOKUP($F564,'TA STOCK LOOKUP'!$A$2:$C$202,3,FALSE),\"\")","v":""},"","","","","",""]
["","","","","","",{"$f":"IF(F565<>\"\",VLOOKUP($F565,'TA STOCK LOOKUP'!$A$2:$C$202,2,FALSE),\"\")","v":""},{"$f":"IF(G565<>\"\",VLOOKUP($F565,'TA STOCK LOOKUP'!$A$2:$C$202,3,FALSE),\"\")","v":""},"","","","","",""]
["","","","","","",{"$f":"IF(F566<>\"\",VLOOKUP($F566,'TA STOCK LOOKUP'!$A$2:$C$202,2,FALSE),\"\")","v":""},{"$f":"IF(G566<>\"\",VLOOKUP($F566,'TA STOCK LOOKUP'!$A$2:$C$202,3,FALSE),\"\")","v":""},"","","","","",""]
["","","","","","",{"$f":"IF(F567<>\"\",VLOOKUP($F567,'TA STOCK LOOKUP'!$A$2:$C$202,2,FALSE),\"\")","v":""},{"$f":"IF(G567<>\"\",VLOOKUP($F567,'TA STOCK LOOKUP'!$A$2:$C$202,3,FALSE),\"\")","v":""},"","","","","",""]
["","","","","","",{"$f":"IF(F568<>\"\",VLOOKUP($F568,'TA STOCK LOOKUP'!$A$2:$C$202,2,FALSE),\"\")","v":""},{"$f":"IF(G568<>\"\",VLOOKUP($F568,'TA STOCK LOOKUP'!$A$2:$C$202,3,FALSE),\"\")","v":""},"","","","","",""]
["","","","","","",{"$f":"IF(F569<>\"\",VLOOKUP($F569,'TA STOCK LOOKUP'!$A$2:$C$202,2,FALSE),\"\")","v":""},{"$f":"IF(G569<>\"\",VLOOKUP($F569,'TA STOCK LOOKUP'!$A$2:$C$202,3,FALSE),\"\")","v":""},"","","","","",""]
["","","","","","",{"$f":"IF(F570<>\"\",VLOOKUP($F570,'TA STOCK LOOKUP'!$A$2:$C$202,2,FALSE),\"\")","v":""},{"$f":"IF(G570<>\"\",VLOOKUP($F570,'TA STOCK LOOKUP'!$A$2:$C$202,3,FALSE),\"\")","v":""},"","","","","",""]
["","","","","","",{"$f":"IF(F571<>\"\",VLOOKUP($F571,'TA STOCK LOOKUP'!$A$2:$C$202,2,FALSE),\"\")","v":""},{"$f":"IF(G571<>\"\",VLOOKUP($F571,'TA STOCK LOOKUP'!$A$2:$C$202,3,FALSE),\"\")","v":""},"","","","","",""]
["","","","","","",{"$f":"IF(F572<>\"\",VLOOKUP($F572,'TA STOCK LOOKUP'!$A$2:$C$202,2,FALSE),\"\")","v":""},{"$f":"IF(G572<>\"\",VLOOKUP($F572,'TA STOCK LOOKUP'!$A$2:$C$202,3,FALSE),\"\")","v":""},"","","","","",""]
["","","","","","",{"$f":"IF(F573<>\"\",VLOOKUP($F573,'TA STOCK LOOKUP'!$A$2:$C$202,2,FALSE),\"\")","v":""},{"$f":"IF(G573<>\"\",VLOOKUP($F573,'TA STOCK LOOKUP'!$A$2:$C$202,3,FALSE),\"\")","v":""},"","","","","",""]
["","","","","","",{"$f":"IF(F574<>\"\",VLOOKUP($F574,'TA STOCK LOOKUP'!$A$2:$C$202,2,FALSE),\"\")","v":""},{"$f":"IF(G574<>\"\",VLOOKUP($F574,'TA STOCK LOOKUP'!$A$2:$C$202,3,FALSE),\"\")","v":""},"","","","","",""]
["","","","","","",{"$f":"IF(F575<>\"\",VLOOKUP($F575,'TA STOCK LOOKUP'!$A$2:$C$202,2,FALSE),\"\")","v":""},{"$f":"IF(G575<>\"\",VLOOKUP($F575,'TA STOCK LOOKUP'!$A$2:$C$202,3,FALSE),\"\")","v":""},"","","","","",""]
["","","","","","",{"$f":"IF(F576<>\"\",VLOOKUP($F576,'TA STOCK LOOKUP'!$A$2:$C$202,2,FALSE),\"\")","v":""},{"$f":"IF(G576<>\"\",VLOOKUP($F576,'TA STOCK LOOKUP'!$A$2:$C$202,3,FALSE),\"\")","v":""},"","","","","",""]
["","","","","","",{"$f":"IF(F577<>\"\",VLOOKUP($F577,'TA STOCK LOOKUP'!$A$2:$C$202,2,FALSE),\"\")","v":""},{"$f":"IF(G577<>\"\",VLOOKUP($F577,'TA STOCK LOOKUP'!$A$2:$C$202,3,FALSE),\"\")","v":""},"","","","","",""]
["","","","","","",{"$f":"IF(F578<>\"\",VLOOKUP($F578,'TA STOCK LOOKUP'!$A$2:$C$202,2,FALSE),\"\")","v":""},{"$f":"IF(G578<>\"\",VLOOKUP($F578,'TA STOCK LOOKUP'!$A$2:$C$202,3,FALSE),\"\")","v":""},"","","","","",""]
["","","","","","",{"$f":"IF(F579<>\"\",VLOOKUP($F579,'TA STOCK LOOKUP'!$A$2:$C$202,2,FALSE),\"\")","v":""},{"$f":"IF(G579<>\"\",VLOOKUP($F579,'TA STOCK LOOKUP'!$A$2:$C$202,3,FALSE),\"\")","v":""},"","","","","",""]
["","","","","","",{"$f":"IF(F580<>\"\",VLOOKUP($F580,'TA STOCK LOOKUP'!$A$2:$C$202,2,FALSE),\"\")","v":""},{"$f":"IF(G580<>\"\",VLOOKUP($F580,'TA STOCK LOOKUP'!$A$2:$C$202,3,FALSE),\"\")","v":""},"","","","","",""]
["","","","","","",{"$f":"IF(F581<>\"\",VLOOKUP($F581,'TA STOCK LOOKUP'!$A$2:$C$202,2,FALSE),\"\")","v":""},{"$f":"IF(G581<>\"\",VLOOKUP($F581,'TA STOCK LOOKUP'!$A$2:$C$202,3,FALSE),\"\")","v":""},"","","","","",""]
["","","","","","",{"$f":"IF(F582<>\"\",VLOOKUP($F582,'TA STOCK LOOKUP'!$A$2:$C$202,2,FALSE),\"\")","v":""},{"$f":"IF(G582<>\"\",VLOOKUP($F582,'TA STOCK LOOKUP'!$A$2:$C$202,3,FALSE),\"\")","v":""},"","","","","",""]
["","","","","","",{"$f":"IF(F583<>\"\",VLOOKUP($F583,'TA STOCK LOOKUP'!$A$2:$C$202,2,FALSE),\"\")","v":""},{"$f":"IF(G583<>\"\",VLOOKUP($F583,'TA STOCK LOOKUP'!$A$2:$C$202,3,FALSE),\"\")","v":""},"","","","","",""]
["","","","","","",{"$f":"IF(F584<>\"\",VLOOKUP($F584,'TA STOCK LOOKUP'!$A$2:$C$202,2,FALSE),\"\")","v":""},{"$f":"IF(G584<>\"\",VLOOKUP($F584,'TA STOCK LOOKUP'!$A$2:$C$202,3,FALSE),\"\")","v":""},"","","","","",""]
["","","","","","",{"$f":"IF(F585<>\"\",VLOOKUP($F585,'TA STOCK LOOKUP'!$A$2:$C$202,2,FALSE),\"\")","v":""},{"$f":"IF(G585<>\"\",VLOOKUP($F585,'TA STOCK LOOKUP'!$A$2:$C$202,3,FALSE),\"\")","v":""},"","","","","",""]
["","","","","","",{"$f":"IF(F586<>\"\",VLOOKUP($F586,'TA STOCK LOOKUP'!$A$2:$C$202,2,FALSE),\"\")","v":""},{"$f":"IF(G586<>\"\",VLOOKUP($F586,'TA STOCK LOOKUP'!$A$2:$C$202,3,FALSE),\"\")","v":""},"","","","","",""]
["","","","","","",{"$f":"IF(F587<>\"\",VLOOKUP($F587,'TA STOCK LOOKUP'!$A$2:$C$202,2,FALSE),\"\")","v":""},{"$f":"IF(G587<>\"\",VLOOKUP($F587,'TA STOCK LOOKUP'!$A$2:$C$202,3,FALSE),\"\")","v":""},"","","","","",""]
["","","","","","",{"$f":"IF(F588<>\"\",VLOOKUP($F588,'TA STOCK LOOKUP'!$A$2:$C$202,2,FALSE),\"\")","v":""},{"$f":"IF(G588<>\"\",VLOOKUP($F588,'TA STOCK LOOKUP'!$A$2:$C$202,3,FALSE),\"\")","v":""},"","","","","",""]
["","","","","","",{"$f":"IF(F589<>\"\",VLOOKUP($F589,'TA STOCK LOOKUP'!$A$2:$C$202,2,FALSE),\"\")","v":""},{"$f":"IF(G589<>\"\",VLOOKUP($F589,'TA STOCK LOOKUP'!$A$2:$C$202,3,FALSE),\"\")","v":""},"","","","","",""]
["","","","","","",{"$f":"IF(F590<>\"\",VLOOKUP($F590,'TA STOCK LOOKUP'!$A$2:$C$202,2,FALSE),\"\")","v":""},{"$f":"IF(G590<>\"\",VLOOKUP($F590,'TA STOCK LOOKUP'!$A$2:$C$202,3,FALSE),\"\")","v":""},"","","","","",""]
["","","","","","",{"$f":"IF(F591<>\"\",VLOOKUP($F591,'TA STOCK LOOKUP'!$A$2:$C$202,2,FALSE),\"\")","v":""},{"$f":"IF(G591<>\"\",VLOOKUP($F591,'TA STOCK LOOKUP'!$A$2:$C$202,3,FALSE),\"\")","v":""},"","","","","",""]
["","","","","","",{"$f":"IF(F592<>\"\",VLOOKUP($F592,'TA STOCK LOOKUP'!$A$2:$C$202,2,FALSE),\"\")","v":""},{"$f":"IF(G592<>\"\",VLOOKUP($F592,'TA STOCK LOOKUP'!$A$2:$C$202,3,FALSE),\"\")","v":""},"","","","","",""]
["","","","","","",{"$f":"IF(F593<>\"\",VLOOKUP($F593,'TA STOCK LOOKUP'!$A$2:$C$202,2,FALSE),\"\")","v":""},{"$f":"IF(G593<>\"\",VLOOKUP($F593,'TA STOCK LOOKUP'!$A$2:$C$202,3,FALSE),\"\")","v":""},"","","","","",""]
["","","","","","",{"$f":"IF(F594<>\"\",VLOOKUP($F594,'TA STOCK LOOKUP'!$A$2:$C$202,2,FALSE),\"\")","v":""},{"$f":"IF(G594<>\"\",VLOOKUP($F594,'TA STOCK LOOKUP'!$A$2:$C$202,3,FALSE),\"\")","v":""},"","","","","",""]
["","","","","","",{"$f":"IF(F595<>\"\",VLOOKUP($F595,'TA STOCK LOOKUP'!$A$2:$C$202,2,FALSE),\"\")","v":""},{"$f":"IF(G595<>\"\",VLOOKUP($F595,'TA STOCK LOOKUP'!$A$2:$C$202,3,FALSE),\"\")","v":""},"","","","","",""]
["","","","","","",{"$f":"IF(F596<>\"\",VLOOKUP($F596,'TA STOCK LOOKUP'!$A$2:$C$202,2,FALSE),\"\")","v":""},{"$f":"IF(G596<>\"\",VLOOKUP($F596,'TA STOCK LOOKUP'!$A$2:$C$202,3,FALSE),\"\")","v":""},"","","","","",""]
["","","","","","",{"$f":"IF(F597<>\"\",VLOOKUP($F597,'TA STOCK LOOKUP'!$A$2:$C$202,2,FALSE),\"\")","v":""},{"$f":"IF(G597<>\"\",VLOOKUP($F597,'TA STOCK LOOKUP'!$A$2:$C$202,3,FALSE),\"\")","v":""},"","","","","",""]
["","","","","","",{"$f":"IF(F598<>\"\",VLOOKUP($F598,'TA STOCK LOOKUP'!$A$2:$C$202,2,FALSE),\"\")","v":""},{"$f":"IF(G598<>\"\",VLOOKUP($F598,'TA STOCK LOOKUP'!$A$2:$C$202,3,FALSE),\"\")","v":""},"","","","","",""]
["","","","","","",{"$f":"IF(F599<>\"\",VLOOKUP($F599,'TA STOCK LOOKUP'!$A$2:$C$202,2,FALSE),\"\")","v":""},{"$f":"IF(G599<>\"\",VLOOKUP($F599,'TA STOCK LOOKUP'!$A$2:$C$202,3,FALSE),\"\")","v":""},"","","","","",""]
["","","","","","",{"$f":"IF(F600<>\"\",VLOOKUP($F600,'TA STOCK LOOKUP'!$A$2:$C$202,2,FALSE),\"\")","v":""},{"$f":"IF(G600<>\"\",VLOOKUP($F600,'TA STOCK LOOKUP'!$A$2:$C$202,3,FALSE),\"\")","v":""},"","","","","",""]
["","","","","","",{"$f":"IF(F601<>\"\",VLOOKUP($F601,'TA STOCK LOOKUP'!$A$2:$C$202,2,FALSE),\"\")","v":""},{"$f":"IF(G601<>\"\",VLOOKUP($F601,'TA STOCK LOOKUP'!$A$2:$C$202,3,FALSE),\"\")","v":""},"","","","","",""]
["","","","","","",{"$f":"IF(F602<>\"\",VLOOKUP($F602,'TA STOCK LOOKUP'!$A$2:$C$202,2,FALSE),\"\")","v":""},{"$f":"IF(G602<>\"\",VLOOKUP($F602,'TA STOCK LOOKUP'!$A$2:$C$202,3,FALSE),\"\")","v":""},"","","","","",""]
["","","","","","",{"$f":"IF(F603<>\"\",VLOOKUP($F603,'TA STOCK LOOKUP'!$A$2:$C$202,2,FALSE),\"\")","v":""},{"$f":"IF(G603<>\"\",VLOOKUP($F603,'TA STOCK LOOKUP'!$A$2:$C$202,3,FALSE),\"\")","v":""},"","","","","",""]
["","","","","","",{"$f":"IF(F604<>\"\",VLOOKUP($F604,'TA STOCK LOOKUP'!$A$2:$C$202,2,FALSE),\"\")","v":""},{"$f":"IF(G604<>\"\",VLOOKUP($F604,'TA STOCK LOOKUP'!$A$2:$C$202,3,FALSE),\"\")","v":""},"","","","","",""]
["","","","","","",{"$f":"IF(F605<>\"\",VLOOKUP($F605,'TA STOCK LOOKUP'!$A$2:$C$202,2,FALSE),\"\")","v":""},{"$f":"IF(G605<>\"\",VLOOKUP($F605,'TA STOCK LOOKUP'!$A$2:$C$202,3,FALSE),\"\")","v":""},"","","","","",""]
["","","","","","",{"$f":"IF(F606<>\"\",VLOOKUP($F606,'TA STOCK LOOKUP'!$A$2:$C$202,2,FALSE),\"\")","v":""},{"$f":"IF(G606<>\"\",VLOOKUP($F606,'TA STOCK LOOKUP'!$A$2:$C$202,3,FALSE),\"\")","v":""},"","","","","",""]
["","","","","","",{"$f":"IF(F607<>\"\",VLOOKUP($F607,'TA STOCK LOOKUP'!$A$2:$C$202,2,FALSE),\"\")","v":""},{"$f":"IF(G607<>\"\",VLOOKUP($F607,'TA STOCK LOOKUP'!$A$2:$C$202,3,FALSE),\"\")","v":""},"","","","","",""]
["","","","","","",{"$f":"IF(F608<>\"\",VLOOKUP($F608,'TA STOCK LOOKUP'!$A$2:$C$202,2,FALSE),\"\")","v":""},{"$f":"IF(G608<>\"\",VLOOKUP($F608,'TA STOCK LOOKUP'!$A$2:$C$202,3,FALSE),\"\")","v":""},"","","","","",""]
["","","","","","",{"$f":"IF(F609<>\"\",VLOOKUP($F609,'TA STOCK LOOKUP'!$A$2:$C$202,2,FALSE),\"\")","v":""},{"$f":"IF(G609<>\"\",VLOOKUP($F609,'TA STOCK LOOKUP'!$A$2:$C$202,3,FALSE),\"\")","v":""},"","","","","",""]
["","","","","","",{"$f":"IF(F610<>\"\",VLOOKUP($F610,'TA STOCK LOOKUP'!$A$2:$C$202,2,FALSE),\"\")","v":""},{"$f":"IF(G610<>\"\",VLOOKUP($F610,'TA STOCK LOOKUP'!$A$2:$C$202,3,FALSE),\"\")","v":""},"","","","","",""]
["","","","","","",{"$f":"IF(F611<>\"\",VLOOKUP($F611,'TA STOCK LOOKUP'!$A$2:$C$202,2,FALSE),\"\")","v":""},{"$f":"IF(G611<>\"\",VLOOKUP($F611,'TA STOCK LOOKUP'!$A$2:$C$202,3,FALSE),\"\")","v":""},"","","","","",""]
["","","","","","",{"$f":"IF(F612<>\"\",VLOOKUP($F612,'TA STOCK LOOKUP'!$A$2:$C$202,2,FALSE),\"\")","v":""},{"$f":"IF(G612<>\"\",VLOOKUP($F612,'TA STOCK LOOKUP'!$A$2:$C$202,3,FALSE),\"\")","v":""},"","","","","",""]
["","","","","","",{"$f":"IF(F613<>\"\",VLOOKUP($F613,'TA STOCK LOOKUP'!$A$2:$C$202,2,FALSE),\"\")","v":""},{"$f":"IF(G613<>\"\",VLOOKUP($F613,'TA STOCK LOOKUP'!$A$2:$C$202,3,FALSE),\"\")","v":""},"","","","","",""]
["","","","","","",{"$f":"IF(F614<>\"\",VLOOKUP($F614,'TA STOCK LOOKUP'!$A$2:$C$202,2,FALSE),\"\")","v":""},{"$f":"IF(G614<>\"\",VLOOKUP($F614,'TA STOCK LOOKUP'!$A$2:$C$202,3,FALSE),\"\")","v":""},"","","","","",""]
["","","","","","",{"$f":"IF(F615<>\"\",VLOOKUP($F615,'TA STOCK LOOKUP'!$A$2:$C$202,2,FALSE),\"\")","v":""},{"$f":"IF(G615<>\"\",VLOOKUP($F615,'TA STOCK LOOKUP'!$A$2:$C$202,3,FALSE),\"\")","v":""},"","","","","",""]
["","","","","","",{"$f":"IF(F616<>\"\",VLOOKUP($F616,'TA STOCK LOOKUP'!$A$2:$C$202,2,FALSE),\"\")","v":""},{"$f":"IF(G616<>\"\",VLOOKUP($F616,'TA STOCK LOOKUP'!$A$2:$C$202,3,FALSE),\"\")","v":""},"","","","","",""]
["","","","","","",{"$f":"IF(F617<>\"\",VLOOKUP($F617,'TA STOCK LOOKUP'!$A$2:$C$202,2,FALSE),\"\")","v":""},{"$f":"IF(G617<>\"\",VLOOKUP($F617,'TA STOCK LOOKUP'!$A$2:$C$202,3,FALSE),\"\")","v":""},"","","","","",""]
["","","","","","",{"$f":"IF(F618<>\"\",VLOOKUP($F618,'TA STOCK LOOKUP'!$A$2:$C$202,2,FALSE),\"\")","v":""},{"$f":"IF(G618<>\"\",VLOOKUP($F618,'TA STOCK LOOKUP'!$A$2:$C$202,3,FALSE),\"\")","v":""},"","","","","",""]
["","","","","","",{"$f":"IF(F619<>\"\",VLOOKUP($F619,'TA STOCK LOOKUP'!$A$2:$C$202,2,FALSE),\"\")","v":""},{"$f":"IF(G619<>\"\",VLOOKUP($F619,'TA STOCK LOOKUP'!$A$2:$C$202,3,FALSE),\"\")","v":""},"","","","","",""]
["","","","","","",{"$f":"IF(F620<>\"\",VLOOKUP($F620,'TA STOCK LOOKUP'!$A$2:$C$202,2,FALSE),\"\")","v":""},{"$f":"IF(G620<>\"\",VLOOKUP($F620,'TA STOCK LOOKUP'!$A$2:$C$202,3,FALSE),\"\")","v":""},"","","","","",""]
["","","","","","",{"$f":"IF(F621<>\"\",VLOOKUP($F621,'TA STOCK LOOKUP'!$A$2:$C$202,2,FALSE),\"\")","v":""},{"$f":"IF(G621<>\"\",VLOOKUP($F621,'TA STOCK LOOKUP'!$A$2:$C$202,3,FALSE),\"\")","v":""},"","","","","",""]
["","","","","","",{"$f":"IF(F622<>\"\",VLOOKUP($F622,'TA STOCK LOOKUP'!$A$2:$C$202,2,FALSE),\"\")","v":""},{"$f":"IF(G622<>\"\",VLOOKUP($F622,'TA STOCK LOOKUP'!$A$2:$C$202,3,FALSE),\"\")","v":""},"","","","","",""]
["","","","","","",{"$f":"IF(F623<>\"\",VLOOKUP($F623,'TA STOCK LOOKUP'!$A$2:$C$202,2,FALSE),\"\")","v":""},{"$f":"IF(G623<>\"\",VLOOKUP($F623,'TA STOCK LOOKUP'!$A$2:$C$202,3,FALSE),\"\")","v":""},"","","","","",""]
["","","","","","",{"$f":"IF(F624<>\"\",VLOOKUP($F624,'TA STOCK LOOKUP'!$A$2:$C$202,2,FALSE),\"\")","v":""},{"$f":"IF(G624<>\"\",VLOOKUP($F624,'TA STOCK LOOKUP'!$A$2:$C$202,3,FALSE),\"\")","v":""},"","","","","",""]
["","","","","","",{"$f":"IF(F625<>\"\",VLOOKUP($F625,'TA STOCK LOOKUP'!$A$2:$C$202,2,FALSE),\"\")","v":""},{"$f":"IF(G625<>\"\",VLOOKUP($F625,'TA STOCK LOOKUP'!$A$2:$C$202,3,FALSE),\"\")","v":""},"","","","","",""]
["","","","","","",{"$f":"IF(F626<>\"\",VLOOKUP($F626,'TA STOCK LOOKUP'!$A$2:$C$202,2,FALSE),\"\")","v":""},{"$f":"IF(G626<>\"\",VLOOKUP($F626,'TA STOCK LOOKUP'!$A$2:$C$202,3,FALSE),\"\")","v":""},"","","","","",""]
["","","","","","",{"$f":"IF(F627<>\"\",VLOOKUP($F627,'TA STOCK LOOKUP'!$A$2:$C$202,2,FALSE),\"\")","v":""},{"$f":"IF(G627<>\"\",VLOOKUP($F627,'TA STOCK LOOKUP'!$A$2:$C$202,3,FALSE),\"\")","v":""},"","","","","",""]
["","","","","","",{"$f":"IF(F628<>\"\",VLOOKUP($F628,'TA STOCK LOOKUP'!$A$2:$C$202,2,FALSE),\"\")","v":""},{"$f":"IF(G628<>\"\",VLOOKUP($F628,'TA STOCK LOOKUP'!$A$2:$C$202,3,FALSE),\"\")","v":""},"","","","","",""]
["","","","","","",{"$f":"IF(F629<>\"\",VLOOKUP($F629,'TA STOCK LOOKUP'!$A$2:$C$202,2,FALSE),\"\")","v":""},{"$f":"IF(G629<>\"\",VLOOKUP($F629,'TA STOCK LOOKUP'!$A$2:$C$202,3,FALSE),\"\")","v":""},"","","","","",""]
["","","","","","",{"$f":"IF(F630<>\"\",VLOOKUP($F630,'TA STOCK LOOKUP'!$A$2:$C$202,2,FALSE),\"\")","v":""},{"$f":"IF(G630<>\"\",VLOOKUP($F630,'TA STOCK LOOKUP'!$A$2:$C$202,3,FALSE),\"\")","v":""},"","","","","",""]
["","","","","","",{"$f":"IF(F631<>\"\",VLOOKUP($F631,'TA STOCK LOOKUP'!$A$2:$C$202,2,FALSE),\"\")","v":""},{"$f":"IF(G631<>\"\",VLOOKUP($F631,'TA STOCK LOOKUP'!$A$2:$C$202,3,FALSE),\"\")","v":""},"","","","","",""]
["","","","","","",{"$f":"IF(F632<>\"\",VLOOKUP($F632,'TA STOCK LOOKUP'!$A$2:$C$202,2,FALSE),\"\")","v":""},{"$f":"IF(G632<>\"\",VLOOKUP($F632,'TA STOCK LOOKUP'!$A$2:$C$202,3,FALSE),\"\")","v":""},"","","","","",""]
["","","","","","",{"$f":"IF(F633<>\"\",VLOOKUP($F633,'TA STOCK LOOKUP'!$A$2:$C$202,2,FALSE),\"\")","v":""},{"$f":"IF(G633<>\"\",VLOOKUP($F633,'TA STOCK LOOKUP'!$A$2:$C$202,3,FALSE),\"\")","v":""},"","","","","",""]
["","","","","","",{"$f":"IF(F634<>\"\",VLOOKUP($F634,'TA STOCK LOOKUP'!$A$2:$C$202,2,FALSE),\"\")","v":""},{"$f":"IF(G634<>\"\",VLOOKUP($F634,'TA STOCK LOOKUP'!$A$2:$C$202,3,FALSE),\"\")","v":""},"","","","","",""]
["","","","","","",{"$f":"IF(F635<>\"\",VLOOKUP($F635,'TA STOCK LOOKUP'!$A$2:$C$202,2,FALSE),\"\")","v":""},{"$f":"IF(G635<>\"\",VLOOKUP($F635,'TA STOCK LOOKUP'!$A$2:$C$202,3,FALSE),\"\")","v":""},"","","","","",""]
["","","","","","",{"$f":"IF(F636<>\"\",VLOOKUP($F636,'TA STOCK LOOKUP'!$A$2:$C$202,2,FALSE),\"\")","v":""},{"$f":"IF(G636<>\"\",VLOOKUP($F636,'TA STOCK LOOKUP'!$A$2:$C$202,3,FALSE),\"\")","v":""},"","","","","",""]
["","","","","","",{"$f":"IF(F637<>\"\",VLOOKUP($F637,'TA STOCK LOOKUP'!$A$2:$C$202,2,FALSE),\"\")","v":""},{"$f":"IF(G637<>\"\",VLOOKUP($F637,'TA STOCK LOOKUP'!$A$2:$C$202,3,FALSE),\"\")","v":""},"","","","","",""]
["","","","","","",{"$f":"IF(F638<>\"\",VLOOKUP($F638,'TA STOCK LOOKUP'!$A$2:$C$202,2,FALSE),\"\")","v":""},{"$f":"IF(G638<>\"\",VLOOKUP($F638,'TA STOCK LOOKUP'!$A$2:$C$202,3,FALSE),\"\")","v":""},"","","","","",""]
["","","","","","",{"$f":"IF(F639<>\"\",VLOOKUP($F639,'TA STOCK LOOKUP'!$A$2:$C$202,2,FALSE),\"\")","v":""},{"$f":"IF(G639<>\"\",VLOOKUP($F639,'TA STOCK LOOKUP'!$A$2:$C$202,3,FALSE),\"\")","v":""},"","","","","",""]
["","","","","","",{"$f":"IF(F640<>\"\",VLOOKUP($F640,'TA STOCK LOOKUP'!$A$2:$C$202,2,FALSE),\"\")","v":""},{"$f":"IF(G640<>\"\",VLOOKUP($F640,'TA STOCK LOOKUP'!$A$2:$C$202,3,FALSE),\"\")","v":""},"","","","","",""]
["","","","","","",{"$f":"IF(F641<>\"\",VLOOKUP($F641,'TA STOCK LOOKUP'!$A$2:$C$202,2,FALSE),\"\")","v":""},{"$f":"IF(G641<>\"\",VLOOKUP($F641,'TA STOCK LOOKUP'!$A$2:$C$202,3,FALSE),\"\")","v":""},"","","","","",""]
["","","","","","",{"$f":"IF(F642<>\"\",VLOOKUP($F642,'TA STOCK LOOKUP'!$A$2:$C$202,2,FALSE),\"\")","v":""},{"$f":"IF(G642<>\"\",VLOOKUP($F642,'TA STOCK LOOKUP'!$A$2:$C$202,3,FALSE),\"\")","v":""},"","","","","",""]
["","","","","","",{"$f":"IF(F643<>\"\",VLOOKUP($F643,'TA STOCK LOOKUP'!$A$2:$C$202,2,FALSE),\"\")","v":""},{"$f":"IF(G643<>\"\",VLOOKUP($F643,'TA STOCK LOOKUP'!$A$2:$C$202,3,FALSE),\"\")","v":""},"","","","","",""]
["","","","","","",{"$f":"IF(F644<>\"\",VLOOKUP($F644,'TA STOCK LOOKUP'!$A$2:$C$202,2,FALSE),\"\")","v":""},{"$f":"IF(G644<>\"\",VLOOKUP($F644,'TA STOCK LOOKUP'!$A$2:$C$202,3,FALSE),\"\")","v":""},"","","","","",""]
["","","","","","",{"$f":"IF(F645<>\"\",VLOOKUP($F645,'TA STOCK LOOKUP'!$A$2:$C$202,2,FALSE),\"\")","v":""},{"$f":"IF(G645<>\"\",VLOOKUP($F645,'TA STOCK LOOKUP'!$A$2:$C$202,3,FALSE),\"\")","v":""},"","","","","",""]
["","","","","","",{"$f":"IF(F646<>\"\",VLOOKUP($F646,'TA STOCK LOOKUP'!$A$2:$C$202,2,FALSE),\"\")","v":""},{"$f":"IF(G646<>\"\",VLOOKUP($F646,'TA STOCK LOOKUP'!$A$2:$C$202,3,FALSE),\"\")","v":""},"","","","","",""]
["","","","","","",{"$f":"IF(F647<>\"\",VLOOKUP($F647,'TA STOCK LOOKUP'!$A$2:$C$202,2,FALSE),\"\")","v":""},{"$f":"IF(G647<>\"\",VLOOKUP($F647,'TA STOCK LOOKUP'!$A$2:$C$202,3,FALSE),\"\")","v":""},"","","","","",""]
["","","","","","",{"$f":"IF(F648<>\"\",VLOOKUP($F648,'TA STOCK LOOKUP'!$A$2:$C$202,2,FALSE),\"\")","v":""},{"$f":"IF(G648<>\"\",VLOOKUP($F648,'TA STOCK LOOKUP'!$A$2:$C$202,3,FALSE),\"\")","v":""},"","","","","",""]
["","","","","","",{"$f":"IF(F649<>\"\",VLOOKUP($F649,'TA STOCK LOOKUP'!$A$2:$C$202,2,FALSE),\"\")","v":""},{"$f":"IF(G649<>\"\",VLOOKUP($F649,'TA STOCK LOOKUP'!$A$2:$C$202,3,FALSE),\"\")","v":""},"","","","","",""]
["","","","","","",{"$f":"IF(F650<>\"\",VLOOKUP($F650,'TA STOCK LOOKUP'!$A$2:$C$202,2,FALSE),\"\")","v":""},{"$f":"IF(G650<>\"\",VLOOKUP($F650,'TA STOCK LOOKUP'!$A$2:$C$202,3,FALSE),\"\")","v":""},"","","","","",""]
["","","","","","",{"$f":"IF(F651<>\"\",VLOOKUP($F651,'TA STOCK LOOKUP'!$A$2:$C$202,2,FALSE),\"\")","v":""},{"$f":"IF(G651<>\"\",VLOOKUP($F651,'TA STOCK LOOKUP'!$A$2:$C$202,3,FALSE),\"\")","v":""},"","","","","",""]
["","","","","","",{"$f":"IF(F652<>\"\",VLOOKUP($F652,'TA STOCK LOOKUP'!$A$2:$C$202,2,FALSE),\"\")","v":""},{"$f":"IF(G652<>\"\",VLOOKUP($F652,'TA STOCK LOOKUP'!$A$2:$C$202,3,FALSE),\"\")","v":""},"","","","","",""]
["","","","","","",{"$f":"IF(F653<>\"\",VLOOKUP($F653,'TA STOCK LOOKUP'!$A$2:$C$202,2,FALSE),\"\")","v":""},{"$f":"IF(G653<>\"\",VLOOKUP($F653,'TA STOCK LOOKUP'!$A$2:$C$202,3,FALSE),\"\")","v":""},"","","","","",""]
["","","","","","",{"$f":"IF(F654<>\"\",VLOOKUP($F654,'TA STOCK LOOKUP'!$A$2:$C$202,2,FALSE),\"\")","v":""},{"$f":"IF(G654<>\"\",VLOOKUP($F654,'TA STOCK LOOKUP'!$A$2:$C$202,3,FALSE),\"\")","v":""},"","","","","",""]
["","","","","","",{"$f":"IF(F655<>\"\",VLOOKUP($F655,'TA STOCK LOOKUP'!$A$2:$C$202,2,FALSE),\"\")","v":""},{"$f":"IF(G655<>\"\",VLOOKUP($F655,'TA STOCK LOOKUP'!$A$2:$C$202,3,FALSE),\"\")","v":""},"","","","","",""]
["","","","","","",{"$f":"IF(F656<>\"\",VLOOKUP($F656,'TA STOCK LOOKUP'!$A$2:$C$202,2,FALSE),\"\")","v":""},{"$f":"IF(G656<>\"\",VLOOKUP($F656,'TA STOCK LOOKUP'!$A$2:$C$202,3,FALSE),\"\")","v":""},"","","","","",""]
["","","","","","",{"$f":"IF(F657<>\"\",VLOOKUP($F657,'TA STOCK LOOKUP'!$A$2:$C$202,2,FALSE),\"\")","v":""},{"$f":"IF(G657<>\"\",VLOOKUP($F657,'TA STOCK LOOKUP'!$A$2:$C$202,3,FALSE),\"\")","v":""},"","","","","",""]
["","","","","","",{"$f":"IF(F658<>\"\",VLOOKUP($F658,'TA STOCK LOOKUP'!$A$2:$C$202,2,FALSE),\"\")","v":""},{"$f":"IF(G658<>\"\",VLOOKUP($F658,'TA STOCK LOOKUP'!$A$2:$C$202,3,FALSE),\"\")","v":""},"","","","","",""]
["","","","","","",{"$f":"IF(F659<>\"\",VLOOKUP($F659,'TA STOCK LOOKUP'!$A$2:$C$202,2,FALSE),\"\")","v":""},{"$f":"IF(G659<>\"\",VLOOKUP($F659,'TA STOCK LOOKUP'!$A$2:$C$202,3,FALSE),\"\")","v":""},"","","","","",""]
["","","","","","",{"$f":"IF(F660<>\"\",VLOOKUP($F660,'TA STOCK LOOKUP'!$A$2:$C$202,2,FALSE),\"\")","v":""},{"$f":"IF(G660<>\"\",VLOOKUP($F660,'TA STOCK LOOKUP'!$A$2:$C$202,3,FALSE),\"\")","v":""},"","","","","",""]
["","","","","","",{"$f":"IF(F661<>\"\",VLOOKUP($F661,'TA STOCK LOOKUP'!$A$2:$C$202,2,FALSE),\"\")","v":""},{"$f":"IF(G661<>\"\",VLOOKUP($F661,'TA STOCK LOOKUP'!$A$2:$C$202,3,FALSE),\"\")","v":""},"","","","","",""]
["","","","","","",{"$f":"IF(F662<>\"\",VLOOKUP($F662,'TA STOCK LOOKUP'!$A$2:$C$202,2,FALSE),\"\")","v":""},{"$f":"IF(G662<>\"\",VLOOKUP($F662,'TA STOCK LOOKUP'!$A$2:$C$202,3,FALSE),\"\")","v":""},"","","","","",""]
["","","","","","",{"$f":"IF(F663<>\"\",VLOOKUP($F663,'TA STOCK LOOKUP'!$A$2:$C$202,2,FALSE),\"\")","v":""},{"$f":"IF(G663<>\"\",VLOOKUP($F663,'TA STOCK LOOKUP'!$A$2:$C$202,3,FALSE),\"\")","v":""},"","","","","",""]
["","","","","","",{"$f":"IF(F664<>\"\",VLOOKUP($F664,'TA STOCK LOOKUP'!$A$2:$C$202,2,FALSE),\"\")","v":""},{"$f":"IF(G664<>\"\",VLOOKUP($F664,'TA STOCK LOOKUP'!$A$2:$C$202,3,FALSE),\"\")","v":""},"","","","","",""]
["","","","","","",{"$f":"IF(F665<>\"\",VLOOKUP($F665,'TA STOCK LOOKUP'!$A$2:$C$202,2,FALSE),\"\")","v":""},{"$f":"IF(G665<>\"\",VLOOKUP($F665,'TA STOCK LOOKUP'!$A$2:$C$202,3,FALSE),\"\")","v":""},"","","","","",""]
["","","","","","",{"$f":"IF(F666<>\"\",VLOOKUP($F666,'TA STOCK LOOKUP'!$A$2:$C$202,2,FALSE),\"\")","v":""},{"$f":"IF(G666<>\"\",VLOOKUP($F666,'TA STOCK LOOKUP'!$A$2:$C$202,3,FALSE),\"\")","v":""},"","","","","",""]
["","","","","","",{"$f":"IF(F667<>\"\",VLOOKUP($F667,'TA STOCK LOOKUP'!$A$2:$C$202,2,FALSE),\"\")","v":""},{"$f":"IF(G667<>\"\",VLOOKUP($F667,'TA STOCK LOOKUP'!$A$2:$C$202,3,FALSE),\"\")","v":""},"","","","","",""]
["","","","","","",{"$f":"IF(F668<>\"\",VLOOKUP($F668,'TA STOCK LOOKUP'!$A$2:$C$202,2,FALSE),\"\")","v":""},{"$f":"IF(G668<>\"\",VLOOKUP($F668,'TA STOCK LOOKUP'!$A$2:$C$202,3,FALSE),\"\")","v":""},"","","","","",""]
["","","","","","",{"$f":"IF(F669<>\"\",VLOOKUP($F669,'TA STOCK LOOKUP'!$A$2:$C$202,2,FALSE),\"\")","v":""},{"$f":"IF(G669<>\"\",VLOOKUP($F669,'TA STOCK LOOKUP'!$A$2:$C$202,3,FALSE),\"\")","v":""},"","","","","",""]
["","","","","","",{"$f":"IF(F670<>\"\",VLOOKUP($F670,'TA STOCK LOOKUP'!$A$2:$C$202,2,FALSE),\"\")","v":""},{"$f":"IF(G670<>\"\",VLOOKUP($F670,'TA STOCK LOOKUP'!$A$2:$C$202,3,FALSE),\"\")","v":""},"","","","","",""]
["","","","","","",{"$f":"IF(F671<>\"\",VLOOKUP($F671,'TA STOCK LOOKUP'!$A$2:$C$202,2,FALSE),\"\")","v":""},{"$f":"IF(G671<>\"\",VLOOKUP($F671,'TA STOCK LOOKUP'!$A$2:$C$202,3,FALSE),\"\")","v":""},"","","","","",""]
["","","","","","",{"$f":"IF(F672<>\"\",VLOOKUP($F672,'TA STOCK LOOKUP'!$A$2:$C$202,2,FALSE),\"\")","v":""},{"$f":"IF(G672<>\"\",VLOOKUP($F672,'TA STOCK LOOKUP'!$A$2:$C$202,3,FALSE),\"\")","v":""},"","","","","",""]
["","","","","","",{"$f":"IF(F673<>\"\",VLOOKUP($F673,'TA STOCK LOOKUP'!$A$2:$C$202,2,FALSE),\"\")","v":""},{"$f":"IF(G673<>\"\",VLOOKUP($F673,'TA STOCK LOOKUP'!$A$2:$C$202,3,FALSE),\"\")","v":""},"","","","","",""]
["","","","","","",{"$f":"IF(F674<>\"\",VLOOKUP($F674,'TA STOCK LOOKUP'!$A$2:$C$202,2,FALSE),\"\")","v":""},{"$f":"IF(G674<>\"\",VLOOKUP($F674,'TA STOCK LOOKUP'!$A$2:$C$202,3,FALSE),\"\")","v":""},"","","","","",""]
["","","","","","",{"$f":"IF(F675<>\"\",VLOOKUP($F675,'TA STOCK LOOKUP'!$A$2:$C$202,2,FALSE),\"\")","v":""},{"$f":"IF(G675<>\"\",VLOOKUP($F675,'TA STOCK LOOKUP'!$A$2:$C$202,3,FALSE),\"\")","v":""},"","","","","",""]
["","","","","","",{"$f":"IF(F676<>\"\",VLOOKUP($F676,'TA STOCK LOOKUP'!$A$2:$C$202,2,FALSE),\"\")","v":""},{"$f":"IF(G676<>\"\",VLOOKUP($F676,'TA STOCK LOOKUP'!$A$2:$C$202,3,FALSE),\"\")","v":""},"","","","","",""]
["","","","","","",{"$f":"IF(F677<>\"\",VLOOKUP($F677,'TA STOCK LOOKUP'!$A$2:$C$202,2,FALSE),\"\")","v":""},{"$f":"IF(G677<>\"\",VLOOKUP($F677,'TA STOCK LOOKUP'!$A$2:$C$202,3,FALSE),\"\")","v":""},"","","","","",""]
["","","","","","",{"$f":"IF(F678<>\"\",VLOOKUP($F678,'TA STOCK LOOKUP'!$A$2:$C$202,2,FALSE),\"\")","v":""},{"$f":"IF(G678<>\"\",VLOOKUP($F678,'TA STOCK LOOKUP'!$A$2:$C$202,3,FALSE),\"\")","v":""},"","","","","",""]
["","","","","","",{"$f":"IF(F679<>\"\",VLOOKUP($F679,'TA STOCK LOOKUP'!$A$2:$C$202,2,FALSE),\"\")","v":""},{"$f":"IF(G679<>\"\",VLOOKUP($F679,'TA STOCK LOOKUP'!$A$2:$C$202,3,FALSE),\"\")","v":""},"","","","","",""]
["","","","","","",{"$f":"IF(F680<>\"\",VLOOKUP($F680,'TA STOCK LOOKUP'!$A$2:$C$202,2,FALSE),\"\")","v":""},{"$f":"IF(G680<>\"\",VLOOKUP($F680,'TA STOCK LOOKUP'!$A$2:$C$202,3,FALSE),\"\")","v":""},"","","","","",""]
["","","","","","",{"$f":"IF(F681<>\"\",VLOOKUP($F681,'TA STOCK LOOKUP'!$A$2:$C$202,2,FALSE),\"\")","v":""},{"$f":"IF(G681<>\"\",VLOOKUP($F681,'TA STOCK LOOKUP'!$A$2:$C$202,3,FALSE),\"\")","v":""},"","","","","",""]
["","","","","","",{"$f":"IF(F682<>\"\",VLOOKUP($F682,'TA STOCK LOOKUP'!$A$2:$C$202,2,FALSE),\"\")","v":""},{"$f":"IF(G682<>\"\",VLOOKUP($F682,'TA STOCK LOOKUP'!$A$2:$C$202,3,FALSE),\"\")","v":""},"","","","","",""]
["","","","","","",{"$f":"IF(F683<>\"\",VLOOKUP($F683,'TA STOCK LOOKUP'!$A$2:$C$202,2,FALSE),\"\")","v":""},{"$f":"IF(G683<>\"\",VLOOKUP($F683,'TA STOCK LOOKUP'!$A$2:$C$202,3,FALSE),\"\")","v":""},"","","","","",""]
["","","","","","",{"$f":"IF(F684<>\"\",VLOOKUP($F684,'TA STOCK LOOKUP'!$A$2:$C$202,2,FALSE),\"\")","v":""},{"$f":"IF(G684<>\"\",VLOOKUP($F684,'TA STOCK LOOKUP'!$A$2:$C$202,3,FALSE),\"\")","v":""},"","","","","",""]
["","","","","","",{"$f":"IF(F685<>\"\",VLOOKUP($F685,'TA STOCK LOOKUP'!$A$2:$C$202,2,FALSE),\"\")","v":""},{"$f":"IF(G685<>\"\",VLOOKUP($F685,'TA STOCK LOOKUP'!$A$2:$C$202,3,FALSE),\"\")","v":""},"","","","","",""]
["","","","","","",{"$f":"IF(F686<>\"\",VLOOKUP($F686,'TA STOCK LOOKUP'!$A$2:$C$202,2,FALSE),\"\")","v":""},{"$f":"IF(G686<>\"\",VLOOKUP($F686,'TA STOCK LOOKUP'!$A$2:$C$202,3,FALSE),\"\")","v":""},"","","","","",""]
["","","","","","",{"$f":"IF(F687<>\"\",VLOOKUP($F687,'TA STOCK LOOKUP'!$A$2:$C$202,2,FALSE),\"\")","v":""},{"$f":"IF(G687<>\"\",VLOOKUP($F687,'TA STOCK LOOKUP'!$A$2:$C$202,3,FALSE),\"\")","v":""},"","","","","",""]
["","","","","","",{"$f":"IF(F688<>\"\",VLOOKUP($F688,'TA STOCK LOOKUP'!$A$2:$C$202,2,FALSE),\"\")","v":""},{"$f":"IF(G688<>\"\",VLOOKUP($F688,'TA STOCK LOOKUP'!$A$2:$C$202,3,FALSE),\"\")","v":""},"","","","","",""]
["","","","","","",{"$f":"IF(F689<>\"\",VLOOKUP($F689,'TA STOCK LOOKUP'!$A$2:$C$202,2,FALSE),\"\")","v":""},{"$f":"IF(G689<>\"\",VLOOKUP($F689,'TA STOCK LOOKUP'!$A$2:$C$202,3,FALSE),\"\")","v":""},"","","","","",""]
["","","","","","",{"$f":"IF(F690<>\"\",VLOOKUP($F690,'TA STOCK LOOKUP'!$A$2:$C$202,2,FALSE),\"\")","v":""},{"$f":"IF(G690<>\"\",VLOOKUP($F690,'TA STOCK LOOKUP'!$A$2:$C$202,3,FALSE),\"\")","v":""},"","","","","",""]
["","","","","","",{"$f":"IF(F691<>\"\",VLOOKUP($F691,'TA STOCK LOOKUP'!$A$2:$C$202,2,FALSE),\"\")","v":""},{"$f":"IF(G691<>\"\",VLOOKUP($F691,'TA STOCK LOOKUP'!$A$2:$C$202,3,FALSE),\"\")","v":""},"","","","","",""]
["","","","","","",{"$f":"IF(F692<>\"\",VLOOKUP($F692,'TA STOCK LOOKUP'!$A$2:$C$202,2,FALSE),\"\")","v":""},{"$f":"IF(G692<>\"\",VLOOKUP($F692,'TA STOCK LOOKUP'!$A$2:$C$202,3,FALSE),\"\")","v":""},"","","","","",""]
["","","","","","",{"$f":"IF(F693<>\"\",VLOOKUP($F693,'TA STOCK LOOKUP'!$A$2:$C$202,2,FALSE),\"\")","v":""},{"$f":"IF(G693<>\"\",VLOOKUP($F693,'TA STOCK LOOKUP'!$A$2:$C$202,3,FALSE),\"\")","v":""},"","","","","",""]
["","","","","","",{"$f":"IF(F694<>\"\",VLOOKUP($F694,'TA STOCK LOOKUP'!$A$2:$C$202,2,FALSE),\"\")","v":""},{"$f":"IF(G694<>\"\",VLOOKUP($F694,'TA STOCK LOOKUP'!$A$2:$C$202,3,FALSE),\"\")","v":""},"","","","","",""]
["","","","","","",{"$f":"IF(F695<>\"\",VLOOKUP($F695,'TA STOCK LOOKUP'!$A$2:$C$202,2,FALSE),\"\")","v":""},{"$f":"IF(G695<>\"\",VLOOKUP($F695,'TA STOCK LOOKUP'!$A$2:$C$202,3,FALSE),\"\")","v":""},"","","","","",""]
["","","","","","",{"$f":"IF(F696<>\"\",VLOOKUP($F696,'TA STOCK LOOKUP'!$A$2:$C$202,2,FALSE),\"\")","v":""},{"$f":"IF(G696<>\"\",VLOOKUP($F696,'TA STOCK LOOKUP'!$A$2:$C$202,3,FALSE),\"\")","v":""},"","","","","",""]
["","","","","","",{"$f":"IF(F697<>\"\",VLOOKUP($F697,'TA STOCK LOOKUP'!$A$2:$C$202,2,FALSE),\"\")","v":""},{"$f":"IF(G697<>\"\",VLOOKUP($F697,'TA STOCK LOOKUP'!$A$2:$C$202,3,FALSE),\"\")","v":""},"","","","","",""]
["","","","","","",{"$f":"IF(F698<>\"\",VLOOKUP($F698,'TA STOCK LOOKUP'!$A$2:$C$202,2,FALSE),\"\")","v":""},{"$f":"IF(G698<>\"\",VLOOKUP($F698,'TA STOCK LOOKUP'!$A$2:$C$202,3,FALSE),\"\")","v":""},"","","","","",""]
["","","","","","",{"$f":"IF(F699<>\"\",VLOOKUP($F699,'TA STOCK LOOKUP'!$A$2:$C$202,2,FALSE),\"\")","v":""},{"$f":"IF(G699<>\"\",VLOOKUP($F699,'TA STOCK LOOKUP'!$A$2:$C$202,3,FALSE),\"\")","v":""},"","","","","",""]
["","","","","","",{"$f":"IF(F700<>\"\",VLOOKUP($F700,'TA STOCK LOOKUP'!$A$2:$C$202,2,FALSE),\"\")","v":""},{"$f":"IF(G700<>\"\",VLOOKUP($F700,'TA STOCK LOOKUP'!$A$2:$C$202,3,FALSE),\"\")","v":""},"","","","","",""]
["","","","","","",{"$f":"IF(F701<>\"\",VLOOKUP($F701,'TA STOCK LOOKUP'!$A$2:$C$202,2,FALSE),\"\")","v":""},{"$f":"IF(G701<>\"\",VLOOKUP($F701,'TA STOCK LOOKUP'!$A$2:$C$202,3,FALSE),\"\")","v":""},"","","","","",""]
["","","","","","",{"$f":"IF(F702<>\"\",VLOOKUP($F702,'TA STOCK LOOKUP'!$A$2:$C$202,2,FALSE),\"\")","v":""},{"$f":"IF(G702<>\"\",VLOOKUP($F702,'TA STOCK LOOKUP'!$A$2:$C$202,3,FALSE),\"\")","v":""},"","","","","",""]
["","","","","","",{"$f":"IF(F703<>\"\",VLOOKUP($F703,'TA STOCK LOOKUP'!$A$2:$C$202,2,FALSE),\"\")","v":""},{"$f":"IF(G703<>\"\",VLOOKUP($F703,'TA STOCK LOOKUP'!$A$2:$C$202,3,FALSE),\"\")","v":""},"","","","","",""]
["","","","","","",{"$f":"IF(F704<>\"\",VLOOKUP($F704,'TA STOCK LOOKUP'!$A$2:$C$202,2,FALSE),\"\")","v":""},{"$f":"IF(G704<>\"\",VLOOKUP($F704,'TA STOCK LOOKUP'!$A$2:$C$202,3,FALSE),\"\")","v":""},"","","","","",""]
["","","","","","",{"$f":"IF(F705<>\"\",VLOOKUP($F705,'TA STOCK LOOKUP'!$A$2:$C$202,2,FALSE),\"\")","v":""},{"$f":"IF(G705<>\"\",VLOOKUP($F705,'TA STOCK LOOKUP'!$A$2:$C$202,3,FALSE),\"\")","v":""},"","","","","",""]
["","","","","","",{"$f":"IF(F706<>\"\",VLOOKUP($F706,'TA STOCK LOOKUP'!$A$2:$C$202,2,FALSE),\"\")","v":""},{"$f":"IF(G706<>\"\",VLOOKUP($F706,'TA STOCK LOOKUP'!$A$2:$C$202,3,FALSE),\"\")","v":""},"","","","","",""]
["","","","","","",{"$f":"IF(F707<>\"\",VLOOKUP($F707,'TA STOCK LOOKUP'!$A$2:$C$202,2,FALSE),\"\")","v":""},{"$f":"IF(G707<>\"\",VLOOKUP($F707,'TA STOCK LOOKUP'!$A$2:$C$202,3,FALSE),\"\")","v":""},"","","","","",""]
["","","","","","",{"$f":"IF(F708<>\"\",VLOOKUP($F708,'TA STOCK LOOKUP'!$A$2:$C$202,2,FALSE),\"\")","v":""},{"$f":"IF(G708<>\"\",VLOOKUP($F708,'TA STOCK LOOKUP'!$A$2:$C$202,3,FALSE),\"\")","v":""},"","","","","",""]
["","","","","","",{"$f":"IF(F709<>\"\",VLOOKUP($F709,'TA STOCK LOOKUP'!$A$2:$C$202,2,FALSE),\"\")","v":""},{"$f":"IF(G709<>\"\",VLOOKUP($F709,'TA STOCK LOOKUP'!$A$2:$C$202,3,FALSE),\"\")","v":""},"","","","","",""]
["","","","","","",{"$f":"IF(F710<>\"\",VLOOKUP($F710,'TA STOCK LOOKUP'!$A$2:$C$202,2,FALSE),\"\")","v":""},{"$f":"IF(G710<>\"\",VLOOKUP($F710,'TA STOCK LOOKUP'!$A$2:$C$202,3,FALSE),\"\")","v":""},"","","","","",""]
["","","","","","",{"$f":"IF(F711<>\"\",VLOOKUP($F711,'TA STOCK LOOKUP'!$A$2:$C$202,2,FALSE),\"\")","v":""},{"$f":"IF(G711<>\"\",VLOOKUP($F711,'TA STOCK LOOKUP'!$A$2:$C$202,3,FALSE),\"\")","v":""},"","","","","",""]
["","","","","","",{"$f":"IF(F712<>\"\",VLOOKUP($F712,'TA STOCK LOOKUP'!$A$2:$C$202,2,FALSE),\"\")","v":""},{"$f":"IF(G712<>\"\",VLOOKUP($F712,'TA STOCK LOOKUP'!$A$2:$C$202,3,FALSE),\"\")","v":""},"","","","","",""]
["","","","","","",{"$f":"IF(F713<>\"\",VLOOKUP($F713,'TA STOCK LOOKUP'!$A$2:$C$202,2,FALSE),\"\")","v":""},{"$f":"IF(G713<>\"\",VLOOKUP($F713,'TA STOCK LOOKUP'!$A$2:$C$202,3,FALSE),\"\")","v":""},"","","","","",""]
["","","","","","",{"$f":"IF(F714<>\"\",VLOOKUP($F714,'TA STOCK LOOKUP'!$A$2:$C$202,2,FALSE),\"\")","v":""},{"$f":"IF(G714<>\"\",VLOOKUP($F714,'TA STOCK LOOKUP'!$A$2:$C$202,3,FALSE),\"\")","v":""},"","","","","",""]
["","","","","","",{"$f":"IF(F715<>\"\",VLOOKUP($F715,'TA STOCK LOOKUP'!$A$2:$C$202,2,FALSE),\"\")","v":""},{"$f":"IF(G715<>\"\",VLOOKUP($F715,'TA STOCK LOOKUP'!$A$2:$C$202,3,FALSE),\"\")","v":""},"","","","","",""]
["","","","","","",{"$f":"IF(F716<>\"\",VLOOKUP($F716,'TA STOCK LOOKUP'!$A$2:$C$202,2,FALSE),\"\")","v":""},{"$f":"IF(G716<>\"\",VLOOKUP($F716,'TA STOCK LOOKUP'!$A$2:$C$202,3,FALSE),\"\")","v":""},"","","","","",""]
["","","","","","",{"$f":"IF(F717<>\"\",VLOOKUP($F717,'TA STOCK LOOKUP'!$A$2:$C$202,2,FALSE),\"\")","v":""},{"$f":"IF(G717<>\"\",VLOOKUP($F717,'TA STOCK LOOKUP'!$A$2:$C$202,3,FALSE),\"\")","v":""},"","","","","",""]
["","","","","","",{"$f":"IF(F718<>\"\",VLOOKUP($F718,'TA STOCK LOOKUP'!$A$2:$C$202,2,FALSE),\"\")","v":""},{"$f":"IF(G718<>\"\",VLOOKUP($F718,'TA STOCK LOOKUP'!$A$2:$C$202,3,FALSE),\"\")","v":""},"","","","","",""]
["","","","","","",{"$f":"IF(F719<>\"\",VLOOKUP($F719,'TA STOCK LOOKUP'!$A$2:$C$202,2,FALSE),\"\")","v":""},{"$f":"IF(G719<>\"\",VLOOKUP($F719,'TA STOCK LOOKUP'!$A$2:$C$202,3,FALSE),\"\")","v":""},"","","","","",""]
["","","","","","",{"$f":"IF(F720<>\"\",VLOOKUP($F720,'TA STOCK LOOKUP'!$A$2:$C$202,2,FALSE),\"\")","v":""},{"$f":"IF(G720<>\"\",VLOOKUP($F720,'TA STOCK LOOKUP'!$A$2:$C$202,3,FALSE),\"\")","v":""},"","","","","",""]
["","","","","","",{"$f":"IF(F721<>\"\",VLOOKUP($F721,'TA STOCK LOOKUP'!$A$2:$C$202,2,FALSE),\"\")","v":""},{"$f":"IF(G721<>\"\",VLOOKUP($F721,'TA STOCK LOOKUP'!$A$2:$C$202,3,FALSE),\"\")","v":""},"","","","","",""]
["","","","","","",{"$f":"IF(F722<>\"\",VLOOKUP($F722,'TA STOCK LOOKUP'!$A$2:$C$202,2,FALSE),\"\")","v":""},{"$f":"IF(G722<>\"\",VLOOKUP($F722,'TA STOCK LOOKUP'!$A$2:$C$202,3,FALSE),\"\")","v":""},"","","","","",""]
["","","","","","",{"$f":"IF(F723<>\"\",VLOOKUP($F723,'TA STOCK LOOKUP'!$A$2:$C$202,2,FALSE),\"\")","v":""},{"$f":"IF(G723<>\"\",VLOOKUP($F723,'TA STOCK LOOKUP'!$A$2:$C$202,3,FALSE),\"\")","v":""},"","","","","",""]
["","","","","","",{"$f":"IF(F724<>\"\",VLOOKUP($F724,'TA STOCK LOOKUP'!$A$2:$C$202,2,FALSE),\"\")","v":""},{"$f":"IF(G724<>\"\",VLOOKUP($F724,'TA STOCK LOOKUP'!$A$2:$C$202,3,FALSE),\"\")","v":""},"","","","","",""]
["","","","","","",{"$f":"IF(F725<>\"\",VLOOKUP($F725,'TA STOCK LOOKUP'!$A$2:$C$202,2,FALSE),\"\")","v":""},{"$f":"IF(G725<>\"\",VLOOKUP($F725,'TA STOCK LOOKUP'!$A$2:$C$202,3,FALSE),\"\")","v":""},"","","","","",""]
["","","","","","",{"$f":"IF(F726<>\"\",VLOOKUP($F726,'TA STOCK LOOKUP'!$A$2:$C$202,2,FALSE),\"\")","v":""},{"$f":"IF(G726<>\"\",VLOOKUP($F726,'TA STOCK LOOKUP'!$A$2:$C$202,3,FALSE),\"\")","v":""},"","","","","",""]
["","","","","","",{"$f":"IF(F727<>\"\",VLOOKUP($F727,'TA STOCK LOOKUP'!$A$2:$C$202,2,FALSE),\"\")","v":""},{"$f":"IF(G727<>\"\",VLOOKUP($F727,'TA STOCK LOOKUP'!$A$2:$C$202,3,FALSE),\"\")","v":""},"","","","","",""]
["","","","","","",{"$f":"IF(F728<>\"\",VLOOKUP($F728,'TA STOCK LOOKUP'!$A$2:$C$202,2,FALSE),\"\")","v":""},{"$f":"IF(G728<>\"\",VLOOKUP($F728,'TA STOCK LOOKUP'!$A$2:$C$202,3,FALSE),\"\")","v":""},"","","","","",""]
["","","","","","",{"$f":"IF(F729<>\"\",VLOOKUP($F729,'TA STOCK LOOKUP'!$A$2:$C$202,2,FALSE),\"\")","v":""},{"$f":"IF(G729<>\"\",VLOOKUP($F729,'TA STOCK LOOKUP'!$A$2:$C$202,3,FALSE),\"\")","v":""},"","","","","",""]
["","","","","","",{"$f":"IF(F730<>\"\",VLOOKUP($F730,'TA STOCK LOOKUP'!$A$2:$C$202,2,FALSE),\"\")","v":""},{"$f":"IF(G730<>\"\",VLOOKUP($F730,'TA STOCK LOOKUP'!$A$2:$C$202,3,FALSE),\"\")","v":""},"","","","","",""]
["","","","","","",{"$f":"IF(F731<>\"\",VLOOKUP($F731,'TA STOCK LOOKUP'!$A$2:$C$202,2,FALSE),\"\")","v":""},{"$f":"IF(G731<>\"\",VLOOKUP($F731,'TA STOCK LOOKUP'!$A$2:$C$202,3,FALSE),\"\")","v":""},"","","","","",""]
["","","","","","",{"$f":"IF(F732<>\"\",VLOOKUP($F732,'TA STOCK LOOKUP'!$A$2:$C$202,2,FALSE),\"\")","v":""},{"$f":"IF(G732<>\"\",VLOOKUP($F732,'TA STOCK LOOKUP'!$A$2:$C$202,3,FALSE),\"\")","v":""},"","","","","",""]
["","","","","","",{"$f":"IF(F733<>\"\",VLOOKUP($F733,'TA STOCK LOOKUP'!$A$2:$C$202,2,FALSE),\"\")","v":""},{"$f":"IF(G733<>\"\",VLOOKUP($F733,'TA STOCK LOOKUP'!$A$2:$C$202,3,FALSE),\"\")","v":""},"","","","","",""]
["","","","","","",{"$f":"IF(F734<>\"\",VLOOKUP($F734,'TA STOCK LOOKUP'!$A$2:$C$202,2,FALSE),\"\")","v":""},{"$f":"IF(G734<>\"\",VLOOKUP($F734,'TA STOCK LOOKUP'!$A$2:$C$202,3,FALSE),\"\")","v":""},"","","","","",""]
["","","","","","",{"$f":"IF(F735<>\"\",VLOOKUP($F735,'TA STOCK LOOKUP'!$A$2:$C$202,2,FALSE),\"\")","v":""},{"$f":"IF(G735<>\"\",VLOOKUP($F735,'TA STOCK LOOKUP'!$A$2:$C$202,3,FALSE),\"\")","v":""},"","","","","",""]
["","","","","","",{"$f":"IF(F736<>\"\",VLOOKUP($F736,'TA STOCK LOOKUP'!$A$2:$C$202,2,FALSE),\"\")","v":""},{"$f":"IF(G736<>\"\",VLOOKUP($F736,'TA STOCK LOOKUP'!$A$2:$C$202,3,FALSE),\"\")","v":""},"","","","","",""]
["","","","","","",{"$f":"IF(F737<>\"\",VLOOKUP($F737,'TA STOCK LOOKUP'!$A$2:$C$202,2,FALSE),\"\")","v":""},{"$f":"IF(G737<>\"\",VLOOKUP($F737,'TA STOCK LOOKUP'!$A$2:$C$202,3,FALSE),\"\")","v":""},"","","","","",""]
["","","","","","",{"$f":"IF(F738<>\"\",VLOOKUP($F738,'TA STOCK LOOKUP'!$A$2:$C$202,2,FALSE),\"\")","v":""},{"$f":"IF(G738<>\"\",VLOOKUP($F738,'TA STOCK LOOKUP'!$A$2:$C$202,3,FALSE),\"\")","v":""},"","","","","",""]
["","","","","","",{"$f":"IF(F739<>\"\",VLOOKUP($F739,'TA STOCK LOOKUP'!$A$2:$C$202,2,FALSE),\"\")","v":""},{"$f":"IF(G739<>\"\",VLOOKUP($F739,'TA STOCK LOOKUP'!$A$2:$C$202,3,FALSE),\"\")","v":""},"","","","","",""]
["","","","","","",{"$f":"IF(F740<>\"\",VLOOKUP($F740,'TA STOCK LOOKUP'!$A$2:$C$202,2,FALSE),\"\")","v":""},{"$f":"IF(G740<>\"\",VLOOKUP($F740,'TA STOCK LOOKUP'!$A$2:$C$202,3,FALSE),\"\")","v":""},"","","","","",""]
["","","","","","",{"$f":"IF(F741<>\"\",VLOOKUP($F741,'TA STOCK LOOKUP'!$A$2:$C$202,2,FALSE),\"\")","v":""},{"$f":"IF(G741<>\"\",VLOOKUP($F741,'TA STOCK LOOKUP'!$A$2:$C$202,3,FALSE),\"\")","v":""},"","","","","",""]
["","","","","","",{"$f":"IF(F742<>\"\",VLOOKUP($F742,'TA STOCK LOOKUP'!$A$2:$C$202,2,FALSE),\"\")","v":""},{"$f":"IF(G742<>\"\",VLOOKUP($F742,'TA STOCK LOOKUP'!$A$2:$C$202,3,FALSE),\"\")","v":""},"","","","","",""]
["","","","","","",{"$f":"IF(F743<>\"\",VLOOKUP($F743,'TA STOCK LOOKUP'!$A$2:$C$202,2,FALSE),\"\")","v":""},{"$f":"IF(G743<>\"\",VLOOKUP($F743,'TA STOCK LOOKUP'!$A$2:$C$202,3,FALSE),\"\")","v":""},"","","","","",""]
["","","","","","",{"$f":"IF(F744<>\"\",VLOOKUP($F744,'TA STOCK LOOKUP'!$A$2:$C$202,2,FALSE),\"\")","v":""},{"$f":"IF(G744<>\"\",VLOOKUP($F744,'TA STOCK LOOKUP'!$A$2:$C$202,3,FALSE),\"\")","v":""},"","","","","",""]
["","","","","","",{"$f":"IF(F745<>\"\",VLOOKUP($F745,'TA STOCK LOOKUP'!$A$2:$C$202,2,FALSE),\"\")","v":""},{"$f":"IF(G745<>\"\",VLOOKUP($F745,'TA STOCK LOOKUP'!$A$2:$C$202,3,FALSE),\"\")","v":""},"","","","","",""]
["","","","","","",{"$f":"IF(F746<>\"\",VLOOKUP($F746,'TA STOCK LOOKUP'!$A$2:$C$202,2,FALSE),\"\")","v":""},{"$f":"IF(G746<>\"\",VLOOKUP($F746,'TA STOCK LOOKUP'!$A$2:$C$202,3,FALSE),\"\")","v":""},"","","","","",""]
["","","","","","",{"$f":"IF(F747<>\"\",VLOOKUP($F747,'TA STOCK LOOKUP'!$A$2:$C$202,2,FALSE),\"\")","v":""},{"$f":"IF(G747<>\"\",VLOOKUP($F747,'TA STOCK LOOKUP'!$A$2:$C$202,3,FALSE),\"\")","v":""},"","","","","",""]
["","","","","","",{"$f":"IF(F748<>\"\",VLOOKUP($F748,'TA STOCK LOOKUP'!$A$2:$C$202,2,FALSE),\"\")","v":""},{"$f":"IF(G748<>\"\",VLOOKUP($F748,'TA STOCK LOOKUP'!$A$2:$C$202,3,FALSE),\"\")","v":""},"","","","","",""]
["","","","","","",{"$f":"IF(F749<>\"\",VLOOKUP($F749,'TA STOCK LOOKUP'!$A$2:$C$202,2,FALSE),\"\")","v":""},{"$f":"IF(G749<>\"\",VLOOKUP($F749,'TA STOCK LOOKUP'!$A$2:$C$202,3,FALSE),\"\")","v":""},"","","","","",""]
["","","","","","",{"$f":"IF(F750<>\"\",VLOOKUP($F750,'TA STOCK LOOKUP'!$A$2:$C$202,2,FALSE),\"\")","v":""},{"$f":"IF(G750<>\"\",VLOOKUP($F750,'TA STOCK LOOKUP'!$A$2:$C$202,3,FALSE),\"\")","v":""},"","","","","",""]
["","","","","","",{"$f":"IF(F751<>\"\",VLOOKUP($F751,'TA STOCK LOOKUP'!$A$2:$C$202,2,FALSE),\"\")","v":""},{"$f":"IF(G751<>\"\",VLOOKUP($F751,'TA STOCK LOOKUP'!$A$2:$C$202,3,FALSE),\"\")","v":""},"","","","","",""]
["","","","","","",{"$f":"IF(F752<>\"\",VLOOKUP($F752,'TA STOCK LOOKUP'!$A$2:$C$202,2,FALSE),\"\")","v":""},{"$f":"IF(G752<>\"\",VLOOKUP($F752,'TA STOCK LOOKUP'!$A$2:$C$202,3,FALSE),\"\")","v":""},"","","","","",""]
["","","","","","",{"$f":"IF(F753<>\"\",VLOOKUP($F753,'TA STOCK LOOKUP'!$A$2:$C$202,2,FALSE),\"\")","v":""},{"$f":"IF(G753<>\"\",VLOOKUP($F753,'TA STOCK LOOKUP'!$A$2:$C$202,3,FALSE),\"\")","v":""},"","","","","",""]
["","","","","","",{"$f":"IF(F754<>\"\",VLOOKUP($F754,'TA STOCK LOOKUP'!$A$2:$C$202,2,FALSE),\"\")","v":""},{"$f":"IF(G754<>\"\",VLOOKUP($F754,'TA STOCK LOOKUP'!$A$2:$C$202,3,FALSE),\"\")","v":""},"","","","","",""]
["","","","","","",{"$f":"IF(F755<>\"\",VLOOKUP($F755,'TA STOCK LOOKUP'!$A$2:$C$202,2,FALSE),\"\")","v":""},{"$f":"IF(G755<>\"\",VLOOKUP($F755,'TA STOCK LOOKUP'!$A$2:$C$202,3,FALSE),\"\")","v":""},"","","","","",""]
["","","","","","",{"$f":"IF(F756<>\"\",VLOOKUP($F756,'TA STOCK LOOKUP'!$A$2:$C$202,2,FALSE),\"\")","v":""},{"$f":"IF(G756<>\"\",VLOOKUP($F756,'TA STOCK LOOKUP'!$A$2:$C$202,3,FALSE),\"\")","v":""},"","","","","",""]
["","","","","","",{"$f":"IF(F757<>\"\",VLOOKUP($F757,'TA STOCK LOOKUP'!$A$2:$C$202,2,FALSE),\"\")","v":""},{"$f":"IF(G757<>\"\",VLOOKUP($F757,'TA STOCK LOOKUP'!$A$2:$C$202,3,FALSE),\"\")","v":""},"","","","","",""]
["","","","","","",{"$f":"IF(F758<>\"\",VLOOKUP($F758,'TA STOCK LOOKUP'!$A$2:$C$202,2,FALSE),\"\")","v":""},{"$f":"IF(G758<>\"\",VLOOKUP($F758,'TA STOCK LOOKUP'!$A$2:$C$202,3,FALSE),\"\")","v":""},"","","","","",""]
["","","","","","",{"$f":"IF(F759<>\"\",VLOOKUP($F759,'TA STOCK LOOKUP'!$A$2:$C$202,2,FALSE),\"\")","v":""},{"$f":"IF(G759<>\"\",VLOOKUP($F759,'TA STOCK LOOKUP'!$A$2:$C$202,3,FALSE),\"\")","v":""},"","","","","",""]
["","","","","","",{"$f":"IF(F760<>\"\",VLOOKUP($F760,'TA STOCK LOOKUP'!$A$2:$C$202,2,FALSE),\"\")","v":""},{"$f":"IF(G760<>\"\",VLOOKUP($F760,'TA STOCK LOOKUP'!$A$2:$C$202,3,FALSE),\"\")","v":""},"","","","","",""]
["","","","","","",{"$f":"IF(F761<>\"\",VLOOKUP($F761,'TA STOCK LOOKUP'!$A$2:$C$202,2,FALSE),\"\")","v":""},{"$f":"IF(G761<>\"\",VLOOKUP($F761,'TA STOCK LOOKUP'!$A$2:$C$202,3,FALSE),\"\")","v":""},"","","","","",""]
["","","","","","",{"$f":"IF(F762<>\"\",VLOOKUP($F762,'TA STOCK LOOKUP'!$A$2:$C$202,2,FALSE),\"\")","v":""},{"$f":"IF(G762<>\"\",VLOOKUP($F762,'TA STOCK LOOKUP'!$A$2:$C$202,3,FALSE),\"\")","v":""},"","","","","",""]
["","","","","","",{"$f":"IF(F763<>\"\",VLOOKUP($F763,'TA STOCK LOOKUP'!$A$2:$C$202,2,FALSE),\"\")","v":""},{"$f":"IF(G763<>\"\",VLOOKUP($F763,'TA STOCK LOOKUP'!$A$2:$C$202,3,FALSE),\"\")","v":""},"","","","","",""]
["","","","","","",{"$f":"IF(F764<>\"\",VLOOKUP($F764,'TA STOCK LOOKUP'!$A$2:$C$202,2,FALSE),\"\")","v":""},{"$f":"IF(G764<>\"\",VLOOKUP($F764,'TA STOCK LOOKUP'!$A$2:$C$202,3,FALSE),\"\")","v":""},"","","","","",""]
["","","","","","",{"$f":"IF(F765<>\"\",VLOOKUP($F765,'TA STOCK LOOKUP'!$A$2:$C$202,2,FALSE),\"\")","v":""},{"$f":"IF(G765<>\"\",VLOOKUP($F765,'TA STOCK LOOKUP'!$A$2:$C$202,3,FALSE),\"\")","v":""},"","","","","",""]
["","","","","","",{"$f":"IF(F766<>\"\",VLOOKUP($F766,'TA STOCK LOOKUP'!$A$2:$C$202,2,FALSE),\"\")","v":""},{"$f":"IF(G766<>\"\",VLOOKUP($F766,'TA STOCK LOOKUP'!$A$2:$C$202,3,FALSE),\"\")","v":""},"","","","","",""]
["","","","","","",{"$f":"IF(F767<>\"\",VLOOKUP($F767,'TA STOCK LOOKUP'!$A$2:$C$202,2,FALSE),\"\")","v":""},{"$f":"IF(G767<>\"\",VLOOKUP($F767,'TA STOCK LOOKUP'!$A$2:$C$202,3,FALSE),\"\")","v":""},"","","","","",""]
["","","","","","",{"$f":"IF(F768<>\"\",VLOOKUP($F768,'TA STOCK LOOKUP'!$A$2:$C$202,2,FALSE),\"\")","v":""},{"$f":"IF(G768<>\"\",VLOOKUP($F768,'TA STOCK LOOKUP'!$A$2:$C$202,3,FALSE),\"\")","v":""},"","","","","",""]
["","","","","","",{"$f":"IF(F769<>\"\",VLOOKUP($F769,'TA STOCK LOOKUP'!$A$2:$C$202,2,FALSE),\"\")","v":""},{"$f":"IF(G769<>\"\",VLOOKUP($F769,'TA STOCK LOOKUP'!$A$2:$C$202,3,FALSE),\"\")","v":""},"","","","","",""]
["","","","","","",{"$f":"IF(F770<>\"\",VLOOKUP($F770,'TA STOCK LOOKUP'!$A$2:$C$202,2,FALSE),\"\")","v":""},{"$f":"IF(G770<>\"\",VLOOKUP($F770,'TA STOCK LOOKUP'!$A$2:$C$202,3,FALSE),\"\")","v":""},"","","","","",""]
["","","","","","",{"$f":"IF(F771<>\"\",VLOOKUP($F771,'TA STOCK LOOKUP'!$A$2:$C$202,2,FALSE),\"\")","v":""},{"$f":"IF(G771<>\"\",VLOOKUP($F771,'TA STOCK LOOKUP'!$A$2:$C$202,3,FALSE),\"\")","v":""},"","","","","",""]
["","","","","","",{"$f":"IF(F772<>\"\",VLOOKUP($F772,'TA STOCK LOOKUP'!$A$2:$C$202,2,FALSE),\"\")","v":""},{"$f":"IF(G772<>\"\",VLOOKUP($F772,'TA STOCK LOOKUP'!$A$2:$C$202,3,FALSE),\"\")","v":""},"","","","","",""]
["","","","","","",{"$f":"IF(F773<>\"\",VLOOKUP($F773,'TA STOCK LOOKUP'!$A$2:$C$202,2,FALSE),\"\")","v":""},{"$f":"IF(G773<>\"\",VLOOKUP($F773,'TA STOCK LOOKUP'!$A$2:$C$202,3,FALSE),\"\")","v":""},"","","","","",""]
["","","","","","",{"$f":"IF(F774<>\"\",VLOOKUP($F774,'TA STOCK LOOKUP'!$A$2:$C$202,2,FALSE),\"\")","v":""},{"$f":"IF(G774<>\"\",VLOOKUP($F774,'TA STOCK LOOKUP'!$A$2:$C$202,3,FALSE),\"\")","v":""},"","","","","",""]
["","","","","","",{"$f":"IF(F775<>\"\",VLOOKUP($F775,'TA STOCK LOOKUP'!$A$2:$C$202,2,FALSE),\"\")","v":""},{"$f":"IF(G775<>\"\",VLOOKUP($F775,'TA STOCK LOOKUP'!$A$2:$C$202,3,FALSE),\"\")","v":""},"","","","","",""]
["","","","","","",{"$f":"IF(F776<>\"\",VLOOKUP($F776,'TA STOCK LOOKUP'!$A$2:$C$202,2,FALSE),\"\")","v":""},{"$f":"IF(G776<>\"\",VLOOKUP($F776,'TA STOCK LOOKUP'!$A$2:$C$202,3,FALSE),\"\")","v":""},"","","","","",""]
["","","","","","",{"$f":"IF(F777<>\"\",VLOOKUP($F777,'TA STOCK LOOKUP'!$A$2:$C$202,2,FALSE),\"\")","v":""},{"$f":"IF(G777<>\"\",VLOOKUP($F777,'TA STOCK LOOKUP'!$A$2:$C$202,3,FALSE),\"\")","v":""},"","","","","",""]
["","","","","","",{"$f":"IF(F778<>\"\",VLOOKUP($F778,'TA STOCK LOOKUP'!$A$2:$C$202,2,FALSE),\"\")","v":""},{"$f":"IF(G778<>\"\",VLOOKUP($F778,'TA STOCK LOOKUP'!$A$2:$C$202,3,FALSE),\"\")","v":""},"","","","","",""]
["","","","","","",{"$f":"IF(F779<>\"\",VLOOKUP($F779,'TA STOCK LOOKUP'!$A$2:$C$202,2,FALSE),\"\")","v":""},{"$f":"IF(G779<>\"\",VLOOKUP($F779,'TA STOCK LOOKUP'!$A$2:$C$202,3,FALSE),\"\")","v":""},"","","","","",""]
["","","","","","",{"$f":"IF(F780<>\"\",VLOOKUP($F780,'TA STOCK LOOKUP'!$A$2:$C$202,2,FALSE),\"\")","v":""},{"$f":"IF(G780<>\"\",VLOOKUP($F780,'TA STOCK LOOKUP'!$A$2:$C$202,3,FALSE),\"\")","v":""},"","","","","",""]
["","","","","","",{"$f":"IF(F781<>\"\",VLOOKUP($F781,'TA STOCK LOOKUP'!$A$2:$C$202,2,FALSE),\"\")","v":""},{"$f":"IF(G781<>\"\",VLOOKUP($F781,'TA STOCK LOOKUP'!$A$2:$C$202,3,FALSE),\"\")","v":""},"","","","","",""]
["","","","","","",{"$f":"IF(F782<>\"\",VLOOKUP($F782,'TA STOCK LOOKUP'!$A$2:$C$202,2,FALSE),\"\")","v":""},{"$f":"IF(G782<>\"\",VLOOKUP($F782,'TA STOCK LOOKUP'!$A$2:$C$202,3,FALSE),\"\")","v":""},"","","","","",""]
["","","","","","",{"$f":"IF(F783<>\"\",VLOOKUP($F783,'TA STOCK LOOKUP'!$A$2:$C$202,2,FALSE),\"\")","v":""},{"$f":"IF(G783<>\"\",VLOOKUP($F783,'TA STOCK LOOKUP'!$A$2:$C$202,3,FALSE),\"\")","v":""},"","","","","",""]
["","","","","","",{"$f":"IF(F784<>\"\",VLOOKUP($F784,'TA STOCK LOOKUP'!$A$2:$C$202,2,FALSE),\"\")","v":""},{"$f":"IF(G784<>\"\",VLOOKUP($F784,'TA STOCK LOOKUP'!$A$2:$C$202,3,FALSE),\"\")","v":""},"","","","","",""]
["","","","","","",{"$f":"IF(F785<>\"\",VLOOKUP($F785,'TA STOCK LOOKUP'!$A$2:$C$202,2,FALSE),\"\")","v":""},{"$f":"IF(G785<>\"\",VLOOKUP($F785,'TA STOCK LOOKUP'!$A$2:$C$202,3,FALSE),\"\")","v":""},"","","","","",""]
["","","","","","",{"$f":"IF(F786<>\"\",VLOOKUP($F786,'TA STOCK LOOKUP'!$A$2:$C$202,2,FALSE),\"\")","v":""},{"$f":"IF(G786<>\"\",VLOOKUP($F786,'TA STOCK LOOKUP'!$A$2:$C$202,3,FALSE),\"\")","v":""},"","","","","",""]
["","","","","","",{"$f":"IF(F787<>\"\",VLOOKUP($F787,'TA STOCK LOOKUP'!$A$2:$C$202,2,FALSE),\"\")","v":""},{"$f":"IF(G787<>\"\",VLOOKUP($F787,'TA STOCK LOOKUP'!$A$2:$C$202,3,FALSE),\"\")","v":""},"","","","","",""]
["","","","","","",{"$f":"IF(F788<>\"\",VLOOKUP($F788,'TA STOCK LOOKUP'!$A$2:$C$202,2,FALSE),\"\")","v":""},{"$f":"IF(G788<>\"\",VLOOKUP($F788,'TA STOCK LOOKUP'!$A$2:$C$202,3,FALSE),\"\")","v":""},"","","","","",""]
["","","","","","",{"$f":"IF(F789<>\"\",VLOOKUP($F789,'TA STOCK LOOKUP'!$A$2:$C$202,2,FALSE),\"\")","v":""},{"$f":"IF(G789<>\"\",VLOOKUP($F789,'TA STOCK LOOKUP'!$A$2:$C$202,3,FALSE),\"\")","v":""},"","","","","",""]
["","","","","","",{"$f":"IF(F790<>\"\",VLOOKUP($F790,'TA STOCK LOOKUP'!$A$2:$C$202,2,FALSE),\"\")","v":""},{"$f":"IF(G790<>\"\",VLOOKUP($F790,'TA STOCK LOOKUP'!$A$2:$C$202,3,FALSE),\"\")","v":""},"","","","","",""]
["","","","","","",{"$f":"IF(F791<>\"\",VLOOKUP($F791,'TA STOCK LOOKUP'!$A$2:$C$202,2,FALSE),\"\")","v":""},{"$f":"IF(G791<>\"\",VLOOKUP($F791,'TA STOCK LOOKUP'!$A$2:$C$202,3,FALSE),\"\")","v":""},"","","","","",""]
["","","","","","",{"$f":"IF(F792<>\"\",VLOOKUP($F792,'TA STOCK LOOKUP'!$A$2:$C$202,2,FALSE),\"\")","v":""},{"$f":"IF(G792<>\"\",VLOOKUP($F792,'TA STOCK LOOKUP'!$A$2:$C$202,3,FALSE),\"\")","v":""},"","","","","",""]
["","","","","","",{"$f":"IF(F793<>\"\",VLOOKUP($F793,'TA STOCK LOOKUP'!$A$2:$C$202,2,FALSE),\"\")","v":""},{"$f":"IF(G793<>\"\",VLOOKUP($F793,'TA STOCK LOOKUP'!$A$2:$C$202,3,FALSE),\"\")","v":""},"","","","","",""]
["","","","","","",{"$f":"IF(F794<>\"\",VLOOKUP($F794,'TA STOCK LOOKUP'!$A$2:$C$202,2,FALSE),\"\")","v":""},{"$f":"IF(G794<>\"\",VLOOKUP($F794,'TA STOCK LOOKUP'!$A$2:$C$202,3,FALSE),\"\")","v":""},"","","","","",""]
["","","","","","",{"$f":"IF(F795<>\"\",VLOOKUP($F795,'TA STOCK LOOKUP'!$A$2:$C$202,2,FALSE),\"\")","v":""},{"$f":"IF(G795<>\"\",VLOOKUP($F795,'TA STOCK LOOKUP'!$A$2:$C$202,3,FALSE),\"\")","v":""},"","","","","",""]
["","","","","","",{"$f":"IF(F796<>\"\",VLOOKUP($F796,'TA STOCK LOOKUP'!$A$2:$C$202,2,FALSE),\"\")","v":""},{"$f":"IF(G796<>\"\",VLOOKUP($F796,'TA STOCK LOOKUP'!$A$2:$C$202,3,FALSE),\"\")","v":""},"","","","","",""]
["","","","","","",{"$f":"IF(F797<>\"\",VLOOKUP($F797,'TA STOCK LOOKUP'!$A$2:$C$202,2,FALSE),\"\")","v":""},{"$f":"IF(G797<>\"\",VLOOKUP($F797,'TA STOCK LOOKUP'!$A$2:$C$202,3,FALSE),\"\")","v":""},"","","","","",""]
["","","","","","",{"$f":"IF(F798<>\"\",VLOOKUP($F798,'TA STOCK LOOKUP'!$A$2:$C$202,2,FALSE),\"\")","v":""},{"$f":"IF(G798<>\"\",VLOOKUP($F798,'TA STOCK LOOKUP'!$A$2:$C$202,3,FALSE),\"\")","v":""},"","","","","",""]
["","","","","","",{"$f":"IF(F799<>\"\",VLOOKUP($F799,'TA STOCK LOOKUP'!$A$2:$C$202,2,FALSE),\"\")","v":""},{"$f":"IF(G799<>\"\",VLOOKUP($F799,'TA STOCK LOOKUP'!$A$2:$C$202,3,FALSE),\"\")","v":""},"","","","","",""]
["","","","","","",{"$f":"IF(F800<>\"\",VLOOKUP($F800,'TA STOCK LOOKUP'!$A$2:$C$202,2,FALSE),\"\")","v":""},{"$f":"IF(G800<>\"\",VLOOKUP($F800,'TA STOCK LOOKUP'!$A$2:$C$202,3,FALSE),\"\")","v":""},"","","","","",""]
["","","","","","",{"$f":"IF(F801<>\"\",VLOOKUP($F801,'TA STOCK LOOKUP'!$A$2:$C$202,2,FALSE),\"\")","v":""},{"$f":"IF(G801<>\"\",VLOOKUP($F801,'TA STOCK LOOKUP'!$A$2:$C$202,3,FALSE),\"\")","v":""},"","","","","",""]
["","","","","","",{"$f":"IF(F802<>\"\",VLOOKUP($F802,'TA STOCK LOOKUP'!$A$2:$C$202,2,FALSE),\"\")","v":""},{"$f":"IF(G802<>\"\",VLOOKUP($F802,'TA STOCK LOOKUP'!$A$2:$C$202,3,FALSE),\"\")","v":""},"","","","","",""]
["","","","","","",{"$f":"IF(F803<>\"\",VLOOKUP($F803,'TA STOCK LOOKUP'!$A$2:$C$202,2,FALSE),\"\")","v":""},{"$f":"IF(G803<>\"\",VLOOKUP($F803,'TA STOCK LOOKUP'!$A$2:$C$202,3,FALSE),\"\")","v":""},"","","","","",""]
["","","","","","",{"$f":"IF(F804<>\"\",VLOOKUP($F804,'TA STOCK LOOKUP'!$A$2:$C$202,2,FALSE),\"\")","v":""},{"$f":"IF(G804<>\"\",VLOOKUP($F804,'TA STOCK LOOKUP'!$A$2:$C$202,3,FALSE),\"\")","v":""},"","","","","",""]
["","","","","","",{"$f":"IF(F805<>\"\",VLOOKUP($F805,'TA STOCK LOOKUP'!$A$2:$C$202,2,FALSE),\"\")","v":""},{"$f":"IF(G805<>\"\",VLOOKUP($F805,'TA STOCK LOOKUP'!$A$2:$C$202,3,FALSE),\"\")","v":""},"","","","","",""]
["","","","","","",{"$f":"IF(F806<>\"\",VLOOKUP($F806,'TA STOCK LOOKUP'!$A$2:$C$202,2,FALSE),\"\")","v":""},{"$f":"IF(G806<>\"\",VLOOKUP($F806,'TA STOCK LOOKUP'!$A$2:$C$202,3,FALSE),\"\")","v":""},"","","","","",""]
["","","","","","",{"$f":"IF(F807<>\"\",VLOOKUP($F807,'TA STOCK LOOKUP'!$A$2:$C$202,2,FALSE),\"\")","v":""},{"$f":"IF(G807<>\"\",VLOOKUP($F807,'TA STOCK LOOKUP'!$A$2:$C$202,3,FALSE),\"\")","v":""},"","","","","",""]
["","","","","","",{"$f":"IF(F808<>\"\",VLOOKUP($F808,'TA STOCK LOOKUP'!$A$2:$C$202,2,FALSE),\"\")","v":""},{"$f":"IF(G808<>\"\",VLOOKUP($F808,'TA STOCK LOOKUP'!$A$2:$C$202,3,FALSE),\"\")","v":""},"","","","","",""]
["","","","","","",{"$f":"IF(F809<>\"\",VLOOKUP($F809,'TA STOCK LOOKUP'!$A$2:$C$202,2,FALSE),\"\")","v":""},{"$f":"IF(G809<>\"\",VLOOKUP($F809,'TA STOCK LOOKUP'!$A$2:$C$202,3,FALSE),\"\")","v":""},"","","","","",""]
["","","","","","",{"$f":"IF(F810<>\"\",VLOOKUP($F810,'TA STOCK LOOKUP'!$A$2:$C$202,2,FALSE),\"\")","v":""},{"$f":"IF(G810<>\"\",VLOOKUP($F810,'TA STOCK LOOKUP'!$A$2:$C$202,3,FALSE),\"\")","v":""},"","","","","",""]
["","","","","","",{"$f":"IF(F811<>\"\",VLOOKUP($F811,'TA STOCK LOOKUP'!$A$2:$C$202,2,FALSE),\"\")","v":""},{"$f":"IF(G811<>\"\",VLOOKUP($F811,'TA STOCK LOOKUP'!$A$2:$C$202,3,FALSE),\"\")","v":""},"","","","","",""]
["","","","","","",{"$f":"IF(F812<>\"\",VLOOKUP($F812,'TA STOCK LOOKUP'!$A$2:$C$202,2,FALSE),\"\")","v":""},{"$f":"IF(G812<>\"\",VLOOKUP($F812,'TA STOCK LOOKUP'!$A$2:$C$202,3,FALSE),\"\")","v":""},"","","","","",""]
["","","","","","",{"$f":"IF(F813<>\"\",VLOOKUP($F813,'TA STOCK LOOKUP'!$A$2:$C$202,2,FALSE),\"\")","v":""},{"$f":"IF(G813<>\"\",VLOOKUP($F813,'TA STOCK LOOKUP'!$A$2:$C$202,3,FALSE),\"\")","v":""},"","","","","",""]
["","","","","","",{"$f":"IF(F814<>\"\",VLOOKUP($F814,'TA STOCK LOOKUP'!$A$2:$C$202,2,FALSE),\"\")","v":""},{"$f":"IF(G814<>\"\",VLOOKUP($F814,'TA STOCK LOOKUP'!$A$2:$C$202,3,FALSE),\"\")","v":""},"","","","","",""]
["","","","","","",{"$f":"IF(F815<>\"\",VLOOKUP($F815,'TA STOCK LOOKUP'!$A$2:$C$202,2,FALSE),\"\")","v":""},{"$f":"IF(G815<>\"\",VLOOKUP($F815,'TA STOCK LOOKUP'!$A$2:$C$202,3,FALSE),\"\")","v":""},"","","","","",""]
["","","","","","",{"$f":"IF(F816<>\"\",VLOOKUP($F816,'TA STOCK LOOKUP'!$A$2:$C$202,2,FALSE),\"\")","v":""},{"$f":"IF(G816<>\"\",VLOOKUP($F816,'TA STOCK LOOKUP'!$A$2:$C$202,3,FALSE),\"\")","v":""},"","","","","",""]
["","","","","","",{"$f":"IF(F817<>\"\",VLOOKUP($F817,'TA STOCK LOOKUP'!$A$2:$C$202,2,FALSE),\"\")","v":""},{"$f":"IF(G817<>\"\",VLOOKUP($F817,'TA STOCK LOOKUP'!$A$2:$C$202,3,FALSE),\"\")","v":""},"","","","","",""]
["","","","","","",{"$f":"IF(F818<>\"\",VLOOKUP($F818,'TA STOCK LOOKUP'!$A$2:$C$202,2,FALSE),\"\")","v":""},{"$f":"IF(G818<>\"\",VLOOKUP($F818,'TA STOCK LOOKUP'!$A$2:$C$202,3,FALSE),\"\")","v":""},"","","","","",""]
["","","","","","",{"$f":"IF(F819<>\"\",VLOOKUP($F819,'TA STOCK LOOKUP'!$A$2:$C$202,2,FALSE),\"\")","v":""},{"$f":"IF(G819<>\"\",VLOOKUP($F819,'TA STOCK LOOKUP'!$A$2:$C$202,3,FALSE),\"\")","v":""},"","","","","",""]
["","","","","","",{"$f":"IF(F820<>\"\",VLOOKUP($F820,'TA STOCK LOOKUP'!$A$2:$C$202,2,FALSE),\"\")","v":""},{"$f":"IF(G820<>\"\",VLOOKUP($F820,'TA STOCK LOOKUP'!$A$2:$C$202,3,FALSE),\"\")","v":""},"","","","","",""]
["","","","","","",{"$f":"IF(F821<>\"\",VLOOKUP($F821,'TA STOCK LOOKUP'!$A$2:$C$202,2,FALSE),\"\")","v":""},{"$f":"IF(G821<>\"\",VLOOKUP($F821,'TA STOCK LOOKUP'!$A$2:$C$202,3,FALSE),\"\")","v":""},"","","","","",""]
["","","","","","",{"$f":"IF(F822<>\"\",VLOOKUP($F822,'TA STOCK LOOKUP'!$A$2:$C$202,2,FALSE),\"\")","v":""},{"$f":"IF(G822<>\"\",VLOOKUP($F822,'TA STOCK LOOKUP'!$A$2:$C$202,3,FALSE),\"\")","v":""},"","","","","",""]
["","","","","","",{"$f":"IF(F823<>\"\",VLOOKUP($F823,'TA STOCK LOOKUP'!$A$2:$C$202,2,FALSE),\"\")","v":""},{"$f":"IF(G823<>\"\",VLOOKUP($F823,'TA STOCK LOOKUP'!$A$2:$C$202,3,FALSE),\"\")","v":""},"","","","","",""]
["","","","","","",{"$f":"IF(F824<>\"\",VLOOKUP($F824,'TA STOCK LOOKUP'!$A$2:$C$202,2,FALSE),\"\")","v":""},{"$f":"IF(G824<>\"\",VLOOKUP($F824,'TA STOCK LOOKUP'!$A$2:$C$202,3,FALSE),\"\")","v":""},"","","","","",""]
["","","","","","",{"$f":"IF(F825<>\"\",VLOOKUP($F825,'TA STOCK LOOKUP'!$A$2:$C$202,2,FALSE),\"\")","v":""},{"$f":"IF(G825<>\"\",VLOOKUP($F825,'TA STOCK LOOKUP'!$A$2:$C$202,3,FALSE),\"\")","v":""},"","","","","",""]
["","","","","","",{"$f":"IF(F826<>\"\",VLOOKUP($F826,'TA STOCK LOOKUP'!$A$2:$C$202,2,FALSE),\"\")","v":""},{"$f":"IF(G826<>\"\",VLOOKUP($F826,'TA STOCK LOOKUP'!$A$2:$C$202,3,FALSE),\"\")","v":""},"","","","","",""]
["","","","","","",{"$f":"IF(F827<>\"\",VLOOKUP($F827,'TA STOCK LOOKUP'!$A$2:$C$202,2,FALSE),\"\")","v":""},{"$f":"IF(G827<>\"\",VLOOKUP($F827,'TA STOCK LOOKUP'!$A$2:$C$202,3,FALSE),\"\")","v":""},"","","","","",""]
["","","","","","",{"$f":"IF(F828<>\"\",VLOOKUP($F828,'TA STOCK LOOKUP'!$A$2:$C$202,2,FALSE),\"\")","v":""},{"$f":"IF(G828<>\"\",VLOOKUP($F828,'TA STOCK LOOKUP'!$A$2:$C$202,3,FALSE),\"\")","v":""},"","","","","",""]
["","","","","","",{"$f":"IF(F829<>\"\",VLOOKUP($F829,'TA STOCK LOOKUP'!$A$2:$C$202,2,FALSE),\"\")","v":""},{"$f":"IF(G829<>\"\",VLOOKUP($F829,'TA STOCK LOOKUP'!$A$2:$C$202,3,FALSE),\"\")","v":""},"","","","","",""]
["","","","","","",{"$f":"IF(F830<>\"\",VLOOKUP($F830,'TA STOCK LOOKUP'!$A$2:$C$202,2,FALSE),\"\")","v":""},{"$f":"IF(G830<>\"\",VLOOKUP($F830,'TA STOCK LOOKUP'!$A$2:$C$202,3,FALSE),\"\")","v":""},"","","","","",""]
["","","","","","",{"$f":"IF(F831<>\"\",VLOOKUP($F831,'TA STOCK LOOKUP'!$A$2:$C$202,2,FALSE),\"\")","v":""},{"$f":"IF(G831<>\"\",VLOOKUP($F831,'TA STOCK LOOKUP'!$A$2:$C$202,3,FALSE),\"\")","v":""},"","","","","",""]
["","","","","","",{"$f":"IF(F832<>\"\",VLOOKUP($F832,'TA STOCK LOOKUP'!$A$2:$C$202,2,FALSE),\"\")","v":""},{"$f":"IF(G832<>\"\",VLOOKUP($F832,'TA STOCK LOOKUP'!$A$2:$C$202,3,FALSE),\"\")","v":""},"","","","","",""]
["","","","","","",{"$f":"IF(F833<>\"\",VLOOKUP($F833,'TA STOCK LOOKUP'!$A$2:$C$202,2,FALSE),\"\")","v":""},{"$f":"IF(G833<>\"\",VLOOKUP($F833,'TA STOCK LOOKUP'!$A$2:$C$202,3,FALSE),\"\")","v":""},"","","","","",""]
["","","","","","",{"$f":"IF(F834<>\"\",VLOOKUP($F834,'TA STOCK LOOKUP'!$A$2:$C$202,2,FALSE),\"\")","v":""},{"$f":"IF(G834<>\"\",VLOOKUP($F834,'TA STOCK LOOKUP'!$A$2:$C$202,3,FALSE),\"\")","v":""},"","","","","",""]
["","","","","","",{"$f":"IF(F835<>\"\",VLOOKUP($F835,'TA STOCK LOOKUP'!$A$2:$C$202,2,FALSE),\"\")","v":""},{"$f":"IF(G835<>\"\",VLOOKUP($F835,'TA STOCK LOOKUP'!$A$2:$C$202,3,FALSE),\"\")","v":""},"","","","","",""]
["","","","","","",{"$f":"IF(F836<>\"\",VLOOKUP($F836,'TA STOCK LOOKUP'!$A$2:$C$202,2,FALSE),\"\")","v":""},{"$f":"IF(G836<>\"\",VLOOKUP($F836,'TA STOCK LOOKUP'!$A$2:$C$202,3,FALSE),\"\")","v":""},"","","","","",""]
["","","","","","",{"$f":"IF(F837<>\"\",VLOOKUP($F837,'TA STOCK LOOKUP'!$A$2:$C$202,2,FALSE),\"\")","v":""},{"$f":"IF(G837<>\"\",VLOOKUP($F837,'TA STOCK LOOKUP'!$A$2:$C$202,3,FALSE),\"\")","v":""},"","","","","",""]
["","","","","","",{"$f":"IF(F838<>\"\",VLOOKUP($F838,'TA STOCK LOOKUP'!$A$2:$C$202,2,FALSE),\"\")","v":""},{"$f":"IF(G838<>\"\",VLOOKUP($F838,'TA STOCK LOOKUP'!$A$2:$C$202,3,FALSE),\"\")","v":""},"","","","","",""]
["","","","","","",{"$f":"IF(F839<>\"\",VLOOKUP($F839,'TA STOCK LOOKUP'!$A$2:$C$202,2,FALSE),\"\")","v":""},{"$f":"IF(G839<>\"\",VLOOKUP($F839,'TA STOCK LOOKUP'!$A$2:$C$202,3,FALSE),\"\")","v":""},"","","","","",""]
["","","","","","",{"$f":"IF(F840<>\"\",VLOOKUP($F840,'TA STOCK LOOKUP'!$A$2:$C$202,2,FALSE),\"\")","v":""},{"$f":"IF(G840<>\"\",VLOOKUP($F840,'TA STOCK LOOKUP'!$A$2:$C$202,3,FALSE),\"\")","v":""},"","","","","",""]
["","","","","","",{"$f":"IF(F841<>\"\",VLOOKUP($F841,'TA STOCK LOOKUP'!$A$2:$C$202,2,FALSE),\"\")","v":""},{"$f":"IF(G841<>\"\",VLOOKUP($F841,'TA STOCK LOOKUP'!$A$2:$C$202,3,FALSE),\"\")","v":""},"","","","","",""]
["","","","","","",{"$f":"IF(F842<>\"\",VLOOKUP($F842,'TA STOCK LOOKUP'!$A$2:$C$202,2,FALSE),\"\")","v":""},{"$f":"IF(G842<>\"\",VLOOKUP($F842,'TA STOCK LOOKUP'!$A$2:$C$202,3,FALSE),\"\")","v":""},"","","","","",""]
["","","","","","",{"$f":"IF(F843<>\"\",VLOOKUP($F843,'TA STOCK LOOKUP'!$A$2:$C$202,2,FALSE),\"\")","v":""},{"$f":"IF(G843<>\"\",VLOOKUP($F843,'TA STOCK LOOKUP'!$A$2:$C$202,3,FALSE),\"\")","v":""},"","","","","",""]
["","","","","","",{"$f":"IF(F844<>\"\",VLOOKUP($F844,'TA STOCK LOOKUP'!$A$2:$C$202,2,FALSE),\"\")","v":""},{"$f":"IF(G844<>\"\",VLOOKUP($F844,'TA STOCK LOOKUP'!$A$2:$C$202,3,FALSE),\"\")","v":""},"","","","","",""]
["","","","","","",{"$f":"IF(F845<>\"\",VLOOKUP($F845,'TA STOCK LOOKUP'!$A$2:$C$202,2,FALSE),\"\")","v":""},{"$f":"IF(G845<>\"\",VLOOKUP($F845,'TA STOCK LOOKUP'!$A$2:$C$202,3,FALSE),\"\")","v":""},"","","","","",""]
["","","","","","",{"$f":"IF(F846<>\"\",VLOOKUP($F846,'TA STOCK LOOKUP'!$A$2:$C$202,2,FALSE),\"\")","v":""},{"$f":"IF(G846<>\"\",VLOOKUP($F846,'TA STOCK LOOKUP'!$A$2:$C$202,3,FALSE),\"\")","v":""},"","","","","",""]
["","","","","","",{"$f":"IF(F847<>\"\",VLOOKUP($F847,'TA STOCK LOOKUP'!$A$2:$C$202,2,FALSE),\"\")","v":""},{"$f":"IF(G847<>\"\",VLOOKUP($F847,'TA STOCK LOOKUP'!$A$2:$C$202,3,FALSE),\"\")","v":""},"","","","","",""]
["","","","","","",{"$f":"IF(F848<>\"\",VLOOKUP($F848,'TA STOCK LOOKUP'!$A$2:$C$202,2,FALSE),\"\")","v":""},{"$f":"IF(G848<>\"\",VLOOKUP($F848,'TA STOCK LOOKUP'!$A$2:$C$202,3,FALSE),\"\")","v":""},"","","","","",""]
["","","","","","",{"$f":"IF(F849<>\"\",VLOOKUP($F849,'TA STOCK LOOKUP'!$A$2:$C$202,2,FALSE),\"\")","v":""},{"$f":"IF(G849<>\"\",VLOOKUP($F849,'TA STOCK LOOKUP'!$A$2:$C$202,3,FALSE),\"\")","v":""},"","","","","",""]
["","","","","","",{"$f":"IF(F850<>\"\",VLOOKUP($F850,'TA STOCK LOOKUP'!$A$2:$C$202,2,FALSE),\"\")","v":""},{"$f":"IF(G850<>\"\",VLOOKUP($F850,'TA STOCK LOOKUP'!$A$2:$C$202,3,FALSE),\"\")","v":""},"","","","","",""]
["","","","","","",{"$f":"IF(F851<>\"\",VLOOKUP($F851,'TA STOCK LOOKUP'!$A$2:$C$202,2,FALSE),\"\")","v":""},{"$f":"IF(G851<>\"\",VLOOKUP($F851,'TA STOCK LOOKUP'!$A$2:$C$202,3,FALSE),\"\")","v":""},"","","","","",""]
["","","","","","",{"$f":"IF(F852<>\"\",VLOOKUP($F852,'TA STOCK LOOKUP'!$A$2:$C$202,2,FALSE),\"\")","v":""},{"$f":"IF(G852<>\"\",VLOOKUP($F852,'TA STOCK LOOKUP'!$A$2:$C$202,3,FALSE),\"\")","v":""},"","","","","",""]
["","","","","","",{"$f":"IF(F853<>\"\",VLOOKUP($F853,'TA STOCK LOOKUP'!$A$2:$C$202,2,FALSE),\"\")","v":""},{"$f":"IF(G853<>\"\",VLOOKUP($F853,'TA STOCK LOOKUP'!$A$2:$C$202,3,FALSE),\"\")","v":""},"","","","","",""]
["","","","","","",{"$f":"IF(F854<>\"\",VLOOKUP($F854,'TA STOCK LOOKUP'!$A$2:$C$202,2,FALSE),\"\")","v":""},{"$f":"IF(G854<>\"\",VLOOKUP($F854,'TA STOCK LOOKUP'!$A$2:$C$202,3,FALSE),\"\")","v":""},"","","","","",""]
["","","","","","",{"$f":"IF(F855<>\"\",VLOOKUP($F855,'TA STOCK LOOKUP'!$A$2:$C$202,2,FALSE),\"\")","v":""},{"$f":"IF(G855<>\"\",VLOOKUP($F855,'TA STOCK LOOKUP'!$A$2:$C$202,3,FALSE),\"\")","v":""},"","","","","",""]
["","","","","","",{"$f":"IF(F856<>\"\",VLOOKUP($F856,'TA STOCK LOOKUP'!$A$2:$C$202,2,FALSE),\"\")","v":""},{"$f":"IF(G856<>\"\",VLOOKUP($F856,'TA STOCK LOOKUP'!$A$2:$C$202,3,FALSE),\"\")","v":""},"","","","","",""]
["","","","","","",{"$f":"IF(F857<>\"\",VLOOKUP($F857,'TA STOCK LOOKUP'!$A$2:$C$202,2,FALSE),\"\")","v":""},{"$f":"IF(G857<>\"\",VLOOKUP($F857,'TA STOCK LOOKUP'!$A$2:$C$202,3,FALSE),\"\")","v":""},"","","","","",""]
["","","","","","",{"$f":"IF(F858<>\"\",VLOOKUP($F858,'TA STOCK LOOKUP'!$A$2:$C$202,2,FALSE),\"\")","v":""},{"$f":"IF(G858<>\"\",VLOOKUP($F858,'TA STOCK LOOKUP'!$A$2:$C$202,3,FALSE),\"\")","v":""},"","","","","",""]
["","","","","","",{"$f":"IF(F859<>\"\",VLOOKUP($F859,'TA STOCK LOOKUP'!$A$2:$C$202,2,FALSE),\"\")","v":""},{"$f":"IF(G859<>\"\",VLOOKUP($F859,'TA STOCK LOOKUP'!$A$2:$C$202,3,FALSE),\"\")","v":""},"","","","","",""]
["","","","","","",{"$f":"IF(F860<>\"\",VLOOKUP($F860,'TA STOCK LOOKUP'!$A$2:$C$202,2,FALSE),\"\")","v":""},{"$f":"IF(G860<>\"\",VLOOKUP($F860,'TA STOCK LOOKUP'!$A$2:$C$202,3,FALSE),\"\")","v":""},"","","","","",""]
["","","","","","",{"$f":"IF(F861<>\"\",VLOOKUP($F861,'TA STOCK LOOKUP'!$A$2:$C$202,2,FALSE),\"\")","v":""},{"$f":"IF(G861<>\"\",VLOOKUP($F861,'TA STOCK LOOKUP'!$A$2:$C$202,3,FALSE),\"\")","v":""},"","","","","",""]
["","","","","","",{"$f":"IF(F862<>\"\",VLOOKUP($F862,'TA STOCK LOOKUP'!$A$2:$C$202,2,FALSE),\"\")","v":""},{"$f":"IF(G862<>\"\",VLOOKUP($F862,'TA STOCK LOOKUP'!$A$2:$C$202,3,FALSE),\"\")","v":""},"","","","","",""]
["","","","","","",{"$f":"IF(F863<>\"\",VLOOKUP($F863,'TA STOCK LOOKUP'!$A$2:$C$202,2,FALSE),\"\")","v":""},{"$f":"IF(G863<>\"\",VLOOKUP($F863,'TA STOCK LOOKUP'!$A$2:$C$202,3,FALSE),\"\")","v":""},"","","","","",""]
["","","","","","",{"$f":"IF(F864<>\"\",VLOOKUP($F864,'TA STOCK LOOKUP'!$A$2:$C$202,2,FALSE),\"\")","v":""},{"$f":"IF(G864<>\"\",VLOOKUP($F864,'TA STOCK LOOKUP'!$A$2:$C$202,3,FALSE),\"\")","v":""},"","","","","",""]
["","","","","","",{"$f":"IF(F865<>\"\",VLOOKUP($F865,'TA STOCK LOOKUP'!$A$2:$C$202,2,FALSE),\"\")","v":""},{"$f":"IF(G865<>\"\",VLOOKUP($F865,'TA STOCK LOOKUP'!$A$2:$C$202,3,FALSE),\"\")","v":""},"","","","","",""]
["","","","","","",{"$f":"IF(F866<>\"\",VLOOKUP($F866,'TA STOCK LOOKUP'!$A$2:$C$202,2,FALSE),\"\")","v":""},{"$f":"IF(G866<>\"\",VLOOKUP($F866,'TA STOCK LOOKUP'!$A$2:$C$202,3,FALSE),\"\")","v":""},"","","","","",""]
["","","","","","",{"$f":"IF(F867<>\"\",VLOOKUP($F867,'TA STOCK LOOKUP'!$A$2:$C$202,2,FALSE),\"\")","v":""},{"$f":"IF(G867<>\"\",VLOOKUP($F867,'TA STOCK LOOKUP'!$A$2:$C$202,3,FALSE),\"\")","v":""},"","","","","",""]
["","","","","","",{"$f":"IF(F868<>\"\",VLOOKUP($F868,'TA STOCK LOOKUP'!$A$2:$C$202,2,FALSE),\"\")","v":""},{"$f":"IF(G868<>\"\",VLOOKUP($F868,'TA STOCK LOOKUP'!$A$2:$C$202,3,FALSE),\"\")","v":""},"","","","","",""]
["","","","","","",{"$f":"IF(F869<>\"\",VLOOKUP($F869,'TA STOCK LOOKUP'!$A$2:$C$202,2,FALSE),\"\")","v":""},{"$f":"IF(G869<>\"\",VLOOKUP($F869,'TA STOCK LOOKUP'!$A$2:$C$202,3,FALSE),\"\")","v":""},"","","","","",""]
["","","","","","",{"$f":"IF(F870<>\"\",VLOOKUP($F870,'TA STOCK LOOKUP'!$A$2:$C$202,2,FALSE),\"\")","v":""},{"$f":"IF(G870<>\"\",VLOOKUP($F870,'TA STOCK LOOKUP'!$A$2:$C$202,3,FALSE),\"\")","v":""},"","","","","",""]
["","","","","","",{"$f":"IF(F871<>\"\",VLOOKUP($F871,'TA STOCK LOOKUP'!$A$2:$C$202,2,FALSE),\"\")","v":""},{"$f":"IF(G871<>\"\",VLOOKUP($F871,'TA STOCK LOOKUP'!$A$2:$C$202,3,FALSE),\"\")","v":""},"","","","","",""]
["","","","","","",{"$f":"IF(F872<>\"\",VLOOKUP($F872,'TA STOCK LOOKUP'!$A$2:$C$202,2,FALSE),\"\")","v":""},{"$f":"IF(G872<>\"\",VLOOKUP($F872,'TA STOCK LOOKUP'!$A$2:$C$202,3,FALSE),\"\")","v":""},"","","","","",""]
["","","","","","",{"$f":"IF(F873<>\"\",VLOOKUP($F873,'TA STOCK LOOKUP'!$A$2:$C$202,2,FALSE),\"\")","v":""},{"$f":"IF(G873<>\"\",VLOOKUP($F873,'TA STOCK LOOKUP'!$A$2:$C$202,3,FALSE),\"\")","v":""},"","","","","",""]
["","","","","","",{"$f":"IF(F874<>\"\",VLOOKUP($F874,'TA STOCK LOOKUP'!$A$2:$C$202,2,FALSE),\"\")","v":""},{"$f":"IF(G874<>\"\",VLOOKUP($F874,'TA STOCK LOOKUP'!$A$2:$C$202,3,FALSE),\"\")","v":""},"","","","","",""]
["","","","","","",{"$f":"IF(F875<>\"\",VLOOKUP($F875,'TA STOCK LOOKUP'!$A$2:$C$202,2,FALSE),\"\")","v":""},{"$f":"IF(G875<>\"\",VLOOKUP($F875,'TA STOCK LOOKUP'!$A$2:$C$202,3,FALSE),\"\")","v":""},"","","","","",""]
["","","","","","",{"$f":"IF(F876<>\"\",VLOOKUP($F876,'TA STOCK LOOKUP'!$A$2:$C$202,2,FALSE),\"\")","v":""},{"$f":"IF(G876<>\"\",VLOOKUP($F876,'TA STOCK LOOKUP'!$A$2:$C$202,3,FALSE),\"\")","v":""},"","","","","",""]
["","","","","","",{"$f":"IF(F877<>\"\",VLOOKUP($F877,'TA STOCK LOOKUP'!$A$2:$C$202,2,FALSE),\"\")","v":""},{"$f":"IF(G877<>\"\",VLOOKUP($F877,'TA STOCK LOOKUP'!$A$2:$C$202,3,FALSE),\"\")","v":""},"","","","","",""]
["","","","","","",{"$f":"IF(F878<>\"\",VLOOKUP($F878,'TA STOCK LOOKUP'!$A$2:$C$202,2,FALSE),\"\")","v":""},{"$f":"IF(G878<>\"\",VLOOKUP($F878,'TA STOCK LOOKUP'!$A$2:$C$202,3,FALSE),\"\")","v":""},"","","","","",""]
["","","","","","",{"$f":"IF(F879<>\"\",VLOOKUP($F879,'TA STOCK LOOKUP'!$A$2:$C$202,2,FALSE),\"\")","v":""},{"$f":"IF(G879<>\"\",VLOOKUP($F879,'TA STOCK LOOKUP'!$A$2:$C$202,3,FALSE),\"\")","v":""},"","","","","",""]
["","","","","","",{"$f":"IF(F880<>\"\",VLOOKUP($F880,'TA STOCK LOOKUP'!$A$2:$C$202,2,FALSE),\"\")","v":""},{"$f":"IF(G880<>\"\",VLOOKUP($F880,'TA STOCK LOOKUP'!$A$2:$C$202,3,FALSE),\"\")","v":""},"","","","","",""]
["","","","","","",{"$f":"IF(F881<>\"\",VLOOKUP($F881,'TA STOCK LOOKUP'!$A$2:$C$202,2,FALSE),\"\")","v":""},{"$f":"IF(G881<>\"\",VLOOKUP($F881,'TA STOCK LOOKUP'!$A$2:$C$202,3,FALSE),\"\")","v":""},"","","","","",""]
["","","","","","",{"$f":"IF(F882<>\"\",VLOOKUP($F882,'TA STOCK LOOKUP'!$A$2:$C$202,2,FALSE),\"\")","v":""},{"$f":"IF(G882<>\"\",VLOOKUP($F882,'TA STOCK LOOKUP'!$A$2:$C$202,3,FALSE),\"\")","v":""},"","","","","",""]
["","","","","","",{"$f":"IF(F883<>\"\",VLOOKUP($F883,'TA STOCK LOOKUP'!$A$2:$C$202,2,FALSE),\"\")","v":""},{"$f":"IF(G883<>\"\",VLOOKUP($F883,'TA STOCK LOOKUP'!$A$2:$C$202,3,FALSE),\"\")","v":""},"","","","","",""]
["","","","","","",{"$f":"IF(F884<>\"\",VLOOKUP($F884,'TA STOCK LOOKUP'!$A$2:$C$202,2,FALSE),\"\")","v":""},{"$f":"IF(G884<>\"\",VLOOKUP($F884,'TA STOCK LOOKUP'!$A$2:$C$202,3,FALSE),\"\")","v":""},"","","","","",""]
["","","","","","",{"$f":"IF(F885<>\"\",VLOOKUP($F885,'TA STOCK LOOKUP'!$A$2:$C$202,2,FALSE),\"\")","v":""},{"$f":"IF(G885<>\"\",VLOOKUP($F885,'TA STOCK LOOKUP'!$A$2:$C$202,3,FALSE),\"\")","v":""},"","","","","",""]
["","","","","","",{"$f":"IF(F886<>\"\",VLOOKUP($F886,'TA STOCK LOOKUP'!$A$2:$C$202,2,FALSE),\"\")","v":""},{"$f":"IF(G886<>\"\",VLOOKUP($F886,'TA STOCK LOOKUP'!$A$2:$C$202,3,FALSE),\"\")","v":""},"","","","","",""]
["","","","","","",{"$f":"IF(F887<>\"\",VLOOKUP($F887,'TA STOCK LOOKUP'!$A$2:$C$202,2,FALSE),\"\")","v":""},{"$f":"IF(G887<>\"\",VLOOKUP($F887,'TA STOCK LOOKUP'!$A$2:$C$202,3,FALSE),\"\")","v":""},"","","","","",""]
["","","","","","",{"$f":"IF(F888<>\"\",VLOOKUP($F888,'TA STOCK LOOKUP'!$A$2:$C$202,2,FALSE),\"\")","v":""},{"$f":"IF(G888<>\"\",VLOOKUP($F888,'TA STOCK LOOKUP'!$A$2:$C$202,3,FALSE),\"\")","v":""},"","","","","",""]
["","","","","","",{"$f":"IF(F889<>\"\",VLOOKUP($F889,'TA STOCK LOOKUP'!$A$2:$C$202,2,FALSE),\"\")","v":""},{"$f":"IF(G889<>\"\",VLOOKUP($F889,'TA STOCK LOOKUP'!$A$2:$C$202,3,FALSE),\"\")","v":""},"","","","","",""]
["","","","","","",{"$f":"IF(F890<>\"\",VLOOKUP($F890,'TA STOCK LOOKUP'!$A$2:$C$202,2,FALSE),\"\")","v":""},{"$f":"IF(G890<>\"\",VLOOKUP($F890,'TA STOCK LOOKUP'!$A$2:$C$202,3,FALSE),\"\")","v":""},"","","","","",""]
["","","","","","",{"$f":"IF(F891<>\"\",VLOOKUP($F891,'TA STOCK LOOKUP'!$A$2:$C$202,2,FALSE),\"\")","v":""},{"$f":"IF(G891<>\"\",VLOOKUP($F891,'TA STOCK LOOKUP'!$A$2:$C$202,3,FALSE),\"\")","v":""},"","","","","",""]
["","","","","","",{"$f":"IF(F892<>\"\",VLOOKUP($F892,'TA STOCK LOOKUP'!$A$2:$C$202,2,FALSE),\"\")","v":""},{"$f":"IF(G892<>\"\",VLOOKUP($F892,'TA STOCK LOOKUP'!$A$2:$C$202,3,FALSE),\"\")","v":""},"","","","","",""]
["","","","","","",{"$f":"IF(F893<>\"\",VLOOKUP($F893,'TA STOCK LOOKUP'!$A$2:$C$202,2,FALSE),\"\")","v":""},{"$f":"IF(G893<>\"\",VLOOKUP($F893,'TA STOCK LOOKUP'!$A$2:$C$202,3,FALSE),\"\")","v":""},"","","","","",""]
["","","","","","",{"$f":"IF(F894<>\"\",VLOOKUP($F894,'TA STOCK LOOKUP'!$A$2:$C$202,2,FALSE),\"\")","v":""},{"$f":"IF(G894<>\"\",VLOOKUP($F894,'TA STOCK LOOKUP'!$A$2:$C$202,3,FALSE),\"\")","v":""},"","","","","",""]
["","","","","","",{"$f":"IF(F895<>\"\",VLOOKUP($F895,'TA STOCK LOOKUP'!$A$2:$C$202,2,FALSE),\"\")","v":""},{"$f":"IF(G895<>\"\",VLOOKUP($F895,'TA STOCK LOOKUP'!$A$2:$C$202,3,FALSE),\"\")","v":""},"","","","","",""]
["","","","","","",{"$f":"IF(F896<>\"\",VLOOKUP($F896,'TA STOCK LOOKUP'!$A$2:$C$202,2,FALSE),\"\")","v":""},{"$f":"IF(G896<>\"\",VLOOKUP($F896,'TA STOCK LOOKUP'!$A$2:$C$202,3,FALSE),\"\")","v":""},"","","","","",""]
["","","","","","",{"$f":"IF(F897<>\"\",VLOOKUP($F897,'TA STOCK LOOKUP'!$A$2:$C$202,2,FALSE),\"\")","v":""},{"$f":"IF(G897<>\"\",VLOOKUP($F897,'TA STOCK LOOKUP'!$A$2:$C$202,3,FALSE),\"\")","v":""},"","","","","",""]
["","","","","","",{"$f":"IF(F898<>\"\",VLOOKUP($F898,'TA STOCK LOOKUP'!$A$2:$C$202,2,FALSE),\"\")","v":""},{"$f":"IF(G898<>\"\",VLOOKUP($F898,'TA STOCK LOOKUP'!$A$2:$C$202,3,FALSE),\"\")","v":""},"","","","","",""]
["","","","","","",{"$f":"IF(F899<>\"\",VLOOKUP($F899,'TA STOCK LOOKUP'!$A$2:$C$202,2,FALSE),\"\")","v":""},{"$f":"IF(G899<>\"\",VLOOKUP($F899,'TA STOCK LOOKUP'!$A$2:$C$202,3,FALSE),\"\")","v":""},"","","","","",""]
["","","","","","",{"$f":"IF(F900<>\"\",VLOOKUP($F900,'TA STOCK LOOKUP'!$A$2:$C$202,2,FALSE),\"\")","v":""},{"$f":"IF(G900<>\"\",VLOOKUP($F900,'TA STOCK LOOKUP'!$A$2:$C$202,3,FALSE),\"\")","v":""},"","","","","",""]
["","","","","","",{"$f":"IF(F901<>\"\",VLOOKUP($F901,'TA STOCK LOOKUP'!$A$2:$C$202,2,FALSE),\"\")","v":""},{"$f":"IF(G901<>\"\",VLOOKUP($F901,'TA STOCK LOOKUP'!$A$2:$C$202,3,FALSE),\"\")","v":""},"","","","","",""]
["","","","","","",{"$f":"IF(F902<>\"\",VLOOKUP($F902,'TA STOCK LOOKUP'!$A$2:$C$202,2,FALSE),\"\")","v":""},{"$f":"IF(G902<>\"\",VLOOKUP($F902,'TA STOCK LOOKUP'!$A$2:$C$202,3,FALSE),\"\")","v":""},"","","","","",""]
["","","","","","",{"$f":"IF(F903<>\"\",VLOOKUP($F903,'TA STOCK LOOKUP'!$A$2:$C$202,2,FALSE),\"\")","v":""},{"$f":"IF(G903<>\"\",VLOOKUP($F903,'TA STOCK LOOKUP'!$A$2:$C$202,3,FALSE),\"\")","v":""},"","","","","",""]
["","","","","","",{"$f":"IF(F904<>\"\",VLOOKUP($F904,'TA STOCK LOOKUP'!$A$2:$C$202,2,FALSE),\"\")","v":""},{"$f":"IF(G904<>\"\",VLOOKUP($F904,'TA STOCK LOOKUP'!$A$2:$C$202,3,FALSE),\"\")","v":""},"","","","","",""]
["","","","","","",{"$f":"IF(F905<>\"\",VLOOKUP($F905,'TA STOCK LOOKUP'!$A$2:$C$202,2,FALSE),\"\")","v":""},{"$f":"IF(G905<>\"\",VLOOKUP($F905,'TA STOCK LOOKUP'!$A$2:$C$202,3,FALSE),\"\")","v":""},"","","","","",""]
["","","","","","",{"$f":"IF(F906<>\"\",VLOOKUP($F906,'TA STOCK LOOKUP'!$A$2:$C$202,2,FALSE),\"\")","v":""},{"$f":"IF(G906<>\"\",VLOOKUP($F906,'TA STOCK LOOKUP'!$A$2:$C$202,3,FALSE),\"\")","v":""},"","","","","",""]
["","","","","","",{"$f":"IF(F907<>\"\",VLOOKUP($F907,'TA STOCK LOOKUP'!$A$2:$C$202,2,FALSE),\"\")","v":""},{"$f":"IF(G907<>\"\",VLOOKUP($F907,'TA STOCK LOOKUP'!$A$2:$C$202,3,FALSE),\"\")","v":""},"","","","","",""]
["","","","","","",{"$f":"IF(F908<>\"\",VLOOKUP($F908,'TA STOCK LOOKUP'!$A$2:$C$202,2,FALSE),\"\")","v":""},{"$f":"IF(G908<>\"\",VLOOKUP($F908,'TA STOCK LOOKUP'!$A$2:$C$202,3,FALSE),\"\")","v":""},"","","","","",""]
["","","","","","",{"$f":"IF(F909<>\"\",VLOOKUP($F909,'TA STOCK LOOKUP'!$A$2:$C$202,2,FALSE),\"\")","v":""},{"$f":"IF(G909<>\"\",VLOOKUP($F909,'TA STOCK LOOKUP'!$A$2:$C$202,3,FALSE),\"\")","v":""},"","","","","",""]
["","","","","","",{"$f":"IF(F910<>\"\",VLOOKUP($F910,'TA STOCK LOOKUP'!$A$2:$C$202,2,FALSE),\"\")","v":""},{"$f":"IF(G910<>\"\",VLOOKUP($F910,'TA STOCK LOOKUP'!$A$2:$C$202,3,FALSE),\"\")","v":""},"","","","","",""]
["","","","","","",{"$f":"IF(F911<>\"\",VLOOKUP($F911,'TA STOCK LOOKUP'!$A$2:$C$202,2,FALSE),\"\")","v":""},{"$f":"IF(G911<>\"\",VLOOKUP($F911,'TA STOCK LOOKUP'!$A$2:$C$202,3,FALSE),\"\")","v":""},"","","","","",""]
["","","","","","",{"$f":"IF(F912<>\"\",VLOOKUP($F912,'TA STOCK LOOKUP'!$A$2:$C$202,2,FALSE),\"\")","v":""},{"$f":"IF(G912<>\"\",VLOOKUP($F912,'TA STOCK LOOKUP'!$A$2:$C$202,3,FALSE),\"\")","v":""},"","","","","",""]
["","","","","","",{"$f":"IF(F913<>\"\",VLOOKUP($F913,'TA STOCK LOOKUP'!$A$2:$C$202,2,FALSE),\"\")","v":""},{"$f":"IF(G913<>\"\",VLOOKUP($F913,'TA STOCK LOOKUP'!$A$2:$C$202,3,FALSE),\"\")","v":""},"","","","","",""]
["","","","","","",{"$f":"IF(F914<>\"\",VLOOKUP($F914,'TA STOCK LOOKUP'!$A$2:$C$202,2,FALSE),\"\")","v":""},{"$f":"IF(G914<>\"\",VLOOKUP($F914,'TA STOCK LOOKUP'!$A$2:$C$202,3,FALSE),\"\")","v":""},"","","","","",""]
["","","","","","",{"$f":"IF(F915<>\"\",VLOOKUP($F915,'TA STOCK LOOKUP'!$A$2:$C$202,2,FALSE),\"\")","v":""},{"$f":"IF(G915<>\"\",VLOOKUP($F915,'TA STOCK LOOKUP'!$A$2:$C$202,3,FALSE),\"\")","v":""},"","","","","",""]
["","","","","","",{"$f":"IF(F916<>\"\",VLOOKUP($F916,'TA STOCK LOOKUP'!$A$2:$C$202,2,FALSE),\"\")","v":""},{"$f":"IF(G916<>\"\",VLOOKUP($F916,'TA STOCK LOOKUP'!$A$2:$C$202,3,FALSE),\"\")","v":""},"","","","","",""]
["","","","","","",{"$f":"IF(F917<>\"\",VLOOKUP($F917,'TA STOCK LOOKUP'!$A$2:$C$202,2,FALSE),\"\")","v":""},{"$f":"IF(G917<>\"\",VLOOKUP($F917,'TA STOCK LOOKUP'!$A$2:$C$202,3,FALSE),\"\")","v":""},"","","","","",""]
["","","","","","",{"$f":"IF(F918<>\"\",VLOOKUP($F918,'TA STOCK LOOKUP'!$A$2:$C$202,2,FALSE),\"\")","v":""},{"$f":"IF(G918<>\"\",VLOOKUP($F918,'TA STOCK LOOKUP'!$A$2:$C$202,3,FALSE),\"\")","v":""},"","","","","",""]
["","","","","","",{"$f":"IF(F919<>\"\",VLOOKUP($F919,'TA STOCK LOOKUP'!$A$2:$C$202,2,FALSE),\"\")","v":""},{"$f":"IF(G919<>\"\",VLOOKUP($F919,'TA STOCK LOOKUP'!$A$2:$C$202,3,FALSE),\"\")","v":""},"","","","","",""]
["","","","","","",{"$f":"IF(F920<>\"\",VLOOKUP($F920,'TA STOCK LOOKUP'!$A$2:$C$202,2,FALSE),\"\")","v":""},{"$f":"IF(G920<>\"\",VLOOKUP($F920,'TA STOCK LOOKUP'!$A$2:$C$202,3,FALSE),\"\")","v":""},"","","","","",""]
["","","","","","",{"$f":"IF(F921<>\"\",VLOOKUP($F921,'TA STOCK LOOKUP'!$A$2:$C$202,2,FALSE),\"\")","v":""},{"$f":"IF(G921<>\"\",VLOOKUP($F921,'TA STOCK LOOKUP'!$A$2:$C$202,3,FALSE),\"\")","v":""},"","","","","",""]
["","","","","","",{"$f":"IF(F922<>\"\",VLOOKUP($F922,'TA STOCK LOOKUP'!$A$2:$C$202,2,FALSE),\"\")","v":""},{"$f":"IF(G922<>\"\",VLOOKUP($F922,'TA STOCK LOOKUP'!$A$2:$C$202,3,FALSE),\"\")","v":""},"","","","","",""]
["","","","","","",{"$f":"IF(F923<>\"\",VLOOKUP($F923,'TA STOCK LOOKUP'!$A$2:$C$202,2,FALSE),\"\")","v":""},{"$f":"IF(G923<>\"\",VLOOKUP($F923,'TA STOCK LOOKUP'!$A$2:$C$202,3,FALSE),\"\")","v":""},"","","","","",""]
["","","","","","",{"$f":"IF(F924<>\"\",VLOOKUP($F924,'TA STOCK LOOKUP'!$A$2:$C$202,2,FALSE),\"\")","v":""},{"$f":"IF(G924<>\"\",VLOOKUP($F924,'TA STOCK LOOKUP'!$A$2:$C$202,3,FALSE),\"\")","v":""},"","","","","",""]
["","","","","","",{"$f":"IF(F925<>\"\",VLOOKUP($F925,'TA STOCK LOOKUP'!$A$2:$C$202,2,FALSE),\"\")","v":""},{"$f":"IF(G925<>\"\",VLOOKUP($F925,'TA STOCK LOOKUP'!$A$2:$C$202,3,FALSE),\"\")","v":""},"","","","","",""]
["","","","","","",{"$f":"IF(F926<>\"\",VLOOKUP($F926,'TA STOCK LOOKUP'!$A$2:$C$202,2,FALSE),\"\")","v":""},{"$f":"IF(G926<>\"\",VLOOKUP($F926,'TA STOCK LOOKUP'!$A$2:$C$202,3,FALSE),\"\")","v":""},"","","","","",""]
["","","","","","",{"$f":"IF(F927<>\"\",VLOOKUP($F927,'TA STOCK LOOKUP'!$A$2:$C$202,2,FALSE),\"\")","v":""},{"$f":"IF(G927<>\"\",VLOOKUP($F927,'TA STOCK LOOKUP'!$A$2:$C$202,3,FALSE),\"\")","v":""},"","","","","",""]
["","","","","","",{"$f":"IF(F928<>\"\",VLOOKUP($F928,'TA STOCK LOOKUP'!$A$2:$C$202,2,FALSE),\"\")","v":""},{"$f":"IF(G928<>\"\",VLOOKUP($F928,'TA STOCK LOOKUP'!$A$2:$C$202,3,FALSE),\"\")","v":""},"","","","","",""]
["","","","","","",{"$f":"IF(F929<>\"\",VLOOKUP($F929,'TA STOCK LOOKUP'!$A$2:$C$202,2,FALSE),\"\")","v":""},{"$f":"IF(G929<>\"\",VLOOKUP($F929,'TA STOCK LOOKUP'!$A$2:$C$202,3,FALSE),\"\")","v":""},"","","","","",""]
["","","","","","",{"$f":"IF(F930<>\"\",VLOOKUP($F930,'TA STOCK LOOKUP'!$A$2:$C$202,2,FALSE),\"\")","v":""},{"$f":"IF(G930<>\"\",VLOOKUP($F930,'TA STOCK LOOKUP'!$A$2:$C$202,3,FALSE),\"\")","v":""},"","","","","",""]
["","","","","","",{"$f":"IF(F931<>\"\",VLOOKUP($F931,'TA STOCK LOOKUP'!$A$2:$C$202,2,FALSE),\"\")","v":""},{"$f":"IF(G931<>\"\",VLOOKUP($F931,'TA STOCK LOOKUP'!$A$2:$C$202,3,FALSE),\"\")","v":""},"","","","","",""]
["","","","","","",{"$f":"IF(F932<>\"\",VLOOKUP($F932,'TA STOCK LOOKUP'!$A$2:$C$202,2,FALSE),\"\")","v":""},{"$f":"IF(G932<>\"\",VLOOKUP($F932,'TA STOCK LOOKUP'!$A$2:$C$202,3,FALSE),\"\")","v":""},"","","","","",""]
["","","","","","",{"$f":"IF(F933<>\"\",VLOOKUP($F933,'TA STOCK LOOKUP'!$A$2:$C$202,2,FALSE),\"\")","v":""},{"$f":"IF(G933<>\"\",VLOOKUP($F933,'TA STOCK LOOKUP'!$A$2:$C$202,3,FALSE),\"\")","v":""},"","","","","",""]
["","","","","","",{"$f":"IF(F934<>\"\",VLOOKUP($F934,'TA STOCK LOOKUP'!$A$2:$C$202,2,FALSE),\"\")","v":""},{"$f":"IF(G934<>\"\",VLOOKUP($F934,'TA STOCK LOOKUP'!$A$2:$C$202,3,FALSE),\"\")","v":""},"","","","","",""]
["","","","","","",{"$f":"IF(F935<>\"\",VLOOKUP($F935,'TA STOCK LOOKUP'!$A$2:$C$202,2,FALSE),\"\")","v":""},{"$f":"IF(G935<>\"\",VLOOKUP($F935,'TA STOCK LOOKUP'!$A$2:$C$202,3,FALSE),\"\")","v":""},"","","","","",""]
["","","","","","",{"$f":"IF(F936<>\"\",VLOOKUP($F936,'TA STOCK LOOKUP'!$A$2:$C$202,2,FALSE),\"\")","v":""},{"$f":"IF(G936<>\"\",VLOOKUP($F936,'TA STOCK LOOKUP'!$A$2:$C$202,3,FALSE),\"\")","v":""},"","","","","",""]
["","","","","","",{"$f":"IF(F937<>\"\",VLOOKUP($F937,'TA STOCK LOOKUP'!$A$2:$C$202,2,FALSE),\"\")","v":""},{"$f":"IF(G937<>\"\",VLOOKUP($F937,'TA STOCK LOOKUP'!$A$2:$C$202,3,FALSE),\"\")","v":""},"","","","","",""]
["","","","","","",{"$f":"IF(F938<>\"\",VLOOKUP($F938,'TA STOCK LOOKUP'!$A$2:$C$202,2,FALSE),\"\")","v":""},{"$f":"IF(G938<>\"\",VLOOKUP($F938,'TA STOCK LOOKUP'!$A$2:$C$202,3,FALSE),\"\")","v":""},"","","","","",""]
["","","","","","",{"$f":"IF(F939<>\"\",VLOOKUP($F939,'TA STOCK LOOKUP'!$A$2:$C$202,2,FALSE),\"\")","v":""},{"$f":"IF(G939<>\"\",VLOOKUP($F939,'TA STOCK LOOKUP'!$A$2:$C$202,3,FALSE),\"\")","v":""},"","","","","",""]
["","","","","","",{"$f":"IF(F940<>\"\",VLOOKUP($F940,'TA STOCK LOOKUP'!$A$2:$C$202,2,FALSE),\"\")","v":""},{"$f":"IF(G940<>\"\",VLOOKUP($F940,'TA STOCK LOOKUP'!$A$2:$C$202,3,FALSE),\"\")","v":""},"","","","","",""]
["","","","","","",{"$f":"IF(F941<>\"\",VLOOKUP($F941,'TA STOCK LOOKUP'!$A$2:$C$202,2,FALSE),\"\")","v":""},{"$f":"IF(G941<>\"\",VLOOKUP($F941,'TA STOCK LOOKUP'!$A$2:$C$202,3,FALSE),\"\")","v":""},"","","","","",""]
["","","","","","",{"$f":"IF(F942<>\"\",VLOOKUP($F942,'TA STOCK LOOKUP'!$A$2:$C$202,2,FALSE),\"\")","v":""},{"$f":"IF(G942<>\"\",VLOOKUP($F942,'TA STOCK LOOKUP'!$A$2:$C$202,3,FALSE),\"\")","v":""},"","","","","",""]
["","","","","","",{"$f":"IF(F943<>\"\",VLOOKUP($F943,'TA STOCK LOOKUP'!$A$2:$C$202,2,FALSE),\"\")","v":""},{"$f":"IF(G943<>\"\",VLOOKUP($F943,'TA STOCK LOOKUP'!$A$2:$C$202,3,FALSE),\"\")","v":""},"","","","","",""]
["","","","","","",{"$f":"IF(F944<>\"\",VLOOKUP($F944,'TA STOCK LOOKUP'!$A$2:$C$202,2,FALSE),\"\")","v":""},{"$f":"IF(G944<>\"\",VLOOKUP($F944,'TA STOCK LOOKUP'!$A$2:$C$202,3,FALSE),\"\")","v":""},"","","","","",""]
["","","","","","",{"$f":"IF(F945<>\"\",VLOOKUP($F945,'TA STOCK LOOKUP'!$A$2:$C$202,2,FALSE),\"\")","v":""},{"$f":"IF(G945<>\"\",VLOOKUP($F945,'TA STOCK LOOKUP'!$A$2:$C$202,3,FALSE),\"\")","v":""},"","","","","",""]
["","","","","","",{"$f":"IF(F946<>\"\",VLOOKUP($F946,'TA STOCK LOOKUP'!$A$2:$C$202,2,FALSE),\"\")","v":""},{"$f":"IF(G946<>\"\",VLOOKUP($F946,'TA STOCK LOOKUP'!$A$2:$C$202,3,FALSE),\"\")","v":""},"","","","","",""]
["","","","","","",{"$f":"IF(F947<>\"\",VLOOKUP($F947,'TA STOCK LOOKUP'!$A$2:$C$202,2,FALSE),\"\")","v":""},{"$f":"IF(G947<>\"\",VLOOKUP($F947,'TA STOCK LOOKUP'!$A$2:$C$202,3,FALSE),\"\")","v":""},"","","","","",""]
["","","","","","",{"$f":"IF(F948<>\"\",VLOOKUP($F948,'TA STOCK LOOKUP'!$A$2:$C$202,2,FALSE),\"\")","v":""},{"$f":"IF(G948<>\"\",VLOOKUP($F948,'TA STOCK LOOKUP'!$A$2:$C$202,3,FALSE),\"\")","v":""},"","","","","",""]
["","","","","","",{"$f":"IF(F949<>\"\",VLOOKUP($F949,'TA STOCK LOOKUP'!$A$2:$C$202,2,FALSE),\"\")","v":""},{"$f":"IF(G949<>\"\",VLOOKUP($F949,'TA STOCK LOOKUP'!$A$2:$C$202,3,FALSE),\"\")","v":""},"","","","","",""]
["","","","","","",{"$f":"IF(F950<>\"\",VLOOKUP($F950,'TA STOCK LOOKUP'!$A$2:$C$202,2,FALSE),\"\")","v":""},{"$f":"IF(G950<>\"\",VLOOKUP($F950,'TA STOCK LOOKUP'!$A$2:$C$202,3,FALSE),\"\")","v":""},"","","","","",""]
["","","","","","",{"$f":"IF(F951<>\"\",VLOOKUP($F951,'TA STOCK LOOKUP'!$A$2:$C$202,2,FALSE),\"\")","v":""},{"$f":"IF(G951<>\"\",VLOOKUP($F951,'TA STOCK LOOKUP'!$A$2:$C$202,3,FALSE),\"\")","v":""},"","","","","",""]
["","","","","","",{"$f":"IF(F952<>\"\",VLOOKUP($F952,'TA STOCK LOOKUP'!$A$2:$C$202,2,FALSE),\"\")","v":""},{"$f":"IF(G952<>\"\",VLOOKUP($F952,'TA STOCK LOOKUP'!$A$2:$C$202,3,FALSE),\"\")","v":""},"","","","","",""]
["","","","","","",{"$f":"IF(F953<>\"\",VLOOKUP($F953,'TA STOCK LOOKUP'!$A$2:$C$202,2,FALSE),\"\")","v":""},{"$f":"IF(G953<>\"\",VLOOKUP($F953,'TA STOCK LOOKUP'!$A$2:$C$202,3,FALSE),\"\")","v":""},"","","","","",""]
["","","","","","",{"$f":"IF(F954<>\"\",VLOOKUP($F954,'TA STOCK LOOKUP'!$A$2:$C$202,2,FALSE),\"\")","v":""},{"$f":"IF(G954<>\"\",VLOOKUP($F954,'TA STOCK LOOKUP'!$A$2:$C$202,3,FALSE),\"\")","v":""},"","","","","",""]
["","","","","","",{"$f":"IF(F955<>\"\",VLOOKUP($F955,'TA STOCK LOOKUP'!$A$2:$C$202,2,FALSE),\"\")","v":""},{"$f":"IF(G955<>\"\",VLOOKUP($F955,'TA STOCK LOOKUP'!$A$2:$C$202,3,FALSE),\"\")","v":""},"","","","","",""]
["","","","","","",{"$f":"IF(F956<>\"\",VLOOKUP($F956,'TA STOCK LOOKUP'!$A$2:$C$202,2,FALSE),\"\")","v":""},{"$f":"IF(G956<>\"\",VLOOKUP($F956,'TA STOCK LOOKUP'!$A$2:$C$202,3,FALSE),\"\")","v":""},"","","","","",""]
["","","","","","",{"$f":"IF(F957<>\"\",VLOOKUP($F957,'TA STOCK LOOKUP'!$A$2:$C$202,2,FALSE),\"\")","v":""},{"$f":"IF(G957<>\"\",VLOOKUP($F957,'TA STOCK LOOKUP'!$A$2:$C$202,3,FALSE),\"\")","v":""},"","","","","",""]
["","","","","","",{"$f":"IF(F958<>\"\",VLOOKUP($F958,'TA STOCK LOOKUP'!$A$2:$C$202,2,FALSE),\"\")","v":""},{"$f":"IF(G958<>\"\",VLOOKUP($F958,'TA STOCK LOOKUP'!$A$2:$C$202,3,FALSE),\"\")","v":""},"","","","","",""]
["","","","","","",{"$f":"IF(F959<>\"\",VLOOKUP($F959,'TA STOCK LOOKUP'!$A$2:$C$202,2,FALSE),\"\")","v":""},{"$f":"IF(G959<>\"\",VLOOKUP($F959,'TA STOCK LOOKUP'!$A$2:$C$202,3,FALSE),\"\")","v":""},"","","","","",""]
["","","","","","",{"$f":"IF(F960<>\"\",VLOOKUP($F960,'TA STOCK LOOKUP'!$A$2:$C$202,2,FALSE),\"\")","v":""},{"$f":"IF(G960<>\"\",VLOOKUP($F960,'TA STOCK LOOKUP'!$A$2:$C$202,3,FALSE),\"\")","v":""},"","","","","",""]
["","","","","","",{"$f":"IF(F961<>\"\",VLOOKUP($F961,'TA STOCK LOOKUP'!$A$2:$C$202,2,FALSE),\"\")","v":""},{"$f":"IF(G961<>\"\",VLOOKUP($F961,'TA STOCK LOOKUP'!$A$2:$C$202,3,FALSE),\"\")","v":""},"","","","","",""]
["","","","","","",{"$f":"IF(F962<>\"\",VLOOKUP($F962,'TA STOCK LOOKUP'!$A$2:$C$202,2,FALSE),\"\")","v":""},{"$f":"IF(G962<>\"\",VLOOKUP($F962,'TA STOCK LOOKUP'!$A$2:$C$202,3,FALSE),\"\")","v":""},"","","","","",""]
["","","","","","",{"$f":"IF(F963<>\"\",VLOOKUP($F963,'TA STOCK LOOKUP'!$A$2:$C$202,2,FALSE),\"\")","v":""},{"$f":"IF(G963<>\"\",VLOOKUP($F963,'TA STOCK LOOKUP'!$A$2:$C$202,3,FALSE),\"\")","v":""},"","","","","",""]
["","","","","","",{"$f":"IF(F964<>\"\",VLOOKUP($F964,'TA STOCK LOOKUP'!$A$2:$C$202,2,FALSE),\"\")","v":""},{"$f":"IF(G964<>\"\",VLOOKUP($F964,'TA STOCK LOOKUP'!$A$2:$C$202,3,FALSE),\"\")","v":""},"","","","","",""]
["","","","","","",{"$f":"IF(F965<>\"\",VLOOKUP($F965,'TA STOCK LOOKUP'!$A$2:$C$202,2,FALSE),\"\")","v":""},{"$f":"IF(G965<>\"\",VLOOKUP($F965,'TA STOCK LOOKUP'!$A$2:$C$202,3,FALSE),\"\")","v":""},"","","","","",""]
["","","","","","",{"$f":"IF(F966<>\"\",VLOOKUP($F966,'TA STOCK LOOKUP'!$A$2:$C$202,2,FALSE),\"\")","v":""},{"$f":"IF(G966<>\"\",VLOOKUP($F966,'TA STOCK LOOKUP'!$A$2:$C$202,3,FALSE),\"\")","v":""},"","","","","",""]
["","","","","","",{"$f":"IF(F967<>\"\",VLOOKUP($F967,'TA STOCK LOOKUP'!$A$2:$C$202,2,FALSE),\"\")","v":""},{"$f":"IF(G967<>\"\",VLOOKUP($F967,'TA STOCK LOOKUP'!$A$2:$C$202,3,FALSE),\"\")","v":""},"","","","","",""]
["","","","","","",{"$f":"IF(F968<>\"\",VLOOKUP($F968,'TA STOCK LOOKUP'!$A$2:$C$202,2,FALSE),\"\")","v":""},{"$f":"IF(G968<>\"\",VLOOKUP($F968,'TA STOCK LOOKUP'!$A$2:$C$202,3,FALSE),\"\")","v":""},"","","","","",""]
["","","","","","",{"$f":"IF(F969<>\"\",VLOOKUP($F969,'TA STOCK LOOKUP'!$A$2:$C$202,2,FALSE),\"\")","v":""},{"$f":"IF(G969<>\"\",VLOOKUP($F969,'TA STOCK LOOKUP'!$A$2:$C$202,3,FALSE),\"\")","v":""},"","","","","",""]
["","","","","","",{"$f":"IF(F970<>\"\",VLOOKUP($F970,'TA STOCK LOOKUP'!$A$2:$C$202,2,FALSE),\"\")","v":""},{"$f":"IF(G970<>\"\",VLOOKUP($F970,'TA STOCK LOOKUP'!$A$2:$C$202,3,FALSE),\"\")","v":""},"","","","","",""]
["","","","","","",{"$f":"IF(F971<>\"\",VLOOKUP($F971,'TA STOCK LOOKUP'!$A$2:$C$202,2,FALSE),\"\")","v":""},{"$f":"IF(G971<>\"\",VLOOKUP($F971,'TA STOCK LOOKUP'!$A$2:$C$202,3,FALSE),\"\")","v":""},"","","","","",""]
["","","","","","",{"$f":"IF(F972<>\"\",VLOOKUP($F972,'TA STOCK LOOKUP'!$A$2:$C$202,2,FALSE),\"\")","v":""},{"$f":"IF(G972<>\"\",VLOOKUP($F972,'TA STOCK LOOKUP'!$A$2:$C$202,3,FALSE),\"\")","v":""},"","","","","",""]
["","","","","","",{"$f":"IF(F973<>\"\",VLOOKUP($F973,'TA STOCK LOOKUP'!$A$2:$C$202,2,FALSE),\"\")","v":""},{"$f":"IF(G973<>\"\",VLOOKUP($F973,'TA STOCK LOOKUP'!$A$2:$C$202,3,FALSE),\"\")","v":""},"","","","","",""]
["","","","","","",{"$f":"IF(F974<>\"\",VLOOKUP($F974,'TA STOCK LOOKUP'!$A$2:$C$202,2,FALSE),\"\")","v":""},{"$f":"IF(G974<>\"\",VLOOKUP($F974,'TA STOCK LOOKUP'!$A$2:$C$202,3,FALSE),\"\")","v":""},"","","","","",""]
["","","","","","",{"$f":"IF(F975<>\"\",VLOOKUP($F975,'TA STOCK LOOKUP'!$A$2:$C$202,2,FALSE),\"\")","v":""},{"$f":"IF(G975<>\"\",VLOOKUP($F975,'TA STOCK LOOKUP'!$A$2:$C$202,3,FALSE),\"\")","v":""},"","","","","",""]
["","","","","","",{"$f":"IF(F976<>\"\",VLOOKUP($F976,'TA STOCK LOOKUP'!$A$2:$C$202,2,FALSE),\"\")","v":""},{"$f":"IF(G976<>\"\",VLOOKUP($F976,'TA STOCK LOOKUP'!$A$2:$C$202,3,FALSE),\"\")","v":""},"","","","","",""]
["","","","","","",{"$f":"IF(F977<>\"\",VLOOKUP($F977,'TA STOCK LOOKUP'!$A$2:$C$202,2,FALSE),\"\")","v":""},{"$f":"IF(G977<>\"\",VLOOKUP($F977,'TA STOCK LOOKUP'!$A$2:$C$202,3,FALSE),\"\")","v":""},"","","","","",""]
["","","","","","",{"$f":"IF(F978<>\"\",VLOOKUP($F978,'TA STOCK LOOKUP'!$A$2:$C$202,2,FALSE),\"\")","v":""},{"$f":"IF(G978<>\"\",VLOOKUP($F978,'TA STOCK LOOKUP'!$A$2:$C$202,3,FALSE),\"\")","v":""},"","","","","",""]
["","","","","","",{"$f":"IF(F979<>\"\",VLOOKUP($F979,'TA STOCK LOOKUP'!$A$2:$C$202,2,FALSE),\"\")","v":""},{"$f":"IF(G979<>\"\",VLOOKUP($F979,'TA STOCK LOOKUP'!$A$2:$C$202,3,FALSE),\"\")","v":""},"","","","","",""]
["","","","","","",{"$f":"IF(F980<>\"\",VLOOKUP($F980,'TA STOCK LOOKUP'!$A$2:$C$202,2,FALSE),\"\")","v":""},{"$f":"IF(G980<>\"\",VLOOKUP($F980,'TA STOCK LOOKUP'!$A$2:$C$202,3,FALSE),\"\")","v":""},"","","","","",""]
["","","","","","",{"$f":"IF(F981<>\"\",VLOOKUP($F981,'TA STOCK LOOKUP'!$A$2:$C$202,2,FALSE),\"\")","v":""},{"$f":"IF(G981<>\"\",VLOOKUP($F981,'TA STOCK LOOKUP'!$A$2:$C$202,3,FALSE),\"\")","v":""},"","","","","",""]
["","","","","","",{"$f":"IF(F982<>\"\",VLOOKUP($F982,'TA STOCK LOOKUP'!$A$2:$C$202,2,FALSE),\"\")","v":""},{"$f":"IF(G982<>\"\",VLOOKUP($F982,'TA STOCK LOOKUP'!$A$2:$C$202,3,FALSE),\"\")","v":""},"","","","","",""]
["","","","","","",{"$f":"IF(F983<>\"\",VLOOKUP($F983,'TA STOCK LOOKUP'!$A$2:$C$202,2,FALSE),\"\")","v":""},{"$f":"IF(G983<>\"\",VLOOKUP($F983,'TA STOCK LOOKUP'!$A$2:$C$202,3,FALSE),\"\")","v":""},"","","","","",""]
["","","","","","",{"$f":"IF(F984<>\"\",VLOOKUP($F984,'TA STOCK LOOKUP'!$A$2:$C$202,2,FALSE),\"\")","v":""},{"$f":"IF(G984<>\"\",VLOOKUP($F984,'TA STOCK LOOKUP'!$A$2:$C$202,3,FALSE),\"\")","v":""},"","","","","",""]
["","","","","","",{"$f":"IF(F985<>\"\",VLOOKUP($F985,'TA STOCK LOOKUP'!$A$2:$C$202,2,FALSE),\"\")","v":""},{"$f":"IF(G985<>\"\",VLOOKUP($F985,'TA STOCK LOOKUP'!$A$2:$C$202,3,FALSE),\"\")","v":""},"","","","","",""]
["","","","","","",{"$f":"IF(F986<>\"\",VLOOKUP($F986,'TA STOCK LOOKUP'!$A$2:$C$202,2,FALSE),\"\")","v":""},{"$f":"IF(G986<>\"\",VLOOKUP($F986,'TA STOCK LOOKUP'!$A$2:$C$202,3,FALSE),\"\")","v":""},"","","","","",""]
["","","","","","",{"$f":"IF(F987<>\"\",VLOOKUP($F987,'TA STOCK LOOKUP'!$A$2:$C$202,2,FALSE),\"\")","v":""},{"$f":"IF(G987<>\"\",VLOOKUP($F987,'TA STOCK LOOKUP'!$A$2:$C$202,3,FALSE),\"\")","v":""},"","","","","",""]
["","","","","","",{"$f":"IF(F988<>\"\",VLOOKUP($F988,'TA STOCK LOOKUP'!$A$2:$C$202,2,FALSE),\"\")","v":""},{"$f":"IF(G988<>\"\",VLOOKUP($F988,'TA STOCK LOOKUP'!$A$2:$C$202,3,FALSE),\"\")","v":""},"","","","","",""]
["","","","","","",{"$f":"IF(F989<>\"\",VLOOKUP($F989,'TA STOCK LOOKUP'!$A$2:$C$202,2,FALSE),\"\")","v":""},{"$f":"IF(G989<>\"\",VLOOKUP($F989,'TA STOCK LOOKUP'!$A$2:$C$202,3,FALSE),\"\")","v":""},"","","","","",""]
["","","","","","",{"$f":"IF(F990<>\"\",VLOOKUP($F990,'TA STOCK LOOKUP'!$A$2:$C$202,2,FALSE),\"\")","v":""},{"$f":"IF(G990<>\"\",VLOOKUP($F990,'TA STOCK LOOKUP'!$A$2:$C$202,3,FALSE),\"\")","v":""},"","","","","",""]
["","","","","","",{"$f":"IF(F991<>\"\",VLOOKUP($F991,'TA STOCK LOOKUP'!$A$2:$C$202,2,FALSE),\"\")","v":""},{"$f":"IF(G991<>\"\",VLOOKUP($F991,'TA STOCK LOOKUP'!$A$2:$C$202,3,FALSE),\"\")","v":""},"","","","","",""]
["","","","","","",{"$f":"IF(F992<>\"\",VLOOKUP($F992,'TA STOCK LOOKUP'!$A$2:$C$202,2,FALSE),\"\")","v":""},{"$f":"IF(G992<>\"\",VLOOKUP($F992,'TA STOCK LOOKUP'!$A$2:$C$202,3,FALSE),\"\")","v":""},"","","","","",""]
["","","","","","",{"$f":"IF(F993<>\"\",VLOOKUP($F993,'TA STOCK LOOKUP'!$A$2:$C$202,2,FALSE),\"\")","v":""},{"$f":"IF(G993<>\"\",VLOOKUP($F993,'TA STOCK LOOKUP'!$A$2:$C$202,3,FALSE),\"\")","v":""},"","","","","",""]
["","","","","","",{"$f":"IF(F994<>\"\",VLOOKUP($F994,'TA STOCK LOOKUP'!$A$2:$C$202,2,FALSE),\"\")","v":""},{"$f":"IF(G994<>\"\",VLOOKUP($F994,'TA STOCK LOOKUP'!$A$2:$C$202,3,FALSE),\"\")","v":""},"","","","","",""]
["","","","","","",{"$f":"IF(F995<>\"\",VLOOKUP($F995,'TA STOCK LOOKUP'!$A$2:$C$202,2,FALSE),\"\")","v":""},{"$f":"IF(G995<>\"\",VLOOKUP($F995,'TA STOCK LOOKUP'!$A$2:$C$202,3,FALSE),\"\")","v":""},"","","","","",""]
["","","","","","",{"$f":"IF(F996<>\"\",VLOOKUP($F996,'TA STOCK LOOKUP'!$A$2:$C$202,2,FALSE),\"\")","v":""},{"$f":"IF(G996<>\"\",VLOOKUP($F996,'TA STOCK LOOKUP'!$A$2:$C$202,3,FALSE),\"\")","v":""},"","","","","",""]
["","","","","","",{"$f":"IF(F997<>\"\",VLOOKUP($F997,'TA STOCK LOOKUP'!$A$2:$C$202,2,FALSE),\"\")","v":""},{"$f":"IF(G997<>\"\",VLOOKUP($F997,'TA STOCK LOOKUP'!$A$2:$C$202,3,FALSE),\"\")","v":""},"","","","","",""]
["","","","","","",{"$f":"IF(F998<>\"\",VLOOKUP($F998,'TA STOCK LOOKUP'!$A$2:$C$202,2,FALSE),\"\")","v":""},{"$f":"IF(G998<>\"\",VLOOKUP($F998,'TA STOCK LOOKUP'!$A$2:$C$202,3,FALSE),\"\")","v":""},"","","","","",""]
["","","","","","",{"$f":"IF(F999<>\"\",VLOOKUP($F999,'TA STOCK LOOKUP'!$A$2:$C$202,2,FALSE),\"\")","v":""},{"$f":"IF(G999<>\"\",VLOOKUP($F999,'TA STOCK LOOKUP'!$A$2:$C$202,3,FALSE),\"\")","v":""},"","","","","",""]
["","","","","","",{"$f":"IF(F1000<>\"\",VLOOKUP($F1000,'TA STOCK LOOKUP'!$A$2:$C$202,2,FALSE),\"\")","v":""},{"$f":"IF(G1000<>\"\",VLOOKUP($F1000,'TA STOCK LOOKUP'!$A$2:$C$202,3,FALSE),\"\")","v":""},"","","","","",""]
["","","","","","",{"$f":"IF(F1001<>\"\",VLOOKUP($F1001,'TA STOCK LOOKUP'!$A$2:$C$202,2,FALSE),\"\")","v":""},{"$f":"IF(G1001<>\"\",VLOOKUP($F1001,'TA STOCK LOOKUP'!$A$2:$C$202,3,FALSE),\"\")","v":""},"","","","","",""]
["","","","","","",{"$f":"IF(F1002<>\"\",VLOOKUP($F1002,'TA STOCK LOOKUP'!$A$2:$C$202,2,FALSE),\"\")","v":""},{"$f":"IF(G1002<>\"\",VLOOKUP($F1002,'TA STOCK LOOKUP'!$A$2:$C$202,3,FALSE),\"\")","v":""},"","","","","",""]
["","","","","","",{"$f":"IF(F1003<>\"\",VLOOKUP($F1003,'TA STOCK LOOKUP'!$A$2:$C$202,2,FALSE),\"\")","v":""},{"$f":"IF(G1003<>\"\",VLOOKUP($F1003,'TA STOCK LOOKUP'!$A$2:$C$202,3,FALSE),\"\")","v":""},"","","","","",""]
["","","","","","",{"$f":"IF(F1004<>\"\",VLOOKUP($F1004,'TA STOCK LOOKUP'!$A$2:$C$202,2,FALSE),\"\")","v":""},{"$f":"IF(G1004<>\"\",VLOOKUP($F1004,'TA STOCK LOOKUP'!$A$2:$C$202,3,FALSE),\"\")","v":""},"","","","","",""]
["","","","","","",{"$f":"IF(F1005<>\"\",VLOOKUP($F1005,'TA STOCK LOOKUP'!$A$2:$C$202,2,FALSE),\"\")","v":""},{"$f":"IF(G1005<>\"\",VLOOKUP($F1005,'TA STOCK LOOKUP'!$A$2:$C$202,3,FALSE),\"\")","v":""},"","","","","",""]
["","","","","","",{"$f":"IF(F1006<>\"\",VLOOKUP($F1006,'TA STOCK LOOKUP'!$A$2:$C$202,2,FALSE),\"\")","v":""},{"$f":"IF(G1006<>\"\",VLOOKUP($F1006,'TA STOCK LOOKUP'!$A$2:$C$202,3,FALSE),\"\")","v":""},"","","","","",""]
["","","","","","",{"$f":"IF(F1007<>\"\",VLOOKUP($F1007,'TA STOCK LOOKUP'!$A$2:$C$202,2,FALSE),\"\")","v":""},{"$f":"IF(G1007<>\"\",VLOOKUP($F1007,'TA STOCK LOOKUP'!$A$2:$C$202,3,FALSE),\"\")","v":""},"","","","","",""]
["","","","","","",{"$f":"IF(F1008<>\"\",VLOOKUP($F1008,'TA STOCK LOOKUP'!$A$2:$C$202,2,FALSE),\"\")","v":""},{"$f":"IF(G1008<>\"\",VLOOKUP($F1008,'TA STOCK LOOKUP'!$A$2:$C$202,3,FALSE),\"\")","v":""},"","","","","",""]
["","","","","","",{"$f":"IF(F1009<>\"\",VLOOKUP($F1009,'TA STOCK LOOKUP'!$A$2:$C$202,2,FALSE),\"\")","v":""},{"$f":"IF(G1009<>\"\",VLOOKUP($F1009,'TA STOCK LOOKUP'!$A$2:$C$202,3,FALSE),\"\")","v":""},"","","","","",""]
["","","","","","",{"$f":"IF(F1010<>\"\",VLOOKUP($F1010,'TA STOCK LOOKUP'!$A$2:$C$202,2,FALSE),\"\")","v":""},{"$f":"IF(G1010<>\"\",VLOOKUP($F1010,'TA STOCK LOOKUP'!$A$2:$C$202,3,FALSE),\"\")","v":""},"","","","","",""]
["","","","","","",{"$f":"IF(F1011<>\"\",VLOOKUP($F1011,'TA STOCK LOOKUP'!$A$2:$C$202,2,FALSE),\"\")","v":""},{"$f":"IF(G1011<>\"\",VLOOKUP($F1011,'TA STOCK LOOKUP'!$A$2:$C$202,3,FALSE),\"\")","v":""},"","","","","",""]
["","","","","","",{"$f":"IF(F1012<>\"\",VLOOKUP($F1012,'TA STOCK LOOKUP'!$A$2:$C$202,2,FALSE),\"\")","v":""},{"$f":"IF(G1012<>\"\",VLOOKUP($F1012,'TA STOCK LOOKUP'!$A$2:$C$202,3,FALSE),\"\")","v":""},"","","","","",""]
["","","","","","",{"$f":"IF(F1013<>\"\",VLOOKUP($F1013,'TA STOCK LOOKUP'!$A$2:$C$202,2,FALSE),\"\")","v":""},{"$f":"IF(G1013<>\"\",VLOOKUP($F1013,'TA STOCK LOOKUP'!$A$2:$C$202,3,FALSE),\"\")","v":""},"","","","","",""]
["","","","","","",{"$f":"IF(F1014<>\"\",VLOOKUP($F1014,'TA STOCK LOOKUP'!$A$2:$C$202,2,FALSE),\"\")","v":""},{"$f":"IF(G1014<>\"\",VLOOKUP($F1014,'TA STOCK LOOKUP'!$A$2:$C$202,3,FALSE),\"\")","v":""},"","","","","",""]
["","","","","","",{"$f":"IF(F1015<>\"\",VLOOKUP($F1015,'TA STOCK LOOKUP'!$A$2:$C$202,2,FALSE),\"\")","v":""},{"$f":"IF(G1015<>\"\",VLOOKUP($F1015,'TA STOCK LOOKUP'!$A$2:$C$202,3,FALSE),\"\")","v":""},"","","","","",""]
["","","","","","",{"$f":"IF(F1016<>\"\",VLOOKUP($F1016,'TA STOCK LOOKUP'!$A$2:$C$202,2,FALSE),\"\")","v":""},{"$f":"IF(G1016<>\"\",VLOOKUP($F1016,'TA STOCK LOOKUP'!$A$2:$C$202,3,FALSE),\"\")","v":""},"","","","","",""]
["","","","","","",{"$f":"IF(F1017<>\"\",VLOOKUP($F1017,'TA STOCK LOOKUP'!$A$2:$C$202,2,FALSE),\"\")","v":""},{"$f":"IF(G1017<>\"\",VLOOKUP($F1017,'TA STOCK LOOKUP'!$A$2:$C$202,3,FALSE),\"\")","v":""},"","","","","",""]
["","","","","","",{"$f":"IF(F1018<>\"\",VLOOKUP($F1018,'TA STOCK LOOKUP'!$A$2:$C$202,2,FALSE),\"\")","v":""},{"$f":"IF(G1018<>\"\",VLOOKUP($F1018,'TA STOCK LOOKUP'!$A$2:$C$202,3,FALSE),\"\")","v":""},"","","","","",""]
["","","","","","",{"$f":"IF(F1019<>\"\",VLOOKUP($F1019,'TA STOCK LOOKUP'!$A$2:$C$202,2,FALSE),\"\")","v":""},{"$f":"IF(G1019<>\"\",VLOOKUP($F1019,'TA STOCK LOOKUP'!$A$2:$C$202,3,FALSE),\"\")","v":""},"","","","","",""]
["","","","","","",{"$f":"IF(F1020<>\"\",VLOOKUP($F1020,'TA STOCK LOOKUP'!$A$2:$C$202,2,FALSE),\"\")","v":""},{"$f":"IF(G1020<>\"\",VLOOKUP($F1020,'TA STOCK LOOKUP'!$A$2:$C$202,3,FALSE),\"\")","v":""},"","","","","",""]
["","","","","","",{"$f":"IF(F1021<>\"\",VLOOKUP($F1021,'TA STOCK LOOKUP'!$A$2:$C$202,2,FALSE),\"\")","v":""},{"$f":"IF(G1021<>\"\",VLOOKUP($F1021,'TA STOCK LOOKUP'!$A$2:$C$202,3,FALSE),\"\")","v":""},"","","","","",""]
["","","","","","",{"$f":"IF(F1022<>\"\",VLOOKUP($F1022,'TA STOCK LOOKUP'!$A$2:$C$202,2,FALSE),\"\")","v":""},{"$f":"IF(G1022<>\"\",VLOOKUP($F1022,'TA STOCK LOOKUP'!$A$2:$C$202,3,FALSE),\"\")","v":""},"","","","","",""]
["","","","","","",{"$f":"IF(F1023<>\"\",VLOOKUP($F1023,'TA STOCK LOOKUP'!$A$2:$C$202,2,FALSE),\"\")","v":""},{"$f":"IF(G1023<>\"\",VLOOKUP($F1023,'TA STOCK LOOKUP'!$A$2:$C$202,3,FALSE),\"\")","v":""},"","","","","",""]
["","","","","","",{"$f":"IF(F1024<>\"\",VLOOKUP($F1024,'TA STOCK LOOKUP'!$A$2:$C$202,2,FALSE),\"\")","v":""},{"$f":"IF(G1024<>\"\",VLOOKUP($F1024,'TA STOCK LOOKUP'!$A$2:$C$202,3,FALSE),\"\")","v":""},"","","","","",""]
["","","","","","",{"$f":"IF(F1025<>\"\",VLOOKUP($F1025,'TA STOCK LOOKUP'!$A$2:$C$202,2,FALSE),\"\")","v":""},{"$f":"IF(G1025<>\"\",VLOOKUP($F1025,'TA STOCK LOOKUP'!$A$2:$C$202,3,FALSE),\"\")","v":""},"","","","","",""]
["","","","","","",{"$f":"IF(F1026<>\"\",VLOOKUP($F1026,'TA STOCK LOOKUP'!$A$2:$C$202,2,FALSE),\"\")","v":""},{"$f":"IF(G1026<>\"\",VLOOKUP($F1026,'TA STOCK LOOKUP'!$A$2:$C$202,3,FALSE),\"\")","v":""},"","","","","",""]
["","","","","","",{"$f":"IF(F1027<>\"\",VLOOKUP($F1027,'TA STOCK LOOKUP'!$A$2:$C$202,2,FALSE),\"\")","v":""},{"$f":"IF(G1027<>\"\",VLOOKUP($F1027,'TA STOCK LOOKUP'!$A$2:$C$202,3,FALSE),\"\")","v":""},"","","","","",""]
["","","","","","",{"$f":"IF(F1028<>\"\",VLOOKUP($F1028,'TA STOCK LOOKUP'!$A$2:$C$202,2,FALSE),\"\")","v":""},{"$f":"IF(G1028<>\"\",VLOOKUP($F1028,'TA STOCK LOOKUP'!$A$2:$C$202,3,FALSE),\"\")","v":""},"","","","","",""]
["","","","","","",{"$f":"IF(F1029<>\"\",VLOOKUP($F1029,'TA STOCK LOOKUP'!$A$2:$C$202,2,FALSE),\"\")","v":""},{"$f":"IF(G1029<>\"\",VLOOKUP($F1029,'TA STOCK LOOKUP'!$A$2:$C$202,3,FALSE),\"\")","v":""},"","","","","",""]
["","","","","","",{"$f":"IF(F1030<>\"\",VLOOKUP($F1030,'TA STOCK LOOKUP'!$A$2:$C$202,2,FALSE),\"\")","v":""},{"$f":"IF(G1030<>\"\",VLOOKUP($F1030,'TA STOCK LOOKUP'!$A$2:$C$202,3,FALSE),\"\")","v":""},"","","","","",""]
["","","","","","",{"$f":"IF(F1031<>\"\",VLOOKUP($F1031,'TA STOCK LOOKUP'!$A$2:$C$202,2,FALSE),\"\")","v":""},{"$f":"IF(G1031<>\"\",VLOOKUP($F1031,'TA STOCK LOOKUP'!$A$2:$C$202,3,FALSE),\"\")","v":""},"","","","","",""]
["","","","","","",{"$f":"IF(F1032<>\"\",VLOOKUP($F1032,'TA STOCK LOOKUP'!$A$2:$C$202,2,FALSE),\"\")","v":""},{"$f":"IF(G1032<>\"\",VLOOKUP($F1032,'TA STOCK LOOKUP'!$A$2:$C$202,3,FALSE),\"\")","v":""},"","","","","",""]
["","","","","","",{"$f":"IF(F1033<>\"\",VLOOKUP($F1033,'TA STOCK LOOKUP'!$A$2:$C$202,2,FALSE),\"\")","v":""},{"$f":"IF(G1033<>\"\",VLOOKUP($F1033,'TA STOCK LOOKUP'!$A$2:$C$202,3,FALSE),\"\")","v":""},"","","","","",""]
["","","","","","",{"$f":"IF(F1034<>\"\",VLOOKUP($F1034,'TA STOCK LOOKUP'!$A$2:$C$202,2,FALSE),\"\")","v":""},{"$f":"IF(G1034<>\"\",VLOOKUP($F1034,'TA STOCK LOOKUP'!$A$2:$C$202,3,FALSE),\"\")","v":""},"","","","","",""]
["","","","","","",{"$f":"IF(F1035<>\"\",VLOOKUP($F1035,'TA STOCK LOOKUP'!$A$2:$C$202,2,FALSE),\"\")","v":""},{"$f":"IF(G1035<>\"\",VLOOKUP($F1035,'TA STOCK LOOKUP'!$A$2:$C$202,3,FALSE),\"\")","v":""},"","","","","",""]
["","","","","","",{"$f":"IF(F1036<>\"\",VLOOKUP($F1036,'TA STOCK LOOKUP'!$A$2:$C$202,2,FALSE),\"\")","v":""},{"$f":"IF(G1036<>\"\",VLOOKUP($F1036,'TA STOCK LOOKUP'!$A$2:$C$202,3,FALSE),\"\")","v":""},"","","","","",""]
["","","","","","",{"$f":"IF(F1037<>\"\",VLOOKUP($F1037,'TA STOCK LOOKUP'!$A$2:$C$202,2,FALSE),\"\")","v":""},{"$f":"IF(G1037<>\"\",VLOOKUP($F1037,'TA STOCK LOOKUP'!$A$2:$C$202,3,FALSE),\"\")","v":""},"","","","","",""]
["","","","","","",{"$f":"IF(F1038<>\"\",VLOOKUP($F1038,'TA STOCK LOOKUP'!$A$2:$C$202,2,FALSE),\"\")","v":""},{"$f":"IF(G1038<>\"\",VLOOKUP($F1038,'TA STOCK LOOKUP'!$A$2:$C$202,3,FALSE),\"\")","v":""},"","","","","",""]
["","","","","","",{"$f":"IF(F1039<>\"\",VLOOKUP($F1039,'TA STOCK LOOKUP'!$A$2:$C$202,2,FALSE),\"\")","v":""},{"$f":"IF(G1039<>\"\",VLOOKUP($F1039,'TA STOCK LOOKUP'!$A$2:$C$202,3,FALSE),\"\")","v":""},"","","","","",""]
["","","","","","",{"$f":"IF(F1040<>\"\",VLOOKUP($F1040,'TA STOCK LOOKUP'!$A$2:$C$202,2,FALSE),\"\")","v":""},{"$f":"IF(G1040<>\"\",VLOOKUP($F1040,'TA STOCK LOOKUP'!$A$2:$C$202,3,FALSE),\"\")","v":""},"","","","","",""]
["","","","","","",{"$f":"IF(F1041<>\"\",VLOOKUP($F1041,'TA STOCK LOOKUP'!$A$2:$C$202,2,FALSE),\"\")","v":""},{"$f":"IF(G1041<>\"\",VLOOKUP($F1041,'TA STOCK LOOKUP'!$A$2:$C$202,3,FALSE),\"\")","v":""},"","","","","",""]
["","","","","","",{"$f":"IF(F1042<>\"\",VLOOKUP($F1042,'TA STOCK LOOKUP'!$A$2:$C$202,2,FALSE),\"\")","v":""},{"$f":"IF(G1042<>\"\",VLOOKUP($F1042,'TA STOCK LOOKUP'!$A$2:$C$202,3,FALSE),\"\")","v":""},"","","","","",""]
["","","","","","",{"$f":"IF(F1043<>\"\",VLOOKUP($F1043,'TA STOCK LOOKUP'!$A$2:$C$202,2,FALSE),\"\")","v":""},{"$f":"IF(G1043<>\"\",VLOOKUP($F1043,'TA STOCK LOOKUP'!$A$2:$C$202,3,FALSE),\"\")","v":""},"","","","","",""]
["","","","","","",{"$f":"IF(F1044<>\"\",VLOOKUP($F1044,'TA STOCK LOOKUP'!$A$2:$C$202,2,FALSE),\"\")","v":""},{"$f":"IF(G1044<>\"\",VLOOKUP($F1044,'TA STOCK LOOKUP'!$A$2:$C$202,3,FALSE),\"\")","v":""},"","","","","",""]
["","","","","","",{"$f":"IF(F1045<>\"\",VLOOKUP($F1045,'TA STOCK LOOKUP'!$A$2:$C$202,2,FALSE),\"\")","v":""},{"$f":"IF(G1045<>\"\",VLOOKUP($F1045,'TA STOCK LOOKUP'!$A$2:$C$202,3,FALSE),\"\")","v":""},"","","","","",""]
["","","","","","",{"$f":"IF(F1046<>\"\",VLOOKUP($F1046,'TA STOCK LOOKUP'!$A$2:$C$202,2,FALSE),\"\")","v":""},{"$f":"IF(G1046<>\"\",VLOOKUP($F1046,'TA STOCK LOOKUP'!$A$2:$C$202,3,FALSE),\"\")","v":""},"","","","","",""]
["","","","","","",{"$f":"IF(F1047<>\"\",VLOOKUP($F1047,'TA STOCK LOOKUP'!$A$2:$C$202,2,FALSE),\"\")","v":""},{"$f":"IF(G1047<>\"\",VLOOKUP($F1047,'TA STOCK LOOKUP'!$A$2:$C$202,3,FALSE),\"\")","v":""},"","","","","",""]
["","","","","","",{"$f":"IF(F1048<>\"\",VLOOKUP($F1048,'TA STOCK LOOKUP'!$A$2:$C$202,2,FALSE),\"\")","v":""},{"$f":"IF(G1048<>\"\",VLOOKUP($F1048,'TA STOCK LOOKUP'!$A$2:$C$202,3,FALSE),\"\")","v":""},"","","","","",""]
["","","","","","",{"$f":"IF(F1049<>\"\",VLOOKUP($F1049,'TA STOCK LOOKUP'!$A$2:$C$202,2,FALSE),\"\")","v":""},{"$f":"IF(G1049<>\"\",VLOOKUP($F1049,'TA STOCK LOOKUP'!$A$2:$C$202,3,FALSE),\"\")","v":""},"","","","","",""]
["","","","","","",{"$f":"IF(F1050<>\"\",VLOOKUP($F1050,'TA STOCK LOOKUP'!$A$2:$C$202,2,FALSE),\"\")","v":""},{"$f":"IF(G1050<>\"\",VLOOKUP($F1050,'TA STOCK LOOKUP'!$A$2:$C$202,3,FALSE),\"\")","v":""},"","","","","",""]
["","","","","","",{"$f":"IF(F1051<>\"\",VLOOKUP($F1051,'TA STOCK LOOKUP'!$A$2:$C$202,2,FALSE),\"\")","v":""},{"$f":"IF(G1051<>\"\",VLOOKUP($F1051,'TA STOCK LOOKUP'!$A$2:$C$202,3,FALSE),\"\")","v":""},"","","","","",""]
["","","","","","",{"$f":"IF(F1052<>\"\",VLOOKUP($F1052,'TA STOCK LOOKUP'!$A$2:$C$202,2,FALSE),\"\")","v":""},{"$f":"IF(G1052<>\"\",VLOOKUP($F1052,'TA STOCK LOOKUP'!$A$2:$C$202,3,FALSE),\"\")","v":""},"","","","","",""]
["","","","","","",{"$f":"IF(F1053<>\"\",VLOOKUP($F1053,'TA STOCK LOOKUP'!$A$2:$C$202,2,FALSE),\"\")","v":""},{"$f":"IF(G1053<>\"\",VLOOKUP($F1053,'TA STOCK LOOKUP'!$A$2:$C$202,3,FALSE),\"\")","v":""},"","","","","",""]
["","","","","","",{"$f":"IF(F1054<>\"\",VLOOKUP($F1054,'TA STOCK LOOKUP'!$A$2:$C$202,2,FALSE),\"\")","v":""},{"$f":"IF(G1054<>\"\",VLOOKUP($F1054,'TA STOCK LOOKUP'!$A$2:$C$202,3,FALSE),\"\")","v":""},"","","","","",""]
["","","","","","",{"$f":"IF(F1055<>\"\",VLOOKUP($F1055,'TA STOCK LOOKUP'!$A$2:$C$202,2,FALSE),\"\")","v":""},{"$f":"IF(G1055<>\"\",VLOOKUP($F1055,'TA STOCK LOOKUP'!$A$2:$C$202,3,FALSE),\"\")","v":""},"","","","","",""]
["","","","","","",{"$f":"IF(F1056<>\"\",VLOOKUP($F1056,'TA STOCK LOOKUP'!$A$2:$C$202,2,FALSE),\"\")","v":""},{"$f":"IF(G1056<>\"\",VLOOKUP($F1056,'TA STOCK LOOKUP'!$A$2:$C$202,3,FALSE),\"\")","v":""},"","","","","",""]
["","","","","","",{"$f":"IF(F1057<>\"\",VLOOKUP($F1057,'TA STOCK LOOKUP'!$A$2:$C$202,2,FALSE),\"\")","v":""},{"$f":"IF(G1057<>\"\",VLOOKUP($F1057,'TA STOCK LOOKUP'!$A$2:$C$202,3,FALSE),\"\")","v":""},"","","","","",""]
["","","","","","",{"$f":"IF(F1058<>\"\",VLOOKUP($F1058,'TA STOCK LOOKUP'!$A$2:$C$202,2,FALSE),\"\")","v":""},{"$f":"IF(G1058<>\"\",VLOOKUP($F1058,'TA STOCK LOOKUP'!$A$2:$C$202,3,FALSE),\"\")","v":""},"","","","","",""]
["","","","","","",{"$f":"IF(F1059<>\"\",VLOOKUP($F1059,'TA STOCK LOOKUP'!$A$2:$C$202,2,FALSE),\"\")","v":""},{"$f":"IF(G1059<>\"\",VLOOKUP($F1059,'TA STOCK LOOKUP'!$A$2:$C$202,3,FALSE),\"\")","v":""},"","","","","",""]
["","","","","","",{"$f":"IF(F1060<>\"\",VLOOKUP($F1060,'TA STOCK LOOKUP'!$A$2:$C$202,2,FALSE),\"\")","v":""},{"$f":"IF(G1060<>\"\",VLOOKUP($F1060,'TA STOCK LOOKUP'!$A$2:$C$202,3,FALSE),\"\")","v":""},"","","","","",""]
["","","","","","",{"$f":"IF(F1061<>\"\",VLOOKUP($F1061,'TA STOCK LOOKUP'!$A$2:$C$202,2,FALSE),\"\")","v":""},{"$f":"IF(G1061<>\"\",VLOOKUP($F1061,'TA STOCK LOOKUP'!$A$2:$C$202,3,FALSE),\"\")","v":""},"","","","","",""]
["","","","","","",{"$f":"IF(F1062<>\"\",VLOOKUP($F1062,'TA STOCK LOOKUP'!$A$2:$C$202,2,FALSE),\"\")","v":""},{"$f":"IF(G1062<>\"\",VLOOKUP($F1062,'TA STOCK LOOKUP'!$A$2:$C$202,3,FALSE),\"\")","v":""},"","","","","",""]
["","","","","","",{"$f":"IF(F1063<>\"\",VLOOKUP($F1063,'TA STOCK LOOKUP'!$A$2:$C$202,2,FALSE),\"\")","v":""},{"$f":"IF(G1063<>\"\",VLOOKUP($F1063,'TA STOCK LOOKUP'!$A$2:$C$202,3,FALSE),\"\")","v":""},"","","","","",""]
["","","","","","",{"$f":"IF(F1064<>\"\",VLOOKUP($F1064,'TA STOCK LOOKUP'!$A$2:$C$202,2,FALSE),\"\")","v":""},{"$f":"IF(G1064<>\"\",VLOOKUP($F1064,'TA STOCK LOOKUP'!$A$2:$C$202,3,FALSE),\"\")","v":""},"","","","","",""]
["","","","","","",{"$f":"IF(F1065<>\"\",VLOOKUP($F1065,'TA STOCK LOOKUP'!$A$2:$C$202,2,FALSE),\"\")","v":""},{"$f":"IF(G1065<>\"\",VLOOKUP($F1065,'TA STOCK LOOKUP'!$A$2:$C$202,3,FALSE),\"\")","v":""},"","","","","",""]
["","","","","","",{"$f":"IF(F1066<>\"\",VLOOKUP($F1066,'TA STOCK LOOKUP'!$A$2:$C$202,2,FALSE),\"\")","v":""},{"$f":"IF(G1066<>\"\",VLOOKUP($F1066,'TA STOCK LOOKUP'!$A$2:$C$202,3,FALSE),\"\")","v":""},"","","","","",""]
["","","","","","",{"$f":"IF(F1067<>\"\",VLOOKUP($F1067,'TA STOCK LOOKUP'!$A$2:$C$202,2,FALSE),\"\")","v":""},{"$f":"IF(G1067<>\"\",VLOOKUP($F1067,'TA STOCK LOOKUP'!$A$2:$C$202,3,FALSE),\"\")","v":""},"","","","","",""]
["","","","","","",{"$f":"IF(F1068<>\"\",VLOOKUP($F1068,'TA STOCK LOOKUP'!$A$2:$C$202,2,FALSE),\"\")","v":""},{"$f":"IF(G1068<>\"\",VLOOKUP($F1068,'TA STOCK LOOKUP'!$A$2:$C$202,3,FALSE),\"\")","v":""},"","","","","",""]
["","","","","","",{"$f":"IF(F1069<>\"\",VLOOKUP($F1069,'TA STOCK LOOKUP'!$A$2:$C$202,2,FALSE),\"\")","v":""},{"$f":"IF(G1069<>\"\",VLOOKUP($F1069,'TA STOCK LOOKUP'!$A$2:$C$202,3,FALSE),\"\")","v":""},"","","","","",""]
["","","","","","",{"$f":"IF(F1070<>\"\",VLOOKUP($F1070,'TA STOCK LOOKUP'!$A$2:$C$202,2,FALSE),\"\")","v":""},{"$f":"IF(G1070<>\"\",VLOOKUP($F1070,'TA STOCK LOOKUP'!$A$2:$C$202,3,FALSE),\"\")","v":""},"","","","","",""]
["","","","","","",{"$f":"IF(F1071<>\"\",VLOOKUP($F1071,'TA STOCK LOOKUP'!$A$2:$C$202,2,FALSE),\"\")","v":""},{"$f":"IF(G1071<>\"\",VLOOKUP($F1071,'TA STOCK LOOKUP'!$A$2:$C$202,3,FALSE),\"\")","v":""},"","","","","",""]
["","","","","","",{"$f":"IF(F1072<>\"\",VLOOKUP($F1072,'TA STOCK LOOKUP'!$A$2:$C$202,2,FALSE),\"\")","v":""},{"$f":"IF(G1072<>\"\",VLOOKUP($F1072,'TA STOCK LOOKUP'!$A$2:$C$202,3,FALSE),\"\")","v":""},"","","","","",""]
["","","","","","",{"$f":"IF(F1073<>\"\",VLOOKUP($F1073,'TA STOCK LOOKUP'!$A$2:$C$202,2,FALSE),\"\")","v":""},{"$f":"IF(G1073<>\"\",VLOOKUP($F1073,'TA STOCK LOOKUP'!$A$2:$C$202,3,FALSE),\"\")","v":""},"","","","","",""]
["","","","","","",{"$f":"IF(F1074<>\"\",VLOOKUP($F1074,'TA STOCK LOOKUP'!$A$2:$C$202,2,FALSE),\"\")","v":""},{"$f":"IF(G1074<>\"\",VLOOKUP($F1074,'TA STOCK LOOKUP'!$A$2:$C$202,3,FALSE),\"\")","v":""},"","","","","",""]
["","","","","","",{"$f":"IF(F1075<>\"\",VLOOKUP($F1075,'TA STOCK LOOKUP'!$A$2:$C$202,2,FALSE),\"\")","v":""},{"$f":"IF(G1075<>\"\",VLOOKUP($F1075,'TA STOCK LOOKUP'!$A$2:$C$202,3,FALSE),\"\")","v":""},"","","","","",""]
["","","","","","",{"$f":"IF(F1076<>\"\",VLOOKUP($F1076,'TA STOCK LOOKUP'!$A$2:$C$202,2,FALSE),\"\")","v":""},{"$f":"IF(G1076<>\"\",VLOOKUP($F1076,'TA STOCK LOOKUP'!$A$2:$C$202,3,FALSE),\"\")","v":""},"","","","","",""]
["","","","","","",{"$f":"IF(F1077<>\"\",VLOOKUP($F1077,'TA STOCK LOOKUP'!$A$2:$C$202,2,FALSE),\"\")","v":""},{"$f":"IF(G1077<>\"\",VLOOKUP($F1077,'TA STOCK LOOKUP'!$A$2:$C$202,3,FALSE),\"\")","v":""},"","","","","",""]
["","","","","","",{"$f":"IF(F1078<>\"\",VLOOKUP($F1078,'TA STOCK LOOKUP'!$A$2:$C$202,2,FALSE),\"\")","v":""},{"$f":"IF(G1078<>\"\",VLOOKUP($F1078,'TA STOCK LOOKUP'!$A$2:$C$202,3,FALSE),\"\")","v":""},"","","","","",""]
["","","","","","",{"$f":"IF(F1079<>\"\",VLOOKUP($F1079,'TA STOCK LOOKUP'!$A$2:$C$202,2,FALSE),\"\")","v":""},{"$f":"IF(G1079<>\"\",VLOOKUP($F1079,'TA STOCK LOOKUP'!$A$2:$C$202,3,FALSE),\"\")","v":""},"","","","","",""]
["","","","","","",{"$f":"IF(F1080<>\"\",VLOOKUP($F1080,'TA STOCK LOOKUP'!$A$2:$C$202,2,FALSE),\"\")","v":""},{"$f":"IF(G1080<>\"\",VLOOKUP($F1080,'TA STOCK LOOKUP'!$A$2:$C$202,3,FALSE),\"\")","v":""},"","","","","",""]
["","","","","","",{"$f":"IF(F1081<>\"\",VLOOKUP($F1081,'TA STOCK LOOKUP'!$A$2:$C$202,2,FALSE),\"\")","v":""},{"$f":"IF(G1081<>\"\",VLOOKUP($F1081,'TA STOCK LOOKUP'!$A$2:$C$202,3,FALSE),\"\")","v":""},"","","","","",""]
["","","","","","",{"$f":"IF(F1082<>\"\",VLOOKUP($F1082,'TA STOCK LOOKUP'!$A$2:$C$202,2,FALSE),\"\")","v":""},{"$f":"IF(G1082<>\"\",VLOOKUP($F1082,'TA STOCK LOOKUP'!$A$2:$C$202,3,FALSE),\"\")","v":""},"","","","","",""]
["","","","","","",{"$f":"IF(F1083<>\"\",VLOOKUP($F1083,'TA STOCK LOOKUP'!$A$2:$C$202,2,FALSE),\"\")","v":""},{"$f":"IF(G1083<>\"\",VLOOKUP($F1083,'TA STOCK LOOKUP'!$A$2:$C$202,3,FALSE),\"\")","v":""},"","","","","",""]
["","","","","","",{"$f":"IF(F1084<>\"\",VLOOKUP($F1084,'TA STOCK LOOKUP'!$A$2:$C$202,2,FALSE),\"\")","v":""},{"$f":"IF(G1084<>\"\",VLOOKUP($F1084,'TA STOCK LOOKUP'!$A$2:$C$202,3,FALSE),\"\")","v":""},"","","","","",""]
["","","","","","",{"$f":"IF(F1085<>\"\",VLOOKUP($F1085,'TA STOCK LOOKUP'!$A$2:$C$202,2,FALSE),\"\")","v":""},{"$f":"IF(G1085<>\"\",VLOOKUP($F1085,'TA STOCK LOOKUP'!$A$2:$C$202,3,FALSE),\"\")","v":""},"","","","","",""]
["","","","","","",{"$f":"IF(F1086<>\"\",VLOOKUP($F1086,'TA STOCK LOOKUP'!$A$2:$C$202,2,FALSE),\"\")","v":""},{"$f":"IF(G1086<>\"\",VLOOKUP($F1086,'TA STOCK LOOKUP'!$A$2:$C$202,3,FALSE),\"\")","v":""},"","","","","",""]
["","","","","","",{"$f":"IF(F1087<>\"\",VLOOKUP($F1087,'TA STOCK LOOKUP'!$A$2:$C$202,2,FALSE),\"\")","v":""},{"$f":"IF(G1087<>\"\",VLOOKUP($F1087,'TA STOCK LOOKUP'!$A$2:$C$202,3,FALSE),\"\")","v":""},"","","","","",""]
["","","","","","",{"$f":"IF(F1088<>\"\",VLOOKUP($F1088,'TA STOCK LOOKUP'!$A$2:$C$202,2,FALSE),\"\")","v":""},{"$f":"IF(G1088<>\"\",VLOOKUP($F1088,'TA STOCK LOOKUP'!$A$2:$C$202,3,FALSE),\"\")","v":""},"","","","","",""]
["","","","","","",{"$f":"IF(F1089<>\"\",VLOOKUP($F1089,'TA STOCK LOOKUP'!$A$2:$C$202,2,FALSE),\"\")","v":""},{"$f":"IF(G1089<>\"\",VLOOKUP($F1089,'TA STOCK LOOKUP'!$A$2:$C$202,3,FALSE),\"\")","v":""},"","","","","",""]
["","","","","","",{"$f":"IF(F1090<>\"\",VLOOKUP($F1090,'TA STOCK LOOKUP'!$A$2:$C$202,2,FALSE),\"\")","v":""},{"$f":"IF(G1090<>\"\",VLOOKUP($F1090,'TA STOCK LOOKUP'!$A$2:$C$202,3,FALSE),\"\")","v":""},"","","","","",""]
["","","","","","",{"$f":"IF(F1091<>\"\",VLOOKUP($F1091,'TA STOCK LOOKUP'!$A$2:$C$202,2,FALSE),\"\")","v":""},{"$f":"IF(G1091<>\"\",VLOOKUP($F1091,'TA STOCK LOOKUP'!$A$2:$C$202,3,FALSE),\"\")","v":""},"","","","","",""]
["","","","","","",{"$f":"IF(F1092<>\"\",VLOOKUP($F1092,'TA STOCK LOOKUP'!$A$2:$C$202,2,FALSE),\"\")","v":""},{"$f":"IF(G1092<>\"\",VLOOKUP($F1092,'TA STOCK LOOKUP'!$A$2:$C$202,3,FALSE),\"\")","v":""},"","","","","",""]
["","","","","","",{"$f":"IF(F1093<>\"\",VLOOKUP($F1093,'TA STOCK LOOKUP'!$A$2:$C$202,2,FALSE),\"\")","v":""},{"$f":"IF(G1093<>\"\",VLOOKUP($F1093,'TA STOCK LOOKUP'!$A$2:$C$202,3,FALSE),\"\")","v":""},"","","","","",""]
["","","","","","",{"$f":"IF(F1094<>\"\",VLOOKUP($F1094,'TA STOCK LOOKUP'!$A$2:$C$202,2,FALSE),\"\")","v":""},{"$f":"IF(G1094<>\"\",VLOOKUP($F1094,'TA STOCK LOOKUP'!$A$2:$C$202,3,FALSE),\"\")","v":""},"","","","","",""]
["","","","","","",{"$f":"IF(F1095<>\"\",VLOOKUP($F1095,'TA STOCK LOOKUP'!$A$2:$C$202,2,FALSE),\"\")","v":""},{"$f":"IF(G1095<>\"\",VLOOKUP($F1095,'TA STOCK LOOKUP'!$A$2:$C$202,3,FALSE),\"\")","v":""},"","","","","",""]
["","","","","","",{"$f":"IF(F1096<>\"\",VLOOKUP($F1096,'TA STOCK LOOKUP'!$A$2:$C$202,2,FALSE),\"\")","v":""},{"$f":"IF(G1096<>\"\",VLOOKUP($F1096,'TA STOCK LOOKUP'!$A$2:$C$202,3,FALSE),\"\")","v":""},"","","","","",""]
["","","","","","",{"$f":"IF(F1097<>\"\",VLOOKUP($F1097,'TA STOCK LOOKUP'!$A$2:$C$202,2,FALSE),\"\")","v":""},{"$f":"IF(G1097<>\"\",VLOOKUP($F1097,'TA STOCK LOOKUP'!$A$2:$C$202,3,FALSE),\"\")","v":""},"","","","","",""]
["","","","","","",{"$f":"IF(F1098<>\"\",VLOOKUP($F1098,'TA STOCK LOOKUP'!$A$2:$C$202,2,FALSE),\"\")","v":""},{"$f":"IF(G1098<>\"\",VLOOKUP($F1098,'TA STOCK LOOKUP'!$A$2:$C$202,3,FALSE),\"\")","v":""},"","","","","",""]
["","","","","","",{"$f":"IF(F1099<>\"\",VLOOKUP($F1099,'TA STOCK LOOKUP'!$A$2:$C$202,2,FALSE),\"\")","v":""},{"$f":"IF(G1099<>\"\",VLOOKUP($F1099,'TA STOCK LOOKUP'!$A$2:$C$202,3,FALSE),\"\")","v":""},"","","","","",""]
["","","","","","",{"$f":"IF(F1100<>\"\",VLOOKUP($F1100,'TA STOCK LOOKUP'!$A$2:$C$202,2,FALSE),\"\")","v":""},{"$f":"IF(G1100<>\"\",VLOOKUP($F1100,'TA STOCK LOOKUP'!$A$2:$C$202,3,FALSE),\"\")","v":""},"","","","","",""]
["","","","","","",{"$f":"IF(F1101<>\"\",VLOOKUP($F1101,'TA STOCK LOOKUP'!$A$2:$C$202,2,FALSE),\"\")","v":""},{"$f":"IF(G1101<>\"\",VLOOKUP($F1101,'TA STOCK LOOKUP'!$A$2:$C$202,3,FALSE),\"\")","v":""},"","","","","",""]
["","","","","","",{"$f":"IF(F1102<>\"\",VLOOKUP($F1102,'TA STOCK LOOKUP'!$A$2:$C$202,2,FALSE),\"\")","v":""},{"$f":"IF(G1102<>\"\",VLOOKUP($F1102,'TA STOCK LOOKUP'!$A$2:$C$202,3,FALSE),\"\")","v":""},"","","","","",""]
["","","","","","",{"$f":"IF(F1103<>\"\",VLOOKUP($F1103,'TA STOCK LOOKUP'!$A$2:$C$202,2,FALSE),\"\")","v":""},{"$f":"IF(G1103<>\"\",VLOOKUP($F1103,'TA STOCK LOOKUP'!$A$2:$C$202,3,FALSE),\"\")","v":""},"","","","","",""]
["","","","","","",{"$f":"IF(F1104<>\"\",VLOOKUP($F1104,'TA STOCK LOOKUP'!$A$2:$C$202,2,FALSE),\"\")","v":""},{"$f":"IF(G1104<>\"\",VLOOKUP($F1104,'TA STOCK LOOKUP'!$A$2:$C$202,3,FALSE),\"\")","v":""},"","","","","",""]
["","","","","","",{"$f":"IF(F1105<>\"\",VLOOKUP($F1105,'TA STOCK LOOKUP'!$A$2:$C$202,2,FALSE),\"\")","v":""},{"$f":"IF(G1105<>\"\",VLOOKUP($F1105,'TA STOCK LOOKUP'!$A$2:$C$202,3,FALSE),\"\")","v":""},"","","","","",""]
["","","","","","",{"$f":"IF(F1106<>\"\",VLOOKUP($F1106,'TA STOCK LOOKUP'!$A$2:$C$202,2,FALSE),\"\")","v":""},{"$f":"IF(G1106<>\"\",VLOOKUP($F1106,'TA STOCK LOOKUP'!$A$2:$C$202,3,FALSE),\"\")","v":""},"","","","","",""]
["","","","","","",{"$f":"IF(F1107<>\"\",VLOOKUP($F1107,'TA STOCK LOOKUP'!$A$2:$C$202,2,FALSE),\"\")","v":""},{"$f":"IF(G1107<>\"\",VLOOKUP($F1107,'TA STOCK LOOKUP'!$A$2:$C$202,3,FALSE),\"\")","v":""},"","","","","",""]
["","","","","","",{"$f":"IF(F1108<>\"\",VLOOKUP($F1108,'TA STOCK LOOKUP'!$A$2:$C$202,2,FALSE),\"\")","v":""},{"$f":"IF(G1108<>\"\",VLOOKUP($F1108,'TA STOCK LOOKUP'!$A$2:$C$202,3,FALSE),\"\")","v":""},"","","","","",""]
["","","","","","",{"$f":"IF(F1109<>\"\",VLOOKUP($F1109,'TA STOCK LOOKUP'!$A$2:$C$202,2,FALSE),\"\")","v":""},{"$f":"IF(G1109<>\"\",VLOOKUP($F1109,'TA STOCK LOOKUP'!$A$2:$C$202,3,FALSE),\"\")","v":""},"","","","","",""]
["","","","","","",{"$f":"IF(F1110<>\"\",VLOOKUP($F1110,'TA STOCK LOOKUP'!$A$2:$C$202,2,FALSE),\"\")","v":""},{"$f":"IF(G1110<>\"\",VLOOKUP($F1110,'TA STOCK LOOKUP'!$A$2:$C$202,3,FALSE),\"\")","v":""},"","","","","",""]
["","","","","","",{"$f":"IF(F1111<>\"\",VLOOKUP($F1111,'TA STOCK LOOKUP'!$A$2:$C$202,2,FALSE),\"\")","v":""},{"$f":"IF(G1111<>\"\",VLOOKUP($F1111,'TA STOCK LOOKUP'!$A$2:$C$202,3,FALSE),\"\")","v":""},"","","","","",""]
["","","","","","",{"$f":"IF(F1112<>\"\",VLOOKUP($F1112,'TA STOCK LOOKUP'!$A$2:$C$202,2,FALSE),\"\")","v":""},{"$f":"IF(G1112<>\"\",VLOOKUP($F1112,'TA STOCK LOOKUP'!$A$2:$C$202,3,FALSE),\"\")","v":""},"","","","","",""]
["","","","","","",{"$f":"IF(F1113<>\"\",VLOOKUP($F1113,'TA STOCK LOOKUP'!$A$2:$C$202,2,FALSE),\"\")","v":""},{"$f":"IF(G1113<>\"\",VLOOKUP($F1113,'TA STOCK LOOKUP'!$A$2:$C$202,3,FALSE),\"\")","v":""},"","","","","",""]
["","","","","","",{"$f":"IF(F1114<>\"\",VLOOKUP($F1114,'TA STOCK LOOKUP'!$A$2:$C$202,2,FALSE),\"\")","v":""},{"$f":"IF(G1114<>\"\",VLOOKUP($F1114,'TA STOCK LOOKUP'!$A$2:$C$202,3,FALSE),\"\")","v":""},"","","","","",""]
["","","","","","",{"$f":"IF(F1115<>\"\",VLOOKUP($F1115,'TA STOCK LOOKUP'!$A$2:$C$202,2,FALSE),\"\")","v":""},{"$f":"IF(G1115<>\"\",VLOOKUP($F1115,'TA STOCK LOOKUP'!$A$2:$C$202,3,FALSE),\"\")","v":""},"","","","","",""]
["","","","","","",{"$f":"IF(F1116<>\"\",VLOOKUP($F1116,'TA STOCK LOOKUP'!$A$2:$C$202,2,FALSE),\"\")","v":""},{"$f":"IF(G1116<>\"\",VLOOKUP($F1116,'TA STOCK LOOKUP'!$A$2:$C$202,3,FALSE),\"\")","v":""},"","","","","",""]
["","","","","","",{"$f":"IF(F1117<>\"\",VLOOKUP($F1117,'TA STOCK LOOKUP'!$A$2:$C$202,2,FALSE),\"\")","v":""},{"$f":"IF(G1117<>\"\",VLOOKUP($F1117,'TA STOCK LOOKUP'!$A$2:$C$202,3,FALSE),\"\")","v":""},"","","","","",""]
["","","","","","",{"$f":"IF(F1118<>\"\",VLOOKUP($F1118,'TA STOCK LOOKUP'!$A$2:$C$202,2,FALSE),\"\")","v":""},{"$f":"IF(G1118<>\"\",VLOOKUP($F1118,'TA STOCK LOOKUP'!$A$2:$C$202,3,FALSE),\"\")","v":""},"","","","","",""]
["","","","","","",{"$f":"IF(F1119<>\"\",VLOOKUP($F1119,'TA STOCK LOOKUP'!$A$2:$C$202,2,FALSE),\"\")","v":""},{"$f":"IF(G1119<>\"\",VLOOKUP($F1119,'TA STOCK LOOKUP'!$A$2:$C$202,3,FALSE),\"\")","v":""},"","","","","",""]
["","","","","","",{"$f":"IF(F1120<>\"\",VLOOKUP($F1120,'TA STOCK LOOKUP'!$A$2:$C$202,2,FALSE),\"\")","v":""},{"$f":"IF(G1120<>\"\",VLOOKUP($F1120,'TA STOCK LOOKUP'!$A$2:$C$202,3,FALSE),\"\")","v":""},"","","","","",""]
["","","","","","",{"$f":"IF(F1121<>\"\",VLOOKUP($F1121,'TA STOCK LOOKUP'!$A$2:$C$202,2,FALSE),\"\")","v":""},{"$f":"IF(G1121<>\"\",VLOOKUP($F1121,'TA STOCK LOOKUP'!$A$2:$C$202,3,FALSE),\"\")","v":""},"","","","","",""]
["","","","","","",{"$f":"IF(F1122<>\"\",VLOOKUP($F1122,'TA STOCK LOOKUP'!$A$2:$C$202,2,FALSE),\"\")","v":""},{"$f":"IF(G1122<>\"\",VLOOKUP($F1122,'TA STOCK LOOKUP'!$A$2:$C$202,3,FALSE),\"\")","v":""},"","","","","",""]
["","","","","","",{"$f":"IF(F1123<>\"\",VLOOKUP($F1123,'TA STOCK LOOKUP'!$A$2:$C$202,2,FALSE),\"\")","v":""},{"$f":"IF(G1123<>\"\",VLOOKUP($F1123,'TA STOCK LOOKUP'!$A$2:$C$202,3,FALSE),\"\")","v":""},"","","","","",""]
["","","","","","",{"$f":"IF(F1124<>\"\",VLOOKUP($F1124,'TA STOCK LOOKUP'!$A$2:$C$202,2,FALSE),\"\")","v":""},{"$f":"IF(G1124<>\"\",VLOOKUP($F1124,'TA STOCK LOOKUP'!$A$2:$C$202,3,FALSE),\"\")","v":""},"","","","","",""]
["","","","","","",{"$f":"IF(F1125<>\"\",VLOOKUP($F1125,'TA STOCK LOOKUP'!$A$2:$C$202,2,FALSE),\"\")","v":""},{"$f":"IF(G1125<>\"\",VLOOKUP($F1125,'TA STOCK LOOKUP'!$A$2:$C$202,3,FALSE),\"\")","v":""},"","","","","",""]
["","","","","","",{"$f":"IF(F1126<>\"\",VLOOKUP($F1126,'TA STOCK LOOKUP'!$A$2:$C$202,2,FALSE),\"\")","v":""},{"$f":"IF(G1126<>\"\",VLOOKUP($F1126,'TA STOCK LOOKUP'!$A$2:$C$202,3,FALSE),\"\")","v":""},"","","","","",""]
["","","","","","",{"$f":"IF(F1127<>\"\",VLOOKUP($F1127,'TA STOCK LOOKUP'!$A$2:$C$202,2,FALSE),\"\")","v":""},{"$f":"IF(G1127<>\"\",VLOOKUP($F1127,'TA STOCK LOOKUP'!$A$2:$C$202,3,FALSE),\"\")","v":""},"","","","","",""]
["","","","","","",{"$f":"IF(F1128<>\"\",VLOOKUP($F1128,'TA STOCK LOOKUP'!$A$2:$C$202,2,FALSE),\"\")","v":""},{"$f":"IF(G1128<>\"\",VLOOKUP($F1128,'TA STOCK LOOKUP'!$A$2:$C$202,3,FALSE),\"\")","v":""},"","","","","",""]
["","","","","","",{"$f":"IF(F1129<>\"\",VLOOKUP($F1129,'TA STOCK LOOKUP'!$A$2:$C$202,2,FALSE),\"\")","v":""},{"$f":"IF(G1129<>\"\",VLOOKUP($F1129,'TA STOCK LOOKUP'!$A$2:$C$202,3,FALSE),\"\")","v":""},"","","","","",""]
["","","","","","",{"$f":"IF(F1130<>\"\",VLOOKUP($F1130,'TA STOCK LOOKUP'!$A$2:$C$202,2,FALSE),\"\")","v":""},{"$f":"IF(G1130<>\"\",VLOOKUP($F1130,'TA STOCK LOOKUP'!$A$2:$C$202,3,FALSE),\"\")","v":""},"","","","","",""]
["","","","","","",{"$f":"IF(F1131<>\"\",VLOOKUP($F1131,'TA STOCK LOOKUP'!$A$2:$C$202,2,FALSE),\"\")","v":""},{"$f":"IF(G1131<>\"\",VLOOKUP($F1131,'TA STOCK LOOKUP'!$A$2:$C$202,3,FALSE),\"\")","v":""},"","","","","",""]
["","","","","","",{"$f":"IF(F1132<>\"\",VLOOKUP($F1132,'TA STOCK LOOKUP'!$A$2:$C$202,2,FALSE),\"\")","v":""},{"$f":"IF(G1132<>\"\",VLOOKUP($F1132,'TA STOCK LOOKUP'!$A$2:$C$202,3,FALSE),\"\")","v":""},"","","","","",""]
["","","","","","",{"$f":"IF(F1133<>\"\",VLOOKUP($F1133,'TA STOCK LOOKUP'!$A$2:$C$202,2,FALSE),\"\")","v":""},{"$f":"IF(G1133<>\"\",VLOOKUP($F1133,'TA STOCK LOOKUP'!$A$2:$C$202,3,FALSE),\"\")","v":""},"","","","","",""]
["","","","","","",{"$f":"IF(F1134<>\"\",VLOOKUP($F1134,'TA STOCK LOOKUP'!$A$2:$C$202,2,FALSE),\"\")","v":""},{"$f":"IF(G1134<>\"\",VLOOKUP($F1134,'TA STOCK LOOKUP'!$A$2:$C$202,3,FALSE),\"\")","v":""},"","","","","",""]
["","","","","","",{"$f":"IF(F1135<>\"\",VLOOKUP($F1135,'TA STOCK LOOKUP'!$A$2:$C$202,2,FALSE),\"\")","v":""},{"$f":"IF(G1135<>\"\",VLOOKUP($F1135,'TA STOCK LOOKUP'!$A$2:$C$202,3,FALSE),\"\")","v":""},"","","","","",""]
["","","","","","",{"$f":"IF(F1136<>\"\",VLOOKUP($F1136,'TA STOCK LOOKUP'!$A$2:$C$202,2,FALSE),\"\")","v":""},{"$f":"IF(G1136<>\"\",VLOOKUP($F1136,'TA STOCK LOOKUP'!$A$2:$C$202,3,FALSE),\"\")","v":""},"","","","","",""]
["","","","","","",{"$f":"IF(F1137<>\"\",VLOOKUP($F1137,'TA STOCK LOOKUP'!$A$2:$C$202,2,FALSE),\"\")","v":""},{"$f":"IF(G1137<>\"\",VLOOKUP($F1137,'TA STOCK LOOKUP'!$A$2:$C$202,3,FALSE),\"\")","v":""},"","","","","",""]
["","","","","","",{"$f":"IF(F1138<>\"\",VLOOKUP($F1138,'TA STOCK LOOKUP'!$A$2:$C$202,2,FALSE),\"\")","v":""},{"$f":"IF(G1138<>\"\",VLOOKUP($F1138,'TA STOCK LOOKUP'!$A$2:$C$202,3,FALSE),\"\")","v":""},"","","","","",""]
["","","","","","",{"$f":"IF(F1139<>\"\",VLOOKUP($F1139,'TA STOCK LOOKUP'!$A$2:$C$202,2,FALSE),\"\")","v":""},{"$f":"IF(G1139<>\"\",VLOOKUP($F1139,'TA STOCK LOOKUP'!$A$2:$C$202,3,FALSE),\"\")","v":""},"","","","","",""]
["","","","","","",{"$f":"IF(F1140<>\"\",VLOOKUP($F1140,'TA STOCK LOOKUP'!$A$2:$C$202,2,FALSE),\"\")","v":""},{"$f":"IF(G1140<>\"\",VLOOKUP($F1140,'TA STOCK LOOKUP'!$A$2:$C$202,3,FALSE),\"\")","v":""},"","","","","",""]
["","","","","","",{"$f":"IF(F1141<>\"\",VLOOKUP($F1141,'TA STOCK LOOKUP'!$A$2:$C$202,2,FALSE),\"\")","v":""},{"$f":"IF(G1141<>\"\",VLOOKUP($F1141,'TA STOCK LOOKUP'!$A$2:$C$202,3,FALSE),\"\")","v":""},"","","","","",""]
["","","","","","",{"$f":"IF(F1142<>\"\",VLOOKUP($F1142,'TA STOCK LOOKUP'!$A$2:$C$202,2,FALSE),\"\")","v":""},{"$f":"IF(G1142<>\"\",VLOOKUP($F1142,'TA STOCK LOOKUP'!$A$2:$C$202,3,FALSE),\"\")","v":""},"","","","","",""]
["","","","","","",{"$f":"IF(F1143<>\"\",VLOOKUP($F1143,'TA STOCK LOOKUP'!$A$2:$C$202,2,FALSE),\"\")","v":""},{"$f":"IF(G1143<>\"\",VLOOKUP($F1143,'TA STOCK LOOKUP'!$A$2:$C$202,3,FALSE),\"\")","v":""},"","","","","",""]
["","","","","","",{"$f":"IF(F1144<>\"\",VLOOKUP($F1144,'TA STOCK LOOKUP'!$A$2:$C$202,2,FALSE),\"\")","v":""},{"$f":"IF(G1144<>\"\",VLOOKUP($F1144,'TA STOCK LOOKUP'!$A$2:$C$202,3,FALSE),\"\")","v":""},"","","","","",""]
["","","","","","",{"$f":"IF(F1145<>\"\",VLOOKUP($F1145,'TA STOCK LOOKUP'!$A$2:$C$202,2,FALSE),\"\")","v":""},{"$f":"IF(G1145<>\"\",VLOOKUP($F1145,'TA STOCK LOOKUP'!$A$2:$C$202,3,FALSE),\"\")","v":""},"","","","","",""]
["","","","","","",{"$f":"IF(F1146<>\"\",VLOOKUP($F1146,'TA STOCK LOOKUP'!$A$2:$C$202,2,FALSE),\"\")","v":""},{"$f":"IF(G1146<>\"\",VLOOKUP($F1146,'TA STOCK LOOKUP'!$A$2:$C$202,3,FALSE),\"\")","v":""},"","","","","",""]
["","","","","","",{"$f":"IF(F1147<>\"\",VLOOKUP($F1147,'TA STOCK LOOKUP'!$A$2:$C$202,2,FALSE),\"\")","v":""},{"$f":"IF(G1147<>\"\",VLOOKUP($F1147,'TA STOCK LOOKUP'!$A$2:$C$202,3,FALSE),\"\")","v":""},"","","","","",""]
["","","","","","",{"$f":"IF(F1148<>\"\",VLOOKUP($F1148,'TA STOCK LOOKUP'!$A$2:$C$202,2,FALSE),\"\")","v":""},{"$f":"IF(G1148<>\"\",VLOOKUP($F1148,'TA STOCK LOOKUP'!$A$2:$C$202,3,FALSE),\"\")","v":""},"","","","","",""]
["","","","","","",{"$f":"IF(F1149<>\"\",VLOOKUP($F1149,'TA STOCK LOOKUP'!$A$2:$C$202,2,FALSE),\"\")","v":""},{"$f":"IF(G1149<>\"\",VLOOKUP($F1149,'TA STOCK LOOKUP'!$A$2:$C$202,3,FALSE),\"\")","v":""},"","","","","",""]
["","","","","","",{"$f":"IF(F1150<>\"\",VLOOKUP($F1150,'TA STOCK LOOKUP'!$A$2:$C$202,2,FALSE),\"\")","v":""},{"$f":"IF(G1150<>\"\",VLOOKUP($F1150,'TA STOCK LOOKUP'!$A$2:$C$202,3,FALSE),\"\")","v":""},"","","","","",""]
["","","","","","",{"$f":"IF(F1151<>\"\",VLOOKUP($F1151,'TA STOCK LOOKUP'!$A$2:$C$202,2,FALSE),\"\")","v":""},{"$f":"IF(G1151<>\"\",VLOOKUP($F1151,'TA STOCK LOOKUP'!$A$2:$C$202,3,FALSE),\"\")","v":""},"","","","","",""]
["","","","","","",{"$f":"IF(F1152<>\"\",VLOOKUP($F1152,'TA STOCK LOOKUP'!$A$2:$C$202,2,FALSE),\"\")","v":""},{"$f":"IF(G1152<>\"\",VLOOKUP($F1152,'TA STOCK LOOKUP'!$A$2:$C$202,3,FALSE),\"\")","v":""},"","","","","",""]
["","","","","","",{"$f":"IF(F1153<>\"\",VLOOKUP($F1153,'TA STOCK LOOKUP'!$A$2:$C$202,2,FALSE),\"\")","v":""},{"$f":"IF(G1153<>\"\",VLOOKUP($F1153,'TA STOCK LOOKUP'!$A$2:$C$202,3,FALSE),\"\")","v":""},"","","","","",""]
["","","","","","",{"$f":"IF(F1154<>\"\",VLOOKUP($F1154,'TA STOCK LOOKUP'!$A$2:$C$202,2,FALSE),\"\")","v":""},{"$f":"IF(G1154<>\"\",VLOOKUP($F1154,'TA STOCK LOOKUP'!$A$2:$C$202,3,FALSE),\"\")","v":""},"","","","","",""]
["","","","","","",{"$f":"IF(F1155<>\"\",VLOOKUP($F1155,'TA STOCK LOOKUP'!$A$2:$C$202,2,FALSE),\"\")","v":""},{"$f":"IF(G1155<>\"\",VLOOKUP($F1155,'TA STOCK LOOKUP'!$A$2:$C$202,3,FALSE),\"\")","v":""},"","","","","",""]
["","","","","","",{"$f":"IF(F1156<>\"\",VLOOKUP($F1156,'TA STOCK LOOKUP'!$A$2:$C$202,2,FALSE),\"\")","v":""},{"$f":"IF(G1156<>\"\",VLOOKUP($F1156,'TA STOCK LOOKUP'!$A$2:$C$202,3,FALSE),\"\")","v":""},"","","","","",""]
["","","","","","",{"$f":"IF(F1157<>\"\",VLOOKUP($F1157,'TA STOCK LOOKUP'!$A$2:$C$202,2,FALSE),\"\")","v":""},{"$f":"IF(G1157<>\"\",VLOOKUP($F1157,'TA STOCK LOOKUP'!$A$2:$C$202,3,FALSE),\"\")","v":""},"","","","","",""]
["","","","","","",{"$f":"IF(F1158<>\"\",VLOOKUP($F1158,'TA STOCK LOOKUP'!$A$2:$C$202,2,FALSE),\"\")","v":""},{"$f":"IF(G1158<>\"\",VLOOKUP($F1158,'TA STOCK LOOKUP'!$A$2:$C$202,3,FALSE),\"\")","v":""},"","","","","",""]
["","","","","","",{"$f":"IF(F1159<>\"\",VLOOKUP($F1159,'TA STOCK LOOKUP'!$A$2:$C$202,2,FALSE),\"\")","v":""},{"$f":"IF(G1159<>\"\",VLOOKUP($F1159,'TA STOCK LOOKUP'!$A$2:$C$202,3,FALSE),\"\")","v":""},"","","","","",""]
["","","","","","",{"$f":"IF(F1160<>\"\",VLOOKUP($F1160,'TA STOCK LOOKUP'!$A$2:$C$202,2,FALSE),\"\")","v":""},{"$f":"IF(G1160<>\"\",VLOOKUP($F1160,'TA STOCK LOOKUP'!$A$2:$C$202,3,FALSE),\"\")","v":""},"","","","","",""]
["","","","","","",{"$f":"IF(F1161<>\"\",VLOOKUP($F1161,'TA STOCK LOOKUP'!$A$2:$C$202,2,FALSE),\"\")","v":""},{"$f":"IF(G1161<>\"\",VLOOKUP($F1161,'TA STOCK LOOKUP'!$A$2:$C$202,3,FALSE),\"\")","v":""},"","","","","",""]
["","","","","","",{"$f":"IF(F1162<>\"\",VLOOKUP($F1162,'TA STOCK LOOKUP'!$A$2:$C$202,2,FALSE),\"\")","v":""},{"$f":"IF(G1162<>\"\",VLOOKUP($F1162,'TA STOCK LOOKUP'!$A$2:$C$202,3,FALSE),\"\")","v":""},"","","","","",""]
["","","","","","",{"$f":"IF(F1163<>\"\",VLOOKUP($F1163,'TA STOCK LOOKUP'!$A$2:$C$202,2,FALSE),\"\")","v":""},{"$f":"IF(G1163<>\"\",VLOOKUP($F1163,'TA STOCK LOOKUP'!$A$2:$C$202,3,FALSE),\"\")","v":""},"","","","","",""]
["","","","","","",{"$f":"IF(F1164<>\"\",VLOOKUP($F1164,'TA STOCK LOOKUP'!$A$2:$C$202,2,FALSE),\"\")","v":""},{"$f":"IF(G1164<>\"\",VLOOKUP($F1164,'TA STOCK LOOKUP'!$A$2:$C$202,3,FALSE),\"\")","v":""},"","","","","",""]
["","","","","","",{"$f":"IF(F1165<>\"\",VLOOKUP($F1165,'TA STOCK LOOKUP'!$A$2:$C$202,2,FALSE),\"\")","v":""},{"$f":"IF(G1165<>\"\",VLOOKUP($F1165,'TA STOCK LOOKUP'!$A$2:$C$202,3,FALSE),\"\")","v":""},"","","","","",""]
["","","","","","",{"$f":"IF(F1166<>\"\",VLOOKUP($F1166,'TA STOCK LOOKUP'!$A$2:$C$202,2,FALSE),\"\")","v":""},{"$f":"IF(G1166<>\"\",VLOOKUP($F1166,'TA STOCK LOOKUP'!$A$2:$C$202,3,FALSE),\"\")","v":""},"","","","","",""]
["","","","","","",{"$f":"IF(F1167<>\"\",VLOOKUP($F1167,'TA STOCK LOOKUP'!$A$2:$C$202,2,FALSE),\"\")","v":""},{"$f":"IF(G1167<>\"\",VLOOKUP($F1167,'TA STOCK LOOKUP'!$A$2:$C$202,3,FALSE),\"\")","v":""},"","","","","",""]
["","","","","","",{"$f":"IF(F1168<>\"\",VLOOKUP($F1168,'TA STOCK LOOKUP'!$A$2:$C$202,2,FALSE),\"\")","v":""},{"$f":"IF(G1168<>\"\",VLOOKUP($F1168,'TA STOCK LOOKUP'!$A$2:$C$202,3,FALSE),\"\")","v":""},"","","","","",""]
["","","","","","",{"$f":"IF(F1169<>\"\",VLOOKUP($F1169,'TA STOCK LOOKUP'!$A$2:$C$202,2,FALSE),\"\")","v":""},{"$f":"IF(G1169<>\"\",VLOOKUP($F1169,'TA STOCK LOOKUP'!$A$2:$C$202,3,FALSE),\"\")","v":""},"","","","","",""]
["","","","","","",{"$f":"IF(F1170<>\"\",VLOOKUP($F1170,'TA STOCK LOOKUP'!$A$2:$C$202,2,FALSE),\"\")","v":""},{"$f":"IF(G1170<>\"\",VLOOKUP($F1170,'TA STOCK LOOKUP'!$A$2:$C$202,3,FALSE),\"\")","v":""},"","","","","",""]
["","","","","","",{"$f":"IF(F1171<>\"\",VLOOKUP($F1171,'TA STOCK LOOKUP'!$A$2:$C$202,2,FALSE),\"\")","v":""},{"$f":"IF(G1171<>\"\",VLOOKUP($F1171,'TA STOCK LOOKUP'!$A$2:$C$202,3,FALSE),\"\")","v":""},"","","","","",""]
["","","","","","",{"$f":"IF(F1172<>\"\",VLOOKUP($F1172,'TA STOCK LOOKUP'!$A$2:$C$202,2,FALSE),\"\")","v":""},{"$f":"IF(G1172<>\"\",VLOOKUP($F1172,'TA STOCK LOOKUP'!$A$2:$C$202,3,FALSE),\"\")","v":""},"","","","","",""]
["","","","","","",{"$f":"IF(F1173<>\"\",VLOOKUP($F1173,'TA STOCK LOOKUP'!$A$2:$C$202,2,FALSE),\"\")","v":""},{"$f":"IF(G1173<>\"\",VLOOKUP($F1173,'TA STOCK LOOKUP'!$A$2:$C$202,3,FALSE),\"\")","v":""},"","","","","",""]
["","","","","","",{"$f":"IF(F1174<>\"\",VLOOKUP($F1174,'TA STOCK LOOKUP'!$A$2:$C$202,2,FALSE),\"\")","v":""},{"$f":"IF(G1174<>\"\",VLOOKUP($F1174,'TA STOCK LOOKUP'!$A$2:$C$202,3,FALSE),\"\")","v":""},"","","","","",""]
["","","","","","",{"$f":"IF(F1175<>\"\",VLOOKUP($F1175,'TA STOCK LOOKUP'!$A$2:$C$202,2,FALSE),\"\")","v":""},{"$f":"IF(G1175<>\"\",VLOOKUP($F1175,'TA STOCK LOOKUP'!$A$2:$C$202,3,FALSE),\"\")","v":""},"","","","","",""]
["","","","","","",{"$f":"IF(F1176<>\"\",VLOOKUP($F1176,'TA STOCK LOOKUP'!$A$2:$C$202,2,FALSE),\"\")","v":""},{"$f":"IF(G1176<>\"\",VLOOKUP($F1176,'TA STOCK LOOKUP'!$A$2:$C$202,3,FALSE),\"\")","v":""},"","","","","",""]
["","","","","","",{"$f":"IF(F1177<>\"\",VLOOKUP($F1177,'TA STOCK LOOKUP'!$A$2:$C$202,2,FALSE),\"\")","v":""},{"$f":"IF(G1177<>\"\",VLOOKUP($F1177,'TA STOCK LOOKUP'!$A$2:$C$202,3,FALSE),\"\")","v":""},"","","","","",""]
["","","","","","",{"$f":"IF(F1178<>\"\",VLOOKUP($F1178,'TA STOCK LOOKUP'!$A$2:$C$202,2,FALSE),\"\")","v":""},{"$f":"IF(G1178<>\"\",VLOOKUP($F1178,'TA STOCK LOOKUP'!$A$2:$C$202,3,FALSE),\"\")","v":""},"","","","","",""]
["","","","","","",{"$f":"IF(F1179<>\"\",VLOOKUP($F1179,'TA STOCK LOOKUP'!$A$2:$C$202,2,FALSE),\"\")","v":""},{"$f":"IF(G1179<>\"\",VLOOKUP($F1179,'TA STOCK LOOKUP'!$A$2:$C$202,3,FALSE),\"\")","v":""},"","","","","",""]
["","","","","","",{"$f":"IF(F1180<>\"\",VLOOKUP($F1180,'TA STOCK LOOKUP'!$A$2:$C$202,2,FALSE),\"\")","v":""},{"$f":"IF(G1180<>\"\",VLOOKUP($F1180,'TA STOCK LOOKUP'!$A$2:$C$202,3,FALSE),\"\")","v":""},"","","","","",""]
["","","","","","",{"$f":"IF(F1181<>\"\",VLOOKUP($F1181,'TA STOCK LOOKUP'!$A$2:$C$202,2,FALSE),\"\")","v":""},{"$f":"IF(G1181<>\"\",VLOOKUP($F1181,'TA STOCK LOOKUP'!$A$2:$C$202,3,FALSE),\"\")","v":""},"","","","","",""]
["","","","","","",{"$f":"IF(F1182<>\"\",VLOOKUP($F1182,'TA STOCK LOOKUP'!$A$2:$C$202,2,FALSE),\"\")","v":""},{"$f":"IF(G1182<>\"\",VLOOKUP($F1182,'TA STOCK LOOKUP'!$A$2:$C$202,3,FALSE),\"\")","v":""},"","","","","",""]
["","","","","","",{"$f":"IF(F1183<>\"\",VLOOKUP($F1183,'TA STOCK LOOKUP'!$A$2:$C$202,2,FALSE),\"\")","v":""},{"$f":"IF(G1183<>\"\",VLOOKUP($F1183,'TA STOCK LOOKUP'!$A$2:$C$202,3,FALSE),\"\")","v":""},"","","","","",""]
["","","","","","",{"$f":"IF(F1184<>\"\",VLOOKUP($F1184,'TA STOCK LOOKUP'!$A$2:$C$202,2,FALSE),\"\")","v":""},{"$f":"IF(G1184<>\"\",VLOOKUP($F1184,'TA STOCK LOOKUP'!$A$2:$C$202,3,FALSE),\"\")","v":""},"","","","","",""]
["","","","","","",{"$f":"IF(F1185<>\"\",VLOOKUP($F1185,'TA STOCK LOOKUP'!$A$2:$C$202,2,FALSE),\"\")","v":""},{"$f":"IF(G1185<>\"\",VLOOKUP($F1185,'TA STOCK LOOKUP'!$A$2:$C$202,3,FALSE),\"\")","v":""},"","","","","",""]
["","","","","","",{"$f":"IF(F1186<>\"\",VLOOKUP($F1186,'TA STOCK LOOKUP'!$A$2:$C$202,2,FALSE),\"\")","v":""},{"$f":"IF(G1186<>\"\",VLOOKUP($F1186,'TA STOCK LOOKUP'!$A$2:$C$202,3,FALSE),\"\")","v":""},"","","","","",""]
["","","","","","",{"$f":"IF(F1187<>\"\",VLOOKUP($F1187,'TA STOCK LOOKUP'!$A$2:$C$202,2,FALSE),\"\")","v":""},{"$f":"IF(G1187<>\"\",VLOOKUP($F1187,'TA STOCK LOOKUP'!$A$2:$C$202,3,FALSE),\"\")","v":""},"","","","","",""]
["","","","","","",{"$f":"IF(F1188<>\"\",VLOOKUP($F1188,'TA STOCK LOOKUP'!$A$2:$C$202,2,FALSE),\"\")","v":""},{"$f":"IF(G1188<>\"\",VLOOKUP($F1188,'TA STOCK LOOKUP'!$A$2:$C$202,3,FALSE),\"\")","v":""},"","","","","",""]
["","","","","","",{"$f":"IF(F1189<>\"\",VLOOKUP($F1189,'TA STOCK LOOKUP'!$A$2:$C$202,2,FALSE),\"\")","v":""},{"$f":"IF(G1189<>\"\",VLOOKUP($F1189,'TA STOCK LOOKUP'!$A$2:$C$202,3,FALSE),\"\")","v":""},"","","","","",""]
["","","","","","",{"$f":"IF(F1190<>\"\",VLOOKUP($F1190,'TA STOCK LOOKUP'!$A$2:$C$202,2,FALSE),\"\")","v":""},{"$f":"IF(G1190<>\"\",VLOOKUP($F1190,'TA STOCK LOOKUP'!$A$2:$C$202,3,FALSE),\"\")","v":""},"","","","","",""]
["","","","","","",{"$f":"IF(F1191<>\"\",VLOOKUP($F1191,'TA STOCK LOOKUP'!$A$2:$C$202,2,FALSE),\"\")","v":""},{"$f":"IF(G1191<>\"\",VLOOKUP($F1191,'TA STOCK LOOKUP'!$A$2:$C$202,3,FALSE),\"\")","v":""},"","","","","",""]
["","","","","","",{"$f":"IF(F1192<>\"\",VLOOKUP($F1192,'TA STOCK LOOKUP'!$A$2:$C$202,2,FALSE),\"\")","v":""},{"$f":"IF(G1192<>\"\",VLOOKUP($F1192,'TA STOCK LOOKUP'!$A$2:$C$202,3,FALSE),\"\")","v":""},"","","","","",""]
["","","","","","",{"$f":"IF(F1193<>\"\",VLOOKUP($F1193,'TA STOCK LOOKUP'!$A$2:$C$202,2,FALSE),\"\")","v":""},{"$f":"IF(G1193<>\"\",VLOOKUP($F1193,'TA STOCK LOOKUP'!$A$2:$C$202,3,FALSE),\"\")","v":""},"","","","","",""]
["","","","","","",{"$f":"IF(F1194<>\"\",VLOOKUP($F1194,'TA STOCK LOOKUP'!$A$2:$C$202,2,FALSE),\"\")","v":""},{"$f":"IF(G1194<>\"\",VLOOKUP($F1194,'TA STOCK LOOKUP'!$A$2:$C$202,3,FALSE),\"\")","v":""},"","","","","",""]
["","","","","","",{"$f":"IF(F1195<>\"\",VLOOKUP($F1195,'TA STOCK LOOKUP'!$A$2:$C$202,2,FALSE),\"\")","v":""},{"$f":"IF(G1195<>\"\",VLOOKUP($F1195,'TA STOCK LOOKUP'!$A$2:$C$202,3,FALSE),\"\")","v":""},"","","","","",""]
["","","","","","",{"$f":"IF(F1196<>\"\",VLOOKUP($F1196,'TA STOCK LOOKUP'!$A$2:$C$202,2,FALSE),\"\")","v":""},{"$f":"IF(G1196<>\"\",VLOOKUP($F1196,'TA STOCK LOOKUP'!$A$2:$C$202,3,FALSE),\"\")","v":""},"","","","","",""]
["","","","","","",{"$f":"IF(F1197<>\"\",VLOOKUP($F1197,'TA STOCK LOOKUP'!$A$2:$C$202,2,FALSE),\"\")","v":""},{"$f":"IF(G1197<>\"\",VLOOKUP($F1197,'TA STOCK LOOKUP'!$A$2:$C$202,3,FALSE),\"\")","v":""},"","","","","",""]
["","","","","","",{"$f":"IF(F1198<>\"\",VLOOKUP($F1198,'TA STOCK LOOKUP'!$A$2:$C$202,2,FALSE),\"\")","v":""},{"$f":"IF(G1198<>\"\",VLOOKUP($F1198,'TA STOCK LOOKUP'!$A$2:$C$202,3,FALSE),\"\")","v":""},"","","","","",""]
["","","","","","",{"$f":"IF(F1199<>\"\",VLOOKUP($F1199,'TA STOCK LOOKUP'!$A$2:$C$202,2,FALSE),\"\")","v":""},{"$f":"IF(G1199<>\"\",VLOOKUP($F1199,'TA STOCK LOOKUP'!$A$2:$C$202,3,FALSE),\"\")","v":""},"","","","","",""]
["","","","","","",{"$f":"IF(F1200<>\"\",VLOOKUP($F1200,'TA STOCK LOOKUP'!$A$2:$C$202,2,FALSE),\"\")","v":""},{"$f":"IF(G1200<>\"\",VLOOKUP($F1200,'TA STOCK LOOKUP'!$A$2:$C$202,3,FALSE),\"\")","v":""},"","","","","",""]
["","","","","","",{"$f":"IF(F1201<>\"\",VLOOKUP($F1201,'TA STOCK LOOKUP'!$A$2:$C$202,2,FALSE),\"\")","v":""},{"$f":"IF(G1201<>\"\",VLOOKUP($F1201,'TA STOCK LOOKUP'!$A$2:$C$202,3,FALSE),\"\")","v":""},"","","","","",""]
["","","","","","",{"$f":"IF(F1202<>\"\",VLOOKUP($F1202,'TA STOCK LOOKUP'!$A$2:$C$202,2,FALSE),\"\")","v":""},{"$f":"IF(G1202<>\"\",VLOOKUP($F1202,'TA STOCK LOOKUP'!$A$2:$C$202,3,FALSE),\"\")","v":""},"","","","","",""]
["","","","","","",{"$f":"IF(F1203<>\"\",VLOOKUP($F1203,'TA STOCK LOOKUP'!$A$2:$C$202,2,FALSE),\"\")","v":""},{"$f":"IF(G1203<>\"\",VLOOKUP($F1203,'TA STOCK LOOKUP'!$A$2:$C$202,3,FALSE),\"\")","v":""},"","","","","",""]
["","","","","","",{"$f":"IF(F1204<>\"\",VLOOKUP($F1204,'TA STOCK LOOKUP'!$A$2:$C$202,2,FALSE),\"\")","v":""},{"$f":"IF(G1204<>\"\",VLOOKUP($F1204,'TA STOCK LOOKUP'!$A$2:$C$202,3,FALSE),\"\")","v":""},"","","","","",""]
["","","","","","",{"$f":"IF(F1205<>\"\",VLOOKUP($F1205,'TA STOCK LOOKUP'!$A$2:$C$202,2,FALSE),\"\")","v":""},{"$f":"IF(G1205<>\"\",VLOOKUP($F1205,'TA STOCK LOOKUP'!$A$2:$C$202,3,FALSE),\"\")","v":""},"","","","","",""]
["","","","","","",{"$f":"IF(F1206<>\"\",VLOOKUP($F1206,'TA STOCK LOOKUP'!$A$2:$C$202,2,FALSE),\"\")","v":""},{"$f":"IF(G1206<>\"\",VLOOKUP($F1206,'TA STOCK LOOKUP'!$A$2:$C$202,3,FALSE),\"\")","v":""},"","","","","",""]
["","","","","","",{"$f":"IF(F1207<>\"\",VLOOKUP($F1207,'TA STOCK LOOKUP'!$A$2:$C$202,2,FALSE),\"\")","v":""},{"$f":"IF(G1207<>\"\",VLOOKUP($F1207,'TA STOCK LOOKUP'!$A$2:$C$202,3,FALSE),\"\")","v":""},"","","","","",""]
["","","","","","",{"$f":"IF(F1208<>\"\",VLOOKUP($F1208,'TA STOCK LOOKUP'!$A$2:$C$202,2,FALSE),\"\")","v":""},{"$f":"IF(G1208<>\"\",VLOOKUP($F1208,'TA STOCK LOOKUP'!$A$2:$C$202,3,FALSE),\"\")","v":""},"","","","","",""]
["","","","","","",{"$f":"IF(F1209<>\"\",VLOOKUP($F1209,'TA STOCK LOOKUP'!$A$2:$C$202,2,FALSE),\"\")","v":""},{"$f":"IF(G1209<>\"\",VLOOKUP($F1209,'TA STOCK LOOKUP'!$A$2:$C$202,3,FALSE),\"\")","v":""},"","","","","",""]
["","","","","","",{"$f":"IF(F1210<>\"\",VLOOKUP($F1210,'TA STOCK LOOKUP'!$A$2:$C$202,2,FALSE),\"\")","v":""},{"$f":"IF(G1210<>\"\",VLOOKUP($F1210,'TA STOCK LOOKUP'!$A$2:$C$202,3,FALSE),\"\")","v":""},"","","","","",""]
["","","","","","",{"$f":"IF(F1211<>\"\",VLOOKUP($F1211,'TA STOCK LOOKUP'!$A$2:$C$202,2,FALSE),\"\")","v":""},{"$f":"IF(G1211<>\"\",VLOOKUP($F1211,'TA STOCK LOOKUP'!$A$2:$C$202,3,FALSE),\"\")","v":""},"","","","","",""]
["","","","","","",{"$f":"IF(F1212<>\"\",VLOOKUP($F1212,'TA STOCK LOOKUP'!$A$2:$C$202,2,FALSE),\"\")","v":""},{"$f":"IF(G1212<>\"\",VLOOKUP($F1212,'TA STOCK LOOKUP'!$A$2:$C$202,3,FALSE),\"\")","v":""},"","","","","",""]
["","","","","","",{"$f":"IF(F1213<>\"\",VLOOKUP($F1213,'TA STOCK LOOKUP'!$A$2:$C$202,2,FALSE),\"\")","v":""},{"$f":"IF(G1213<>\"\",VLOOKUP($F1213,'TA STOCK LOOKUP'!$A$2:$C$202,3,FALSE),\"\")","v":""},"","","","","",""]
["","","","","","",{"$f":"IF(F1214<>\"\",VLOOKUP($F1214,'TA STOCK LOOKUP'!$A$2:$C$202,2,FALSE),\"\")","v":""},{"$f":"IF(G1214<>\"\",VLOOKUP($F1214,'TA STOCK LOOKUP'!$A$2:$C$202,3,FALSE),\"\")","v":""},"","","","","",""]
["","","","","","",{"$f":"IF(F1215<>\"\",VLOOKUP($F1215,'TA STOCK LOOKUP'!$A$2:$C$202,2,FALSE),\"\")","v":""},{"$f":"IF(G1215<>\"\",VLOOKUP($F1215,'TA STOCK LOOKUP'!$A$2:$C$202,3,FALSE),\"\")","v":""},"","","","","",""]
["","","","","","",{"$f":"IF(F1216<>\"\",VLOOKUP($F1216,'TA STOCK LOOKUP'!$A$2:$C$202,2,FALSE),\"\")","v":""},{"$f":"IF(G1216<>\"\",VLOOKUP($F1216,'TA STOCK LOOKUP'!$A$2:$C$202,3,FALSE),\"\")","v":""},"","","","","",""]
["","","","","","",{"$f":"IF(F1217<>\"\",VLOOKUP($F1217,'TA STOCK LOOKUP'!$A$2:$C$202,2,FALSE),\"\")","v":""},{"$f":"IF(G1217<>\"\",VLOOKUP($F1217,'TA STOCK LOOKUP'!$A$2:$C$202,3,FALSE),\"\")","v":""},"","","","","",""]
["","","","","","",{"$f":"IF(F1218<>\"\",VLOOKUP($F1218,'TA STOCK LOOKUP'!$A$2:$C$202,2,FALSE),\"\")","v":""},{"$f":"IF(G1218<>\"\",VLOOKUP($F1218,'TA STOCK LOOKUP'!$A$2:$C$202,3,FALSE),\"\")","v":""},"","","","","",""]
["","","","","","",{"$f":"IF(F1219<>\"\",VLOOKUP($F1219,'TA STOCK LOOKUP'!$A$2:$C$202,2,FALSE),\"\")","v":""},{"$f":"IF(G1219<>\"\",VLOOKUP($F1219,'TA STOCK LOOKUP'!$A$2:$C$202,3,FALSE),\"\")","v":""},"","","","","",""]
["","","","","","",{"$f":"IF(F1220<>\"\",VLOOKUP($F1220,'TA STOCK LOOKUP'!$A$2:$C$202,2,FALSE),\"\")","v":""},{"$f":"IF(G1220<>\"\",VLOOKUP($F1220,'TA STOCK LOOKUP'!$A$2:$C$202,3,FALSE),\"\")","v":""},"","","","","",""]
["","","","","","",{"$f":"IF(F1221<>\"\",VLOOKUP($F1221,'TA STOCK LOOKUP'!$A$2:$C$202,2,FALSE),\"\")","v":""},{"$f":"IF(G1221<>\"\",VLOOKUP($F1221,'TA STOCK LOOKUP'!$A$2:$C$202,3,FALSE),\"\")","v":""},"","","","","",""]
["","","","","","",{"$f":"IF(F1222<>\"\",VLOOKUP($F1222,'TA STOCK LOOKUP'!$A$2:$C$202,2,FALSE),\"\")","v":""},{"$f":"IF(G1222<>\"\",VLOOKUP($F1222,'TA STOCK LOOKUP'!$A$2:$C$202,3,FALSE),\"\")","v":""},"","","","","",""]
["","","","","","",{"$f":"IF(F1223<>\"\",VLOOKUP($F1223,'TA STOCK LOOKUP'!$A$2:$C$202,2,FALSE),\"\")","v":""},{"$f":"IF(G1223<>\"\",VLOOKUP($F1223,'TA STOCK LOOKUP'!$A$2:$C$202,3,FALSE),\"\")","v":""},"","","","","",""]
["","","","","","",{"$f":"IF(F1224<>\"\",VLOOKUP($F1224,'TA STOCK LOOKUP'!$A$2:$C$202,2,FALSE),\"\")","v":""},{"$f":"IF(G1224<>\"\",VLOOKUP($F1224,'TA STOCK LOOKUP'!$A$2:$C$202,3,FALSE),\"\")","v":""},"","","","","",""]
["","","","","","",{"$f":"IF(F1225<>\"\",VLOOKUP($F1225,'TA STOCK LOOKUP'!$A$2:$C$202,2,FALSE),\"\")","v":""},{"$f":"IF(G1225<>\"\",VLOOKUP($F1225,'TA STOCK LOOKUP'!$A$2:$C$202,3,FALSE),\"\")","v":""},"","","","","",""]
["","","","","","",{"$f":"IF(F1226<>\"\",VLOOKUP($F1226,'TA STOCK LOOKUP'!$A$2:$C$202,2,FALSE),\"\")","v":""},{"$f":"IF(G1226<>\"\",VLOOKUP($F1226,'TA STOCK LOOKUP'!$A$2:$C$202,3,FALSE),\"\")","v":""},"","","","","",""]
["","","","","","",{"$f":"IF(F1227<>\"\",VLOOKUP($F1227,'TA STOCK LOOKUP'!$A$2:$C$202,2,FALSE),\"\")","v":""},{"$f":"IF(G1227<>\"\",VLOOKUP($F1227,'TA STOCK LOOKUP'!$A$2:$C$202,3,FALSE),\"\")","v":""},"","","","","",""]
["","","","","","",{"$f":"IF(F1228<>\"\",VLOOKUP($F1228,'TA STOCK LOOKUP'!$A$2:$C$202,2,FALSE),\"\")","v":""},{"$f":"IF(G1228<>\"\",VLOOKUP($F1228,'TA STOCK LOOKUP'!$A$2:$C$202,3,FALSE),\"\")","v":""},"","","","","",""]
["","","","","","",{"$f":"IF(F1229<>\"\",VLOOKUP($F1229,'TA STOCK LOOKUP'!$A$2:$C$202,2,FALSE),\"\")","v":""},{"$f":"IF(G1229<>\"\",VLOOKUP($F1229,'TA STOCK LOOKUP'!$A$2:$C$202,3,FALSE),\"\")","v":""},"","","","","",""]
["","","","","","",{"$f":"IF(F1230<>\"\",VLOOKUP($F1230,'TA STOCK LOOKUP'!$A$2:$C$202,2,FALSE),\"\")","v":""},{"$f":"IF(G1230<>\"\",VLOOKUP($F1230,'TA STOCK LOOKUP'!$A$2:$C$202,3,FALSE),\"\")","v":""},"","","","","",""]
["","","","","","",{"$f":"IF(F1231<>\"\",VLOOKUP($F1231,'TA STOCK LOOKUP'!$A$2:$C$202,2,FALSE),\"\")","v":""},{"$f":"IF(G1231<>\"\",VLOOKUP($F1231,'TA STOCK LOOKUP'!$A$2:$C$202,3,FALSE),\"\")","v":""},"","","","","",""]
["","","","","","",{"$f":"IF(F1232<>\"\",VLOOKUP($F1232,'TA STOCK LOOKUP'!$A$2:$C$202,2,FALSE),\"\")","v":""},{"$f":"IF(G1232<>\"\",VLOOKUP($F1232,'TA STOCK LOOKUP'!$A$2:$C$202,3,FALSE),\"\")","v":""},"","","","","",""]
["","","","","","",{"$f":"IF(F1233<>\"\",VLOOKUP($F1233,'TA STOCK LOOKUP'!$A$2:$C$202,2,FALSE),\"\")","v":""},{"$f":"IF(G1233<>\"\",VLOOKUP($F1233,'TA STOCK LOOKUP'!$A$2:$C$202,3,FALSE),\"\")","v":""},"","","","","",""]
["","","","","","",{"$f":"IF(F1234<>\"\",VLOOKUP($F1234,'TA STOCK LOOKUP'!$A$2:$C$202,2,FALSE),\"\")","v":""},{"$f":"IF(G1234<>\"\",VLOOKUP($F1234,'TA STOCK LOOKUP'!$A$2:$C$202,3,FALSE),\"\")","v":""},"","","","","",""]
["","","","","","",{"$f":"IF(F1235<>\"\",VLOOKUP($F1235,'TA STOCK LOOKUP'!$A$2:$C$202,2,FALSE),\"\")","v":""},{"$f":"IF(G1235<>\"\",VLOOKUP($F1235,'TA STOCK LOOKUP'!$A$2:$C$202,3,FALSE),\"\")","v":""},"","","","","",""]
["","","","","","",{"$f":"IF(F1236<>\"\",VLOOKUP($F1236,'TA STOCK LOOKUP'!$A$2:$C$202,2,FALSE),\"\")","v":""},{"$f":"IF(G1236<>\"\",VLOOKUP($F1236,'TA STOCK LOOKUP'!$A$2:$C$202,3,FALSE),\"\")","v":""},"","","","","",""]
["","","","","","",{"$f":"IF(F1237<>\"\",VLOOKUP($F1237,'TA STOCK LOOKUP'!$A$2:$C$202,2,FALSE),\"\")","v":""},{"$f":"IF(G1237<>\"\",VLOOKUP($F1237,'TA STOCK LOOKUP'!$A$2:$C$202,3,FALSE),\"\")","v":""},"","","","","",""]
["","","","","","",{"$f":"IF(F1238<>\"\",VLOOKUP($F1238,'TA STOCK LOOKUP'!$A$2:$C$202,2,FALSE),\"\")","v":""},{"$f":"IF(G1238<>\"\",VLOOKUP($F1238,'TA STOCK LOOKUP'!$A$2:$C$202,3,FALSE),\"\")","v":""},"","","","","",""]
["","","","","","",{"$f":"IF(F1239<>\"\",VLOOKUP($F1239,'TA STOCK LOOKUP'!$A$2:$C$202,2,FALSE),\"\")","v":""},{"$f":"IF(G1239<>\"\",VLOOKUP($F1239,'TA STOCK LOOKUP'!$A$2:$C$202,3,FALSE),\"\")","v":""},"","","","","",""]
["","","","","","",{"$f":"IF(F1240<>\"\",VLOOKUP($F1240,'TA STOCK LOOKUP'!$A$2:$C$202,2,FALSE),\"\")","v":""},{"$f":"IF(G1240<>\"\",VLOOKUP($F1240,'TA STOCK LOOKUP'!$A$2:$C$202,3,FALSE),\"\")","v":""},"","","","","",""]
["","","","","","",{"$f":"IF(F1241<>\"\",VLOOKUP($F1241,'TA STOCK LOOKUP'!$A$2:$C$202,2,FALSE),\"\")","v":""},{"$f":"IF(G1241<>\"\",VLOOKUP($F1241,'TA STOCK LOOKUP'!$A$2:$C$202,3,FALSE),\"\")","v":""},"","","","","",""]
["","","","","","",{"$f":"IF(F1242<>\"\",VLOOKUP($F1242,'TA STOCK LOOKUP'!$A$2:$C$202,2,FALSE),\"\")","v":""},{"$f":"IF(G1242<>\"\",VLOOKUP($F1242,'TA STOCK LOOKUP'!$A$2:$C$202,3,FALSE),\"\")","v":""},"","","","","",""]
["","","","","","",{"$f":"IF(F1243<>\"\",VLOOKUP($F1243,'TA STOCK LOOKUP'!$A$2:$C$202,2,FALSE),\"\")","v":""},{"$f":"IF(G1243<>\"\",VLOOKUP($F1243,'TA STOCK LOOKUP'!$A$2:$C$202,3,FALSE),\"\")","v":""},"","","","","",""]
["","","","","","",{"$f":"IF(F1244<>\"\",VLOOKUP($F1244,'TA STOCK LOOKUP'!$A$2:$C$202,2,FALSE),\"\")","v":""},{"$f":"IF(G1244<>\"\",VLOOKUP($F1244,'TA STOCK LOOKUP'!$A$2:$C$202,3,FALSE),\"\")","v":""},"","","","","",""]
["","","","","","",{"$f":"IF(F1245<>\"\",VLOOKUP($F1245,'TA STOCK LOOKUP'!$A$2:$C$202,2,FALSE),\"\")","v":""},{"$f":"IF(G1245<>\"\",VLOOKUP($F1245,'TA STOCK LOOKUP'!$A$2:$C$202,3,FALSE),\"\")","v":""},"","","","","",""]
["","","","","","",{"$f":"IF(F1246<>\"\",VLOOKUP($F1246,'TA STOCK LOOKUP'!$A$2:$C$202,2,FALSE),\"\")","v":""},{"$f":"IF(G1246<>\"\",VLOOKUP($F1246,'TA STOCK LOOKUP'!$A$2:$C$202,3,FALSE),\"\")","v":""},"","","","","",""]
["","","","","","",{"$f":"IF(F1247<>\"\",VLOOKUP($F1247,'TA STOCK LOOKUP'!$A$2:$C$202,2,FALSE),\"\")","v":""},{"$f":"IF(G1247<>\"\",VLOOKUP($F1247,'TA STOCK LOOKUP'!$A$2:$C$202,3,FALSE),\"\")","v":""},"","","","","",""]
["","","","","","",{"$f":"IF(F1248<>\"\",VLOOKUP($F1248,'TA STOCK LOOKUP'!$A$2:$C$202,2,FALSE),\"\")","v":""},{"$f":"IF(G1248<>\"\",VLOOKUP($F1248,'TA STOCK LOOKUP'!$A$2:$C$202,3,FALSE),\"\")","v":""},"","","","","",""]
["","","","","","",{"$f":"IF(F1249<>\"\",VLOOKUP($F1249,'TA STOCK LOOKUP'!$A$2:$C$202,2,FALSE),\"\")","v":""},{"$f":"IF(G1249<>\"\",VLOOKUP($F1249,'TA STOCK LOOKUP'!$A$2:$C$202,3,FALSE),\"\")","v":""},"","","","","",""]
["","","","","","",{"$f":"IF(F1250<>\"\",VLOOKUP($F1250,'TA STOCK LOOKUP'!$A$2:$C$202,2,FALSE),\"\")","v":""},{"$f":"IF(G1250<>\"\",VLOOKUP($F1250,'TA STOCK LOOKUP'!$A$2:$C$202,3,FALSE),\"\")","v":""},"","","","","",""]
["","","","","","",{"$f":"IF(F1251<>\"\",VLOOKUP($F1251,'TA STOCK LOOKUP'!$A$2:$C$202,2,FALSE),\"\")","v":""},{"$f":"IF(G1251<>\"\",VLOOKUP($F1251,'TA STOCK LOOKUP'!$A$2:$C$202,3,FALSE),\"\")","v":""},"","","","","",""]
["","","","","","",{"$f":"IF(F1252<>\"\",VLOOKUP($F1252,'TA STOCK LOOKUP'!$A$2:$C$202,2,FALSE),\"\")","v":""},{"$f":"IF(G1252<>\"\",VLOOKUP($F1252,'TA STOCK LOOKUP'!$A$2:$C$202,3,FALSE),\"\")","v":""},"","","","","",""]
["","","","","","",{"$f":"IF(F1253<>\"\",VLOOKUP($F1253,'TA STOCK LOOKUP'!$A$2:$C$202,2,FALSE),\"\")","v":""},{"$f":"IF(G1253<>\"\",VLOOKUP($F1253,'TA STOCK LOOKUP'!$A$2:$C$202,3,FALSE),\"\")","v":""},"","","","","",""]
["","","","","","",{"$f":"IF(F1254<>\"\",VLOOKUP($F1254,'TA STOCK LOOKUP'!$A$2:$C$202,2,FALSE),\"\")","v":""},{"$f":"IF(G1254<>\"\",VLOOKUP($F1254,'TA STOCK LOOKUP'!$A$2:$C$202,3,FALSE),\"\")","v":""},"","","","","",""]
["","","","","","",{"$f":"IF(F1255<>\"\",VLOOKUP($F1255,'TA STOCK LOOKUP'!$A$2:$C$202,2,FALSE),\"\")","v":""},{"$f":"IF(G1255<>\"\",VLOOKUP($F1255,'TA STOCK LOOKUP'!$A$2:$C$202,3,FALSE),\"\")","v":""},"","","","","",""]
["","","","","","",{"$f":"IF(F1256<>\"\",VLOOKUP($F1256,'TA STOCK LOOKUP'!$A$2:$C$202,2,FALSE),\"\")","v":""},{"$f":"IF(G1256<>\"\",VLOOKUP($F1256,'TA STOCK LOOKUP'!$A$2:$C$202,3,FALSE),\"\")","v":""},"","","","","",""]
["","","","","","",{"$f":"IF(F1257<>\"\",VLOOKUP($F1257,'TA STOCK LOOKUP'!$A$2:$C$202,2,FALSE),\"\")","v":""},{"$f":"IF(G1257<>\"\",VLOOKUP($F1257,'TA STOCK LOOKUP'!$A$2:$C$202,3,FALSE),\"\")","v":""},"","","","","",""]
["","","","","","",{"$f":"IF(F1258<>\"\",VLOOKUP($F1258,'TA STOCK LOOKUP'!$A$2:$C$202,2,FALSE),\"\")","v":""},{"$f":"IF(G1258<>\"\",VLOOKUP($F1258,'TA STOCK LOOKUP'!$A$2:$C$202,3,FALSE),\"\")","v":""},"","","","","",""]
["","","","","","",{"$f":"IF(F1259<>\"\",VLOOKUP($F1259,'TA STOCK LOOKUP'!$A$2:$C$202,2,FALSE),\"\")","v":""},{"$f":"IF(G1259<>\"\",VLOOKUP($F1259,'TA STOCK LOOKUP'!$A$2:$C$202,3,FALSE),\"\")","v":""},"","","","","",""]
["","","","","","",{"$f":"IF(F1260<>\"\",VLOOKUP($F1260,'TA STOCK LOOKUP'!$A$2:$C$202,2,FALSE),\"\")","v":""},{"$f":"IF(G1260<>\"\",VLOOKUP($F1260,'TA STOCK LOOKUP'!$A$2:$C$202,3,FALSE),\"\")","v":""},"","","","","",""]
["","","","","","",{"$f":"IF(F1261<>\"\",VLOOKUP($F1261,'TA STOCK LOOKUP'!$A$2:$C$202,2,FALSE),\"\")","v":""},{"$f":"IF(G1261<>\"\",VLOOKUP($F1261,'TA STOCK LOOKUP'!$A$2:$C$202,3,FALSE),\"\")","v":""},"","","","","",""]
["","","","","","",{"$f":"IF(F1262<>\"\",VLOOKUP($F1262,'TA STOCK LOOKUP'!$A$2:$C$202,2,FALSE),\"\")","v":""},{"$f":"IF(G1262<>\"\",VLOOKUP($F1262,'TA STOCK LOOKUP'!$A$2:$C$202,3,FALSE),\"\")","v":""},"","","","","",""]
["","","","","","",{"$f":"IF(F1263<>\"\",VLOOKUP($F1263,'TA STOCK LOOKUP'!$A$2:$C$202,2,FALSE),\"\")","v":""},{"$f":"IF(G1263<>\"\",VLOOKUP($F1263,'TA STOCK LOOKUP'!$A$2:$C$202,3,FALSE),\"\")","v":""},"","","","","",""]
["","","","","","",{"$f":"IF(F1264<>\"\",VLOOKUP($F1264,'TA STOCK LOOKUP'!$A$2:$C$202,2,FALSE),\"\")","v":""},{"$f":"IF(G1264<>\"\",VLOOKUP($F1264,'TA STOCK LOOKUP'!$A$2:$C$202,3,FALSE),\"\")","v":""},"","","","","",""]
["","","","","","",{"$f":"IF(F1265<>\"\",VLOOKUP($F1265,'TA STOCK LOOKUP'!$A$2:$C$202,2,FALSE),\"\")","v":""},{"$f":"IF(G1265<>\"\",VLOOKUP($F1265,'TA STOCK LOOKUP'!$A$2:$C$202,3,FALSE),\"\")","v":""},"","","","","",""]
["","","","","","",{"$f":"IF(F1266<>\"\",VLOOKUP($F1266,'TA STOCK LOOKUP'!$A$2:$C$202,2,FALSE),\"\")","v":""},{"$f":"IF(G1266<>\"\",VLOOKUP($F1266,'TA STOCK LOOKUP'!$A$2:$C$202,3,FALSE),\"\")","v":""},"","","","","",""]
["","","","","","",{"$f":"IF(F1267<>\"\",VLOOKUP($F1267,'TA STOCK LOOKUP'!$A$2:$C$202,2,FALSE),\"\")","v":""},{"$f":"IF(G1267<>\"\",VLOOKUP($F1267,'TA STOCK LOOKUP'!$A$2:$C$202,3,FALSE),\"\")","v":""},"","","","","",""]
["","","","","","",{"$f":"IF(F1268<>\"\",VLOOKUP($F1268,'TA STOCK LOOKUP'!$A$2:$C$202,2,FALSE),\"\")","v":""},{"$f":"IF(G1268<>\"\",VLOOKUP($F1268,'TA STOCK LOOKUP'!$A$2:$C$202,3,FALSE),\"\")","v":""},"","","","","",""]
["","","","","","",{"$f":"IF(F1269<>\"\",VLOOKUP($F1269,'TA STOCK LOOKUP'!$A$2:$C$202,2,FALSE),\"\")","v":""},{"$f":"IF(G1269<>\"\",VLOOKUP($F1269,'TA STOCK LOOKUP'!$A$2:$C$202,3,FALSE),\"\")","v":""},"","","","","",""]
["","","","","","",{"$f":"IF(F1270<>\"\",VLOOKUP($F1270,'TA STOCK LOOKUP'!$A$2:$C$202,2,FALSE),\"\")","v":""},{"$f":"IF(G1270<>\"\",VLOOKUP($F1270,'TA STOCK LOOKUP'!$A$2:$C$202,3,FALSE),\"\")","v":""},"","","","","",""]
["","","","","","",{"$f":"IF(F1271<>\"\",VLOOKUP($F1271,'TA STOCK LOOKUP'!$A$2:$C$202,2,FALSE),\"\")","v":""},{"$f":"IF(G1271<>\"\",VLOOKUP($F1271,'TA STOCK LOOKUP'!$A$2:$C$202,3,FALSE),\"\")","v":""},"","","","","",""]
["","","","","","",{"$f":"IF(F1272<>\"\",VLOOKUP($F1272,'TA STOCK LOOKUP'!$A$2:$C$202,2,FALSE),\"\")","v":""},{"$f":"IF(G1272<>\"\",VLOOKUP($F1272,'TA STOCK LOOKUP'!$A$2:$C$202,3,FALSE),\"\")","v":""},"","","","","",""]
["","","","","","",{"$f":"IF(F1273<>\"\",VLOOKUP($F1273,'TA STOCK LOOKUP'!$A$2:$C$202,2,FALSE),\"\")","v":""},{"$f":"IF(G1273<>\"\",VLOOKUP($F1273,'TA STOCK LOOKUP'!$A$2:$C$202,3,FALSE),\"\")","v":""},"","","","","",""]
["","","","","","",{"$f":"IF(F1274<>\"\",VLOOKUP($F1274,'TA STOCK LOOKUP'!$A$2:$C$202,2,FALSE),\"\")","v":""},{"$f":"IF(G1274<>\"\",VLOOKUP($F1274,'TA STOCK LOOKUP'!$A$2:$C$202,3,FALSE),\"\")","v":""},"","","","","",""]
["","","","","","",{"$f":"IF(F1275<>\"\",VLOOKUP($F1275,'TA STOCK LOOKUP'!$A$2:$C$202,2,FALSE),\"\")","v":""},{"$f":"IF(G1275<>\"\",VLOOKUP($F1275,'TA STOCK LOOKUP'!$A$2:$C$202,3,FALSE),\"\")","v":""},"","","","","",""]
["","","","","","",{"$f":"IF(F1276<>\"\",VLOOKUP($F1276,'TA STOCK LOOKUP'!$A$2:$C$202,2,FALSE),\"\")","v":""},{"$f":"IF(G1276<>\"\",VLOOKUP($F1276,'TA STOCK LOOKUP'!$A$2:$C$202,3,FALSE),\"\")","v":""},"","","","","",""]
["","","","","","",{"$f":"IF(F1277<>\"\",VLOOKUP($F1277,'TA STOCK LOOKUP'!$A$2:$C$202,2,FALSE),\"\")","v":""},{"$f":"IF(G1277<>\"\",VLOOKUP($F1277,'TA STOCK LOOKUP'!$A$2:$C$202,3,FALSE),\"\")","v":""},"","","","","",""]
["","","","","","",{"$f":"IF(F1278<>\"\",VLOOKUP($F1278,'TA STOCK LOOKUP'!$A$2:$C$202,2,FALSE),\"\")","v":""},{"$f":"IF(G1278<>\"\",VLOOKUP($F1278,'TA STOCK LOOKUP'!$A$2:$C$202,3,FALSE),\"\")","v":""},"","","","","",""]
["","","","","","",{"$f":"IF(F1279<>\"\",VLOOKUP($F1279,'TA STOCK LOOKUP'!$A$2:$C$202,2,FALSE),\"\")","v":""},{"$f":"IF(G1279<>\"\",VLOOKUP($F1279,'TA STOCK LOOKUP'!$A$2:$C$202,3,FALSE),\"\")","v":""},"","","","","",""]
["","","","","","",{"$f":"IF(F1280<>\"\",VLOOKUP($F1280,'TA STOCK LOOKUP'!$A$2:$C$202,2,FALSE),\"\")","v":""},{"$f":"IF(G1280<>\"\",VLOOKUP($F1280,'TA STOCK LOOKUP'!$A$2:$C$202,3,FALSE),\"\")","v":""},"","","","","",""]
["","","","","","",{"$f":"IF(F1281<>\"\",VLOOKUP($F1281,'TA STOCK LOOKUP'!$A$2:$C$202,2,FALSE),\"\")","v":""},{"$f":"IF(G1281<>\"\",VLOOKUP($F1281,'TA STOCK LOOKUP'!$A$2:$C$202,3,FALSE),\"\")","v":""},"","","","","",""]
["","","","","","",{"$f":"IF(F1282<>\"\",VLOOKUP($F1282,'TA STOCK LOOKUP'!$A$2:$C$202,2,FALSE),\"\")","v":""},{"$f":"IF(G1282<>\"\",VLOOKUP($F1282,'TA STOCK LOOKUP'!$A$2:$C$202,3,FALSE),\"\")","v":""},"","","","","",""]
["","","","","","",{"$f":"IF(F1283<>\"\",VLOOKUP($F1283,'TA STOCK LOOKUP'!$A$2:$C$202,2,FALSE),\"\")","v":""},{"$f":"IF(G1283<>\"\",VLOOKUP($F1283,'TA STOCK LOOKUP'!$A$2:$C$202,3,FALSE),\"\")","v":""},"","","","","",""]
["","","","","","",{"$f":"IF(F1284<>\"\",VLOOKUP($F1284,'TA STOCK LOOKUP'!$A$2:$C$202,2,FALSE),\"\")","v":""},{"$f":"IF(G1284<>\"\",VLOOKUP($F1284,'TA STOCK LOOKUP'!$A$2:$C$202,3,FALSE),\"\")","v":""},"","","","","",""]
["","","","","","",{"$f":"IF(F1285<>\"\",VLOOKUP($F1285,'TA STOCK LOOKUP'!$A$2:$C$202,2,FALSE),\"\")","v":""},{"$f":"IF(G1285<>\"\",VLOOKUP($F1285,'TA STOCK LOOKUP'!$A$2:$C$202,3,FALSE),\"\")","v":""},"","","","","",""]
["","","","","","",{"$f":"IF(F1286<>\"\",VLOOKUP($F1286,'TA STOCK LOOKUP'!$A$2:$C$202,2,FALSE),\"\")","v":""},{"$f":"IF(G1286<>\"\",VLOOKUP($F1286,'TA STOCK LOOKUP'!$A$2:$C$202,3,FALSE),\"\")","v":""},"","","","","",""]
["","","","","","",{"$f":"IF(F1287<>\"\",VLOOKUP($F1287,'TA STOCK LOOKUP'!$A$2:$C$202,2,FALSE),\"\")","v":""},{"$f":"IF(G1287<>\"\",VLOOKUP($F1287,'TA STOCK LOOKUP'!$A$2:$C$202,3,FALSE),\"\")","v":""},"","","","","",""]
["","","","","","",{"$f":"IF(F1288<>\"\",VLOOKUP($F1288,'TA STOCK LOOKUP'!$A$2:$C$202,2,FALSE),\"\")","v":""},{"$f":"IF(G1288<>\"\",VLOOKUP($F1288,'TA STOCK LOOKUP'!$A$2:$C$202,3,FALSE),\"\")","v":""},"","","","","",""]
["","","","","","",{"$f":"IF(F1289<>\"\",VLOOKUP($F1289,'TA STOCK LOOKUP'!$A$2:$C$202,2,FALSE),\"\")","v":""},{"$f":"IF(G1289<>\"\",VLOOKUP($F1289,'TA STOCK LOOKUP'!$A$2:$C$202,3,FALSE),\"\")","v":""},"","","","","",""]
["","","","","","",{"$f":"IF(F1290<>\"\",VLOOKUP($F1290,'TA STOCK LOOKUP'!$A$2:$C$202,2,FALSE),\"\")","v":""},{"$f":"IF(G1290<>\"\",VLOOKUP($F1290,'TA STOCK LOOKUP'!$A$2:$C$202,3,FALSE),\"\")","v":""},"","","","","",""]
["","","","","","",{"$f":"IF(F1291<>\"\",VLOOKUP($F1291,'TA STOCK LOOKUP'!$A$2:$C$202,2,FALSE),\"\")","v":""},{"$f":"IF(G1291<>\"\",VLOOKUP($F1291,'TA STOCK LOOKUP'!$A$2:$C$202,3,FALSE),\"\")","v":""},"","","","","",""]
["","","","","","",{"$f":"IF(F1292<>\"\",VLOOKUP($F1292,'TA STOCK LOOKUP'!$A$2:$C$202,2,FALSE),\"\")","v":""},{"$f":"IF(G1292<>\"\",VLOOKUP($F1292,'TA STOCK LOOKUP'!$A$2:$C$202,3,FALSE),\"\")","v":""},"","","","","",""]
["","","","","","",{"$f":"IF(F1293<>\"\",VLOOKUP($F1293,'TA STOCK LOOKUP'!$A$2:$C$202,2,FALSE),\"\")","v":""},{"$f":"IF(G1293<>\"\",VLOOKUP($F1293,'TA STOCK LOOKUP'!$A$2:$C$202,3,FALSE),\"\")","v":""},"","","","","",""]
["","","","","","",{"$f":"IF(F1294<>\"\",VLOOKUP($F1294,'TA STOCK LOOKUP'!$A$2:$C$202,2,FALSE),\"\")","v":""},{"$f":"IF(G1294<>\"\",VLOOKUP($F1294,'TA STOCK LOOKUP'!$A$2:$C$202,3,FALSE),\"\")","v":""},"","","","","",""]
["","","","","","",{"$f":"IF(F1295<>\"\",VLOOKUP($F1295,'TA STOCK LOOKUP'!$A$2:$C$202,2,FALSE),\"\")","v":""},{"$f":"IF(G1295<>\"\",VLOOKUP($F1295,'TA STOCK LOOKUP'!$A$2:$C$202,3,FALSE),\"\")","v":""},"","","","","",""]
["","","","","","",{"$f":"IF(F1296<>\"\",VLOOKUP($F1296,'TA STOCK LOOKUP'!$A$2:$C$202,2,FALSE),\"\")","v":""},{"$f":"IF(G1296<>\"\",VLOOKUP($F1296,'TA STOCK LOOKUP'!$A$2:$C$202,3,FALSE),\"\")","v":""},"","","","","",""]
["","","","","","",{"$f":"IF(F1297<>\"\",VLOOKUP($F1297,'TA STOCK LOOKUP'!$A$2:$C$202,2,FALSE),\"\")","v":""},{"$f":"IF(G1297<>\"\",VLOOKUP($F1297,'TA STOCK LOOKUP'!$A$2:$C$202,3,FALSE),\"\")","v":""},"","","","","",""]
["","","","","","",{"$f":"IF(F1298<>\"\",VLOOKUP($F1298,'TA STOCK LOOKUP'!$A$2:$C$202,2,FALSE),\"\")","v":""},{"$f":"IF(G1298<>\"\",VLOOKUP($F1298,'TA STOCK LOOKUP'!$A$2:$C$202,3,FALSE),\"\")","v":""},"","","","","",""]
["","","","","","",{"$f":"IF(F1299<>\"\",VLOOKUP($F1299,'TA STOCK LOOKUP'!$A$2:$C$202,2,FALSE),\"\")","v":""},{"$f":"IF(G1299<>\"\",VLOOKUP($F1299,'TA STOCK LOOKUP'!$A$2:$C$202,3,FALSE),\"\")","v":""},"","","","","",""]
["","","","","","",{"$f":"IF(F1300<>\"\",VLOOKUP($F1300,'TA STOCK LOOKUP'!$A$2:$C$202,2,FALSE),\"\")","v":""},{"$f":"IF(G1300<>\"\",VLOOKUP($F1300,'TA STOCK LOOKUP'!$A$2:$C$202,3,FALSE),\"\")","v":""},"","","","","",""]
["","","","","","",{"$f":"IF(F1301<>\"\",VLOOKUP($F1301,'TA STOCK LOOKUP'!$A$2:$C$202,2,FALSE),\"\")","v":""},{"$f":"IF(G1301<>\"\",VLOOKUP($F1301,'TA STOCK LOOKUP'!$A$2:$C$202,3,FALSE),\"\")","v":""},"","","","","",""]
["","","","","","",{"$f":"IF(F1302<>\"\",VLOOKUP($F1302,'TA STOCK LOOKUP'!$A$2:$C$202,2,FALSE),\"\")","v":""},{"$f":"IF(G1302<>\"\",VLOOKUP($F1302,'TA STOCK LOOKUP'!$A$2:$C$202,3,FALSE),\"\")","v":""},"","","","","",""]
["","","","","","",{"$f":"IF(F1303<>\"\",VLOOKUP($F1303,'TA STOCK LOOKUP'!$A$2:$C$202,2,FALSE),\"\")","v":""},{"$f":"IF(G1303<>\"\",VLOOKUP($F1303,'TA STOCK LOOKUP'!$A$2:$C$202,3,FALSE),\"\")","v":""},"","","","","",""]
["","","","","","",{"$f":"IF(F1304<>\"\",VLOOKUP($F1304,'TA STOCK LOOKUP'!$A$2:$C$202,2,FALSE),\"\")","v":""},{"$f":"IF(G1304<>\"\",VLOOKUP($F1304,'TA STOCK LOOKUP'!$A$2:$C$202,3,FALSE),\"\")","v":""},"","","","","",""]
["","","","","","",{"$f":"IF(F1305<>\"\",VLOOKUP($F1305,'TA STOCK LOOKUP'!$A$2:$C$202,2,FALSE),\"\")","v":""},{"$f":"IF(G1305<>\"\",VLOOKUP($F1305,'TA STOCK LOOKUP'!$A$2:$C$202,3,FALSE),\"\")","v":""},"","","","","",""]
["","","","","","",{"$f":"IF(F1306<>\"\",VLOOKUP($F1306,'TA STOCK LOOKUP'!$A$2:$C$202,2,FALSE),\"\")","v":""},{"$f":"IF(G1306<>\"\",VLOOKUP($F1306,'TA STOCK LOOKUP'!$A$2:$C$202,3,FALSE),\"\")","v":""},"","","","","",""]
["","","","","","",{"$f":"IF(F1307<>\"\",VLOOKUP($F1307,'TA STOCK LOOKUP'!$A$2:$C$202,2,FALSE),\"\")","v":""},{"$f":"IF(G1307<>\"\",VLOOKUP($F1307,'TA STOCK LOOKUP'!$A$2:$C$202,3,FALSE),\"\")","v":""},"","","","","",""]
["","","","","","",{"$f":"IF(F1308<>\"\",VLOOKUP($F1308,'TA STOCK LOOKUP'!$A$2:$C$202,2,FALSE),\"\")","v":""},{"$f":"IF(G1308<>\"\",VLOOKUP($F1308,'TA STOCK LOOKUP'!$A$2:$C$202,3,FALSE),\"\")","v":""},"","","","","",""]
["","","","","","",{"$f":"IF(F1309<>\"\",VLOOKUP($F1309,'TA STOCK LOOKUP'!$A$2:$C$202,2,FALSE),\"\")","v":""},{"$f":"IF(G1309<>\"\",VLOOKUP($F1309,'TA STOCK LOOKUP'!$A$2:$C$202,3,FALSE),\"\")","v":""},"","","","","",""]
["","","","","","",{"$f":"IF(F1310<>\"\",VLOOKUP($F1310,'TA STOCK LOOKUP'!$A$2:$C$202,2,FALSE),\"\")","v":""},{"$f":"IF(G1310<>\"\",VLOOKUP($F1310,'TA STOCK LOOKUP'!$A$2:$C$202,3,FALSE),\"\")","v":""},"","","","","",""]
["","","","","","",{"$f":"IF(F1311<>\"\",VLOOKUP($F1311,'TA STOCK LOOKUP'!$A$2:$C$202,2,FALSE),\"\")","v":""},{"$f":"IF(G1311<>\"\",VLOOKUP($F1311,'TA STOCK LOOKUP'!$A$2:$C$202,3,FALSE),\"\")","v":""},"","","","","",""]
["","","","","","",{"$f":"IF(F1312<>\"\",VLOOKUP($F1312,'TA STOCK LOOKUP'!$A$2:$C$202,2,FALSE),\"\")","v":""},{"$f":"IF(G1312<>\"\",VLOOKUP($F1312,'TA STOCK LOOKUP'!$A$2:$C$202,3,FALSE),\"\")","v":""},"","","","","",""]
["","","","","","",{"$f":"IF(F1313<>\"\",VLOOKUP($F1313,'TA STOCK LOOKUP'!$A$2:$C$202,2,FALSE),\"\")","v":""},{"$f":"IF(G1313<>\"\",VLOOKUP($F1313,'TA STOCK LOOKUP'!$A$2:$C$202,3,FALSE),\"\")","v":""},"","","","","",""]
["","","","","","",{"$f":"IF(F1314<>\"\",VLOOKUP($F1314,'TA STOCK LOOKUP'!$A$2:$C$202,2,FALSE),\"\")","v":""},{"$f":"IF(G1314<>\"\",VLOOKUP($F1314,'TA STOCK LOOKUP'!$A$2:$C$202,3,FALSE),\"\")","v":""},"","","","","",""]
["","","","","","",{"$f":"IF(F1315<>\"\",VLOOKUP($F1315,'TA STOCK LOOKUP'!$A$2:$C$202,2,FALSE),\"\")","v":""},{"$f":"IF(G1315<>\"\",VLOOKUP($F1315,'TA STOCK LOOKUP'!$A$2:$C$202,3,FALSE),\"\")","v":""},"","","","","",""]
["","","","","","",{"$f":"IF(F1316<>\"\",VLOOKUP($F1316,'TA STOCK LOOKUP'!$A$2:$C$202,2,FALSE),\"\")","v":""},{"$f":"IF(G1316<>\"\",VLOOKUP($F1316,'TA STOCK LOOKUP'!$A$2:$C$202,3,FALSE),\"\")","v":""},"","","","","",""]
["","","","","","",{"$f":"IF(F1317<>\"\",VLOOKUP($F1317,'TA STOCK LOOKUP'!$A$2:$C$202,2,FALSE),\"\")","v":""},{"$f":"IF(G1317<>\"\",VLOOKUP($F1317,'TA STOCK LOOKUP'!$A$2:$C$202,3,FALSE),\"\")","v":""},"","","","","",""]
["","","","","","",{"$f":"IF(F1318<>\"\",VLOOKUP($F1318,'TA STOCK LOOKUP'!$A$2:$C$202,2,FALSE),\"\")","v":""},{"$f":"IF(G1318<>\"\",VLOOKUP($F1318,'TA STOCK LOOKUP'!$A$2:$C$202,3,FALSE),\"\")","v":""},"","","","","",""]
["","","","","","",{"$f":"IF(F1319<>\"\",VLOOKUP($F1319,'TA STOCK LOOKUP'!$A$2:$C$202,2,FALSE),\"\")","v":""},{"$f":"IF(G1319<>\"\",VLOOKUP($F1319,'TA STOCK LOOKUP'!$A$2:$C$202,3,FALSE),\"\")","v":""},"","","","","",""]
["","","","","","",{"$f":"IF(F1320<>\"\",VLOOKUP($F1320,'TA STOCK LOOKUP'!$A$2:$C$202,2,FALSE),\"\")","v":""},{"$f":"IF(G1320<>\"\",VLOOKUP($F1320,'TA STOCK LOOKUP'!$A$2:$C$202,3,FALSE),\"\")","v":""},"","","","","",""]
["","","","","","",{"$f":"IF(F1321<>\"\",VLOOKUP($F1321,'TA STOCK LOOKUP'!$A$2:$C$202,2,FALSE),\"\")","v":""},{"$f":"IF(G1321<>\"\",VLOOKUP($F1321,'TA STOCK LOOKUP'!$A$2:$C$202,3,FALSE),\"\")","v":""},"","","","","",""]
["","","","","","",{"$f":"IF(F1322<>\"\",VLOOKUP($F1322,'TA STOCK LOOKUP'!$A$2:$C$202,2,FALSE),\"\")","v":""},{"$f":"IF(G1322<>\"\",VLOOKUP($F1322,'TA STOCK LOOKUP'!$A$2:$C$202,3,FALSE),\"\")","v":""},"","","","","",""]
["","","","","","",{"$f":"IF(F1323<>\"\",VLOOKUP($F1323,'TA STOCK LOOKUP'!$A$2:$C$202,2,FALSE),\"\")","v":""},{"$f":"IF(G1323<>\"\",VLOOKUP($F1323,'TA STOCK LOOKUP'!$A$2:$C$202,3,FALSE),\"\")","v":""},"","","","","",""]
["","","","","","",{"$f":"IF(F1324<>\"\",VLOOKUP($F1324,'TA STOCK LOOKUP'!$A$2:$C$202,2,FALSE),\"\")","v":""},{"$f":"IF(G1324<>\"\",VLOOKUP($F1324,'TA STOCK LOOKUP'!$A$2:$C$202,3,FALSE),\"\")","v":""},"","","","","",""]
["","","","","","",{"$f":"IF(F1325<>\"\",VLOOKUP($F1325,'TA STOCK LOOKUP'!$A$2:$C$202,2,FALSE),\"\")","v":""},{"$f":"IF(G1325<>\"\",VLOOKUP($F1325,'TA STOCK LOOKUP'!$A$2:$C$202,3,FALSE),\"\")","v":""},"","","","","",""]
["","","","","","",{"$f":"IF(F1326<>\"\",VLOOKUP($F1326,'TA STOCK LOOKUP'!$A$2:$C$202,2,FALSE),\"\")","v":""},{"$f":"IF(G1326<>\"\",VLOOKUP($F1326,'TA STOCK LOOKUP'!$A$2:$C$202,3,FALSE),\"\")","v":""},"","","","","",""]
["","","","","","",{"$f":"IF(F1327<>\"\",VLOOKUP($F1327,'TA STOCK LOOKUP'!$A$2:$C$202,2,FALSE),\"\")","v":""},{"$f":"IF(G1327<>\"\",VLOOKUP($F1327,'TA STOCK LOOKUP'!$A$2:$C$202,3,FALSE),\"\")","v":""},"","","","","",""]
["","","","","","",{"$f":"IF(F1328<>\"\",VLOOKUP($F1328,'TA STOCK LOOKUP'!$A$2:$C$202,2,FALSE),\"\")","v":""},{"$f":"IF(G1328<>\"\",VLOOKUP($F1328,'TA STOCK LOOKUP'!$A$2:$C$202,3,FALSE),\"\")","v":""},"","","","","",""]
["","","","","","",{"$f":"IF(F1329<>\"\",VLOOKUP($F1329,'TA STOCK LOOKUP'!$A$2:$C$202,2,FALSE),\"\")","v":""},{"$f":"IF(G1329<>\"\",VLOOKUP($F1329,'TA STOCK LOOKUP'!$A$2:$C$202,3,FALSE),\"\")","v":""},"","","","","",""]
["","","","","","",{"$f":"IF(F1330<>\"\",VLOOKUP($F1330,'TA STOCK LOOKUP'!$A$2:$C$202,2,FALSE),\"\")","v":""},{"$f":"IF(G1330<>\"\",VLOOKUP($F1330,'TA STOCK LOOKUP'!$A$2:$C$202,3,FALSE),\"\")","v":""},"","","","","",""]
["","","","","","",{"$f":"IF(F1331<>\"\",VLOOKUP($F1331,'TA STOCK LOOKUP'!$A$2:$C$202,2,FALSE),\"\")","v":""},{"$f":"IF(G1331<>\"\",VLOOKUP($F1331,'TA STOCK LOOKUP'!$A$2:$C$202,3,FALSE),\"\")","v":""},"","","","","",""]
["","","","","","",{"$f":"IF(F1332<>\"\",VLOOKUP($F1332,'TA STOCK LOOKUP'!$A$2:$C$202,2,FALSE),\"\")","v":""},{"$f":"IF(G1332<>\"\",VLOOKUP($F1332,'TA STOCK LOOKUP'!$A$2:$C$202,3,FALSE),\"\")","v":""},"","","","","",""]
["","","","","","",{"$f":"IF(F1333<>\"\",VLOOKUP($F1333,'TA STOCK LOOKUP'!$A$2:$C$202,2,FALSE),\"\")","v":""},{"$f":"IF(G1333<>\"\",VLOOKUP($F1333,'TA STOCK LOOKUP'!$A$2:$C$202,3,FALSE),\"\")","v":""},"","","","","",""]
["","","","","","",{"$f":"IF(F1334<>\"\",VLOOKUP($F1334,'TA STOCK LOOKUP'!$A$2:$C$202,2,FALSE),\"\")","v":""},{"$f":"IF(G1334<>\"\",VLOOKUP($F1334,'TA STOCK LOOKUP'!$A$2:$C$202,3,FALSE),\"\")","v":""},"","","","","",""]
["","","","","","",{"$f":"IF(F1335<>\"\",VLOOKUP($F1335,'TA STOCK LOOKUP'!$A$2:$C$202,2,FALSE),\"\")","v":""},{"$f":"IF(G1335<>\"\",VLOOKUP($F1335,'TA STOCK LOOKUP'!$A$2:$C$202,3,FALSE),\"\")","v":""},"","","","","",""]
["","","","","","",{"$f":"IF(F1336<>\"\",VLOOKUP($F1336,'TA STOCK LOOKUP'!$A$2:$C$202,2,FALSE),\"\")","v":""},{"$f":"IF(G1336<>\"\",VLOOKUP($F1336,'TA STOCK LOOKUP'!$A$2:$C$202,3,FALSE),\"\")","v":""},"","","","","",""]
["","","","","","",{"$f":"IF(F1337<>\"\",VLOOKUP($F1337,'TA STOCK LOOKUP'!$A$2:$C$202,2,FALSE),\"\")","v":""},{"$f":"IF(G1337<>\"\",VLOOKUP($F1337,'TA STOCK LOOKUP'!$A$2:$C$202,3,FALSE),\"\")","v":""},"","","","","",""]
["","","","","","",{"$f":"IF(F1338<>\"\",VLOOKUP($F1338,'TA STOCK LOOKUP'!$A$2:$C$202,2,FALSE),\"\")","v":""},{"$f":"IF(G1338<>\"\",VLOOKUP($F1338,'TA STOCK LOOKUP'!$A$2:$C$202,3,FALSE),\"\")","v":""},"","","","","",""]
["","","","","","",{"$f":"IF(F1339<>\"\",VLOOKUP($F1339,'TA STOCK LOOKUP'!$A$2:$C$202,2,FALSE),\"\")","v":""},{"$f":"IF(G1339<>\"\",VLOOKUP($F1339,'TA STOCK LOOKUP'!$A$2:$C$202,3,FALSE),\"\")","v":""},"","","","","",""]
["","","","","","",{"$f":"IF(F1340<>\"\",VLOOKUP($F1340,'TA STOCK LOOKUP'!$A$2:$C$202,2,FALSE),\"\")","v":""},{"$f":"IF(G1340<>\"\",VLOOKUP($F1340,'TA STOCK LOOKUP'!$A$2:$C$202,3,FALSE),\"\")","v":""},"","","","","",""]
["","","","","","",{"$f":"IF(F1341<>\"\",VLOOKUP($F1341,'TA STOCK LOOKUP'!$A$2:$C$202,2,FALSE),\"\")","v":""},{"$f":"IF(G1341<>\"\",VLOOKUP($F1341,'TA STOCK LOOKUP'!$A$2:$C$202,3,FALSE),\"\")","v":""},"","","","","",""]
["","","","","","",{"$f":"IF(F1342<>\"\",VLOOKUP($F1342,'TA STOCK LOOKUP'!$A$2:$C$202,2,FALSE),\"\")","v":""},{"$f":"IF(G1342<>\"\",VLOOKUP($F1342,'TA STOCK LOOKUP'!$A$2:$C$202,3,FALSE),\"\")","v":""},"","","","","",""]
["","","","","","",{"$f":"IF(F1343<>\"\",VLOOKUP($F1343,'TA STOCK LOOKUP'!$A$2:$C$202,2,FALSE),\"\")","v":""},{"$f":"IF(G1343<>\"\",VLOOKUP($F1343,'TA STOCK LOOKUP'!$A$2:$C$202,3,FALSE),\"\")","v":""},"","","","","",""]
["","","","","","",{"$f":"IF(F1344<>\"\",VLOOKUP($F1344,'TA STOCK LOOKUP'!$A$2:$C$202,2,FALSE),\"\")","v":""},{"$f":"IF(G1344<>\"\",VLOOKUP($F1344,'TA STOCK LOOKUP'!$A$2:$C$202,3,FALSE),\"\")","v":""},"","","","","",""]
["","","","","","",{"$f":"IF(F1345<>\"\",VLOOKUP($F1345,'TA STOCK LOOKUP'!$A$2:$C$202,2,FALSE),\"\")","v":""},{"$f":"IF(G1345<>\"\",VLOOKUP($F1345,'TA STOCK LOOKUP'!$A$2:$C$202,3,FALSE),\"\")","v":""},"","","","","",""]
["","","","","","",{"$f":"IF(F1346<>\"\",VLOOKUP($F1346,'TA STOCK LOOKUP'!$A$2:$C$202,2,FALSE),\"\")","v":""},{"$f":"IF(G1346<>\"\",VLOOKUP($F1346,'TA STOCK LOOKUP'!$A$2:$C$202,3,FALSE),\"\")","v":""},"","","","","",""]
["","","","","","",{"$f":"IF(F1347<>\"\",VLOOKUP($F1347,'TA STOCK LOOKUP'!$A$2:$C$202,2,FALSE),\"\")","v":""},{"$f":"IF(G1347<>\"\",VLOOKUP($F1347,'TA STOCK LOOKUP'!$A$2:$C$202,3,FALSE),\"\")","v":""},"","","","","",""]
["","","","","","",{"$f":"IF(F1348<>\"\",VLOOKUP($F1348,'TA STOCK LOOKUP'!$A$2:$C$202,2,FALSE),\"\")","v":""},{"$f":"IF(G1348<>\"\",VLOOKUP($F1348,'TA STOCK LOOKUP'!$A$2:$C$202,3,FALSE),\"\")","v":""},"","","","","",""]
["","","","","","",{"$f":"IF(F1349<>\"\",VLOOKUP($F1349,'TA STOCK LOOKUP'!$A$2:$C$202,2,FALSE),\"\")","v":""},{"$f":"IF(G1349<>\"\",VLOOKUP($F1349,'TA STOCK LOOKUP'!$A$2:$C$202,3,FALSE),\"\")","v":""},"","","","","",""]
["","","","","","",{"$f":"IF(F1350<>\"\",VLOOKUP($F1350,'TA STOCK LOOKUP'!$A$2:$C$202,2,FALSE),\"\")","v":""},{"$f":"IF(G1350<>\"\",VLOOKUP($F1350,'TA STOCK LOOKUP'!$A$2:$C$202,3,FALSE),\"\")","v":""},"","","","","",""]
["","","","","","",{"$f":"IF(F1351<>\"\",VLOOKUP($F1351,'TA STOCK LOOKUP'!$A$2:$C$202,2,FALSE),\"\")","v":""},{"$f":"IF(G1351<>\"\",VLOOKUP($F1351,'TA STOCK LOOKUP'!$A$2:$C$202,3,FALSE),\"\")","v":""},"","","","","",""]
["","","","","","",{"$f":"IF(F1352<>\"\",VLOOKUP($F1352,'TA STOCK LOOKUP'!$A$2:$C$202,2,FALSE),\"\")","v":""},{"$f":"IF(G1352<>\"\",VLOOKUP($F1352,'TA STOCK LOOKUP'!$A$2:$C$202,3,FALSE),\"\")","v":""},"","","","","",""]
["","","","","","",{"$f":"IF(F1353<>\"\",VLOOKUP($F1353,'TA STOCK LOOKUP'!$A$2:$C$202,2,FALSE),\"\")","v":""},{"$f":"IF(G1353<>\"\",VLOOKUP($F1353,'TA STOCK LOOKUP'!$A$2:$C$202,3,FALSE),\"\")","v":""},"","","","","",""]
["","","","","","",{"$f":"IF(F1354<>\"\",VLOOKUP($F1354,'TA STOCK LOOKUP'!$A$2:$C$202,2,FALSE),\"\")","v":""},{"$f":"IF(G1354<>\"\",VLOOKUP($F1354,'TA STOCK LOOKUP'!$A$2:$C$202,3,FALSE),\"\")","v":""},"","","","","",""]
["","","","","","",{"$f":"IF(F1355<>\"\",VLOOKUP($F1355,'TA STOCK LOOKUP'!$A$2:$C$202,2,FALSE),\"\")","v":""},{"$f":"IF(G1355<>\"\",VLOOKUP($F1355,'TA STOCK LOOKUP'!$A$2:$C$202,3,FALSE),\"\")","v":""},"","","","","",""]
["","","","","","",{"$f":"IF(F1356<>\"\",VLOOKUP($F1356,'TA STOCK LOOKUP'!$A$2:$C$202,2,FALSE),\"\")","v":""},{"$f":"IF(G1356<>\"\",VLOOKUP($F1356,'TA STOCK LOOKUP'!$A$2:$C$202,3,FALSE),\"\")","v":""},"","","","","",""]
["","","","","","",{"$f":"IF(F1357<>\"\",VLOOKUP($F1357,'TA STOCK LOOKUP'!$A$2:$C$202,2,FALSE),\"\")","v":""},{"$f":"IF(G1357<>\"\",VLOOKUP($F1357,'TA STOCK LOOKUP'!$A$2:$C$202,3,FALSE),\"\")","v":""},"","","","","",""]
["","","","","","",{"$f":"IF(F1358<>\"\",VLOOKUP($F1358,'TA STOCK LOOKUP'!$A$2:$C$202,2,FALSE),\"\")","v":""},{"$f":"IF(G1358<>\"\",VLOOKUP($F1358,'TA STOCK LOOKUP'!$A$2:$C$202,3,FALSE),\"\")","v":""},"","","","","",""]
["","","","","","",{"$f":"IF(F1359<>\"\",VLOOKUP($F1359,'TA STOCK LOOKUP'!$A$2:$C$202,2,FALSE),\"\")","v":""},{"$f":"IF(G1359<>\"\",VLOOKUP($F1359,'TA STOCK LOOKUP'!$A$2:$C$202,3,FALSE),\"\")","v":""},"","","","","",""]
["","","","","","",{"$f":"IF(F1360<>\"\",VLOOKUP($F1360,'TA STOCK LOOKUP'!$A$2:$C$202,2,FALSE),\"\")","v":""},{"$f":"IF(G1360<>\"\",VLOOKUP($F1360,'TA STOCK LOOKUP'!$A$2:$C$202,3,FALSE),\"\")","v":""},"","","","","",""]
["","","","","","",{"$f":"IF(F1361<>\"\",VLOOKUP($F1361,'TA STOCK LOOKUP'!$A$2:$C$202,2,FALSE),\"\")","v":""},{"$f":"IF(G1361<>\"\",VLOOKUP($F1361,'TA STOCK LOOKUP'!$A$2:$C$202,3,FALSE),\"\")","v":""},"","","","","",""]
["","","","","","",{"$f":"IF(F1362<>\"\",VLOOKUP($F1362,'TA STOCK LOOKUP'!$A$2:$C$202,2,FALSE),\"\")","v":""},{"$f":"IF(G1362<>\"\",VLOOKUP($F1362,'TA STOCK LOOKUP'!$A$2:$C$202,3,FALSE),\"\")","v":""},"","","","","",""]
["","","","","","",{"$f":"IF(F1363<>\"\",VLOOKUP($F1363,'TA STOCK LOOKUP'!$A$2:$C$202,2,FALSE),\"\")","v":""},{"$f":"IF(G1363<>\"\",VLOOKUP($F1363,'TA STOCK LOOKUP'!$A$2:$C$202,3,FALSE),\"\")","v":""},"","","","","",""]
["","","","","","",{"$f":"IF(F1364<>\"\",VLOOKUP($F1364,'TA STOCK LOOKUP'!$A$2:$C$202,2,FALSE),\"\")","v":""},{"$f":"IF(G1364<>\"\",VLOOKUP($F1364,'TA STOCK LOOKUP'!$A$2:$C$202,3,FALSE),\"\")","v":""},"","","","","",""]
["","","","","","",{"$f":"IF(F1365<>\"\",VLOOKUP($F1365,'TA STOCK LOOKUP'!$A$2:$C$202,2,FALSE),\"\")","v":""},{"$f":"IF(G1365<>\"\",VLOOKUP($F1365,'TA STOCK LOOKUP'!$A$2:$C$202,3,FALSE),\"\")","v":""},"","","","","",""]
["","","","","","",{"$f":"IF(F1366<>\"\",VLOOKUP($F1366,'TA STOCK LOOKUP'!$A$2:$C$202,2,FALSE),\"\")","v":""},{"$f":"IF(G1366<>\"\",VLOOKUP($F1366,'TA STOCK LOOKUP'!$A$2:$C$202,3,FALSE),\"\")","v":""},"","","","","",""]
["","","","","","",{"$f":"IF(F1367<>\"\",VLOOKUP($F1367,'TA STOCK LOOKUP'!$A$2:$C$202,2,FALSE),\"\")","v":""},{"$f":"IF(G1367<>\"\",VLOOKUP($F1367,'TA STOCK LOOKUP'!$A$2:$C$202,3,FALSE),\"\")","v":""},"","","","","",""]
["","","","","","",{"$f":"IF(F1368<>\"\",VLOOKUP($F1368,'TA STOCK LOOKUP'!$A$2:$C$202,2,FALSE),\"\")","v":""},{"$f":"IF(G1368<>\"\",VLOOKUP($F1368,'TA STOCK LOOKUP'!$A$2:$C$202,3,FALSE),\"\")","v":""},"","","","","",""]
["","","","","","",{"$f":"IF(F1369<>\"\",VLOOKUP($F1369,'TA STOCK LOOKUP'!$A$2:$C$202,2,FALSE),\"\")","v":""},{"$f":"IF(G1369<>\"\",VLOOKUP($F1369,'TA STOCK LOOKUP'!$A$2:$C$202,3,FALSE),\"\")","v":""},"","","","","",""]
["","","","","","",{"$f":"IF(F1370<>\"\",VLOOKUP($F1370,'TA STOCK LOOKUP'!$A$2:$C$202,2,FALSE),\"\")","v":""},{"$f":"IF(G1370<>\"\",VLOOKUP($F1370,'TA STOCK LOOKUP'!$A$2:$C$202,3,FALSE),\"\")","v":""},"","","","","",""]
["","","","","","",{"$f":"IF(F1371<>\"\",VLOOKUP($F1371,'TA STOCK LOOKUP'!$A$2:$C$202,2,FALSE),\"\")","v":""},{"$f":"IF(G1371<>\"\",VLOOKUP($F1371,'TA STOCK LOOKUP'!$A$2:$C$202,3,FALSE),\"\")","v":""},"","","","","",""]
["","","","","","",{"$f":"IF(F1372<>\"\",VLOOKUP($F1372,'TA STOCK LOOKUP'!$A$2:$C$202,2,FALSE),\"\")","v":""},{"$f":"IF(G1372<>\"\",VLOOKUP($F1372,'TA STOCK LOOKUP'!$A$2:$C$202,3,FALSE),\"\")","v":""},"","","","","",""]
["","","","","","",{"$f":"IF(F1373<>\"\",VLOOKUP($F1373,'TA STOCK LOOKUP'!$A$2:$C$202,2,FALSE),\"\")","v":""},{"$f":"IF(G1373<>\"\",VLOOKUP($F1373,'TA STOCK LOOKUP'!$A$2:$C$202,3,FALSE),\"\")","v":""},"","","","","",""]
["","","","","","",{"$f":"IF(F1374<>\"\",VLOOKUP($F1374,'TA STOCK LOOKUP'!$A$2:$C$202,2,FALSE),\"\")","v":""},{"$f":"IF(G1374<>\"\",VLOOKUP($F1374,'TA STOCK LOOKUP'!$A$2:$C$202,3,FALSE),\"\")","v":""},"","","","","",""]
["","","","","","",{"$f":"IF(F1375<>\"\",VLOOKUP($F1375,'TA STOCK LOOKUP'!$A$2:$C$202,2,FALSE),\"\")","v":""},{"$f":"IF(G1375<>\"\",VLOOKUP($F1375,'TA STOCK LOOKUP'!$A$2:$C$202,3,FALSE),\"\")","v":""},"","","","","",""]
["","","","","","",{"$f":"IF(F1376<>\"\",VLOOKUP($F1376,'TA STOCK LOOKUP'!$A$2:$C$202,2,FALSE),\"\")","v":""},{"$f":"IF(G1376<>\"\",VLOOKUP($F1376,'TA STOCK LOOKUP'!$A$2:$C$202,3,FALSE),\"\")","v":""},"","","","","",""]
["","","","","","",{"$f":"IF(F1377<>\"\",VLOOKUP($F1377,'TA STOCK LOOKUP'!$A$2:$C$202,2,FALSE),\"\")","v":""},{"$f":"IF(G1377<>\"\",VLOOKUP($F1377,'TA STOCK LOOKUP'!$A$2:$C$202,3,FALSE),\"\")","v":""},"","","","","",""]
["","","","","","",{"$f":"IF(F1378<>\"\",VLOOKUP($F1378,'TA STOCK LOOKUP'!$A$2:$C$202,2,FALSE),\"\")","v":""},{"$f":"IF(G1378<>\"\",VLOOKUP($F1378,'TA STOCK LOOKUP'!$A$2:$C$202,3,FALSE),\"\")","v":""},"","","","","",""]
["","","","","","",{"$f":"IF(F1379<>\"\",VLOOKUP($F1379,'TA STOCK LOOKUP'!$A$2:$C$202,2,FALSE),\"\")","v":""},{"$f":"IF(G1379<>\"\",VLOOKUP($F1379,'TA STOCK LOOKUP'!$A$2:$C$202,3,FALSE),\"\")","v":""},"","","","","",""]
["","","","","","",{"$f":"IF(F1380<>\"\",VLOOKUP($F1380,'TA STOCK LOOKUP'!$A$2:$C$202,2,FALSE),\"\")","v":""},{"$f":"IF(G1380<>\"\",VLOOKUP($F1380,'TA STOCK LOOKUP'!$A$2:$C$202,3,FALSE),\"\")","v":""},"","","","","",""]
["","","","","","",{"$f":"IF(F1381<>\"\",VLOOKUP($F1381,'TA STOCK LOOKUP'!$A$2:$C$202,2,FALSE),\"\")","v":""},{"$f":"IF(G1381<>\"\",VLOOKUP($F1381,'TA STOCK LOOKUP'!$A$2:$C$202,3,FALSE),\"\")","v":""},"","","","","",""]
["","","","","","",{"$f":"IF(F1382<>\"\",VLOOKUP($F1382,'TA STOCK LOOKUP'!$A$2:$C$202,2,FALSE),\"\")","v":""},{"$f":"IF(G1382<>\"\",VLOOKUP($F1382,'TA STOCK LOOKUP'!$A$2:$C$202,3,FALSE),\"\")","v":""},"","","","","",""]
["","","","","","",{"$f":"IF(F1383<>\"\",VLOOKUP($F1383,'TA STOCK LOOKUP'!$A$2:$C$202,2,FALSE),\"\")","v":""},{"$f":"IF(G1383<>\"\",VLOOKUP($F1383,'TA STOCK LOOKUP'!$A$2:$C$202,3,FALSE),\"\")","v":""},"","","","","",""]
["","","","","","",{"$f":"IF(F1384<>\"\",VLOOKUP($F1384,'TA STOCK LOOKUP'!$A$2:$C$202,2,FALSE),\"\")","v":""},{"$f":"IF(G1384<>\"\",VLOOKUP($F1384,'TA STOCK LOOKUP'!$A$2:$C$202,3,FALSE),\"\")","v":""},"","","","","",""]
["","","","","","",{"$f":"IF(F1385<>\"\",VLOOKUP($F1385,'TA STOCK LOOKUP'!$A$2:$C$202,2,FALSE),\"\")","v":""},{"$f":"IF(G1385<>\"\",VLOOKUP($F1385,'TA STOCK LOOKUP'!$A$2:$C$202,3,FALSE),\"\")","v":""},"","","","","",""]
["","","","","","",{"$f":"IF(F1386<>\"\",VLOOKUP($F1386,'TA STOCK LOOKUP'!$A$2:$C$202,2,FALSE),\"\")","v":""},{"$f":"IF(G1386<>\"\",VLOOKUP($F1386,'TA STOCK LOOKUP'!$A$2:$C$202,3,FALSE),\"\")","v":""},"","","","","",""]
["","","","","","",{"$f":"IF(F1387<>\"\",VLOOKUP($F1387,'TA STOCK LOOKUP'!$A$2:$C$202,2,FALSE),\"\")","v":""},{"$f":"IF(G1387<>\"\",VLOOKUP($F1387,'TA STOCK LOOKUP'!$A$2:$C$202,3,FALSE),\"\")","v":""},"","","","","",""]
["","","","","","",{"$f":"IF(F1388<>\"\",VLOOKUP($F1388,'TA STOCK LOOKUP'!$A$2:$C$202,2,FALSE),\"\")","v":""},{"$f":"IF(G1388<>\"\",VLOOKUP($F1388,'TA STOCK LOOKUP'!$A$2:$C$202,3,FALSE),\"\")","v":""},"","","","","",""]
["","","","","","",{"$f":"IF(F1389<>\"\",VLOOKUP($F1389,'TA STOCK LOOKUP'!$A$2:$C$202,2,FALSE),\"\")","v":""},{"$f":"IF(G1389<>\"\",VLOOKUP($F1389,'TA STOCK LOOKUP'!$A$2:$C$202,3,FALSE),\"\")","v":""},"","","","","",""]
["","","","","","",{"$f":"IF(F1390<>\"\",VLOOKUP($F1390,'TA STOCK LOOKUP'!$A$2:$C$202,2,FALSE),\"\")","v":""},{"$f":"IF(G1390<>\"\",VLOOKUP($F1390,'TA STOCK LOOKUP'!$A$2:$C$202,3,FALSE),\"\")","v":""},"","","","","",""]
["","","","","","",{"$f":"IF(F1391<>\"\",VLOOKUP($F1391,'TA STOCK LOOKUP'!$A$2:$C$202,2,FALSE),\"\")","v":""},{"$f":"IF(G1391<>\"\",VLOOKUP($F1391,'TA STOCK LOOKUP'!$A$2:$C$202,3,FALSE),\"\")","v":""},"","","","","",""]
["","","","","","",{"$f":"IF(F1392<>\"\",VLOOKUP($F1392,'TA STOCK LOOKUP'!$A$2:$C$202,2,FALSE),\"\")","v":""},{"$f":"IF(G1392<>\"\",VLOOKUP($F1392,'TA STOCK LOOKUP'!$A$2:$C$202,3,FALSE),\"\")","v":""},"","","","","",""]
["","","","","","",{"$f":"IF(F1393<>\"\",VLOOKUP($F1393,'TA STOCK LOOKUP'!$A$2:$C$202,2,FALSE),\"\")","v":""},{"$f":"IF(G1393<>\"\",VLOOKUP($F1393,'TA STOCK LOOKUP'!$A$2:$C$202,3,FALSE),\"\")","v":""},"","","","","",""]
["","","","","","",{"$f":"IF(F1394<>\"\",VLOOKUP($F1394,'TA STOCK LOOKUP'!$A$2:$C$202,2,FALSE),\"\")","v":""},{"$f":"IF(G1394<>\"\",VLOOKUP($F1394,'TA STOCK LOOKUP'!$A$2:$C$202,3,FALSE),\"\")","v":""},"","","","","",""]
["","","","","","",{"$f":"IF(F1395<>\"\",VLOOKUP($F1395,'TA STOCK LOOKUP'!$A$2:$C$202,2,FALSE),\"\")","v":""},{"$f":"IF(G1395<>\"\",VLOOKUP($F1395,'TA STOCK LOOKUP'!$A$2:$C$202,3,FALSE),\"\")","v":""},"","","","","",""]
["","","","","","",{"$f":"IF(F1396<>\"\",VLOOKUP($F1396,'TA STOCK LOOKUP'!$A$2:$C$202,2,FALSE),\"\")","v":""},{"$f":"IF(G1396<>\"\",VLOOKUP($F1396,'TA STOCK LOOKUP'!$A$2:$C$202,3,FALSE),\"\")","v":""},"","","","","",""]
["","","","","","",{"$f":"IF(F1397<>\"\",VLOOKUP($F1397,'TA STOCK LOOKUP'!$A$2:$C$202,2,FALSE),\"\")","v":""},{"$f":"IF(G1397<>\"\",VLOOKUP($F1397,'TA STOCK LOOKUP'!$A$2:$C$202,3,FALSE),\"\")","v":""},"","","","","",""]
["","","","","","",{"$f":"IF(F1398<>\"\",VLOOKUP($F1398,'TA STOCK LOOKUP'!$A$2:$C$202,2,FALSE),\"\")","v":""},{"$f":"IF(G1398<>\"\",VLOOKUP($F1398,'TA STOCK LOOKUP'!$A$2:$C$202,3,FALSE),\"\")","v":""},"","","","","",""]
["","","","","","",{"$f":"IF(F1399<>\"\",VLOOKUP($F1399,'TA STOCK LOOKUP'!$A$2:$C$202,2,FALSE),\"\")","v":""},{"$f":"IF(G1399<>\"\",VLOOKUP($F1399,'TA STOCK LOOKUP'!$A$2:$C$202,3,FALSE),\"\")","v":""},"","","","","",""]
["","","","","","",{"$f":"IF(F1400<>\"\",VLOOKUP($F1400,'TA STOCK LOOKUP'!$A$2:$C$202,2,FALSE),\"\")","v":""},{"$f":"IF(G1400<>\"\",VLOOKUP($F1400,'TA STOCK LOOKUP'!$A$2:$C$202,3,FALSE),\"\")","v":""},"","","","","",""]
["","","","","","",{"$f":"IF(F1401<>\"\",VLOOKUP($F1401,'TA STOCK LOOKUP'!$A$2:$C$202,2,FALSE),\"\")","v":""},{"$f":"IF(G1401<>\"\",VLOOKUP($F1401,'TA STOCK LOOKUP'!$A$2:$C$202,3,FALSE),\"\")","v":""},"","","","","",""]
["","","","","","",{"$f":"IF(F1402<>\"\",VLOOKUP($F1402,'TA STOCK LOOKUP'!$A$2:$C$202,2,FALSE),\"\")","v":""},{"$f":"IF(G1402<>\"\",VLOOKUP($F1402,'TA STOCK LOOKUP'!$A$2:$C$202,3,FALSE),\"\")","v":""},"","","","","",""]
["","","","","","",{"$f":"IF(F1403<>\"\",VLOOKUP($F1403,'TA STOCK LOOKUP'!$A$2:$C$202,2,FALSE),\"\")","v":""},{"$f":"IF(G1403<>\"\",VLOOKUP($F1403,'TA STOCK LOOKUP'!$A$2:$C$202,3,FALSE),\"\")","v":""},"","","","","",""]
["","","","","","",{"$f":"IF(F1404<>\"\",VLOOKUP($F1404,'TA STOCK LOOKUP'!$A$2:$C$202,2,FALSE),\"\")","v":""},{"$f":"IF(G1404<>\"\",VLOOKUP($F1404,'TA STOCK LOOKUP'!$A$2:$C$202,3,FALSE),\"\")","v":""},"","","","","",""]
["","","","","","",{"$f":"IF(F1405<>\"\",VLOOKUP($F1405,'TA STOCK LOOKUP'!$A$2:$C$202,2,FALSE),\"\")","v":""},{"$f":"IF(G1405<>\"\",VLOOKUP($F1405,'TA STOCK LOOKUP'!$A$2:$C$202,3,FALSE),\"\")","v":""},"","","","","",""]
["","","","","","",{"$f":"IF(F1406<>\"\",VLOOKUP($F1406,'TA STOCK LOOKUP'!$A$2:$C$202,2,FALSE),\"\")","v":""},{"$f":"IF(G1406<>\"\",VLOOKUP($F1406,'TA STOCK LOOKUP'!$A$2:$C$202,3,FALSE),\"\")","v":""},"","","","","",""]
["","","","","","",{"$f":"IF(F1407<>\"\",VLOOKUP($F1407,'TA STOCK LOOKUP'!$A$2:$C$202,2,FALSE),\"\")","v":""},{"$f":"IF(G1407<>\"\",VLOOKUP($F1407,'TA STOCK LOOKUP'!$A$2:$C$202,3,FALSE),\"\")","v":""},"","","","","",""]
["","","","","","",{"$f":"IF(F1408<>\"\",VLOOKUP($F1408,'TA STOCK LOOKUP'!$A$2:$C$202,2,FALSE),\"\")","v":""},{"$f":"IF(G1408<>\"\",VLOOKUP($F1408,'TA STOCK LOOKUP'!$A$2:$C$202,3,FALSE),\"\")","v":""},"","","","","",""]
["","","","","","",{"$f":"IF(F1409<>\"\",VLOOKUP($F1409,'TA STOCK LOOKUP'!$A$2:$C$202,2,FALSE),\"\")","v":""},{"$f":"IF(G1409<>\"\",VLOOKUP($F1409,'TA STOCK LOOKUP'!$A$2:$C$202,3,FALSE),\"\")","v":""},"","","","","",""]
["","","","","","",{"$f":"IF(F1410<>\"\",VLOOKUP($F1410,'TA STOCK LOOKUP'!$A$2:$C$202,2,FALSE),\"\")","v":""},{"$f":"IF(G1410<>\"\",VLOOKUP($F1410,'TA STOCK LOOKUP'!$A$2:$C$202,3,FALSE),\"\")","v":""},"","","","","",""]
["","","","","","",{"$f":"IF(F1411<>\"\",VLOOKUP($F1411,'TA STOCK LOOKUP'!$A$2:$C$202,2,FALSE),\"\")","v":""},{"$f":"IF(G1411<>\"\",VLOOKUP($F1411,'TA STOCK LOOKUP'!$A$2:$C$202,3,FALSE),\"\")","v":""},"","","","","",""]
["","","","","","",{"$f":"IF(F1412<>\"\",VLOOKUP($F1412,'TA STOCK LOOKUP'!$A$2:$C$202,2,FALSE),\"\")","v":""},{"$f":"IF(G1412<>\"\",VLOOKUP($F1412,'TA STOCK LOOKUP'!$A$2:$C$202,3,FALSE),\"\")","v":""},"","","","","",""]
["","","","","","",{"$f":"IF(F1413<>\"\",VLOOKUP($F1413,'TA STOCK LOOKUP'!$A$2:$C$202,2,FALSE),\"\")","v":""},{"$f":"IF(G1413<>\"\",VLOOKUP($F1413,'TA STOCK LOOKUP'!$A$2:$C$202,3,FALSE),\"\")","v":""},"","","","","",""]
["","","","","","",{"$f":"IF(F1414<>\"\",VLOOKUP($F1414,'TA STOCK LOOKUP'!$A$2:$C$202,2,FALSE),\"\")","v":""},{"$f":"IF(G1414<>\"\",VLOOKUP($F1414,'TA STOCK LOOKUP'!$A$2:$C$202,3,FALSE),\"\")","v":""},"","","","","",""]
["","","","","","",{"$f":"IF(F1415<>\"\",VLOOKUP($F1415,'TA STOCK LOOKUP'!$A$2:$C$202,2,FALSE),\"\")","v":""},{"$f":"IF(G1415<>\"\",VLOOKUP($F1415,'TA STOCK LOOKUP'!$A$2:$C$202,3,FALSE),\"\")","v":""},"","","","","",""]
["","","","","","",{"$f":"IF(F1416<>\"\",VLOOKUP($F1416,'TA STOCK LOOKUP'!$A$2:$C$202,2,FALSE),\"\")","v":""},{"$f":"IF(G1416<>\"\",VLOOKUP($F1416,'TA STOCK LOOKUP'!$A$2:$C$202,3,FALSE),\"\")","v":""},"","","","","",""]
["","","","","","",{"$f":"IF(F1417<>\"\",VLOOKUP($F1417,'TA STOCK LOOKUP'!$A$2:$C$202,2,FALSE),\"\")","v":""},{"$f":"IF(G1417<>\"\",VLOOKUP($F1417,'TA STOCK LOOKUP'!$A$2:$C$202,3,FALSE),\"\")","v":""},"","","","","",""]
["","","","","","",{"$f":"IF(F1418<>\"\",VLOOKUP($F1418,'TA STOCK LOOKUP'!$A$2:$C$202,2,FALSE),\"\")","v":""},{"$f":"IF(G1418<>\"\",VLOOKUP($F1418,'TA STOCK LOOKUP'!$A$2:$C$202,3,FALSE),\"\")","v":""},"","","","","",""]
["","","","","","",{"$f":"IF(F1419<>\"\",VLOOKUP($F1419,'TA STOCK LOOKUP'!$A$2:$C$202,2,FALSE),\"\")","v":""},{"$f":"IF(G1419<>\"\",VLOOKUP($F1419,'TA STOCK LOOKUP'!$A$2:$C$202,3,FALSE),\"\")","v":""},"","","","","",""]
["","","","","","",{"$f":"IF(F1420<>\"\",VLOOKUP($F1420,'TA STOCK LOOKUP'!$A$2:$C$202,2,FALSE),\"\")","v":""},{"$f":"IF(G1420<>\"\",VLOOKUP($F1420,'TA STOCK LOOKUP'!$A$2:$C$202,3,FALSE),\"\")","v":""},"","","","","",""]
["","","","","","",{"$f":"IF(F1421<>\"\",VLOOKUP($F1421,'TA STOCK LOOKUP'!$A$2:$C$202,2,FALSE),\"\")","v":""},{"$f":"IF(G1421<>\"\",VLOOKUP($F1421,'TA STOCK LOOKUP'!$A$2:$C$202,3,FALSE),\"\")","v":""},"","","","","",""]
["","","","","","",{"$f":"IF(F1422<>\"\",VLOOKUP($F1422,'TA STOCK LOOKUP'!$A$2:$C$202,2,FALSE),\"\")","v":""},{"$f":"IF(G1422<>\"\",VLOOKUP($F1422,'TA STOCK LOOKUP'!$A$2:$C$202,3,FALSE),\"\")","v":""},"","","","","",""]
["","","","","","",{"$f":"IF(F1423<>\"\",VLOOKUP($F1423,'TA STOCK LOOKUP'!$A$2:$C$202,2,FALSE),\"\")","v":""},{"$f":"IF(G1423<>\"\",VLOOKUP($F1423,'TA STOCK LOOKUP'!$A$2:$C$202,3,FALSE),\"\")","v":""},"","","","","",""]
["","","","","","",{"$f":"IF(F1424<>\"\",VLOOKUP($F1424,'TA STOCK LOOKUP'!$A$2:$C$202,2,FALSE),\"\")","v":""},{"$f":"IF(G1424<>\"\",VLOOKUP($F1424,'TA STOCK LOOKUP'!$A$2:$C$202,3,FALSE),\"\")","v":""},"","","","","",""]
["","","","","","",{"$f":"IF(F1425<>\"\",VLOOKUP($F1425,'TA STOCK LOOKUP'!$A$2:$C$202,2,FALSE),\"\")","v":""},{"$f":"IF(G1425<>\"\",VLOOKUP($F1425,'TA STOCK LOOKUP'!$A$2:$C$202,3,FALSE),\"\")","v":""},"","","","","",""]
["","","","","","",{"$f":"IF(F1426<>\"\",VLOOKUP($F1426,'TA STOCK LOOKUP'!$A$2:$C$202,2,FALSE),\"\")","v":""},{"$f":"IF(G1426<>\"\",VLOOKUP($F1426,'TA STOCK LOOKUP'!$A$2:$C$202,3,FALSE),\"\")","v":""},"","","","","",""]
["","","","","","",{"$f":"IF(F1427<>\"\",VLOOKUP($F1427,'TA STOCK LOOKUP'!$A$2:$C$202,2,FALSE),\"\")","v":""},{"$f":"IF(G1427<>\"\",VLOOKUP($F1427,'TA STOCK LOOKUP'!$A$2:$C$202,3,FALSE),\"\")","v":""},"","","","","",""]
["","","","","","",{"$f":"IF(F1428<>\"\",VLOOKUP($F1428,'TA STOCK LOOKUP'!$A$2:$C$202,2,FALSE),\"\")","v":""},{"$f":"IF(G1428<>\"\",VLOOKUP($F1428,'TA STOCK LOOKUP'!$A$2:$C$202,3,FALSE),\"\")","v":""},"","","","","",""]
["","","","","","",{"$f":"IF(F1429<>\"\",VLOOKUP($F1429,'TA STOCK LOOKUP'!$A$2:$C$202,2,FALSE),\"\")","v":""},{"$f":"IF(G1429<>\"\",VLOOKUP($F1429,'TA STOCK LOOKUP'!$A$2:$C$202,3,FALSE),\"\")","v":""},"","","","","",""]
["","","","","","",{"$f":"IF(F1430<>\"\",VLOOKUP($F1430,'TA STOCK LOOKUP'!$A$2:$C$202,2,FALSE),\"\")","v":""},{"$f":"IF(G1430<>\"\",VLOOKUP($F1430,'TA STOCK LOOKUP'!$A$2:$C$202,3,FALSE),\"\")","v":""},"","","","","",""]
["","","","","","",{"$f":"IF(F1431<>\"\",VLOOKUP($F1431,'TA STOCK LOOKUP'!$A$2:$C$202,2,FALSE),\"\")","v":""},{"$f":"IF(G1431<>\"\",VLOOKUP($F1431,'TA STOCK LOOKUP'!$A$2:$C$202,3,FALSE),\"\")","v":""},"","","","","",""]
["","","","","","",{"$f":"IF(F1432<>\"\",VLOOKUP($F1432,'TA STOCK LOOKUP'!$A$2:$C$202,2,FALSE),\"\")","v":""},{"$f":"IF(G1432<>\"\",VLOOKUP($F1432,'TA STOCK LOOKUP'!$A$2:$C$202,3,FALSE),\"\")","v":""},"","","","","",""]
["","","","","","",{"$f":"IF(F1433<>\"\",VLOOKUP($F1433,'TA STOCK LOOKUP'!$A$2:$C$202,2,FALSE),\"\")","v":""},{"$f":"IF(G1433<>\"\",VLOOKUP($F1433,'TA STOCK LOOKUP'!$A$2:$C$202,3,FALSE),\"\")","v":""},"","","","","",""]
["","","","","","",{"$f":"IF(F1434<>\"\",VLOOKUP($F1434,'TA STOCK LOOKUP'!$A$2:$C$202,2,FALSE),\"\")","v":""},{"$f":"IF(G1434<>\"\",VLOOKUP($F1434,'TA STOCK LOOKUP'!$A$2:$C$202,3,FALSE),\"\")","v":""},"","","","","",""]
["","","","","","",{"$f":"IF(F1435<>\"\",VLOOKUP($F1435,'TA STOCK LOOKUP'!$A$2:$C$202,2,FALSE),\"\")","v":""},{"$f":"IF(G1435<>\"\",VLOOKUP($F1435,'TA STOCK LOOKUP'!$A$2:$C$202,3,FALSE),\"\")","v":""},"","","","","",""]
["","","","","","",{"$f":"IF(F1436<>\"\",VLOOKUP($F1436,'TA STOCK LOOKUP'!$A$2:$C$202,2,FALSE),\"\")","v":""},{"$f":"IF(G1436<>\"\",VLOOKUP($F1436,'TA STOCK LOOKUP'!$A$2:$C$202,3,FALSE),\"\")","v":""},"","","","","",""]
["","","","","","",{"$f":"IF(F1437<>\"\",VLOOKUP($F1437,'TA STOCK LOOKUP'!$A$2:$C$202,2,FALSE),\"\")","v":""},{"$f":"IF(G1437<>\"\",VLOOKUP($F1437,'TA STOCK LOOKUP'!$A$2:$C$202,3,FALSE),\"\")","v":""},"","","","","",""]
["","","","","","",{"$f":"IF(F1438<>\"\",VLOOKUP($F1438,'TA STOCK LOOKUP'!$A$2:$C$202,2,FALSE),\"\")","v":""},{"$f":"IF(G1438<>\"\",VLOOKUP($F1438,'TA STOCK LOOKUP'!$A$2:$C$202,3,FALSE),\"\")","v":""},"","","","","",""]
["","","","","","",{"$f":"IF(F1439<>\"\",VLOOKUP($F1439,'TA STOCK LOOKUP'!$A$2:$C$202,2,FALSE),\"\")","v":""},{"$f":"IF(G1439<>\"\",VLOOKUP($F1439,'TA STOCK LOOKUP'!$A$2:$C$202,3,FALSE),\"\")","v":""},"","","","","",""]
["","","","","","",{"$f":"IF(F1440<>\"\",VLOOKUP($F1440,'TA STOCK LOOKUP'!$A$2:$C$202,2,FALSE),\"\")","v":""},{"$f":"IF(G1440<>\"\",VLOOKUP($F1440,'TA STOCK LOOKUP'!$A$2:$C$202,3,FALSE),\"\")","v":""},"","","","","",""]
["","","","","","",{"$f":"IF(F1441<>\"\",VLOOKUP($F1441,'TA STOCK LOOKUP'!$A$2:$C$202,2,FALSE),\"\")","v":""},{"$f":"IF(G1441<>\"\",VLOOKUP($F1441,'TA STOCK LOOKUP'!$A$2:$C$202,3,FALSE),\"\")","v":""},"","","","","",""]
["","","","","","",{"$f":"IF(F1442<>\"\",VLOOKUP($F1442,'TA STOCK LOOKUP'!$A$2:$C$202,2,FALSE),\"\")","v":""},{"$f":"IF(G1442<>\"\",VLOOKUP($F1442,'TA STOCK LOOKUP'!$A$2:$C$202,3,FALSE),\"\")","v":""},"","","","","",""]
["","","","","","",{"$f":"IF(F1443<>\"\",VLOOKUP($F1443,'TA STOCK LOOKUP'!$A$2:$C$202,2,FALSE),\"\")","v":""},{"$f":"IF(G1443<>\"\",VLOOKUP($F1443,'TA STOCK LOOKUP'!$A$2:$C$202,3,FALSE),\"\")","v":""},"","","","","",""]
["","","","","","",{"$f":"IF(F1444<>\"\",VLOOKUP($F1444,'TA STOCK LOOKUP'!$A$2:$C$202,2,FALSE),\"\")","v":""},{"$f":"IF(G1444<>\"\",VLOOKUP($F1444,'TA STOCK LOOKUP'!$A$2:$C$202,3,FALSE),\"\")","v":""},"","","","","",""]
["","","","","","",{"$f":"IF(F1445<>\"\",VLOOKUP($F1445,'TA STOCK LOOKUP'!$A$2:$C$202,2,FALSE),\"\")","v":""},{"$f":"IF(G1445<>\"\",VLOOKUP($F1445,'TA STOCK LOOKUP'!$A$2:$C$202,3,FALSE),\"\")","v":""},"","","","","",""]
["","","","","","",{"$f":"IF(F1446<>\"\",VLOOKUP($F1446,'TA STOCK LOOKUP'!$A$2:$C$202,2,FALSE),\"\")","v":""},{"$f":"IF(G1446<>\"\",VLOOKUP($F1446,'TA STOCK LOOKUP'!$A$2:$C$202,3,FALSE),\"\")","v":""},"","","","","",""]
["","","","","","",{"$f":"IF(F1447<>\"\",VLOOKUP($F1447,'TA STOCK LOOKUP'!$A$2:$C$202,2,FALSE),\"\")","v":""},{"$f":"IF(G1447<>\"\",VLOOKUP($F1447,'TA STOCK LOOKUP'!$A$2:$C$202,3,FALSE),\"\")","v":""},"","","","","",""]
["","","","","","",{"$f":"IF(F1448<>\"\",VLOOKUP($F1448,'TA STOCK LOOKUP'!$A$2:$C$202,2,FALSE),\"\")","v":""},{"$f":"IF(G1448<>\"\",VLOOKUP($F1448,'TA STOCK LOOKUP'!$A$2:$C$202,3,FALSE),\"\")","v":""},"","","","","",""]
["","","","","","",{"$f":"IF(F1449<>\"\",VLOOKUP($F1449,'TA STOCK LOOKUP'!$A$2:$C$202,2,FALSE),\"\")","v":""},{"$f":"IF(G1449<>\"\",VLOOKUP($F1449,'TA STOCK LOOKUP'!$A$2:$C$202,3,FALSE),\"\")","v":""},"","","","","",""]
["","","","","","",{"$f":"IF(F1450<>\"\",VLOOKUP($F1450,'TA STOCK LOOKUP'!$A$2:$C$202,2,FALSE),\"\")","v":""},{"$f":"IF(G1450<>\"\",VLOOKUP($F1450,'TA STOCK LOOKUP'!$A$2:$C$202,3,FALSE),\"\")","v":""},"","","","","",""]
["","","","","","",{"$f":"IF(F1451<>\"\",VLOOKUP($F1451,'TA STOCK LOOKUP'!$A$2:$C$202,2,FALSE),\"\")","v":""},{"$f":"IF(G1451<>\"\",VLOOKUP($F1451,'TA STOCK LOOKUP'!$A$2:$C$202,3,FALSE),\"\")","v":""},"","","","","",""]
["","","","","","",{"$f":"IF(F1452<>\"\",VLOOKUP($F1452,'TA STOCK LOOKUP'!$A$2:$C$202,2,FALSE),\"\")","v":""},{"$f":"IF(G1452<>\"\",VLOOKUP($F1452,'TA STOCK LOOKUP'!$A$2:$C$202,3,FALSE),\"\")","v":""},"","","","","",""]
["","","","","","",{"$f":"IF(F1453<>\"\",VLOOKUP($F1453,'TA STOCK LOOKUP'!$A$2:$C$202,2,FALSE),\"\")","v":""},{"$f":"IF(G1453<>\"\",VLOOKUP($F1453,'TA STOCK LOOKUP'!$A$2:$C$202,3,FALSE),\"\")","v":""},"","","","","",""]
["","","","","","",{"$f":"IF(F1454<>\"\",VLOOKUP($F1454,'TA STOCK LOOKUP'!$A$2:$C$202,2,FALSE),\"\")","v":""},{"$f":"IF(G1454<>\"\",VLOOKUP($F1454,'TA STOCK LOOKUP'!$A$2:$C$202,3,FALSE),\"\")","v":""},"","","","","",""]
["","","","","","",{"$f":"IF(F1455<>\"\",VLOOKUP($F1455,'TA STOCK LOOKUP'!$A$2:$C$202,2,FALSE),\"\")","v":""},{"$f":"IF(G1455<>\"\",VLOOKUP($F1455,'TA STOCK LOOKUP'!$A$2:$C$202,3,FALSE),\"\")","v":""},"","","","","",""]
["","","","","","",{"$f":"IF(F1456<>\"\",VLOOKUP($F1456,'TA STOCK LOOKUP'!$A$2:$C$202,2,FALSE),\"\")","v":""},{"$f":"IF(G1456<>\"\",VLOOKUP($F1456,'TA STOCK LOOKUP'!$A$2:$C$202,3,FALSE),\"\")","v":""},"","","","","",""]
["","","","","","",{"$f":"IF(F1457<>\"\",VLOOKUP($F1457,'TA STOCK LOOKUP'!$A$2:$C$202,2,FALSE),\"\")","v":""},{"$f":"IF(G1457<>\"\",VLOOKUP($F1457,'TA STOCK LOOKUP'!$A$2:$C$202,3,FALSE),\"\")","v":""},"","","","","",""]
["","","","","","",{"$f":"IF(F1458<>\"\",VLOOKUP($F1458,'TA STOCK LOOKUP'!$A$2:$C$202,2,FALSE),\"\")","v":""},{"$f":"IF(G1458<>\"\",VLOOKUP($F1458,'TA STOCK LOOKUP'!$A$2:$C$202,3,FALSE),\"\")","v":""},"","","","","",""]
["","","","","","",{"$f":"IF(F1459<>\"\",VLOOKUP($F1459,'TA STOCK LOOKUP'!$A$2:$C$202,2,FALSE),\"\")","v":""},{"$f":"IF(G1459<>\"\",VLOOKUP($F1459,'TA STOCK LOOKUP'!$A$2:$C$202,3,FALSE),\"\")","v":""},"","","","","",""]
["","","","","","",{"$f":"IF(F1460<>\"\",VLOOKUP($F1460,'TA STOCK LOOKUP'!$A$2:$C$202,2,FALSE),\"\")","v":""},{"$f":"IF(G1460<>\"\",VLOOKUP($F1460,'TA STOCK LOOKUP'!$A$2:$C$202,3,FALSE),\"\")","v":""},"","","","","",""]
["","","","","","",{"$f":"IF(F1461<>\"\",VLOOKUP($F1461,'TA STOCK LOOKUP'!$A$2:$C$202,2,FALSE),\"\")","v":""},{"$f":"IF(G1461<>\"\",VLOOKUP($F1461,'TA STOCK LOOKUP'!$A$2:$C$202,3,FALSE),\"\")","v":""},"","","","","",""]
["","","","","","",{"$f":"IF(F1462<>\"\",VLOOKUP($F1462,'TA STOCK LOOKUP'!$A$2:$C$202,2,FALSE),\"\")","v":""},{"$f":"IF(G1462<>\"\",VLOOKUP($F1462,'TA STOCK LOOKUP'!$A$2:$C$202,3,FALSE),\"\")","v":""},"","","","","",""]
["","","","","","",{"$f":"IF(F1463<>\"\",VLOOKUP($F1463,'TA STOCK LOOKUP'!$A$2:$C$202,2,FALSE),\"\")","v":""},{"$f":"IF(G1463<>\"\",VLOOKUP($F1463,'TA STOCK LOOKUP'!$A$2:$C$202,3,FALSE),\"\")","v":""},"","","","","",""]
["","","","","","",{"$f":"IF(F1464<>\"\",VLOOKUP($F1464,'TA STOCK LOOKUP'!$A$2:$C$202,2,FALSE),\"\")","v":""},{"$f":"IF(G1464<>\"\",VLOOKUP($F1464,'TA STOCK LOOKUP'!$A$2:$C$202,3,FALSE),\"\")","v":""},"","","","","",""]
["","","","","","",{"$f":"IF(F1465<>\"\",VLOOKUP($F1465,'TA STOCK LOOKUP'!$A$2:$C$202,2,FALSE),\"\")","v":""},{"$f":"IF(G1465<>\"\",VLOOKUP($F1465,'TA STOCK LOOKUP'!$A$2:$C$202,3,FALSE),\"\")","v":""},"","","","","",""]
["","","","","","",{"$f":"IF(F1466<>\"\",VLOOKUP($F1466,'TA STOCK LOOKUP'!$A$2:$C$202,2,FALSE),\"\")","v":""},{"$f":"IF(G1466<>\"\",VLOOKUP($F1466,'TA STOCK LOOKUP'!$A$2:$C$202,3,FALSE),\"\")","v":""},"","","","","",""]
["","","","","","",{"$f":"IF(F1467<>\"\",VLOOKUP($F1467,'TA STOCK LOOKUP'!$A$2:$C$202,2,FALSE),\"\")","v":""},{"$f":"IF(G1467<>\"\",VLOOKUP($F1467,'TA STOCK LOOKUP'!$A$2:$C$202,3,FALSE),\"\")","v":""},"","","","","",""]
["","","","","","",{"$f":"IF(F1468<>\"\",VLOOKUP($F1468,'TA STOCK LOOKUP'!$A$2:$C$202,2,FALSE),\"\")","v":""},{"$f":"IF(G1468<>\"\",VLOOKUP($F1468,'TA STOCK LOOKUP'!$A$2:$C$202,3,FALSE),\"\")","v":""},"","","","","",""]
["","","","","","",{"$f":"IF(F1469<>\"\",VLOOKUP($F1469,'TA STOCK LOOKUP'!$A$2:$C$202,2,FALSE),\"\")","v":""},{"$f":"IF(G1469<>\"\",VLOOKUP($F1469,'TA STOCK LOOKUP'!$A$2:$C$202,3,FALSE),\"\")","v":""},"","","","","",""]
["","","","","","",{"$f":"IF(F1470<>\"\",VLOOKUP($F1470,'TA STOCK LOOKUP'!$A$2:$C$202,2,FALSE),\"\")","v":""},{"$f":"IF(G1470<>\"\",VLOOKUP($F1470,'TA STOCK LOOKUP'!$A$2:$C$202,3,FALSE),\"\")","v":""},"","","","","",""]
["","","","","","",{"$f":"IF(F1471<>\"\",VLOOKUP($F1471,'TA STOCK LOOKUP'!$A$2:$C$202,2,FALSE),\"\")","v":""},{"$f":"IF(G1471<>\"\",VLOOKUP($F1471,'TA STOCK LOOKUP'!$A$2:$C$202,3,FALSE),\"\")","v":""},"","","","","",""]
["","","","","","",{"$f":"IF(F1472<>\"\",VLOOKUP($F1472,'TA STOCK LOOKUP'!$A$2:$C$202,2,FALSE),\"\")","v":""},{"$f":"IF(G1472<>\"\",VLOOKUP($F1472,'TA STOCK LOOKUP'!$A$2:$C$202,3,FALSE),\"\")","v":""},"","","","","",""]
["","","","","","",{"$f":"IF(F1473<>\"\",VLOOKUP($F1473,'TA STOCK LOOKUP'!$A$2:$C$202,2,FALSE),\"\")","v":""},{"$f":"IF(G1473<>\"\",VLOOKUP($F1473,'TA STOCK LOOKUP'!$A$2:$C$202,3,FALSE),\"\")","v":""},"","","","","",""]
["","","","","","",{"$f":"IF(F1474<>\"\",VLOOKUP($F1474,'TA STOCK LOOKUP'!$A$2:$C$202,2,FALSE),\"\")","v":""},{"$f":"IF(G1474<>\"\",VLOOKUP($F1474,'TA STOCK LOOKUP'!$A$2:$C$202,3,FALSE),\"\")","v":""},"","","","","",""]
["","","","","","",{"$f":"IF(F1475<>\"\",VLOOKUP($F1475,'TA STOCK LOOKUP'!$A$2:$C$202,2,FALSE),\"\")","v":""},{"$f":"IF(G1475<>\"\",VLOOKUP($F1475,'TA STOCK LOOKUP'!$A$2:$C$202,3,FALSE),\"\")","v":""},"","","","","",""]
["","","","","","",{"$f":"IF(F1476<>\"\",VLOOKUP($F1476,'TA STOCK LOOKUP'!$A$2:$C$202,2,FALSE),\"\")","v":""},{"$f":"IF(G1476<>\"\",VLOOKUP($F1476,'TA STOCK LOOKUP'!$A$2:$C$202,3,FALSE),\"\")","v":""},"","","","","",""]
["","","","","","",{"$f":"IF(F1477<>\"\",VLOOKUP($F1477,'TA STOCK LOOKUP'!$A$2:$C$202,2,FALSE),\"\")","v":""},{"$f":"IF(G1477<>\"\",VLOOKUP($F1477,'TA STOCK LOOKUP'!$A$2:$C$202,3,FALSE),\"\")","v":""},"","","","","",""]
["","","","","","",{"$f":"IF(F1478<>\"\",VLOOKUP($F1478,'TA STOCK LOOKUP'!$A$2:$C$202,2,FALSE),\"\")","v":""},{"$f":"IF(G1478<>\"\",VLOOKUP($F1478,'TA STOCK LOOKUP'!$A$2:$C$202,3,FALSE),\"\")","v":""},"","","","","",""]
["","","","","","",{"$f":"IF(F1479<>\"\",VLOOKUP($F1479,'TA STOCK LOOKUP'!$A$2:$C$202,2,FALSE),\"\")","v":""},{"$f":"IF(G1479<>\"\",VLOOKUP($F1479,'TA STOCK LOOKUP'!$A$2:$C$202,3,FALSE),\"\")","v":""},"","","","","",""]
["","","","","","",{"$f":"IF(F1480<>\"\",VLOOKUP($F1480,'TA STOCK LOOKUP'!$A$2:$C$202,2,FALSE),\"\")","v":""},{"$f":"IF(G1480<>\"\",VLOOKUP($F1480,'TA STOCK LOOKUP'!$A$2:$C$202,3,FALSE),\"\")","v":""},"","","","","",""]
["","","","","","",{"$f":"IF(F1481<>\"\",VLOOKUP($F1481,'TA STOCK LOOKUP'!$A$2:$C$202,2,FALSE),\"\")","v":""},{"$f":"IF(G1481<>\"\",VLOOKUP($F1481,'TA STOCK LOOKUP'!$A$2:$C$202,3,FALSE),\"\")","v":""},"","","","","",""]
["","","","","","",{"$f":"IF(F1482<>\"\",VLOOKUP($F1482,'TA STOCK LOOKUP'!$A$2:$C$202,2,FALSE),\"\")","v":""},{"$f":"IF(G1482<>\"\",VLOOKUP($F1482,'TA STOCK LOOKUP'!$A$2:$C$202,3,FALSE),\"\")","v":""},"","","","","",""]
["","","","","","",{"$f":"IF(F1483<>\"\",VLOOKUP($F1483,'TA STOCK LOOKUP'!$A$2:$C$202,2,FALSE),\"\")","v":""},{"$f":"IF(G1483<>\"\",VLOOKUP($F1483,'TA STOCK LOOKUP'!$A$2:$C$202,3,FALSE),\"\")","v":""},"","","","","",""]
["","","","","","",{"$f":"IF(F1484<>\"\",VLOOKUP($F1484,'TA STOCK LOOKUP'!$A$2:$C$202,2,FALSE),\"\")","v":""},{"$f":"IF(G1484<>\"\",VLOOKUP($F1484,'TA STOCK LOOKUP'!$A$2:$C$202,3,FALSE),\"\")","v":""},"","","","","",""]
["","","","","","",{"$f":"IF(F1485<>\"\",VLOOKUP($F1485,'TA STOCK LOOKUP'!$A$2:$C$202,2,FALSE),\"\")","v":""},{"$f":"IF(G1485<>\"\",VLOOKUP($F1485,'TA STOCK LOOKUP'!$A$2:$C$202,3,FALSE),\"\")","v":""},"","","","","",""]
["","","","","","",{"$f":"IF(F1486<>\"\",VLOOKUP($F1486,'TA STOCK LOOKUP'!$A$2:$C$202,2,FALSE),\"\")","v":""},{"$f":"IF(G1486<>\"\",VLOOKUP($F1486,'TA STOCK LOOKUP'!$A$2:$C$202,3,FALSE),\"\")","v":""},"","","","","",""]
["","","","","","",{"$f":"IF(F1487<>\"\",VLOOKUP($F1487,'TA STOCK LOOKUP'!$A$2:$C$202,2,FALSE),\"\")","v":""},{"$f":"IF(G1487<>\"\",VLOOKUP($F1487,'TA STOCK LOOKUP'!$A$2:$C$202,3,FALSE),\"\")","v":""},"","","","","",""]
["","","","","","",{"$f":"IF(F1488<>\"\",VLOOKUP($F1488,'TA STOCK LOOKUP'!$A$2:$C$202,2,FALSE),\"\")","v":""},{"$f":"IF(G1488<>\"\",VLOOKUP($F1488,'TA STOCK LOOKUP'!$A$2:$C$202,3,FALSE),\"\")","v":""},"","","","","",""]
["","","","","","",{"$f":"IF(F1489<>\"\",VLOOKUP($F1489,'TA STOCK LOOKUP'!$A$2:$C$202,2,FALSE),\"\")","v":""},{"$f":"IF(G1489<>\"\",VLOOKUP($F1489,'TA STOCK LOOKUP'!$A$2:$C$202,3,FALSE),\"\")","v":""},"","","","","",""]
["","","","","","",{"$f":"IF(F1490<>\"\",VLOOKUP($F1490,'TA STOCK LOOKUP'!$A$2:$C$202,2,FALSE),\"\")","v":""},{"$f":"IF(G1490<>\"\",VLOOKUP($F1490,'TA STOCK LOOKUP'!$A$2:$C$202,3,FALSE),\"\")","v":""},"","","","","",""]
["","","","","","",{"$f":"IF(F1491<>\"\",VLOOKUP($F1491,'TA STOCK LOOKUP'!$A$2:$C$202,2,FALSE),\"\")","v":""},{"$f":"IF(G1491<>\"\",VLOOKUP($F1491,'TA STOCK LOOKUP'!$A$2:$C$202,3,FALSE),\"\")","v":""},"","","","","",""]
["","","","","","",{"$f":"IF(F1492<>\"\",VLOOKUP($F1492,'TA STOCK LOOKUP'!$A$2:$C$202,2,FALSE),\"\")","v":""},{"$f":"IF(G1492<>\"\",VLOOKUP($F1492,'TA STOCK LOOKUP'!$A$2:$C$202,3,FALSE),\"\")","v":""},"","","","","",""]
["","","","","","",{"$f":"IF(F1493<>\"\",VLOOKUP($F1493,'TA STOCK LOOKUP'!$A$2:$C$202,2,FALSE),\"\")","v":""},{"$f":"IF(G1493<>\"\",VLOOKUP($F1493,'TA STOCK LOOKUP'!$A$2:$C$202,3,FALSE),\"\")","v":""},"","","","","",""]
["","","","","","",{"$f":"IF(F1494<>\"\",VLOOKUP($F1494,'TA STOCK LOOKUP'!$A$2:$C$202,2,FALSE),\"\")","v":""},{"$f":"IF(G1494<>\"\",VLOOKUP($F1494,'TA STOCK LOOKUP'!$A$2:$C$202,3,FALSE),\"\")","v":""},"","","","","",""]
["","","","","","",{"$f":"IF(F1495<>\"\",VLOOKUP($F1495,'TA STOCK LOOKUP'!$A$2:$C$202,2,FALSE),\"\")","v":""},{"$f":"IF(G1495<>\"\",VLOOKUP($F1495,'TA STOCK LOOKUP'!$A$2:$C$202,3,FALSE),\"\")","v":""},"","","","","",""]
["","","","","","",{"$f":"IF(F1496<>\"\",VLOOKUP($F1496,'TA STOCK LOOKUP'!$A$2:$C$202,2,FALSE),\"\")","v":""},{"$f":"IF(G1496<>\"\",VLOOKUP($F1496,'TA STOCK LOOKUP'!$A$2:$C$202,3,FALSE),\"\")","v":""},"","","","","",""]
["","","","","","",{"$f":"IF(F1497<>\"\",VLOOKUP($F1497,'TA STOCK LOOKUP'!$A$2:$C$202,2,FALSE),\"\")","v":""},{"$f":"IF(G1497<>\"\",VLOOKUP($F1497,'TA STOCK LOOKUP'!$A$2:$C$202,3,FALSE),\"\")","v":""},"","","","","",""]
["","","","","","",{"$f":"IF(F1498<>\"\",VLOOKUP($F1498,'TA STOCK LOOKUP'!$A$2:$C$202,2,FALSE),\"\")","v":""},{"$f":"IF(G1498<>\"\",VLOOKUP($F1498,'TA STOCK LOOKUP'!$A$2:$C$202,3,FALSE),\"\")","v":""},"","","","","",""]
["","","","","","",{"$f":"IF(F1499<>\"\",VLOOKUP($F1499,'TA STOCK LOOKUP'!$A$2:$C$202,2,FALSE),\"\")","v":""},{"$f":"IF(G1499<>\"\",VLOOKUP($F1499,'TA STOCK LOOKUP'!$A$2:$C$202,3,FALSE),\"\")","v":""},"","","","","",""]
["","","","","","",{"$f":"IF(F1500<>\"\",VLOOKUP($F1500,'TA STOCK LOOKUP'!$A$2:$C$202,2,FALSE),\"\")","v":""},{"$f":"IF(G1500<>\"\",VLOOKUP($F1500,'TA STOCK LOOKUP'!$A$2:$C$202,3,FALSE),\"\")","v":""},"","","","","",""]
["","","","","","",{"$f":"IF(F1501<>\"\",VLOOKUP($F1501,'TA STOCK LOOKUP'!$A$2:$C$202,2,FALSE),\"\")","v":""},{"$f":"IF(G1501<>\"\",VLOOKUP($F1501,'TA STOCK LOOKUP'!$A$2:$C$202,3,FALSE),\"\")","v":""},"","","","","",""]
["","","","","","",{"$f":"IF(F1502<>\"\",VLOOKUP($F1502,'TA STOCK LOOKUP'!$A$2:$C$202,2,FALSE),\"\")","v":""},{"$f":"IF(G1502<>\"\",VLOOKUP($F1502,'TA STOCK LOOKUP'!$A$2:$C$202,3,FALSE),\"\")","v":""},"","","","","",""]
["","","","","","",{"$f":"IF(F1503<>\"\",VLOOKUP($F1503,'TA STOCK LOOKUP'!$A$2:$C$202,2,FALSE),\"\")","v":""},{"$f":"IF(G1503<>\"\",VLOOKUP($F1503,'TA STOCK LOOKUP'!$A$2:$C$202,3,FALSE),\"\")","v":""},"","","","","",""]
["","","","","","",{"$f":"IF(F1504<>\"\",VLOOKUP($F1504,'TA STOCK LOOKUP'!$A$2:$C$202,2,FALSE),\"\")","v":""},{"$f":"IF(G1504<>\"\",VLOOKUP($F1504,'TA STOCK LOOKUP'!$A$2:$C$202,3,FALSE),\"\")","v":""},"","","","","",""]
["","","","","","",{"$f":"IF(F1505<>\"\",VLOOKUP($F1505,'TA STOCK LOOKUP'!$A$2:$C$202,2,FALSE),\"\")","v":""},{"$f":"IF(G1505<>\"\",VLOOKUP($F1505,'TA STOCK LOOKUP'!$A$2:$C$202,3,FALSE),\"\")","v":""},"","","","","",""]
["","","","","","",{"$f":"IF(F1506<>\"\",VLOOKUP($F1506,'TA STOCK LOOKUP'!$A$2:$C$202,2,FALSE),\"\")","v":""},{"$f":"IF(G1506<>\"\",VLOOKUP($F1506,'TA STOCK LOOKUP'!$A$2:$C$202,3,FALSE),\"\")","v":""},"","","","","",""]
["","","","","","",{"$f":"IF(F1507<>\"\",VLOOKUP($F1507,'TA STOCK LOOKUP'!$A$2:$C$202,2,FALSE),\"\")","v":""},{"$f":"IF(G1507<>\"\",VLOOKUP($F1507,'TA STOCK LOOKUP'!$A$2:$C$202,3,FALSE),\"\")","v":""},"","","","","",""]
["","","","","","",{"$f":"IF(F1508<>\"\",VLOOKUP($F1508,'TA STOCK LOOKUP'!$A$2:$C$202,2,FALSE),\"\")","v":""},{"$f":"IF(G1508<>\"\",VLOOKUP($F1508,'TA STOCK LOOKUP'!$A$2:$C$202,3,FALSE),\"\")","v":""},"","","","","",""]
["","","","","","",{"$f":"IF(F1509<>\"\",VLOOKUP($F1509,'TA STOCK LOOKUP'!$A$2:$C$202,2,FALSE),\"\")","v":""},{"$f":"IF(G1509<>\"\",VLOOKUP($F1509,'TA STOCK LOOKUP'!$A$2:$C$202,3,FALSE),\"\")","v":""},"","","","","",""]
["","","","","","",{"$f":"IF(F1510<>\"\",VLOOKUP($F1510,'TA STOCK LOOKUP'!$A$2:$C$202,2,FALSE),\"\")","v":""},{"$f":"IF(G1510<>\"\",VLOOKUP($F1510,'TA STOCK LOOKUP'!$A$2:$C$202,3,FALSE),\"\")","v":""},"","","","","",""]
["","","","","","",{"$f":"IF(F1511<>\"\",VLOOKUP($F1511,'TA STOCK LOOKUP'!$A$2:$C$202,2,FALSE),\"\")","v":""},{"$f":"IF(G1511<>\"\",VLOOKUP($F1511,'TA STOCK LOOKUP'!$A$2:$C$202,3,FALSE),\"\")","v":""},"","","","","",""]
["","","","","","",{"$f":"IF(F1512<>\"\",VLOOKUP($F1512,'TA STOCK LOOKUP'!$A$2:$C$202,2,FALSE),\"\")","v":""},{"$f":"IF(G1512<>\"\",VLOOKUP($F1512,'TA STOCK LOOKUP'!$A$2:$C$202,3,FALSE),\"\")","v":""},"","","","","",""]
["","","","","","",{"$f":"IF(F1513<>\"\",VLOOKUP($F1513,'TA STOCK LOOKUP'!$A$2:$C$202,2,FALSE),\"\")","v":""},{"$f":"IF(G1513<>\"\",VLOOKUP($F1513,'TA STOCK LOOKUP'!$A$2:$C$202,3,FALSE),\"\")","v":""},"","","","","",""]
["","","","","","",{"$f":"IF(F1514<>\"\",VLOOKUP($F1514,'TA STOCK LOOKUP'!$A$2:$C$202,2,FALSE),\"\")","v":""},{"$f":"IF(G1514<>\"\",VLOOKUP($F1514,'TA STOCK LOOKUP'!$A$2:$C$202,3,FALSE),\"\")","v":""},"","","","","",""]
["","","","","","",{"$f":"IF(F1515<>\"\",VLOOKUP($F1515,'TA STOCK LOOKUP'!$A$2:$C$202,2,FALSE),\"\")","v":""},{"$f":"IF(G1515<>\"\",VLOOKUP($F1515,'TA STOCK LOOKUP'!$A$2:$C$202,3,FALSE),\"\")","v":""},"","","","","",""]
["","","","","","",{"$f":"IF(F1516<>\"\",VLOOKUP($F1516,'TA STOCK LOOKUP'!$A$2:$C$202,2,FALSE),\"\")","v":""},{"$f":"IF(G1516<>\"\",VLOOKUP($F1516,'TA STOCK LOOKUP'!$A$2:$C$202,3,FALSE),\"\")","v":""},"","","","","",""]
["","","","","","",{"$f":"IF(F1517<>\"\",VLOOKUP($F1517,'TA STOCK LOOKUP'!$A$2:$C$202,2,FALSE),\"\")","v":""},{"$f":"IF(G1517<>\"\",VLOOKUP($F1517,'TA STOCK LOOKUP'!$A$2:$C$202,3,FALSE),\"\")","v":""},"","","","","",""]
["","","","","","",{"$f":"IF(F1518<>\"\",VLOOKUP($F1518,'TA STOCK LOOKUP'!$A$2:$C$202,2,FALSE),\"\")","v":""},{"$f":"IF(G1518<>\"\",VLOOKUP($F1518,'TA STOCK LOOKUP'!$A$2:$C$202,3,FALSE),\"\")","v":""},"","","","","",""]
["","","","","","",{"$f":"IF(F1519<>\"\",VLOOKUP($F1519,'TA STOCK LOOKUP'!$A$2:$C$202,2,FALSE),\"\")","v":""},{"$f":"IF(G1519<>\"\",VLOOKUP($F1519,'TA STOCK LOOKUP'!$A$2:$C$202,3,FALSE),\"\")","v":""},"","","","","",""]
["","","","","","",{"$f":"IF(F1520<>\"\",VLOOKUP($F1520,'TA STOCK LOOKUP'!$A$2:$C$202,2,FALSE),\"\")","v":""},{"$f":"IF(G1520<>\"\",VLOOKUP($F1520,'TA STOCK LOOKUP'!$A$2:$C$202,3,FALSE),\"\")","v":""},"","","","","",""]
["","","","","","",{"$f":"IF(F1521<>\"\",VLOOKUP($F1521,'TA STOCK LOOKUP'!$A$2:$C$202,2,FALSE),\"\")","v":""},{"$f":"IF(G1521<>\"\",VLOOKUP($F1521,'TA STOCK LOOKUP'!$A$2:$C$202,3,FALSE),\"\")","v":""},"","","","","",""]
["","","","","","",{"$f":"IF(F1522<>\"\",VLOOKUP($F1522,'TA STOCK LOOKUP'!$A$2:$C$202,2,FALSE),\"\")","v":""},{"$f":"IF(G1522<>\"\",VLOOKUP($F1522,'TA STOCK LOOKUP'!$A$2:$C$202,3,FALSE),\"\")","v":""},"","","","","",""]
["","","","","","",{"$f":"IF(F1523<>\"\",VLOOKUP($F1523,'TA STOCK LOOKUP'!$A$2:$C$202,2,FALSE),\"\")","v":""},{"$f":"IF(G1523<>\"\",VLOOKUP($F1523,'TA STOCK LOOKUP'!$A$2:$C$202,3,FALSE),\"\")","v":""},"","","","","",""]
["","","","","","",{"$f":"IF(F1524<>\"\",VLOOKUP($F1524,'TA STOCK LOOKUP'!$A$2:$C$202,2,FALSE),\"\")","v":""},{"$f":"IF(G1524<>\"\",VLOOKUP($F1524,'TA STOCK LOOKUP'!$A$2:$C$202,3,FALSE),\"\")","v":""},"","","","","",""]
["","","","","","",{"$f":"IF(F1525<>\"\",VLOOKUP($F1525,'TA STOCK LOOKUP'!$A$2:$C$202,2,FALSE),\"\")","v":""},{"$f":"IF(G1525<>\"\",VLOOKUP($F1525,'TA STOCK LOOKUP'!$A$2:$C$202,3,FALSE),\"\")","v":""},"","","","","",""]
["","","","","","",{"$f":"IF(F1526<>\"\",VLOOKUP($F1526,'TA STOCK LOOKUP'!$A$2:$C$202,2,FALSE),\"\")","v":""},{"$f":"IF(G1526<>\"\",VLOOKUP($F1526,'TA STOCK LOOKUP'!$A$2:$C$202,3,FALSE),\"\")","v":""},"","","","","",""]
["","","","","","",{"$f":"IF(F1527<>\"\",VLOOKUP($F1527,'TA STOCK LOOKUP'!$A$2:$C$202,2,FALSE),\"\")","v":""},{"$f":"IF(G1527<>\"\",VLOOKUP($F1527,'TA STOCK LOOKUP'!$A$2:$C$202,3,FALSE),\"\")","v":""},"","","","","",""]
["","","","","","",{"$f":"IF(F1528<>\"\",VLOOKUP($F1528,'TA STOCK LOOKUP'!$A$2:$C$202,2,FALSE),\"\")","v":""},{"$f":"IF(G1528<>\"\",VLOOKUP($F1528,'TA STOCK LOOKUP'!$A$2:$C$202,3,FALSE),\"\")","v":""},"","","","","",""]
["","","","","","",{"$f":"IF(F1529<>\"\",VLOOKUP($F1529,'TA STOCK LOOKUP'!$A$2:$C$202,2,FALSE),\"\")","v":""},{"$f":"IF(G1529<>\"\",VLOOKUP($F1529,'TA STOCK LOOKUP'!$A$2:$C$202,3,FALSE),\"\")","v":""},"","","","","",""]
["","","","","","",{"$f":"IF(F1530<>\"\",VLOOKUP($F1530,'TA STOCK LOOKUP'!$A$2:$C$202,2,FALSE),\"\")","v":""},{"$f":"IF(G1530<>\"\",VLOOKUP($F1530,'TA STOCK LOOKUP'!$A$2:$C$202,3,FALSE),\"\")","v":""},"","","","","",""]
["","","","","","",{"$f":"IF(F1531<>\"\",VLOOKUP($F1531,'TA STOCK LOOKUP'!$A$2:$C$202,2,FALSE),\"\")","v":""},{"$f":"IF(G1531<>\"\",VLOOKUP($F1531,'TA STOCK LOOKUP'!$A$2:$C$202,3,FALSE),\"\")","v":""},"","","","","",""]
["","","","","","",{"$f":"IF(F1532<>\"\",VLOOKUP($F1532,'TA STOCK LOOKUP'!$A$2:$C$202,2,FALSE),\"\")","v":""},{"$f":"IF(G1532<>\"\",VLOOKUP($F1532,'TA STOCK LOOKUP'!$A$2:$C$202,3,FALSE),\"\")","v":""},"","","","","",""]
["","","","","","",{"$f":"IF(F1533<>\"\",VLOOKUP($F1533,'TA STOCK LOOKUP'!$A$2:$C$202,2,FALSE),\"\")","v":""},{"$f":"IF(G1533<>\"\",VLOOKUP($F1533,'TA STOCK LOOKUP'!$A$2:$C$202,3,FALSE),\"\")","v":""},"","","","","",""]
["","","","","","",{"$f":"IF(F1534<>\"\",VLOOKUP($F1534,'TA STOCK LOOKUP'!$A$2:$C$202,2,FALSE),\"\")","v":""},{"$f":"IF(G1534<>\"\",VLOOKUP($F1534,'TA STOCK LOOKUP'!$A$2:$C$202,3,FALSE),\"\")","v":""},"","","","","",""]
["","","","","","",{"$f":"IF(F1535<>\"\",VLOOKUP($F1535,'TA STOCK LOOKUP'!$A$2:$C$202,2,FALSE),\"\")","v":""},{"$f":"IF(G1535<>\"\",VLOOKUP($F1535,'TA STOCK LOOKUP'!$A$2:$C$202,3,FALSE),\"\")","v":""},"","","","","",""]
["","","","","","",{"$f":"IF(F1536<>\"\",VLOOKUP($F1536,'TA STOCK LOOKUP'!$A$2:$C$202,2,FALSE),\"\")","v":""},{"$f":"IF(G1536<>\"\",VLOOKUP($F1536,'TA STOCK LOOKUP'!$A$2:$C$202,3,FALSE),\"\")","v":""},"","","","","",""]
["","","","","","",{"$f":"IF(F1537<>\"\",VLOOKUP($F1537,'TA STOCK LOOKUP'!$A$2:$C$202,2,FALSE),\"\")","v":""},{"$f":"IF(G1537<>\"\",VLOOKUP($F1537,'TA STOCK LOOKUP'!$A$2:$C$202,3,FALSE),\"\")","v":""},"","","","","",""]
["","","","","","",{"$f":"IF(F1538<>\"\",VLOOKUP($F1538,'TA STOCK LOOKUP'!$A$2:$C$202,2,FALSE),\"\")","v":""},{"$f":"IF(G1538<>\"\",VLOOKUP($F1538,'TA STOCK LOOKUP'!$A$2:$C$202,3,FALSE),\"\")","v":""},"","","","","",""]
["","","","","","",{"$f":"IF(F1539<>\"\",VLOOKUP($F1539,'TA STOCK LOOKUP'!$A$2:$C$202,2,FALSE),\"\")","v":""},{"$f":"IF(G1539<>\"\",VLOOKUP($F1539,'TA STOCK LOOKUP'!$A$2:$C$202,3,FALSE),\"\")","v":""},"","","","","",""]
["","","","","","",{"$f":"IF(F1540<>\"\",VLOOKUP($F1540,'TA STOCK LOOKUP'!$A$2:$C$202,2,FALSE),\"\")","v":""},{"$f":"IF(G1540<>\"\",VLOOKUP($F1540,'TA STOCK LOOKUP'!$A$2:$C$202,3,FALSE),\"\")","v":""},"","","","","",""]
["","","","","","",{"$f":"IF(F1541<>\"\",VLOOKUP($F1541,'TA STOCK LOOKUP'!$A$2:$C$202,2,FALSE),\"\")","v":""},{"$f":"IF(G1541<>\"\",VLOOKUP($F1541,'TA STOCK LOOKUP'!$A$2:$C$202,3,FALSE),\"\")","v":""},"","","","","",""]
["","","","","","",{"$f":"IF(F1542<>\"\",VLOOKUP($F1542,'TA STOCK LOOKUP'!$A$2:$C$202,2,FALSE),\"\")","v":""},{"$f":"IF(G1542<>\"\",VLOOKUP($F1542,'TA STOCK LOOKUP'!$A$2:$C$202,3,FALSE),\"\")","v":""},"","","","","",""]
["","","","","","",{"$f":"IF(F1543<>\"\",VLOOKUP($F1543,'TA STOCK LOOKUP'!$A$2:$C$202,2,FALSE),\"\")","v":""},{"$f":"IF(G1543<>\"\",VLOOKUP($F1543,'TA STOCK LOOKUP'!$A$2:$C$202,3,FALSE),\"\")","v":""},"","","","","",""]
["","","","","","",{"$f":"IF(F1544<>\"\",VLOOKUP($F1544,'TA STOCK LOOKUP'!$A$2:$C$202,2,FALSE),\"\")","v":""},{"$f":"IF(G1544<>\"\",VLOOKUP($F1544,'TA STOCK LOOKUP'!$A$2:$C$202,3,FALSE),\"\")","v":""},"","","","","",""]
["","","","","","",{"$f":"IF(F1545<>\"\",VLOOKUP($F1545,'TA STOCK LOOKUP'!$A$2:$C$202,2,FALSE),\"\")","v":""},{"$f":"IF(G1545<>\"\",VLOOKUP($F1545,'TA STOCK LOOKUP'!$A$2:$C$202,3,FALSE),\"\")","v":""},"","","","","",""]
["","","","","","",{"$f":"IF(F1546<>\"\",VLOOKUP($F1546,'TA STOCK LOOKUP'!$A$2:$C$202,2,FALSE),\"\")","v":""},{"$f":"IF(G1546<>\"\",VLOOKUP($F1546,'TA STOCK LOOKUP'!$A$2:$C$202,3,FALSE),\"\")","v":""},"","","","","",""]
["","","","","","",{"$f":"IF(F1547<>\"\",VLOOKUP($F1547,'TA STOCK LOOKUP'!$A$2:$C$202,2,FALSE),\"\")","v":""},{"$f":"IF(G1547<>\"\",VLOOKUP($F1547,'TA STOCK LOOKUP'!$A$2:$C$202,3,FALSE),\"\")","v":""},"","","","","",""]
["","","","","","",{"$f":"IF(F1548<>\"\",VLOOKUP($F1548,'TA STOCK LOOKUP'!$A$2:$C$202,2,FALSE),\"\")","v":""},{"$f":"IF(G1548<>\"\",VLOOKUP($F1548,'TA STOCK LOOKUP'!$A$2:$C$202,3,FALSE),\"\")","v":""},"","","","","",""]
["","","","","","",{"$f":"IF(F1549<>\"\",VLOOKUP($F1549,'TA STOCK LOOKUP'!$A$2:$C$202,2,FALSE),\"\")","v":""},{"$f":"IF(G1549<>\"\",VLOOKUP($F1549,'TA STOCK LOOKUP'!$A$2:$C$202,3,FALSE),\"\")","v":""},"","","","","",""]
["","","","","","",{"$f":"IF(F1550<>\"\",VLOOKUP($F1550,'TA STOCK LOOKUP'!$A$2:$C$202,2,FALSE),\"\")","v":""},{"$f":"IF(G1550<>\"\",VLOOKUP($F1550,'TA STOCK LOOKUP'!$A$2:$C$202,3,FALSE),\"\")","v":""},"","","","","",""]
["","","","","","",{"$f":"IF(F1551<>\"\",VLOOKUP($F1551,'TA STOCK LOOKUP'!$A$2:$C$202,2,FALSE),\"\")","v":""},{"$f":"IF(G1551<>\"\",VLOOKUP($F1551,'TA STOCK LOOKUP'!$A$2:$C$202,3,FALSE),\"\")","v":""},"","","","","",""]
["","","","","","",{"$f":"IF(F1552<>\"\",VLOOKUP($F1552,'TA STOCK LOOKUP'!$A$2:$C$202,2,FALSE),\"\")","v":""},{"$f":"IF(G1552<>\"\",VLOOKUP($F1552,'TA STOCK LOOKUP'!$A$2:$C$202,3,FALSE),\"\")","v":""},"","","","","",""]
["","","","","","",{"$f":"IF(F1553<>\"\",VLOOKUP($F1553,'TA STOCK LOOKUP'!$A$2:$C$202,2,FALSE),\"\")","v":""},{"$f":"IF(G1553<>\"\",VLOOKUP($F1553,'TA STOCK LOOKUP'!$A$2:$C$202,3,FALSE),\"\")","v":""},"","","","","",""]
["","","","","","",{"$f":"IF(F1554<>\"\",VLOOKUP($F1554,'TA STOCK LOOKUP'!$A$2:$C$202,2,FALSE),\"\")","v":""},{"$f":"IF(G1554<>\"\",VLOOKUP($F1554,'TA STOCK LOOKUP'!$A$2:$C$202,3,FALSE),\"\")","v":""},"","","","","",""]
["","","","","","",{"$f":"IF(F1555<>\"\",VLOOKUP($F1555,'TA STOCK LOOKUP'!$A$2:$C$202,2,FALSE),\"\")","v":""},{"$f":"IF(G1555<>\"\",VLOOKUP($F1555,'TA STOCK LOOKUP'!$A$2:$C$202,3,FALSE),\"\")","v":""},"","","","","",""]
["","","","","","",{"$f":"IF(F1556<>\"\",VLOOKUP($F1556,'TA STOCK LOOKUP'!$A$2:$C$202,2,FALSE),\"\")","v":""},{"$f":"IF(G1556<>\"\",VLOOKUP($F1556,'TA STOCK LOOKUP'!$A$2:$C$202,3,FALSE),\"\")","v":""},"","","","","",""]
["","","","","","",{"$f":"IF(F1557<>\"\",VLOOKUP($F1557,'TA STOCK LOOKUP'!$A$2:$C$202,2,FALSE),\"\")","v":""},{"$f":"IF(G1557<>\"\",VLOOKUP($F1557,'TA STOCK LOOKUP'!$A$2:$C$202,3,FALSE),\"\")","v":""},"","","","","",""]
["","","","","","",{"$f":"IF(F1558<>\"\",VLOOKUP($F1558,'TA STOCK LOOKUP'!$A$2:$C$202,2,FALSE),\"\")","v":""},{"$f":"IF(G1558<>\"\",VLOOKUP($F1558,'TA STOCK LOOKUP'!$A$2:$C$202,3,FALSE),\"\")","v":""},"","","","","",""]
["","","","","","",{"$f":"IF(F1559<>\"\",VLOOKUP($F1559,'TA STOCK LOOKUP'!$A$2:$C$202,2,FALSE),\"\")","v":""},{"$f":"IF(G1559<>\"\",VLOOKUP($F1559,'TA STOCK LOOKUP'!$A$2:$C$202,3,FALSE),\"\")","v":""},"","","","","",""]
["","","","","","",{"$f":"IF(F1560<>\"\",VLOOKUP($F1560,'TA STOCK LOOKUP'!$A$2:$C$202,2,FALSE),\"\")","v":""},{"$f":"IF(G1560<>\"\",VLOOKUP($F1560,'TA STOCK LOOKUP'!$A$2:$C$202,3,FALSE),\"\")","v":""},"","","","","",""]
["","","","","","",{"$f":"IF(F1561<>\"\",VLOOKUP($F1561,'TA STOCK LOOKUP'!$A$2:$C$202,2,FALSE),\"\")","v":""},{"$f":"IF(G1561<>\"\",VLOOKUP($F1561,'TA STOCK LOOKUP'!$A$2:$C$202,3,FALSE),\"\")","v":""},"","","","","",""]
["","","","","","",{"$f":"IF(F1562<>\"\",VLOOKUP($F1562,'TA STOCK LOOKUP'!$A$2:$C$202,2,FALSE),\"\")","v":""},{"$f":"IF(G1562<>\"\",VLOOKUP($F1562,'TA STOCK LOOKUP'!$A$2:$C$202,3,FALSE),\"\")","v":""},"","","","","",""]
["","","","","","",{"$f":"IF(F1563<>\"\",VLOOKUP($F1563,'TA STOCK LOOKUP'!$A$2:$C$202,2,FALSE),\"\")","v":""},{"$f":"IF(G1563<>\"\",VLOOKUP($F1563,'TA STOCK LOOKUP'!$A$2:$C$202,3,FALSE),\"\")","v":""},"","","","","",""]
["","","","","","",{"$f":"IF(F1564<>\"\",VLOOKUP($F1564,'TA STOCK LOOKUP'!$A$2:$C$202,2,FALSE),\"\")","v":""},{"$f":"IF(G1564<>\"\",VLOOKUP($F1564,'TA STOCK LOOKUP'!$A$2:$C$202,3,FALSE),\"\")","v":""},"","","","","",""]
["","","","","","",{"$f":"IF(F1565<>\"\",VLOOKUP($F1565,'TA STOCK LOOKUP'!$A$2:$C$202,2,FALSE),\"\")","v":""},{"$f":"IF(G1565<>\"\",VLOOKUP($F1565,'TA STOCK LOOKUP'!$A$2:$C$202,3,FALSE),\"\")","v":""},"","","","","",""]
["","","","","","",{"$f":"IF(F1566<>\"\",VLOOKUP($F1566,'TA STOCK LOOKUP'!$A$2:$C$202,2,FALSE),\"\")","v":""},{"$f":"IF(G1566<>\"\",VLOOKUP($F1566,'TA STOCK LOOKUP'!$A$2:$C$202,3,FALSE),\"\")","v":""},"","","","","",""]
["","","","","","",{"$f":"IF(F1567<>\"\",VLOOKUP($F1567,'TA STOCK LOOKUP'!$A$2:$C$202,2,FALSE),\"\")","v":""},{"$f":"IF(G1567<>\"\",VLOOKUP($F1567,'TA STOCK LOOKUP'!$A$2:$C$202,3,FALSE),\"\")","v":""},"","","","","",""]
["","","","","","",{"$f":"IF(F1568<>\"\",VLOOKUP($F1568,'TA STOCK LOOKUP'!$A$2:$C$202,2,FALSE),\"\")","v":""},{"$f":"IF(G1568<>\"\",VLOOKUP($F1568,'TA STOCK LOOKUP'!$A$2:$C$202,3,FALSE),\"\")","v":""},"","","","","",""]
["","","","","","",{"$f":"IF(F1569<>\"\",VLOOKUP($F1569,'TA STOCK LOOKUP'!$A$2:$C$202,2,FALSE),\"\")","v":""},{"$f":"IF(G1569<>\"\",VLOOKUP($F1569,'TA STOCK LOOKUP'!$A$2:$C$202,3,FALSE),\"\")","v":""},"","","","","",""]
["","","","","","",{"$f":"IF(F1570<>\"\",VLOOKUP($F1570,'TA STOCK LOOKUP'!$A$2:$C$202,2,FALSE),\"\")","v":""},{"$f":"IF(G1570<>\"\",VLOOKUP($F1570,'TA STOCK LOOKUP'!$A$2:$C$202,3,FALSE),\"\")","v":""},"","","","","",""]
["","","","","","",{"$f":"IF(F1571<>\"\",VLOOKUP($F1571,'TA STOCK LOOKUP'!$A$2:$C$202,2,FALSE),\"\")","v":""},{"$f":"IF(G1571<>\"\",VLOOKUP($F1571,'TA STOCK LOOKUP'!$A$2:$C$202,3,FALSE),\"\")","v":""},"","","","","",""]
["","","","","","",{"$f":"IF(F1572<>\"\",VLOOKUP($F1572,'TA STOCK LOOKUP'!$A$2:$C$202,2,FALSE),\"\")","v":""},{"$f":"IF(G1572<>\"\",VLOOKUP($F1572,'TA STOCK LOOKUP'!$A$2:$C$202,3,FALSE),\"\")","v":""},"","","","","",""]
["","","","","","",{"$f":"IF(F1573<>\"\",VLOOKUP($F1573,'TA STOCK LOOKUP'!$A$2:$C$202,2,FALSE),\"\")","v":""},{"$f":"IF(G1573<>\"\",VLOOKUP($F1573,'TA STOCK LOOKUP'!$A$2:$C$202,3,FALSE),\"\")","v":""},"","","","","",""]
["","","","","","",{"$f":"IF(F1574<>\"\",VLOOKUP($F1574,'TA STOCK LOOKUP'!$A$2:$C$202,2,FALSE),\"\")","v":""},{"$f":"IF(G1574<>\"\",VLOOKUP($F1574,'TA STOCK LOOKUP'!$A$2:$C$202,3,FALSE),\"\")","v":""},"","","","","",""]
["","","","","","",{"$f":"IF(F1575<>\"\",VLOOKUP($F1575,'TA STOCK LOOKUP'!$A$2:$C$202,2,FALSE),\"\")","v":""},{"$f":"IF(G1575<>\"\",VLOOKUP($F1575,'TA STOCK LOOKUP'!$A$2:$C$202,3,FALSE),\"\")","v":""},"","","","","",""]
["","","","","","",{"$f":"IF(F1576<>\"\",VLOOKUP($F1576,'TA STOCK LOOKUP'!$A$2:$C$202,2,FALSE),\"\")","v":""},{"$f":"IF(G1576<>\"\",VLOOKUP($F1576,'TA STOCK LOOKUP'!$A$2:$C$202,3,FALSE),\"\")","v":""},"","","","","",""]
["","","","","","",{"$f":"IF(F1577<>\"\",VLOOKUP($F1577,'TA STOCK LOOKUP'!$A$2:$C$202,2,FALSE),\"\")","v":""},{"$f":"IF(G1577<>\"\",VLOOKUP($F1577,'TA STOCK LOOKUP'!$A$2:$C$202,3,FALSE),\"\")","v":""},"","","","","",""]
["","","","","","",{"$f":"IF(F1578<>\"\",VLOOKUP($F1578,'TA STOCK LOOKUP'!$A$2:$C$202,2,FALSE),\"\")","v":""},{"$f":"IF(G1578<>\"\",VLOOKUP($F1578,'TA STOCK LOOKUP'!$A$2:$C$202,3,FALSE),\"\")","v":""},"","","","","",""]
["","","","","","",{"$f":"IF(F1579<>\"\",VLOOKUP($F1579,'TA STOCK LOOKUP'!$A$2:$C$202,2,FALSE),\"\")","v":""},{"$f":"IF(G1579<>\"\",VLOOKUP($F1579,'TA STOCK LOOKUP'!$A$2:$C$202,3,FALSE),\"\")","v":""},"","","","","",""]
["","","","","","",{"$f":"IF(F1580<>\"\",VLOOKUP($F1580,'TA STOCK LOOKUP'!$A$2:$C$202,2,FALSE),\"\")","v":""},{"$f":"IF(G1580<>\"\",VLOOKUP($F1580,'TA STOCK LOOKUP'!$A$2:$C$202,3,FALSE),\"\")","v":""},"","","","","",""]
["","","","","","",{"$f":"IF(F1581<>\"\",VLOOKUP($F1581,'TA STOCK LOOKUP'!$A$2:$C$202,2,FALSE),\"\")","v":""},{"$f":"IF(G1581<>\"\",VLOOKUP($F1581,'TA STOCK LOOKUP'!$A$2:$C$202,3,FALSE),\"\")","v":""},"","","","","",""]
["","","","","","",{"$f":"IF(F1582<>\"\",VLOOKUP($F1582,'TA STOCK LOOKUP'!$A$2:$C$202,2,FALSE),\"\")","v":""},{"$f":"IF(G1582<>\"\",VLOOKUP($F1582,'TA STOCK LOOKUP'!$A$2:$C$202,3,FALSE),\"\")","v":""},"","","","","",""]
["","","","","","",{"$f":"IF(F1583<>\"\",VLOOKUP($F1583,'TA STOCK LOOKUP'!$A$2:$C$202,2,FALSE),\"\")","v":""},{"$f":"IF(G1583<>\"\",VLOOKUP($F1583,'TA STOCK LOOKUP'!$A$2:$C$202,3,FALSE),\"\")","v":""},"","","","","",""]
["","","","","","",{"$f":"IF(F1584<>\"\",VLOOKUP($F1584,'TA STOCK LOOKUP'!$A$2:$C$202,2,FALSE),\"\")","v":""},{"$f":"IF(G1584<>\"\",VLOOKUP($F1584,'TA STOCK LOOKUP'!$A$2:$C$202,3,FALSE),\"\")","v":""},"","","","","",""]
["","","","","","",{"$f":"IF(F1585<>\"\",VLOOKUP($F1585,'TA STOCK LOOKUP'!$A$2:$C$202,2,FALSE),\"\")","v":""},{"$f":"IF(G1585<>\"\",VLOOKUP($F1585,'TA STOCK LOOKUP'!$A$2:$C$202,3,FALSE),\"\")","v":""},"","","","","",""]
["","","","","","",{"$f":"IF(F1586<>\"\",VLOOKUP($F1586,'TA STOCK LOOKUP'!$A$2:$C$202,2,FALSE),\"\")","v":""},{"$f":"IF(G1586<>\"\",VLOOKUP($F1586,'TA STOCK LOOKUP'!$A$2:$C$202,3,FALSE),\"\")","v":""},"","","","","",""]
["","","","","","",{"$f":"IF(F1587<>\"\",VLOOKUP($F1587,'TA STOCK LOOKUP'!$A$2:$C$202,2,FALSE),\"\")","v":""},{"$f":"IF(G1587<>\"\",VLOOKUP($F1587,'TA STOCK LOOKUP'!$A$2:$C$202,3,FALSE),\"\")","v":""},"","","","","",""]
["","","","","","",{"$f":"IF(F1588<>\"\",VLOOKUP($F1588,'TA STOCK LOOKUP'!$A$2:$C$202,2,FALSE),\"\")","v":""},{"$f":"IF(G1588<>\"\",VLOOKUP($F1588,'TA STOCK LOOKUP'!$A$2:$C$202,3,FALSE),\"\")","v":""},"","","","","",""]
["","","","","","",{"$f":"IF(F1589<>\"\",VLOOKUP($F1589,'TA STOCK LOOKUP'!$A$2:$C$202,2,FALSE),\"\")","v":""},{"$f":"IF(G1589<>\"\",VLOOKUP($F1589,'TA STOCK LOOKUP'!$A$2:$C$202,3,FALSE),\"\")","v":""},"","","","","",""]
["","","","","","",{"$f":"IF(F1590<>\"\",VLOOKUP($F1590,'TA STOCK LOOKUP'!$A$2:$C$202,2,FALSE),\"\")","v":""},{"$f":"IF(G1590<>\"\",VLOOKUP($F1590,'TA STOCK LOOKUP'!$A$2:$C$202,3,FALSE),\"\")","v":""},"","","","","",""]
["","","","","","",{"$f":"IF(F1591<>\"\",VLOOKUP($F1591,'TA STOCK LOOKUP'!$A$2:$C$202,2,FALSE),\"\")","v":""},{"$f":"IF(G1591<>\"\",VLOOKUP($F1591,'TA STOCK LOOKUP'!$A$2:$C$202,3,FALSE),\"\")","v":""},"","","","","",""]
["","","","","","",{"$f":"IF(F1592<>\"\",VLOOKUP($F1592,'TA STOCK LOOKUP'!$A$2:$C$202,2,FALSE),\"\")","v":""},{"$f":"IF(G1592<>\"\",VLOOKUP($F1592,'TA STOCK LOOKUP'!$A$2:$C$202,3,FALSE),\"\")","v":""},"","","","","",""]
["","","","","","",{"$f":"IF(F1593<>\"\",VLOOKUP($F1593,'TA STOCK LOOKUP'!$A$2:$C$202,2,FALSE),\"\")","v":""},{"$f":"IF(G1593<>\"\",VLOOKUP($F1593,'TA STOCK LOOKUP'!$A$2:$C$202,3,FALSE),\"\")","v":""},"","","","","",""]
["","","","","","",{"$f":"IF(F1594<>\"\",VLOOKUP($F1594,'TA STOCK LOOKUP'!$A$2:$C$202,2,FALSE),\"\")","v":""},{"$f":"IF(G1594<>\"\",VLOOKUP($F1594,'TA STOCK LOOKUP'!$A$2:$C$202,3,FALSE),\"\")","v":""},"","","","","",""]
["","","","","","",{"$f":"IF(F1595<>\"\",VLOOKUP($F1595,'TA STOCK LOOKUP'!$A$2:$C$202,2,FALSE),\"\")","v":""},{"$f":"IF(G1595<>\"\",VLOOKUP($F1595,'TA STOCK LOOKUP'!$A$2:$C$202,3,FALSE),\"\")","v":""},"","","","","",""]
["","","","","","",{"$f":"IF(F1596<>\"\",VLOOKUP($F1596,'TA STOCK LOOKUP'!$A$2:$C$202,2,FALSE),\"\")","v":""},{"$f":"IF(G1596<>\"\",VLOOKUP($F1596,'TA STOCK LOOKUP'!$A$2:$C$202,3,FALSE),\"\")","v":""},"","","","","",""]
["","","","","","",{"$f":"IF(F1597<>\"\",VLOOKUP($F1597,'TA STOCK LOOKUP'!$A$2:$C$202,2,FALSE),\"\")","v":""},{"$f":"IF(G1597<>\"\",VLOOKUP($F1597,'TA STOCK LOOKUP'!$A$2:$C$202,3,FALSE),\"\")","v":""},"","","","","",""]
["","","","","","",{"$f":"IF(F1598<>\"\",VLOOKUP($F1598,'TA STOCK LOOKUP'!$A$2:$C$202,2,FALSE),\"\")","v":""},{"$f":"IF(G1598<>\"\",VLOOKUP($F1598,'TA STOCK LOOKUP'!$A$2:$C$202,3,FALSE),\"\")","v":""},"","","","","",""]
["","","","","","",{"$f":"IF(F1599<>\"\",VLOOKUP($F1599,'TA STOCK LOOKUP'!$A$2:$C$202,2,FALSE),\"\")","v":""},{"$f":"IF(G1599<>\"\",VLOOKUP($F1599,'TA STOCK LOOKUP'!$A$2:$C$202,3,FALSE),\"\")","v":""},"","","","","",""]
["","","","","","",{"$f":"IF(F1600<>\"\",VLOOKUP($F1600,'TA STOCK LOOKUP'!$A$2:$C$202,2,FALSE),\"\")","v":""},{"$f":"IF(G1600<>\"\",VLOOKUP($F1600,'TA STOCK LOOKUP'!$A$2:$C$202,3,FALSE),\"\")","v":""},"","","","","",""]
["","","","","","",{"$f":"IF(F1601<>\"\",VLOOKUP($F1601,'TA STOCK LOOKUP'!$A$2:$C$202,2,FALSE),\"\")","v":""},{"$f":"IF(G1601<>\"\",VLOOKUP($F1601,'TA STOCK LOOKUP'!$A$2:$C$202,3,FALSE),\"\")","v":""},"","","","","",""]
["","","","","","",{"$f":"IF(F1602<>\"\",VLOOKUP($F1602,'TA STOCK LOOKUP'!$A$2:$C$202,2,FALSE),\"\")","v":""},{"$f":"IF(G1602<>\"\",VLOOKUP($F1602,'TA STOCK LOOKUP'!$A$2:$C$202,3,FALSE),\"\")","v":""},"","","","","",""]
["","","","","","",{"$f":"IF(F1603<>\"\",VLOOKUP($F1603,'TA STOCK LOOKUP'!$A$2:$C$202,2,FALSE),\"\")","v":""},{"$f":"IF(G1603<>\"\",VLOOKUP($F1603,'TA STOCK LOOKUP'!$A$2:$C$202,3,FALSE),\"\")","v":""},"","","","","",""]
["","","","","","",{"$f":"IF(F1604<>\"\",VLOOKUP($F1604,'TA STOCK LOOKUP'!$A$2:$C$202,2,FALSE),\"\")","v":""},{"$f":"IF(G1604<>\"\",VLOOKUP($F1604,'TA STOCK LOOKUP'!$A$2:$C$202,3,FALSE),\"\")","v":""},"","","","","",""]
["","","","","","",{"$f":"IF(F1605<>\"\",VLOOKUP($F1605,'TA STOCK LOOKUP'!$A$2:$C$202,2,FALSE),\"\")","v":""},{"$f":"IF(G1605<>\"\",VLOOKUP($F1605,'TA STOCK LOOKUP'!$A$2:$C$202,3,FALSE),\"\")","v":""},"","","","","",""]
["","","","","","",{"$f":"IF(F1606<>\"\",VLOOKUP($F1606,'TA STOCK LOOKUP'!$A$2:$C$202,2,FALSE),\"\")","v":""},{"$f":"IF(G1606<>\"\",VLOOKUP($F1606,'TA STOCK LOOKUP'!$A$2:$C$202,3,FALSE),\"\")","v":""},"","","","","",""]
["","","","","","",{"$f":"IF(F1607<>\"\",VLOOKUP($F1607,'TA STOCK LOOKUP'!$A$2:$C$202,2,FALSE),\"\")","v":""},{"$f":"IF(G1607<>\"\",VLOOKUP($F1607,'TA STOCK LOOKUP'!$A$2:$C$202,3,FALSE),\"\")","v":""},"","","","","",""]
["","","","","","",{"$f":"IF(F1608<>\"\",VLOOKUP($F1608,'TA STOCK LOOKUP'!$A$2:$C$202,2,FALSE),\"\")","v":""},{"$f":"IF(G1608<>\"\",VLOOKUP($F1608,'TA STOCK LOOKUP'!$A$2:$C$202,3,FALSE),\"\")","v":""},"","","","","",""]
["","","","","","",{"$f":"IF(F1609<>\"\",VLOOKUP($F1609,'TA STOCK LOOKUP'!$A$2:$C$202,2,FALSE),\"\")","v":""},{"$f":"IF(G1609<>\"\",VLOOKUP($F1609,'TA STOCK LOOKUP'!$A$2:$C$202,3,FALSE),\"\")","v":""},"","","","","",""]
["","","","","","",{"$f":"IF(F1610<>\"\",VLOOKUP($F1610,'TA STOCK LOOKUP'!$A$2:$C$202,2,FALSE),\"\")","v":""},{"$f":"IF(G1610<>\"\",VLOOKUP($F1610,'TA STOCK LOOKUP'!$A$2:$C$202,3,FALSE),\"\")","v":""},"","","","","",""]
["","","","","","",{"$f":"IF(F1611<>\"\",VLOOKUP($F1611,'TA STOCK LOOKUP'!$A$2:$C$202,2,FALSE),\"\")","v":""},{"$f":"IF(G1611<>\"\",VLOOKUP($F1611,'TA STOCK LOOKUP'!$A$2:$C$202,3,FALSE),\"\")","v":""},"","","","","",""]
["","","","","","",{"$f":"IF(F1612<>\"\",VLOOKUP($F1612,'TA STOCK LOOKUP'!$A$2:$C$202,2,FALSE),\"\")","v":""},{"$f":"IF(G1612<>\"\",VLOOKUP($F1612,'TA STOCK LOOKUP'!$A$2:$C$202,3,FALSE),\"\")","v":""},"","","","","",""]
["","","","","","",{"$f":"IF(F1613<>\"\",VLOOKUP($F1613,'TA STOCK LOOKUP'!$A$2:$C$202,2,FALSE),\"\")","v":""},{"$f":"IF(G1613<>\"\",VLOOKUP($F1613,'TA STOCK LOOKUP'!$A$2:$C$202,3,FALSE),\"\")","v":""},"","","","","",""]
["","","","","","",{"$f":"IF(F1614<>\"\",VLOOKUP($F1614,'TA STOCK LOOKUP'!$A$2:$C$202,2,FALSE),\"\")","v":""},{"$f":"IF(G1614<>\"\",VLOOKUP($F1614,'TA STOCK LOOKUP'!$A$2:$C$202,3,FALSE),\"\")","v":""},"","","","","",""]
["","","","","","",{"$f":"IF(F1615<>\"\",VLOOKUP($F1615,'TA STOCK LOOKUP'!$A$2:$C$202,2,FALSE),\"\")","v":""},{"$f":"IF(G1615<>\"\",VLOOKUP($F1615,'TA STOCK LOOKUP'!$A$2:$C$202,3,FALSE),\"\")","v":""},"","","","","",""]
["","","","","","",{"$f":"IF(F1616<>\"\",VLOOKUP($F1616,'TA STOCK LOOKUP'!$A$2:$C$202,2,FALSE),\"\")","v":""},{"$f":"IF(G1616<>\"\",VLOOKUP($F1616,'TA STOCK LOOKUP'!$A$2:$C$202,3,FALSE),\"\")","v":""},"","","","","",""]
["","","","","","",{"$f":"IF(F1617<>\"\",VLOOKUP($F1617,'TA STOCK LOOKUP'!$A$2:$C$202,2,FALSE),\"\")","v":""},{"$f":"IF(G1617<>\"\",VLOOKUP($F1617,'TA STOCK LOOKUP'!$A$2:$C$202,3,FALSE),\"\")","v":""},"","","","","",""]
["","","","","","",{"$f":"IF(F1618<>\"\",VLOOKUP($F1618,'TA STOCK LOOKUP'!$A$2:$C$202,2,FALSE),\"\")","v":""},{"$f":"IF(G1618<>\"\",VLOOKUP($F1618,'TA STOCK LOOKUP'!$A$2:$C$202,3,FALSE),\"\")","v":""},"","","","","",""]
["","","","","","",{"$f":"IF(F1619<>\"\",VLOOKUP($F1619,'TA STOCK LOOKUP'!$A$2:$C$202,2,FALSE),\"\")","v":""},{"$f":"IF(G1619<>\"\",VLOOKUP($F1619,'TA STOCK LOOKUP'!$A$2:$C$202,3,FALSE),\"\")","v":""},"","","","","",""]
["","","","","","",{"$f":"IF(F1620<>\"\",VLOOKUP($F1620,'TA STOCK LOOKUP'!$A$2:$C$202,2,FALSE),\"\")","v":""},{"$f":"IF(G1620<>\"\",VLOOKUP($F1620,'TA STOCK LOOKUP'!$A$2:$C$202,3,FALSE),\"\")","v":""},"","","","","",""]
["","","","","","",{"$f":"IF(F1621<>\"\",VLOOKUP($F1621,'TA STOCK LOOKUP'!$A$2:$C$202,2,FALSE),\"\")","v":""},{"$f":"IF(G1621<>\"\",VLOOKUP($F1621,'TA STOCK LOOKUP'!$A$2:$C$202,3,FALSE),\"\")","v":""},"","","","","",""]
["","","","","","",{"$f":"IF(F1622<>\"\",VLOOKUP($F1622,'TA STOCK LOOKUP'!$A$2:$C$202,2,FALSE),\"\")","v":""},{"$f":"IF(G1622<>\"\",VLOOKUP($F1622,'TA STOCK LOOKUP'!$A$2:$C$202,3,FALSE),\"\")","v":""},"","","","","",""]
["","","","","","",{"$f":"IF(F1623<>\"\",VLOOKUP($F1623,'TA STOCK LOOKUP'!$A$2:$C$202,2,FALSE),\"\")","v":""},{"$f":"IF(G1623<>\"\",VLOOKUP($F1623,'TA STOCK LOOKUP'!$A$2:$C$202,3,FALSE),\"\")","v":""},"","","","","",""]
["","","","","","",{"$f":"IF(F1624<>\"\",VLOOKUP($F1624,'TA STOCK LOOKUP'!$A$2:$C$202,2,FALSE),\"\")","v":""},{"$f":"IF(G1624<>\"\",VLOOKUP($F1624,'TA STOCK LOOKUP'!$A$2:$C$202,3,FALSE),\"\")","v":""},"","","","","",""]
["","","","","","",{"$f":"IF(F1625<>\"\",VLOOKUP($F1625,'TA STOCK LOOKUP'!$A$2:$C$202,2,FALSE),\"\")","v":""},{"$f":"IF(G1625<>\"\",VLOOKUP($F1625,'TA STOCK LOOKUP'!$A$2:$C$202,3,FALSE),\"\")","v":""},"","","","","",""]
["","","","","","",{"$f":"IF(F1626<>\"\",VLOOKUP($F1626,'TA STOCK LOOKUP'!$A$2:$C$202,2,FALSE),\"\")","v":""},{"$f":"IF(G1626<>\"\",VLOOKUP($F1626,'TA STOCK LOOKUP'!$A$2:$C$202,3,FALSE),\"\")","v":""},"","","","","",""]
["","","","","","",{"$f":"IF(F1627<>\"\",VLOOKUP($F1627,'TA STOCK LOOKUP'!$A$2:$C$202,2,FALSE),\"\")","v":""},{"$f":"IF(G1627<>\"\",VLOOKUP($F1627,'TA STOCK LOOKUP'!$A$2:$C$202,3,FALSE),\"\")","v":""},"","","","","",""]
["","","","","","",{"$f":"IF(F1628<>\"\",VLOOKUP($F1628,'TA STOCK LOOKUP'!$A$2:$C$202,2,FALSE),\"\")","v":""},{"$f":"IF(G1628<>\"\",VLOOKUP($F1628,'TA STOCK LOOKUP'!$A$2:$C$202,3,FALSE),\"\")","v":""},"","","","","",""]
["","","","","","",{"$f":"IF(F1629<>\"\",VLOOKUP($F1629,'TA STOCK LOOKUP'!$A$2:$C$202,2,FALSE),\"\")","v":""},{"$f":"IF(G1629<>\"\",VLOOKUP($F1629,'TA STOCK LOOKUP'!$A$2:$C$202,3,FALSE),\"\")","v":""},"","","","","",""]
["","","","","","",{"$f":"IF(F1630<>\"\",VLOOKUP($F1630,'TA STOCK LOOKUP'!$A$2:$C$202,2,FALSE),\"\")","v":""},{"$f":"IF(G1630<>\"\",VLOOKUP($F1630,'TA STOCK LOOKUP'!$A$2:$C$202,3,FALSE),\"\")","v":""},"","","","","",""]
["","","","","","",{"$f":"IF(F1631<>\"\",VLOOKUP($F1631,'TA STOCK LOOKUP'!$A$2:$C$202,2,FALSE),\"\")","v":""},{"$f":"IF(G1631<>\"\",VLOOKUP($F1631,'TA STOCK LOOKUP'!$A$2:$C$202,3,FALSE),\"\")","v":""},"","","","","",""]
["","","","","","",{"$f":"IF(F1632<>\"\",VLOOKUP($F1632,'TA STOCK LOOKUP'!$A$2:$C$202,2,FALSE),\"\")","v":""},{"$f":"IF(G1632<>\"\",VLOOKUP($F1632,'TA STOCK LOOKUP'!$A$2:$C$202,3,FALSE),\"\")","v":""},"","","","","",""]
["","","","","","",{"$f":"IF(F1633<>\"\",VLOOKUP($F1633,'TA STOCK LOOKUP'!$A$2:$C$202,2,FALSE),\"\")","v":""},{"$f":"IF(G1633<>\"\",VLOOKUP($F1633,'TA STOCK LOOKUP'!$A$2:$C$202,3,FALSE),\"\")","v":""},"","","","","",""]
["","","","","","",{"$f":"IF(F1634<>\"\",VLOOKUP($F1634,'TA STOCK LOOKUP'!$A$2:$C$202,2,FALSE),\"\")","v":""},{"$f":"IF(G1634<>\"\",VLOOKUP($F1634,'TA STOCK LOOKUP'!$A$2:$C$202,3,FALSE),\"\")","v":""},"","","","","",""]
["","","","","","",{"$f":"IF(F1635<>\"\",VLOOKUP($F1635,'TA STOCK LOOKUP'!$A$2:$C$202,2,FALSE),\"\")","v":""},{"$f":"IF(G1635<>\"\",VLOOKUP($F1635,'TA STOCK LOOKUP'!$A$2:$C$202,3,FALSE),\"\")","v":""},"","","","","",""]
["","","","","","",{"$f":"IF(F1636<>\"\",VLOOKUP($F1636,'TA STOCK LOOKUP'!$A$2:$C$202,2,FALSE),\"\")","v":""},{"$f":"IF(G1636<>\"\",VLOOKUP($F1636,'TA STOCK LOOKUP'!$A$2:$C$202,3,FALSE),\"\")","v":""},"","","","","",""]
["","","","","","",{"$f":"IF(F1637<>\"\",VLOOKUP($F1637,'TA STOCK LOOKUP'!$A$2:$C$202,2,FALSE),\"\")","v":""},{"$f":"IF(G1637<>\"\",VLOOKUP($F1637,'TA STOCK LOOKUP'!$A$2:$C$202,3,FALSE),\"\")","v":""},"","","","","",""]
["","","","","","",{"$f":"IF(F1638<>\"\",VLOOKUP($F1638,'TA STOCK LOOKUP'!$A$2:$C$202,2,FALSE),\"\")","v":""},{"$f":"IF(G1638<>\"\",VLOOKUP($F1638,'TA STOCK LOOKUP'!$A$2:$C$202,3,FALSE),\"\")","v":""},"","","","","",""]
["","","","","","",{"$f":"IF(F1639<>\"\",VLOOKUP($F1639,'TA STOCK LOOKUP'!$A$2:$C$202,2,FALSE),\"\")","v":""},{"$f":"IF(G1639<>\"\",VLOOKUP($F1639,'TA STOCK LOOKUP'!$A$2:$C$202,3,FALSE),\"\")","v":""},"","","","","",""]
["","","","","","",{"$f":"IF(F1640<>\"\",VLOOKUP($F1640,'TA STOCK LOOKUP'!$A$2:$C$202,2,FALSE),\"\")","v":""},{"$f":"IF(G1640<>\"\",VLOOKUP($F1640,'TA STOCK LOOKUP'!$A$2:$C$202,3,FALSE),\"\")","v":""},"","","","","",""]
["","","","","","",{"$f":"IF(F1641<>\"\",VLOOKUP($F1641,'TA STOCK LOOKUP'!$A$2:$C$202,2,FALSE),\"\")","v":""},{"$f":"IF(G1641<>\"\",VLOOKUP($F1641,'TA STOCK LOOKUP'!$A$2:$C$202,3,FALSE),\"\")","v":""},"","","","","",""]
["","","","","","",{"$f":"IF(F1642<>\"\",VLOOKUP($F1642,'TA STOCK LOOKUP'!$A$2:$C$202,2,FALSE),\"\")","v":""},{"$f":"IF(G1642<>\"\",VLOOKUP($F1642,'TA STOCK LOOKUP'!$A$2:$C$202,3,FALSE),\"\")","v":""},"","","","","",""]
["","","","","","",{"$f":"IF(F1643<>\"\",VLOOKUP($F1643,'TA STOCK LOOKUP'!$A$2:$C$202,2,FALSE),\"\")","v":""},{"$f":"IF(G1643<>\"\",VLOOKUP($F1643,'TA STOCK LOOKUP'!$A$2:$C$202,3,FALSE),\"\")","v":""},"","","","","",""]
["","","","","","",{"$f":"IF(F1644<>\"\",VLOOKUP($F1644,'TA STOCK LOOKUP'!$A$2:$C$202,2,FALSE),\"\")","v":""},{"$f":"IF(G1644<>\"\",VLOOKUP($F1644,'TA STOCK LOOKUP'!$A$2:$C$202,3,FALSE),\"\")","v":""},"","","","","",""]
["","","","","","",{"$f":"IF(F1645<>\"\",VLOOKUP($F1645,'TA STOCK LOOKUP'!$A$2:$C$202,2,FALSE),\"\")","v":""},{"$f":"IF(G1645<>\"\",VLOOKUP($F1645,'TA STOCK LOOKUP'!$A$2:$C$202,3,FALSE),\"\")","v":""},"","","","","",""]
["","","","","","",{"$f":"IF(F1646<>\"\",VLOOKUP($F1646,'TA STOCK LOOKUP'!$A$2:$C$202,2,FALSE),\"\")","v":""},{"$f":"IF(G1646<>\"\",VLOOKUP($F1646,'TA STOCK LOOKUP'!$A$2:$C$202,3,FALSE),\"\")","v":""},"","","","","",""]
["","","","","","",{"$f":"IF(F1647<>\"\",VLOOKUP($F1647,'TA STOCK LOOKUP'!$A$2:$C$202,2,FALSE),\"\")","v":""},{"$f":"IF(G1647<>\"\",VLOOKUP($F1647,'TA STOCK LOOKUP'!$A$2:$C$202,3,FALSE),\"\")","v":""},"","","","","",""]
["","","","","","",{"$f":"IF(F1648<>\"\",VLOOKUP($F1648,'TA STOCK LOOKUP'!$A$2:$C$202,2,FALSE),\"\")","v":""},{"$f":"IF(G1648<>\"\",VLOOKUP($F1648,'TA STOCK LOOKUP'!$A$2:$C$202,3,FALSE),\"\")","v":""},"","","","","",""]
["","","","","","",{"$f":"IF(F1649<>\"\",VLOOKUP($F1649,'TA STOCK LOOKUP'!$A$2:$C$202,2,FALSE),\"\")","v":""},{"$f":"IF(G1649<>\"\",VLOOKUP($F1649,'TA STOCK LOOKUP'!$A$2:$C$202,3,FALSE),\"\")","v":""},"","","","","",""]
["","","","","","",{"$f":"IF(F1650<>\"\",VLOOKUP($F1650,'TA STOCK LOOKUP'!$A$2:$C$202,2,FALSE),\"\")","v":""},{"$f":"IF(G1650<>\"\",VLOOKUP($F1650,'TA STOCK LOOKUP'!$A$2:$C$202,3,FALSE),\"\")","v":""},"","","","","",""]
["","","","","","",{"$f":"IF(F1651<>\"\",VLOOKUP($F1651,'TA STOCK LOOKUP'!$A$2:$C$202,2,FALSE),\"\")","v":""},{"$f":"IF(G1651<>\"\",VLOOKUP($F1651,'TA STOCK LOOKUP'!$A$2:$C$202,3,FALSE),\"\")","v":""},"","","","","",""]
["","","","","","",{"$f":"IF(F1652<>\"\",VLOOKUP($F1652,'TA STOCK LOOKUP'!$A$2:$C$202,2,FALSE),\"\")","v":""},{"$f":"IF(G1652<>\"\",VLOOKUP($F1652,'TA STOCK LOOKUP'!$A$2:$C$202,3,FALSE),\"\")","v":""},"","","","","",""]
["","","","","","",{"$f":"IF(F1653<>\"\",VLOOKUP($F1653,'TA STOCK LOOKUP'!$A$2:$C$202,2,FALSE),\"\")","v":""},{"$f":"IF(G1653<>\"\",VLOOKUP($F1653,'TA STOCK LOOKUP'!$A$2:$C$202,3,FALSE),\"\")","v":""},"","","","","",""]
["","","","","","",{"$f":"IF(F1654<>\"\",VLOOKUP($F1654,'TA STOCK LOOKUP'!$A$2:$C$202,2,FALSE),\"\")","v":""},{"$f":"IF(G1654<>\"\",VLOOKUP($F1654,'TA STOCK LOOKUP'!$A$2:$C$202,3,FALSE),\"\")","v":""},"","","","","",""]
["","","","","","",{"$f":"IF(F1655<>\"\",VLOOKUP($F1655,'TA STOCK LOOKUP'!$A$2:$C$202,2,FALSE),\"\")","v":""},{"$f":"IF(G1655<>\"\",VLOOKUP($F1655,'TA STOCK LOOKUP'!$A$2:$C$202,3,FALSE),\"\")","v":""},"","","","","",""]
["","","","","","",{"$f":"IF(F1656<>\"\",VLOOKUP($F1656,'TA STOCK LOOKUP'!$A$2:$C$202,2,FALSE),\"\")","v":""},{"$f":"IF(G1656<>\"\",VLOOKUP($F1656,'TA STOCK LOOKUP'!$A$2:$C$202,3,FALSE),\"\")","v":""},"","","","","",""]
["","","","","","",{"$f":"IF(F1657<>\"\",VLOOKUP($F1657,'TA STOCK LOOKUP'!$A$2:$C$202,2,FALSE),\"\")","v":""},{"$f":"IF(G1657<>\"\",VLOOKUP($F1657,'TA STOCK LOOKUP'!$A$2:$C$202,3,FALSE),\"\")","v":""},"","","","","",""]
["","","","","","",{"$f":"IF(F1658<>\"\",VLOOKUP($F1658,'TA STOCK LOOKUP'!$A$2:$C$202,2,FALSE),\"\")","v":""},{"$f":"IF(G1658<>\"\",VLOOKUP($F1658,'TA STOCK LOOKUP'!$A$2:$C$202,3,FALSE),\"\")","v":""},"","","","","",""]
["","","","","","",{"$f":"IF(F1659<>\"\",VLOOKUP($F1659,'TA STOCK LOOKUP'!$A$2:$C$202,2,FALSE),\"\")","v":""},{"$f":"IF(G1659<>\"\",VLOOKUP($F1659,'TA STOCK LOOKUP'!$A$2:$C$202,3,FALSE),\"\")","v":""},"","","","","",""]
["","","","","","",{"$f":"IF(F1660<>\"\",VLOOKUP($F1660,'TA STOCK LOOKUP'!$A$2:$C$202,2,FALSE),\"\")","v":""},{"$f":"IF(G1660<>\"\",VLOOKUP($F1660,'TA STOCK LOOKUP'!$A$2:$C$202,3,FALSE),\"\")","v":""},"","","","","",""]
["","","","","","",{"$f":"IF(F1661<>\"\",VLOOKUP($F1661,'TA STOCK LOOKUP'!$A$2:$C$202,2,FALSE),\"\")","v":""},{"$f":"IF(G1661<>\"\",VLOOKUP($F1661,'TA STOCK LOOKUP'!$A$2:$C$202,3,FALSE),\"\")","v":""},"","","","","",""]
["","","","","","",{"$f":"IF(F1662<>\"\",VLOOKUP($F1662,'TA STOCK LOOKUP'!$A$2:$C$202,2,FALSE),\"\")","v":""},{"$f":"IF(G1662<>\"\",VLOOKUP($F1662,'TA STOCK LOOKUP'!$A$2:$C$202,3,FALSE),\"\")","v":""},"","","","","",""]
["","","","","","",{"$f":"IF(F1663<>\"\",VLOOKUP($F1663,'TA STOCK LOOKUP'!$A$2:$C$202,2,FALSE),\"\")","v":""},{"$f":"IF(G1663<>\"\",VLOOKUP($F1663,'TA STOCK LOOKUP'!$A$2:$C$202,3,FALSE),\"\")","v":""},"","","","","",""]
["","","","","","",{"$f":"IF(F1664<>\"\",VLOOKUP($F1664,'TA STOCK LOOKUP'!$A$2:$C$202,2,FALSE),\"\")","v":""},{"$f":"IF(G1664<>\"\",VLOOKUP($F1664,'TA STOCK LOOKUP'!$A$2:$C$202,3,FALSE),\"\")","v":""},"","","","","",""]
["","","","","","",{"$f":"IF(F1665<>\"\",VLOOKUP($F1665,'TA STOCK LOOKUP'!$A$2:$C$202,2,FALSE),\"\")","v":""},{"$f":"IF(G1665<>\"\",VLOOKUP($F1665,'TA STOCK LOOKUP'!$A$2:$C$202,3,FALSE),\"\")","v":""},"","","","","",""]
["","","","","","",{"$f":"IF(F1666<>\"\",VLOOKUP($F1666,'TA STOCK LOOKUP'!$A$2:$C$202,2,FALSE),\"\")","v":""},{"$f":"IF(G1666<>\"\",VLOOKUP($F1666,'TA STOCK LOOKUP'!$A$2:$C$202,3,FALSE),\"\")","v":""},"","","","","",""]
["","","","","","",{"$f":"IF(F1667<>\"\",VLOOKUP($F1667,'TA STOCK LOOKUP'!$A$2:$C$202,2,FALSE),\"\")","v":""},{"$f":"IF(G1667<>\"\",VLOOKUP($F1667,'TA STOCK LOOKUP'!$A$2:$C$202,3,FALSE),\"\")","v":""},"","","","","",""]
["","","","","","",{"$f":"IF(F1668<>\"\",VLOOKUP($F1668,'TA STOCK LOOKUP'!$A$2:$C$202,2,FALSE),\"\")","v":""},{"$f":"IF(G1668<>\"\",VLOOKUP($F1668,'TA STOCK LOOKUP'!$A$2:$C$202,3,FALSE),\"\")","v":""},"","","","","",""]
["","","","","","",{"$f":"IF(F1669<>\"\",VLOOKUP($F1669,'TA STOCK LOOKUP'!$A$2:$C$202,2,FALSE),\"\")","v":""},{"$f":"IF(G1669<>\"\",VLOOKUP($F1669,'TA STOCK LOOKUP'!$A$2:$C$202,3,FALSE),\"\")","v":""},"","","","","",""]
["","","","","","",{"$f":"IF(F1670<>\"\",VLOOKUP($F1670,'TA STOCK LOOKUP'!$A$2:$C$202,2,FALSE),\"\")","v":""},{"$f":"IF(G1670<>\"\",VLOOKUP($F1670,'TA STOCK LOOKUP'!$A$2:$C$202,3,FALSE),\"\")","v":""},"","","","","",""]
["","","","","","",{"$f":"IF(F1671<>\"\",VLOOKUP($F1671,'TA STOCK LOOKUP'!$A$2:$C$202,2,FALSE),\"\")","v":""},{"$f":"IF(G1671<>\"\",VLOOKUP($F1671,'TA STOCK LOOKUP'!$A$2:$C$202,3,FALSE),\"\")","v":""},"","","","","",""]
["","","","","","",{"$f":"IF(F1672<>\"\",VLOOKUP($F1672,'TA STOCK LOOKUP'!$A$2:$C$202,2,FALSE),\"\")","v":""},{"$f":"IF(G1672<>\"\",VLOOKUP($F1672,'TA STOCK LOOKUP'!$A$2:$C$202,3,FALSE),\"\")","v":""},"","","","","",""]
["","","","","","",{"$f":"IF(F1673<>\"\",VLOOKUP($F1673,'TA STOCK LOOKUP'!$A$2:$C$202,2,FALSE),\"\")","v":""},{"$f":"IF(G1673<>\"\",VLOOKUP($F1673,'TA STOCK LOOKUP'!$A$2:$C$202,3,FALSE),\"\")","v":""},"","","","","",""]
["","","","","","",{"$f":"IF(F1674<>\"\",VLOOKUP($F1674,'TA STOCK LOOKUP'!$A$2:$C$202,2,FALSE),\"\")","v":""},{"$f":"IF(G1674<>\"\",VLOOKUP($F1674,'TA STOCK LOOKUP'!$A$2:$C$202,3,FALSE),\"\")","v":""},"","","","","",""]
["","","","","","",{"$f":"IF(F1675<>\"\",VLOOKUP($F1675,'TA STOCK LOOKUP'!$A$2:$C$202,2,FALSE),\"\")","v":""},{"$f":"IF(G1675<>\"\",VLOOKUP($F1675,'TA STOCK LOOKUP'!$A$2:$C$202,3,FALSE),\"\")","v":""},"","","","","",""]
["","","","","","",{"$f":"IF(F1676<>\"\",VLOOKUP($F1676,'TA STOCK LOOKUP'!$A$2:$C$202,2,FALSE),\"\")","v":""},{"$f":"IF(G1676<>\"\",VLOOKUP($F1676,'TA STOCK LOOKUP'!$A$2:$C$202,3,FALSE),\"\")","v":""},"","","","","",""]
["","","","","","",{"$f":"IF(F1677<>\"\",VLOOKUP($F1677,'TA STOCK LOOKUP'!$A$2:$C$202,2,FALSE),\"\")","v":""},{"$f":"IF(G1677<>\"\",VLOOKUP($F1677,'TA STOCK LOOKUP'!$A$2:$C$202,3,FALSE),\"\")","v":""},"","","","","",""]
["","","","","","",{"$f":"IF(F1678<>\"\",VLOOKUP($F1678,'TA STOCK LOOKUP'!$A$2:$C$202,2,FALSE),\"\")","v":""},{"$f":"IF(G1678<>\"\",VLOOKUP($F1678,'TA STOCK LOOKUP'!$A$2:$C$202,3,FALSE),\"\")","v":""},"","","","","",""]
["","","","","","",{"$f":"IF(F1679<>\"\",VLOOKUP($F1679,'TA STOCK LOOKUP'!$A$2:$C$202,2,FALSE),\"\")","v":""},{"$f":"IF(G1679<>\"\",VLOOKUP($F1679,'TA STOCK LOOKUP'!$A$2:$C$202,3,FALSE),\"\")","v":""},"","","","","",""]
["","","","","","",{"$f":"IF(F1680<>\"\",VLOOKUP($F1680,'TA STOCK LOOKUP'!$A$2:$C$202,2,FALSE),\"\")","v":""},{"$f":"IF(G1680<>\"\",VLOOKUP($F1680,'TA STOCK LOOKUP'!$A$2:$C$202,3,FALSE),\"\")","v":""},"","","","","",""]
["","","","","","",{"$f":"IF(F1681<>\"\",VLOOKUP($F1681,'TA STOCK LOOKUP'!$A$2:$C$202,2,FALSE),\"\")","v":""},{"$f":"IF(G1681<>\"\",VLOOKUP($F1681,'TA STOCK LOOKUP'!$A$2:$C$202,3,FALSE),\"\")","v":""},"","","","","",""]
["","","","","","",{"$f":"IF(F1682<>\"\",VLOOKUP($F1682,'TA STOCK LOOKUP'!$A$2:$C$202,2,FALSE),\"\")","v":""},{"$f":"IF(G1682<>\"\",VLOOKUP($F1682,'TA STOCK LOOKUP'!$A$2:$C$202,3,FALSE),\"\")","v":""},"","","","","",""]
["","","","","","",{"$f":"IF(F1683<>\"\",VLOOKUP($F1683,'TA STOCK LOOKUP'!$A$2:$C$202,2,FALSE),\"\")","v":""},{"$f":"IF(G1683<>\"\",VLOOKUP($F1683,'TA STOCK LOOKUP'!$A$2:$C$202,3,FALSE),\"\")","v":""},"","","","","",""]
["","","","","","",{"$f":"IF(F1684<>\"\",VLOOKUP($F1684,'TA STOCK LOOKUP'!$A$2:$C$202,2,FALSE),\"\")","v":""},{"$f":"IF(G1684<>\"\",VLOOKUP($F1684,'TA STOCK LOOKUP'!$A$2:$C$202,3,FALSE),\"\")","v":""},"","","","","",""]
["","","","","","",{"$f":"IF(F1685<>\"\",VLOOKUP($F1685,'TA STOCK LOOKUP'!$A$2:$C$202,2,FALSE),\"\")","v":""},{"$f":"IF(G1685<>\"\",VLOOKUP($F1685,'TA STOCK LOOKUP'!$A$2:$C$202,3,FALSE),\"\")","v":""},"","","","","",""]
["","","","","","",{"$f":"IF(F1686<>\"\",VLOOKUP($F1686,'TA STOCK LOOKUP'!$A$2:$C$202,2,FALSE),\"\")","v":""},{"$f":"IF(G1686<>\"\",VLOOKUP($F1686,'TA STOCK LOOKUP'!$A$2:$C$202,3,FALSE),\"\")","v":""},"","","","","",""]
["","","","","","",{"$f":"IF(F1687<>\"\",VLOOKUP($F1687,'TA STOCK LOOKUP'!$A$2:$C$202,2,FALSE),\"\")","v":""},{"$f":"IF(G1687<>\"\",VLOOKUP($F1687,'TA STOCK LOOKUP'!$A$2:$C$202,3,FALSE),\"\")","v":""},"","","","","",""]
["","","","","","",{"$f":"IF(F1688<>\"\",VLOOKUP($F1688,'TA STOCK LOOKUP'!$A$2:$C$202,2,FALSE),\"\")","v":""},{"$f":"IF(G1688<>\"\",VLOOKUP($F1688,'TA STOCK LOOKUP'!$A$2:$C$202,3,FALSE),\"\")","v":""},"","","","","",""]
["","","","","","",{"$f":"IF(F1689<>\"\",VLOOKUP($F1689,'TA STOCK LOOKUP'!$A$2:$C$202,2,FALSE),\"\")","v":""},{"$f":"IF(G1689<>\"\",VLOOKUP($F1689,'TA STOCK LOOKUP'!$A$2:$C$202,3,FALSE),\"\")","v":""},"","","","","",""]
["","","","","","",{"$f":"IF(F1690<>\"\",VLOOKUP($F1690,'TA STOCK LOOKUP'!$A$2:$C$202,2,FALSE),\"\")","v":""},{"$f":"IF(G1690<>\"\",VLOOKUP($F1690,'TA STOCK LOOKUP'!$A$2:$C$202,3,FALSE),\"\")","v":""},"","","","","",""]
["","","","","","",{"$f":"IF(F1691<>\"\",VLOOKUP($F1691,'TA STOCK LOOKUP'!$A$2:$C$202,2,FALSE),\"\")","v":""},{"$f":"IF(G1691<>\"\",VLOOKUP($F1691,'TA STOCK LOOKUP'!$A$2:$C$202,3,FALSE),\"\")","v":""},"","","","","",""]
["","","","","","",{"$f":"IF(F1692<>\"\",VLOOKUP($F1692,'TA STOCK LOOKUP'!$A$2:$C$202,2,FALSE),\"\")","v":""},{"$f":"IF(G1692<>\"\",VLOOKUP($F1692,'TA STOCK LOOKUP'!$A$2:$C$202,3,FALSE),\"\")","v":""},"","","","","",""]
["","","","","","",{"$f":"IF(F1693<>\"\",VLOOKUP($F1693,'TA STOCK LOOKUP'!$A$2:$C$202,2,FALSE),\"\")","v":""},{"$f":"IF(G1693<>\"\",VLOOKUP($F1693,'TA STOCK LOOKUP'!$A$2:$C$202,3,FALSE),\"\")","v":""},"","","","","",""]
["","","","","","",{"$f":"IF(F1694<>\"\",VLOOKUP($F1694,'TA STOCK LOOKUP'!$A$2:$C$202,2,FALSE),\"\")","v":""},{"$f":"IF(G1694<>\"\",VLOOKUP($F1694,'TA STOCK LOOKUP'!$A$2:$C$202,3,FALSE),\"\")","v":""},"","","","","",""]
["","","","","","",{"$f":"IF(F1695<>\"\",VLOOKUP($F1695,'TA STOCK LOOKUP'!$A$2:$C$202,2,FALSE),\"\")","v":""},{"$f":"IF(G1695<>\"\",VLOOKUP($F1695,'TA STOCK LOOKUP'!$A$2:$C$202,3,FALSE),\"\")","v":""},"","","","","",""]
["","","","","","",{"$f":"IF(F1696<>\"\",VLOOKUP($F1696,'TA STOCK LOOKUP'!$A$2:$C$202,2,FALSE),\"\")","v":""},{"$f":"IF(G1696<>\"\",VLOOKUP($F1696,'TA STOCK LOOKUP'!$A$2:$C$202,3,FALSE),\"\")","v":""},"","","","","",""]
["","","","","","",{"$f":"IF(F1697<>\"\",VLOOKUP($F1697,'TA STOCK LOOKUP'!$A$2:$C$202,2,FALSE),\"\")","v":""},{"$f":"IF(G1697<>\"\",VLOOKUP($F1697,'TA STOCK LOOKUP'!$A$2:$C$202,3,FALSE),\"\")","v":""},"","","","","",""]
["","","","","","",{"$f":"IF(F1698<>\"\",VLOOKUP($F1698,'TA STOCK LOOKUP'!$A$2:$C$202,2,FALSE),\"\")","v":""},{"$f":"IF(G1698<>\"\",VLOOKUP($F1698,'TA STOCK LOOKUP'!$A$2:$C$202,3,FALSE),\"\")","v":""},"","","","","",""]
["","","","","","",{"$f":"IF(F1699<>\"\",VLOOKUP($F1699,'TA STOCK LOOKUP'!$A$2:$C$202,2,FALSE),\"\")","v":""},{"$f":"IF(G1699<>\"\",VLOOKUP($F1699,'TA STOCK LOOKUP'!$A$2:$C$202,3,FALSE),\"\")","v":""},"","","","","",""]
["","","","","","",{"$f":"IF(F1700<>\"\",VLOOKUP($F1700,'TA STOCK LOOKUP'!$A$2:$C$202,2,FALSE),\"\")","v":""},{"$f":"IF(G1700<>\"\",VLOOKUP($F1700,'TA STOCK LOOKUP'!$A$2:$C$202,3,FALSE),\"\")","v":""},"","","","","",""]
["","","","","","",{"$f":"IF(F1701<>\"\",VLOOKUP($F1701,'TA STOCK LOOKUP'!$A$2:$C$202,2,FALSE),\"\")","v":""},{"$f":"IF(G1701<>\"\",VLOOKUP($F1701,'TA STOCK LOOKUP'!$A$2:$C$202,3,FALSE),\"\")","v":""},"","","","","",""]
["","","","","","",{"$f":"IF(F1702<>\"\",VLOOKUP($F1702,'TA STOCK LOOKUP'!$A$2:$C$202,2,FALSE),\"\")","v":""},{"$f":"IF(G1702<>\"\",VLOOKUP($F1702,'TA STOCK LOOKUP'!$A$2:$C$202,3,FALSE),\"\")","v":""},"","","","","",""]
["","","","","","",{"$f":"IF(F1703<>\"\",VLOOKUP($F1703,'TA STOCK LOOKUP'!$A$2:$C$202,2,FALSE),\"\")","v":""},{"$f":"IF(G1703<>\"\",VLOOKUP($F1703,'TA STOCK LOOKUP'!$A$2:$C$202,3,FALSE),\"\")","v":""},"","","","","",""]
["","","","","","",{"$f":"IF(F1704<>\"\",VLOOKUP($F1704,'TA STOCK LOOKUP'!$A$2:$C$202,2,FALSE),\"\")","v":""},{"$f":"IF(G1704<>\"\",VLOOKUP($F1704,'TA STOCK LOOKUP'!$A$2:$C$202,3,FALSE),\"\")","v":""},"","","","","",""]
["","","","","","",{"$f":"IF(F1705<>\"\",VLOOKUP($F1705,'TA STOCK LOOKUP'!$A$2:$C$202,2,FALSE),\"\")","v":""},{"$f":"IF(G1705<>\"\",VLOOKUP($F1705,'TA STOCK LOOKUP'!$A$2:$C$202,3,FALSE),\"\")","v":""},"","","","","",""]
["","","","","","",{"$f":"IF(F1706<>\"\",VLOOKUP($F1706,'TA STOCK LOOKUP'!$A$2:$C$202,2,FALSE),\"\")","v":""},{"$f":"IF(G1706<>\"\",VLOOKUP($F1706,'TA STOCK LOOKUP'!$A$2:$C$202,3,FALSE),\"\")","v":""},"","","","","",""]
["","","","","","",{"$f":"IF(F1707<>\"\",VLOOKUP($F1707,'TA STOCK LOOKUP'!$A$2:$C$202,2,FALSE),\"\")","v":""},{"$f":"IF(G1707<>\"\",VLOOKUP($F1707,'TA STOCK LOOKUP'!$A$2:$C$202,3,FALSE),\"\")","v":""},"","","","","",""]
["","","","","","",{"$f":"IF(F1708<>\"\",VLOOKUP($F1708,'TA STOCK LOOKUP'!$A$2:$C$202,2,FALSE),\"\")","v":""},{"$f":"IF(G1708<>\"\",VLOOKUP($F1708,'TA STOCK LOOKUP'!$A$2:$C$202,3,FALSE),\"\")","v":""},"","","","","",""]
["","","","","","",{"$f":"IF(F1709<>\"\",VLOOKUP($F1709,'TA STOCK LOOKUP'!$A$2:$C$202,2,FALSE),\"\")","v":""},{"$f":"IF(G1709<>\"\",VLOOKUP($F1709,'TA STOCK LOOKUP'!$A$2:$C$202,3,FALSE),\"\")","v":""},"","","","","",""]
["","","","","","",{"$f":"IF(F1710<>\"\",VLOOKUP($F1710,'TA STOCK LOOKUP'!$A$2:$C$202,2,FALSE),\"\")","v":""},{"$f":"IF(G1710<>\"\",VLOOKUP($F1710,'TA STOCK LOOKUP'!$A$2:$C$202,3,FALSE),\"\")","v":""},"","","","","",""]
["","","","","","",{"$f":"IF(F1711<>\"\",VLOOKUP($F1711,'TA STOCK LOOKUP'!$A$2:$C$202,2,FALSE),\"\")","v":""},{"$f":"IF(G1711<>\"\",VLOOKUP($F1711,'TA STOCK LOOKUP'!$A$2:$C$202,3,FALSE),\"\")","v":""},"","","","","",""]
["","","","","","",{"$f":"IF(F1712<>\"\",VLOOKUP($F1712,'TA STOCK LOOKUP'!$A$2:$C$202,2,FALSE),\"\")","v":""},{"$f":"IF(G1712<>\"\",VLOOKUP($F1712,'TA STOCK LOOKUP'!$A$2:$C$202,3,FALSE),\"\")","v":""},"","","","","",""]
["","","","","","",{"$f":"IF(F1713<>\"\",VLOOKUP($F1713,'TA STOCK LOOKUP'!$A$2:$C$202,2,FALSE),\"\")","v":""},{"$f":"IF(G1713<>\"\",VLOOKUP($F1713,'TA STOCK LOOKUP'!$A$2:$C$202,3,FALSE),\"\")","v":""},"","","","","",""]
["","","","","","",{"$f":"IF(F1714<>\"\",VLOOKUP($F1714,'TA STOCK LOOKUP'!$A$2:$C$202,2,FALSE),\"\")","v":""},{"$f":"IF(G1714<>\"\",VLOOKUP($F1714,'TA STOCK LOOKUP'!$A$2:$C$202,3,FALSE),\"\")","v":""},"","","","","",""]
["","","","","","",{"$f":"IF(F1715<>\"\",VLOOKUP($F1715,'TA STOCK LOOKUP'!$A$2:$C$202,2,FALSE),\"\")","v":""},{"$f":"IF(G1715<>\"\",VLOOKUP($F1715,'TA STOCK LOOKUP'!$A$2:$C$202,3,FALSE),\"\")","v":""},"","","","","",""]
["","","","","","",{"$f":"IF(F1716<>\"\",VLOOKUP($F1716,'TA STOCK LOOKUP'!$A$2:$C$202,2,FALSE),\"\")","v":""},{"$f":"IF(G1716<>\"\",VLOOKUP($F1716,'TA STOCK LOOKUP'!$A$2:$C$202,3,FALSE),\"\")","v":""},"","","","","",""]
["","","","","","",{"$f":"IF(F1717<>\"\",VLOOKUP($F1717,'TA STOCK LOOKUP'!$A$2:$C$202,2,FALSE),\"\")","v":""},{"$f":"IF(G1717<>\"\",VLOOKUP($F1717,'TA STOCK LOOKUP'!$A$2:$C$202,3,FALSE),\"\")","v":""},"","","","","",""]
["","","","","","",{"$f":"IF(F1718<>\"\",VLOOKUP($F1718,'TA STOCK LOOKUP'!$A$2:$C$202,2,FALSE),\"\")","v":""},{"$f":"IF(G1718<>\"\",VLOOKUP($F1718,'TA STOCK LOOKUP'!$A$2:$C$202,3,FALSE),\"\")","v":""},"","","","","",""]
["","","","","","",{"$f":"IF(F1719<>\"\",VLOOKUP($F1719,'TA STOCK LOOKUP'!$A$2:$C$202,2,FALSE),\"\")","v":""},{"$f":"IF(G1719<>\"\",VLOOKUP($F1719,'TA STOCK LOOKUP'!$A$2:$C$202,3,FALSE),\"\")","v":""},"","","","","",""]
["","","","","","",{"$f":"IF(F1720<>\"\",VLOOKUP($F1720,'TA STOCK LOOKUP'!$A$2:$C$202,2,FALSE),\"\")","v":""},{"$f":"IF(G1720<>\"\",VLOOKUP($F1720,'TA STOCK LOOKUP'!$A$2:$C$202,3,FALSE),\"\")","v":""},"","","","","",""]
["","","","","","",{"$f":"IF(F1721<>\"\",VLOOKUP($F1721,'TA STOCK LOOKUP'!$A$2:$C$202,2,FALSE),\"\")","v":""},{"$f":"IF(G1721<>\"\",VLOOKUP($F1721,'TA STOCK LOOKUP'!$A$2:$C$202,3,FALSE),\"\")","v":""},"","","","","",""]
["","","","","","",{"$f":"IF(F1722<>\"\",VLOOKUP($F1722,'TA STOCK LOOKUP'!$A$2:$C$202,2,FALSE),\"\")","v":""},{"$f":"IF(G1722<>\"\",VLOOKUP($F1722,'TA STOCK LOOKUP'!$A$2:$C$202,3,FALSE),\"\")","v":""},"","","","","",""]
["","","","","","",{"$f":"IF(F1723<>\"\",VLOOKUP($F1723,'TA STOCK LOOKUP'!$A$2:$C$202,2,FALSE),\"\")","v":""},{"$f":"IF(G1723<>\"\",VLOOKUP($F1723,'TA STOCK LOOKUP'!$A$2:$C$202,3,FALSE),\"\")","v":""},"","","","","",""]
["","","","","","",{"$f":"IF(F1724<>\"\",VLOOKUP($F1724,'TA STOCK LOOKUP'!$A$2:$C$202,2,FALSE),\"\")","v":""},{"$f":"IF(G1724<>\"\",VLOOKUP($F1724,'TA STOCK LOOKUP'!$A$2:$C$202,3,FALSE),\"\")","v":""},"","","","","",""]
["","","","","","",{"$f":"IF(F1725<>\"\",VLOOKUP($F1725,'TA STOCK LOOKUP'!$A$2:$C$202,2,FALSE),\"\")","v":""},{"$f":"IF(G1725<>\"\",VLOOKUP($F1725,'TA STOCK LOOKUP'!$A$2:$C$202,3,FALSE),\"\")","v":""},"","","","","",""]
["","","","","","",{"$f":"IF(F1726<>\"\",VLOOKUP($F1726,'TA STOCK LOOKUP'!$A$2:$C$202,2,FALSE),\"\")","v":""},{"$f":"IF(G1726<>\"\",VLOOKUP($F1726,'TA STOCK LOOKUP'!$A$2:$C$202,3,FALSE),\"\")","v":""},"","","","","",""]
["","","","","","",{"$f":"IF(F1727<>\"\",VLOOKUP($F1727,'TA STOCK LOOKUP'!$A$2:$C$202,2,FALSE),\"\")","v":""},{"$f":"IF(G1727<>\"\",VLOOKUP($F1727,'TA STOCK LOOKUP'!$A$2:$C$202,3,FALSE),\"\")","v":""},"","","","","",""]
["","","","","","",{"$f":"IF(F1728<>\"\",VLOOKUP($F1728,'TA STOCK LOOKUP'!$A$2:$C$202,2,FALSE),\"\")","v":""},{"$f":"IF(G1728<>\"\",VLOOKUP($F1728,'TA STOCK LOOKUP'!$A$2:$C$202,3,FALSE),\"\")","v":""},"","","","","",""]
["","","","","","",{"$f":"IF(F1729<>\"\",VLOOKUP($F1729,'TA STOCK LOOKUP'!$A$2:$C$202,2,FALSE),\"\")","v":""},{"$f":"IF(G1729<>\"\",VLOOKUP($F1729,'TA STOCK LOOKUP'!$A$2:$C$202,3,FALSE),\"\")","v":""},"","","","","",""]
["","","","","","",{"$f":"IF(F1730<>\"\",VLOOKUP($F1730,'TA STOCK LOOKUP'!$A$2:$C$202,2,FALSE),\"\")","v":""},{"$f":"IF(G1730<>\"\",VLOOKUP($F1730,'TA STOCK LOOKUP'!$A$2:$C$202,3,FALSE),\"\")","v":""},"","","","","",""]
["","","","","","",{"$f":"IF(F1731<>\"\",VLOOKUP($F1731,'TA STOCK LOOKUP'!$A$2:$C$202,2,FALSE),\"\")","v":""},{"$f":"IF(G1731<>\"\",VLOOKUP($F1731,'TA STOCK LOOKUP'!$A$2:$C$202,3,FALSE),\"\")","v":""},"","","","","",""]
["","","","","","",{"$f":"IF(F1732<>\"\",VLOOKUP($F1732,'TA STOCK LOOKUP'!$A$2:$C$202,2,FALSE),\"\")","v":""},{"$f":"IF(G1732<>\"\",VLOOKUP($F1732,'TA STOCK LOOKUP'!$A$2:$C$202,3,FALSE),\"\")","v":""},"","","","","",""]
["","","","","","",{"$f":"IF(F1733<>\"\",VLOOKUP($F1733,'TA STOCK LOOKUP'!$A$2:$C$202,2,FALSE),\"\")","v":""},{"$f":"IF(G1733<>\"\",VLOOKUP($F1733,'TA STOCK LOOKUP'!$A$2:$C$202,3,FALSE),\"\")","v":""},"","","","","",""]
["","","","","","",{"$f":"IF(F1734<>\"\",VLOOKUP($F1734,'TA STOCK LOOKUP'!$A$2:$C$202,2,FALSE),\"\")","v":""},{"$f":"IF(G1734<>\"\",VLOOKUP($F1734,'TA STOCK LOOKUP'!$A$2:$C$202,3,FALSE),\"\")","v":""},"","","","","",""]
["","","","","","",{"$f":"IF(F1735<>\"\",VLOOKUP($F1735,'TA STOCK LOOKUP'!$A$2:$C$202,2,FALSE),\"\")","v":""},{"$f":"IF(G1735<>\"\",VLOOKUP($F1735,'TA STOCK LOOKUP'!$A$2:$C$202,3,FALSE),\"\")","v":""},"","","","","",""]
["","","","","","",{"$f":"IF(F1736<>\"\",VLOOKUP($F1736,'TA STOCK LOOKUP'!$A$2:$C$202,2,FALSE),\"\")","v":""},{"$f":"IF(G1736<>\"\",VLOOKUP($F1736,'TA STOCK LOOKUP'!$A$2:$C$202,3,FALSE),\"\")","v":""},"","","","","",""]
["","","","","","",{"$f":"IF(F1737<>\"\",VLOOKUP($F1737,'TA STOCK LOOKUP'!$A$2:$C$202,2,FALSE),\"\")","v":""},{"$f":"IF(G1737<>\"\",VLOOKUP($F1737,'TA STOCK LOOKUP'!$A$2:$C$202,3,FALSE),\"\")","v":""},"","","","","",""]
["","","","","","",{"$f":"IF(F1738<>\"\",VLOOKUP($F1738,'TA STOCK LOOKUP'!$A$2:$C$202,2,FALSE),\"\")","v":""},{"$f":"IF(G1738<>\"\",VLOOKUP($F1738,'TA STOCK LOOKUP'!$A$2:$C$202,3,FALSE),\"\")","v":""},"","","","","",""]
["","","","","","",{"$f":"IF(F1739<>\"\",VLOOKUP($F1739,'TA STOCK LOOKUP'!$A$2:$C$202,2,FALSE),\"\")","v":""},{"$f":"IF(G1739<>\"\",VLOOKUP($F1739,'TA STOCK LOOKUP'!$A$2:$C$202,3,FALSE),\"\")","v":""},"","","","","",""]
["","","","","","",{"$f":"IF(F1740<>\"\",VLOOKUP($F1740,'TA STOCK LOOKUP'!$A$2:$C$202,2,FALSE),\"\")","v":""},{"$f":"IF(G1740<>\"\",VLOOKUP($F1740,'TA STOCK LOOKUP'!$A$2:$C$202,3,FALSE),\"\")","v":""},"","","","","",""]
["","","","","","",{"$f":"IF(F1741<>\"\",VLOOKUP($F1741,'TA STOCK LOOKUP'!$A$2:$C$202,2,FALSE),\"\")","v":""},{"$f":"IF(G1741<>\"\",VLOOKUP($F1741,'TA STOCK LOOKUP'!$A$2:$C$202,3,FALSE),\"\")","v":""},"","","","","",""]
["","","","","","",{"$f":"IF(F1742<>\"\",VLOOKUP($F1742,'TA STOCK LOOKUP'!$A$2:$C$202,2,FALSE),\"\")","v":""},{"$f":"IF(G1742<>\"\",VLOOKUP($F1742,'TA STOCK LOOKUP'!$A$2:$C$202,3,FALSE),\"\")","v":""},"","","","","",""]
["","","","","","",{"$f":"IF(F1743<>\"\",VLOOKUP($F1743,'TA STOCK LOOKUP'!$A$2:$C$202,2,FALSE),\"\")","v":""},{"$f":"IF(G1743<>\"\",VLOOKUP($F1743,'TA STOCK LOOKUP'!$A$2:$C$202,3,FALSE),\"\")","v":""},"","","","","",""]
["","","","","","",{"$f":"IF(F1744<>\"\",VLOOKUP($F1744,'TA STOCK LOOKUP'!$A$2:$C$202,2,FALSE),\"\")","v":""},{"$f":"IF(G1744<>\"\",VLOOKUP($F1744,'TA STOCK LOOKUP'!$A$2:$C$202,3,FALSE),\"\")","v":""},"","","","","",""]
["","","","","","",{"$f":"IF(F1745<>\"\",VLOOKUP($F1745,'TA STOCK LOOKUP'!$A$2:$C$202,2,FALSE),\"\")","v":""},{"$f":"IF(G1745<>\"\",VLOOKUP($F1745,'TA STOCK LOOKUP'!$A$2:$C$202,3,FALSE),\"\")","v":""},"","","","","",""]
["","","","","","",{"$f":"IF(F1746<>\"\",VLOOKUP($F1746,'TA STOCK LOOKUP'!$A$2:$C$202,2,FALSE),\"\")","v":""},{"$f":"IF(G1746<>\"\",VLOOKUP($F1746,'TA STOCK LOOKUP'!$A$2:$C$202,3,FALSE),\"\")","v":""},"","","","","",""]
["","","","","","",{"$f":"IF(F1747<>\"\",VLOOKUP($F1747,'TA STOCK LOOKUP'!$A$2:$C$202,2,FALSE),\"\")","v":""},{"$f":"IF(G1747<>\"\",VLOOKUP($F1747,'TA STOCK LOOKUP'!$A$2:$C$202,3,FALSE),\"\")","v":""},"","","","","",""]
["","","","","","",{"$f":"IF(F1748<>\"\",VLOOKUP($F1748,'TA STOCK LOOKUP'!$A$2:$C$202,2,FALSE),\"\")","v":""},{"$f":"IF(G1748<>\"\",VLOOKUP($F1748,'TA STOCK LOOKUP'!$A$2:$C$202,3,FALSE),\"\")","v":""},"","","","","",""]
["","","","","","",{"$f":"IF(F1749<>\"\",VLOOKUP($F1749,'TA STOCK LOOKUP'!$A$2:$C$202,2,FALSE),\"\")","v":""},{"$f":"IF(G1749<>\"\",VLOOKUP($F1749,'TA STOCK LOOKUP'!$A$2:$C$202,3,FALSE),\"\")","v":""},"","","","","",""]
["","","","","","",{"$f":"IF(F1750<>\"\",VLOOKUP($F1750,'TA STOCK LOOKUP'!$A$2:$C$202,2,FALSE),\"\")","v":""},{"$f":"IF(G1750<>\"\",VLOOKUP($F1750,'TA STOCK LOOKUP'!$A$2:$C$202,3,FALSE),\"\")","v":""},"","","","","",""]
["","","","","","",{"$f":"IF(F1751<>\"\",VLOOKUP($F1751,'TA STOCK LOOKUP'!$A$2:$C$202,2,FALSE),\"\")","v":""},{"$f":"IF(G1751<>\"\",VLOOKUP($F1751,'TA STOCK LOOKUP'!$A$2:$C$202,3,FALSE),\"\")","v":""},"","","","","",""]
["","","","","","",{"$f":"IF(F1752<>\"\",VLOOKUP($F1752,'TA STOCK LOOKUP'!$A$2:$C$202,2,FALSE),\"\")","v":""},{"$f":"IF(G1752<>\"\",VLOOKUP($F1752,'TA STOCK LOOKUP'!$A$2:$C$202,3,FALSE),\"\")","v":""},"","","","","",""]
["","","","","","",{"$f":"IF(F1753<>\"\",VLOOKUP($F1753,'TA STOCK LOOKUP'!$A$2:$C$202,2,FALSE),\"\")","v":""},{"$f":"IF(G1753<>\"\",VLOOKUP($F1753,'TA STOCK LOOKUP'!$A$2:$C$202,3,FALSE),\"\")","v":""},"","","","","",""]
["","","","","","",{"$f":"IF(F1754<>\"\",VLOOKUP($F1754,'TA STOCK LOOKUP'!$A$2:$C$202,2,FALSE),\"\")","v":""},{"$f":"IF(G1754<>\"\",VLOOKUP($F1754,'TA STOCK LOOKUP'!$A$2:$C$202,3,FALSE),\"\")","v":""},"","","","","",""]
["","","","","","",{"$f":"IF(F1755<>\"\",VLOOKUP($F1755,'TA STOCK LOOKUP'!$A$2:$C$202,2,FALSE),\"\")","v":""},{"$f":"IF(G1755<>\"\",VLOOKUP($F1755,'TA STOCK LOOKUP'!$A$2:$C$202,3,FALSE),\"\")","v":""},"","","","","",""]
["","","","","","",{"$f":"IF(F1756<>\"\",VLOOKUP($F1756,'TA STOCK LOOKUP'!$A$2:$C$202,2,FALSE),\"\")","v":""},{"$f":"IF(G1756<>\"\",VLOOKUP($F1756,'TA STOCK LOOKUP'!$A$2:$C$202,3,FALSE),\"\")","v":""},"","","","","",""]
["","","","","","",{"$f":"IF(F1757<>\"\",VLOOKUP($F1757,'TA STOCK LOOKUP'!$A$2:$C$202,2,FALSE),\"\")","v":""},{"$f":"IF(G1757<>\"\",VLOOKUP($F1757,'TA STOCK LOOKUP'!$A$2:$C$202,3,FALSE),\"\")","v":""},"","","","","",""]
["","","","","","",{"$f":"IF(F1758<>\"\",VLOOKUP($F1758,'TA STOCK LOOKUP'!$A$2:$C$202,2,FALSE),\"\")","v":""},{"$f":"IF(G1758<>\"\",VLOOKUP($F1758,'TA STOCK LOOKUP'!$A$2:$C$202,3,FALSE),\"\")","v":""},"","","","","",""]
["","","","","","",{"$f":"IF(F1759<>\"\",VLOOKUP($F1759,'TA STOCK LOOKUP'!$A$2:$C$202,2,FALSE),\"\")","v":""},{"$f":"IF(G1759<>\"\",VLOOKUP($F1759,'TA STOCK LOOKUP'!$A$2:$C$202,3,FALSE),\"\")","v":""},"","","","","",""]
["","","","","","",{"$f":"IF(F1760<>\"\",VLOOKUP($F1760,'TA STOCK LOOKUP'!$A$2:$C$202,2,FALSE),\"\")","v":""},{"$f":"IF(G1760<>\"\",VLOOKUP($F1760,'TA STOCK LOOKUP'!$A$2:$C$202,3,FALSE),\"\")","v":""},"","","","","",""]
["","","","","","",{"$f":"IF(F1761<>\"\",VLOOKUP($F1761,'TA STOCK LOOKUP'!$A$2:$C$202,2,FALSE),\"\")","v":""},{"$f":"IF(G1761<>\"\",VLOOKUP($F1761,'TA STOCK LOOKUP'!$A$2:$C$202,3,FALSE),\"\")","v":""},"","","","","",""]
["","","","","","",{"$f":"IF(F1762<>\"\",VLOOKUP($F1762,'TA STOCK LOOKUP'!$A$2:$C$202,2,FALSE),\"\")","v":""},{"$f":"IF(G1762<>\"\",VLOOKUP($F1762,'TA STOCK LOOKUP'!$A$2:$C$202,3,FALSE),\"\")","v":""},"","","","","",""]
["","","","","","",{"$f":"IF(F1763<>\"\",VLOOKUP($F1763,'TA STOCK LOOKUP'!$A$2:$C$202,2,FALSE),\"\")","v":""},{"$f":"IF(G1763<>\"\",VLOOKUP($F1763,'TA STOCK LOOKUP'!$A$2:$C$202,3,FALSE),\"\")","v":""},"","","","","",""]
["","","","","","",{"$f":"IF(F1764<>\"\",VLOOKUP($F1764,'TA STOCK LOOKUP'!$A$2:$C$202,2,FALSE),\"\")","v":""},{"$f":"IF(G1764<>\"\",VLOOKUP($F1764,'TA STOCK LOOKUP'!$A$2:$C$202,3,FALSE),\"\")","v":""},"","","","","",""]
["","","","","","",{"$f":"IF(F1765<>\"\",VLOOKUP($F1765,'TA STOCK LOOKUP'!$A$2:$C$202,2,FALSE),\"\")","v":""},{"$f":"IF(G1765<>\"\",VLOOKUP($F1765,'TA STOCK LOOKUP'!$A$2:$C$202,3,FALSE),\"\")","v":""},"","","","","",""]
["","","","","","",{"$f":"IF(F1766<>\"\",VLOOKUP($F1766,'TA STOCK LOOKUP'!$A$2:$C$202,2,FALSE),\"\")","v":""},{"$f":"IF(G1766<>\"\",VLOOKUP($F1766,'TA STOCK LOOKUP'!$A$2:$C$202,3,FALSE),\"\")","v":""},"","","","","",""]
["","","","","","",{"$f":"IF(F1767<>\"\",VLOOKUP($F1767,'TA STOCK LOOKUP'!$A$2:$C$202,2,FALSE),\"\")","v":""},{"$f":"IF(G1767<>\"\",VLOOKUP($F1767,'TA STOCK LOOKUP'!$A$2:$C$202,3,FALSE),\"\")","v":""},"","","","","",""]
["","","","","","",{"$f":"IF(F1768<>\"\",VLOOKUP($F1768,'TA STOCK LOOKUP'!$A$2:$C$202,2,FALSE),\"\")","v":""},{"$f":"IF(G1768<>\"\",VLOOKUP($F1768,'TA STOCK LOOKUP'!$A$2:$C$202,3,FALSE),\"\")","v":""},"","","","","",""]
["","","","","","",{"$f":"IF(F1769<>\"\",VLOOKUP($F1769,'TA STOCK LOOKUP'!$A$2:$C$202,2,FALSE),\"\")","v":""},{"$f":"IF(G1769<>\"\",VLOOKUP($F1769,'TA STOCK LOOKUP'!$A$2:$C$202,3,FALSE),\"\")","v":""},"","","","","",""]
["","","","","","",{"$f":"IF(F1770<>\"\",VLOOKUP($F1770,'TA STOCK LOOKUP'!$A$2:$C$202,2,FALSE),\"\")","v":""},{"$f":"IF(G1770<>\"\",VLOOKUP($F1770,'TA STOCK LOOKUP'!$A$2:$C$202,3,FALSE),\"\")","v":""},"","","","","",""]
["","","","","","",{"$f":"IF(F1771<>\"\",VLOOKUP($F1771,'TA STOCK LOOKUP'!$A$2:$C$202,2,FALSE),\"\")","v":""},{"$f":"IF(G1771<>\"\",VLOOKUP($F1771,'TA STOCK LOOKUP'!$A$2:$C$202,3,FALSE),\"\")","v":""},"","","","","",""]
["","","","","","",{"$f":"IF(F1772<>\"\",VLOOKUP($F1772,'TA STOCK LOOKUP'!$A$2:$C$202,2,FALSE),\"\")","v":""},{"$f":"IF(G1772<>\"\",VLOOKUP($F1772,'TA STOCK LOOKUP'!$A$2:$C$202,3,FALSE),\"\")","v":""},"","","","","",""]
["","","","","","",{"$f":"IF(F1773<>\"\",VLOOKUP($F1773,'TA STOCK LOOKUP'!$A$2:$C$202,2,FALSE),\"\")","v":""},{"$f":"IF(G1773<>\"\",VLOOKUP($F1773,'TA STOCK LOOKUP'!$A$2:$C$202,3,FALSE),\"\")","v":""},"","","","","",""]
["","","","","","",{"$f":"IF(F1774<>\"\",VLOOKUP($F1774,'TA STOCK LOOKUP'!$A$2:$C$202,2,FALSE),\"\")","v":""},{"$f":"IF(G1774<>\"\",VLOOKUP($F1774,'TA STOCK LOOKUP'!$A$2:$C$202,3,FALSE),\"\")","v":""},"","","","","",""]
["","","","","","",{"$f":"IF(F1775<>\"\",VLOOKUP($F1775,'TA STOCK LOOKUP'!$A$2:$C$202,2,FALSE),\"\")","v":""},{"$f":"IF(G1775<>\"\",VLOOKUP($F1775,'TA STOCK LOOKUP'!$A$2:$C$202,3,FALSE),\"\")","v":""},"","","","","",""]
["","","","","","",{"$f":"IF(F1776<>\"\",VLOOKUP($F1776,'TA STOCK LOOKUP'!$A$2:$C$202,2,FALSE),\"\")","v":""},{"$f":"IF(G1776<>\"\",VLOOKUP($F1776,'TA STOCK LOOKUP'!$A$2:$C$202,3,FALSE),\"\")","v":""},"","","","","",""]
["","","","","","",{"$f":"IF(F1777<>\"\",VLOOKUP($F1777,'TA STOCK LOOKUP'!$A$2:$C$202,2,FALSE),\"\")","v":""},{"$f":"IF(G1777<>\"\",VLOOKUP($F1777,'TA STOCK LOOKUP'!$A$2:$C$202,3,FALSE),\"\")","v":""},"","","","","",""]
["","","","","","",{"$f":"IF(F1778<>\"\",VLOOKUP($F1778,'TA STOCK LOOKUP'!$A$2:$C$202,2,FALSE),\"\")","v":""},{"$f":"IF(G1778<>\"\",VLOOKUP($F1778,'TA STOCK LOOKUP'!$A$2:$C$202,3,FALSE),\"\")","v":""},"","","","","",""]
["","","","","","",{"$f":"IF(F1779<>\"\",VLOOKUP($F1779,'TA STOCK LOOKUP'!$A$2:$C$202,2,FALSE),\"\")","v":""},{"$f":"IF(G1779<>\"\",VLOOKUP($F1779,'TA STOCK LOOKUP'!$A$2:$C$202,3,FALSE),\"\")","v":""},"","","","","",""]
["","","","","","",{"$f":"IF(F1780<>\"\",VLOOKUP($F1780,'TA STOCK LOOKUP'!$A$2:$C$202,2,FALSE),\"\")","v":""},{"$f":"IF(G1780<>\"\",VLOOKUP($F1780,'TA STOCK LOOKUP'!$A$2:$C$202,3,FALSE),\"\")","v":""},"","","","","",""]
["","","","","","",{"$f":"IF(F1781<>\"\",VLOOKUP($F1781,'TA STOCK LOOKUP'!$A$2:$C$202,2,FALSE),\"\")","v":""},{"$f":"IF(G1781<>\"\",VLOOKUP($F1781,'TA STOCK LOOKUP'!$A$2:$C$202,3,FALSE),\"\")","v":""},"","","","","",""]
["","","","","","",{"$f":"IF(F1782<>\"\",VLOOKUP($F1782,'TA STOCK LOOKUP'!$A$2:$C$202,2,FALSE),\"\")","v":""},{"$f":"IF(G1782<>\"\",VLOOKUP($F1782,'TA STOCK LOOKUP'!$A$2:$C$202,3,FALSE),\"\")","v":""},"","","","","",""]
["","","","","","",{"$f":"IF(F1783<>\"\",VLOOKUP($F1783,'TA STOCK LOOKUP'!$A$2:$C$202,2,FALSE),\"\")","v":""},{"$f":"IF(G1783<>\"\",VLOOKUP($F1783,'TA STOCK LOOKUP'!$A$2:$C$202,3,FALSE),\"\")","v":""},"","","","","",""]
["","","","","","",{"$f":"IF(F1784<>\"\",VLOOKUP($F1784,'TA STOCK LOOKUP'!$A$2:$C$202,2,FALSE),\"\")","v":""},{"$f":"IF(G1784<>\"\",VLOOKUP($F1784,'TA STOCK LOOKUP'!$A$2:$C$202,3,FALSE),\"\")","v":""},"","","","","",""]
["","","","","","",{"$f":"IF(F1785<>\"\",VLOOKUP($F1785,'TA STOCK LOOKUP'!$A$2:$C$202,2,FALSE),\"\")","v":""},{"$f":"IF(G1785<>\"\",VLOOKUP($F1785,'TA STOCK LOOKUP'!$A$2:$C$202,3,FALSE),\"\")","v":""},"","","","","",""]
["","","","","","",{"$f":"IF(F1786<>\"\",VLOOKUP($F1786,'TA STOCK LOOKUP'!$A$2:$C$202,2,FALSE),\"\")","v":""},{"$f":"IF(G1786<>\"\",VLOOKUP($F1786,'TA STOCK LOOKUP'!$A$2:$C$202,3,FALSE),\"\")","v":""},"","","","","",""]
["","","","","","",{"$f":"IF(F1787<>\"\",VLOOKUP($F1787,'TA STOCK LOOKUP'!$A$2:$C$202,2,FALSE),\"\")","v":""},{"$f":"IF(G1787<>\"\",VLOOKUP($F1787,'TA STOCK LOOKUP'!$A$2:$C$202,3,FALSE),\"\")","v":""},"","","","","",""]
["","","","","","",{"$f":"IF(F1788<>\"\",VLOOKUP($F1788,'TA STOCK LOOKUP'!$A$2:$C$202,2,FALSE),\"\")","v":""},{"$f":"IF(G1788<>\"\",VLOOKUP($F1788,'TA STOCK LOOKUP'!$A$2:$C$202,3,FALSE),\"\")","v":""},"","","","","",""]
["","","","","","",{"$f":"IF(F1789<>\"\",VLOOKUP($F1789,'TA STOCK LOOKUP'!$A$2:$C$202,2,FALSE),\"\")","v":""},{"$f":"IF(G1789<>\"\",VLOOKUP($F1789,'TA STOCK LOOKUP'!$A$2:$C$202,3,FALSE),\"\")","v":""},"","","","","",""]
["","","","","","",{"$f":"IF(F1790<>\"\",VLOOKUP($F1790,'TA STOCK LOOKUP'!$A$2:$C$202,2,FALSE),\"\")","v":""},{"$f":"IF(G1790<>\"\",VLOOKUP($F1790,'TA STOCK LOOKUP'!$A$2:$C$202,3,FALSE),\"\")","v":""},"","","","","",""]
["","","","","","",{"$f":"IF(F1791<>\"\",VLOOKUP($F1791,'TA STOCK LOOKUP'!$A$2:$C$202,2,FALSE),\"\")","v":""},{"$f":"IF(G1791<>\"\",VLOOKUP($F1791,'TA STOCK LOOKUP'!$A$2:$C$202,3,FALSE),\"\")","v":""},"","","","","",""]
["","","","","","",{"$f":"IF(F1792<>\"\",VLOOKUP($F1792,'TA STOCK LOOKUP'!$A$2:$C$202,2,FALSE),\"\")","v":""},{"$f":"IF(G1792<>\"\",VLOOKUP($F1792,'TA STOCK LOOKUP'!$A$2:$C$202,3,FALSE),\"\")","v":""},"","","","","",""]
["","","","","","",{"$f":"IF(F1793<>\"\",VLOOKUP($F1793,'TA STOCK LOOKUP'!$A$2:$C$202,2,FALSE),\"\")","v":""},{"$f":"IF(G1793<>\"\",VLOOKUP($F1793,'TA STOCK LOOKUP'!$A$2:$C$202,3,FALSE),\"\")","v":""},"","","","","",""]
["","","","","","",{"$f":"IF(F1794<>\"\",VLOOKUP($F1794,'TA STOCK LOOKUP'!$A$2:$C$202,2,FALSE),\"\")","v":""},{"$f":"IF(G1794<>\"\",VLOOKUP($F1794,'TA STOCK LOOKUP'!$A$2:$C$202,3,FALSE),\"\")","v":""},"","","","","",""]
["","","","","","",{"$f":"IF(F1795<>\"\",VLOOKUP($F1795,'TA STOCK LOOKUP'!$A$2:$C$202,2,FALSE),\"\")","v":""},{"$f":"IF(G1795<>\"\",VLOOKUP($F1795,'TA STOCK LOOKUP'!$A$2:$C$202,3,FALSE),\"\")","v":""},"","","","","",""]
["","","","","","",{"$f":"IF(F1796<>\"\",VLOOKUP($F1796,'TA STOCK LOOKUP'!$A$2:$C$202,2,FALSE),\"\")","v":""},{"$f":"IF(G1796<>\"\",VLOOKUP($F1796,'TA STOCK LOOKUP'!$A$2:$C$202,3,FALSE),\"\")","v":""},"","","","","",""]
["","","","","","",{"$f":"IF(F1797<>\"\",VLOOKUP($F1797,'TA STOCK LOOKUP'!$A$2:$C$202,2,FALSE),\"\")","v":""},{"$f":"IF(G1797<>\"\",VLOOKUP($F1797,'TA STOCK LOOKUP'!$A$2:$C$202,3,FALSE),\"\")","v":""},"","","","","",""]
["","","","","","",{"$f":"IF(F1798<>\"\",VLOOKUP($F1798,'TA STOCK LOOKUP'!$A$2:$C$202,2,FALSE),\"\")","v":""},{"$f":"IF(G1798<>\"\",VLOOKUP($F1798,'TA STOCK LOOKUP'!$A$2:$C$202,3,FALSE),\"\")","v":""},"","","","","",""]
["","","","","","",{"$f":"IF(F1799<>\"\",VLOOKUP($F1799,'TA STOCK LOOKUP'!$A$2:$C$202,2,FALSE),\"\")","v":""},{"$f":"IF(G1799<>\"\",VLOOKUP($F1799,'TA STOCK LOOKUP'!$A$2:$C$202,3,FALSE),\"\")","v":""},"","","","","",""]
["","","","","","",{"$f":"IF(F1800<>\"\",VLOOKUP($F1800,'TA STOCK LOOKUP'!$A$2:$C$202,2,FALSE),\"\")","v":""},{"$f":"IF(G1800<>\"\",VLOOKUP($F1800,'TA STOCK LOOKUP'!$A$2:$C$202,3,FALSE),\"\")","v":""},"","","","","",""]
["","","","","","",{"$f":"IF(F1801<>\"\",VLOOKUP($F1801,'TA STOCK LOOKUP'!$A$2:$C$202,2,FALSE),\"\")","v":""},{"$f":"IF(G1801<>\"\",VLOOKUP($F1801,'TA STOCK LOOKUP'!$A$2:$C$202,3,FALSE),\"\")","v":""},"","","","","",""]
["","","","","","",{"$f":"IF(F1802<>\"\",VLOOKUP($F1802,'TA STOCK LOOKUP'!$A$2:$C$202,2,FALSE),\"\")","v":""},{"$f":"IF(G1802<>\"\",VLOOKUP($F1802,'TA STOCK LOOKUP'!$A$2:$C$202,3,FALSE),\"\")","v":""},"","","","","",""]
["","","","","","",{"$f":"IF(F1803<>\"\",VLOOKUP($F1803,'TA STOCK LOOKUP'!$A$2:$C$202,2,FALSE),\"\")","v":""},{"$f":"IF(G1803<>\"\",VLOOKUP($F1803,'TA STOCK LOOKUP'!$A$2:$C$202,3,FALSE),\"\")","v":""},"","","","","",""]
["","","","","","",{"$f":"IF(F1804<>\"\",VLOOKUP($F1804,'TA STOCK LOOKUP'!$A$2:$C$202,2,FALSE),\"\")","v":""},{"$f":"IF(G1804<>\"\",VLOOKUP($F1804,'TA STOCK LOOKUP'!$A$2:$C$202,3,FALSE),\"\")","v":""},"","","","","",""]
["","","","","","",{"$f":"IF(F1805<>\"\",VLOOKUP($F1805,'TA STOCK LOOKUP'!$A$2:$C$202,2,FALSE),\"\")","v":""},{"$f":"IF(G1805<>\"\",VLOOKUP($F1805,'TA STOCK LOOKUP'!$A$2:$C$202,3,FALSE),\"\")","v":""},"","","","","",""]
["","","","","","",{"$f":"IF(F1806<>\"\",VLOOKUP($F1806,'TA STOCK LOOKUP'!$A$2:$C$202,2,FALSE),\"\")","v":""},{"$f":"IF(G1806<>\"\",VLOOKUP($F1806,'TA STOCK LOOKUP'!$A$2:$C$202,3,FALSE),\"\")","v":""},"","","","","",""]
["","","","","","",{"$f":"IF(F1807<>\"\",VLOOKUP($F1807,'TA STOCK LOOKUP'!$A$2:$C$202,2,FALSE),\"\")","v":""},{"$f":"IF(G1807<>\"\",VLOOKUP($F1807,'TA STOCK LOOKUP'!$A$2:$C$202,3,FALSE),\"\")","v":""},"","","","","",""]
["","","","","","",{"$f":"IF(F1808<>\"\",VLOOKUP($F1808,'TA STOCK LOOKUP'!$A$2:$C$202,2,FALSE),\"\")","v":""},{"$f":"IF(G1808<>\"\",VLOOKUP($F1808,'TA STOCK LOOKUP'!$A$2:$C$202,3,FALSE),\"\")","v":""},"","","","","",""]
["","","","","","",{"$f":"IF(F1809<>\"\",VLOOKUP($F1809,'TA STOCK LOOKUP'!$A$2:$C$202,2,FALSE),\"\")","v":""},{"$f":"IF(G1809<>\"\",VLOOKUP($F1809,'TA STOCK LOOKUP'!$A$2:$C$202,3,FALSE),\"\")","v":""},"","","","","",""]
["","","","","","",{"$f":"IF(F1810<>\"\",VLOOKUP($F1810,'TA STOCK LOOKUP'!$A$2:$C$202,2,FALSE),\"\")","v":""},{"$f":"IF(G1810<>\"\",VLOOKUP($F1810,'TA STOCK LOOKUP'!$A$2:$C$202,3,FALSE),\"\")","v":""},"","","","","",""]
["","","","","","",{"$f":"IF(F1811<>\"\",VLOOKUP($F1811,'TA STOCK LOOKUP'!$A$2:$C$202,2,FALSE),\"\")","v":""},{"$f":"IF(G1811<>\"\",VLOOKUP($F1811,'TA STOCK LOOKUP'!$A$2:$C$202,3,FALSE),\"\")","v":""},"","","","","",""]
["","","","","","",{"$f":"IF(F1812<>\"\",VLOOKUP($F1812,'TA STOCK LOOKUP'!$A$2:$C$202,2,FALSE),\"\")","v":""},{"$f":"IF(G1812<>\"\",VLOOKUP($F1812,'TA STOCK LOOKUP'!$A$2:$C$202,3,FALSE),\"\")","v":""},"","","","","",""]
["","","","","","",{"$f":"IF(F1813<>\"\",VLOOKUP($F1813,'TA STOCK LOOKUP'!$A$2:$C$202,2,FALSE),\"\")","v":""},{"$f":"IF(G1813<>\"\",VLOOKUP($F1813,'TA STOCK LOOKUP'!$A$2:$C$202,3,FALSE),\"\")","v":""},"","","","","",""]
["","","","","","",{"$f":"IF(F1814<>\"\",VLOOKUP($F1814,'TA STOCK LOOKUP'!$A$2:$C$202,2,FALSE),\"\")","v":""},{"$f":"IF(G1814<>\"\",VLOOKUP($F1814,'TA STOCK LOOKUP'!$A$2:$C$202,3,FALSE),\"\")","v":""},"","","","","",""]
["","","","","","",{"$f":"IF(F1815<>\"\",VLOOKUP($F1815,'TA STOCK LOOKUP'!$A$2:$C$202,2,FALSE),\"\")","v":""},{"$f":"IF(G1815<>\"\",VLOOKUP($F1815,'TA STOCK LOOKUP'!$A$2:$C$202,3,FALSE),\"\")","v":""},"","","","","",""]
["","","","","","",{"$f":"IF(F1816<>\"\",VLOOKUP($F1816,'TA STOCK LOOKUP'!$A$2:$C$202,2,FALSE),\"\")","v":""},{"$f":"IF(G1816<>\"\",VLOOKUP($F1816,'TA STOCK LOOKUP'!$A$2:$C$202,3,FALSE),\"\")","v":""},"","","","","",""]
["","","","","","",{"$f":"IF(F1817<>\"\",VLOOKUP($F1817,'TA STOCK LOOKUP'!$A$2:$C$202,2,FALSE),\"\")","v":""},{"$f":"IF(G1817<>\"\",VLOOKUP($F1817,'TA STOCK LOOKUP'!$A$2:$C$202,3,FALSE),\"\")","v":""},"","","","","",""]
["","","","","","",{"$f":"IF(F1818<>\"\",VLOOKUP($F1818,'TA STOCK LOOKUP'!$A$2:$C$202,2,FALSE),\"\")","v":""},{"$f":"IF(G1818<>\"\",VLOOKUP($F1818,'TA STOCK LOOKUP'!$A$2:$C$202,3,FALSE),\"\")","v":""},"","","","","",""]
["","","","","","",{"$f":"IF(F1819<>\"\",VLOOKUP($F1819,'TA STOCK LOOKUP'!$A$2:$C$202,2,FALSE),\"\")","v":""},{"$f":"IF(G1819<>\"\",VLOOKUP($F1819,'TA STOCK LOOKUP'!$A$2:$C$202,3,FALSE),\"\")","v":""},"","","","","",""]
["","","","","","",{"$f":"IF(F1820<>\"\",VLOOKUP($F1820,'TA STOCK LOOKUP'!$A$2:$C$202,2,FALSE),\"\")","v":""},{"$f":"IF(G1820<>\"\",VLOOKUP($F1820,'TA STOCK LOOKUP'!$A$2:$C$202,3,FALSE),\"\")","v":""},"","","","","",""]
["","","","","","",{"$f":"IF(F1821<>\"\",VLOOKUP($F1821,'TA STOCK LOOKUP'!$A$2:$C$202,2,FALSE),\"\")","v":""},{"$f":"IF(G1821<>\"\",VLOOKUP($F1821,'TA STOCK LOOKUP'!$A$2:$C$202,3,FALSE),\"\")","v":""},"","","","","",""]
["","","","","","",{"$f":"IF(F1822<>\"\",VLOOKUP($F1822,'TA STOCK LOOKUP'!$A$2:$C$202,2,FALSE),\"\")","v":""},{"$f":"IF(G1822<>\"\",VLOOKUP($F1822,'TA STOCK LOOKUP'!$A$2:$C$202,3,FALSE),\"\")","v":""},"","","","","",""]
["","","","","","",{"$f":"IF(F1823<>\"\",VLOOKUP($F1823,'TA STOCK LOOKUP'!$A$2:$C$202,2,FALSE),\"\")","v":""},{"$f":"IF(G1823<>\"\",VLOOKUP($F1823,'TA STOCK LOOKUP'!$A$2:$C$202,3,FALSE),\"\")","v":""},"","","","","",""]
["","","","","","",{"$f":"IF(F1824<>\"\",VLOOKUP($F1824,'TA STOCK LOOKUP'!$A$2:$C$202,2,FALSE),\"\")","v":""},{"$f":"IF(G1824<>\"\",VLOOKUP($F1824,'TA STOCK LOOKUP'!$A$2:$C$202,3,FALSE),\"\")","v":""},"","","","","",""]
["","","","","","",{"$f":"IF(F1825<>\"\",VLOOKUP($F1825,'TA STOCK LOOKUP'!$A$2:$C$202,2,FALSE),\"\")","v":""},{"$f":"IF(G1825<>\"\",VLOOKUP($F1825,'TA STOCK LOOKUP'!$A$2:$C$202,3,FALSE),\"\")","v":""},"","","","","",""]
["","","","","","",{"$f":"IF(F1826<>\"\",VLOOKUP($F1826,'TA STOCK LOOKUP'!$A$2:$C$202,2,FALSE),\"\")","v":""},{"$f":"IF(G1826<>\"\",VLOOKUP($F1826,'TA STOCK LOOKUP'!$A$2:$C$202,3,FALSE),\"\")","v":""},"","","","","",""]
["","","","","","",{"$f":"IF(F1827<>\"\",VLOOKUP($F1827,'TA STOCK LOOKUP'!$A$2:$C$202,2,FALSE),\"\")","v":""},{"$f":"IF(G1827<>\"\",VLOOKUP($F1827,'TA STOCK LOOKUP'!$A$2:$C$202,3,FALSE),\"\")","v":""},"","","","","",""]
["","","","","","",{"$f":"IF(F1828<>\"\",VLOOKUP($F1828,'TA STOCK LOOKUP'!$A$2:$C$202,2,FALSE),\"\")","v":""},{"$f":"IF(G1828<>\"\",VLOOKUP($F1828,'TA STOCK LOOKUP'!$A$2:$C$202,3,FALSE),\"\")","v":""},"","","","","",""]
["","","","","","",{"$f":"IF(F1829<>\"\",VLOOKUP($F1829,'TA STOCK LOOKUP'!$A$2:$C$202,2,FALSE),\"\")","v":""},{"$f":"IF(G1829<>\"\",VLOOKUP($F1829,'TA STOCK LOOKUP'!$A$2:$C$202,3,FALSE),\"\")","v":""},"","","","","",""]
["","","","","","",{"$f":"IF(F1830<>\"\",VLOOKUP($F1830,'TA STOCK LOOKUP'!$A$2:$C$202,2,FALSE),\"\")","v":""},{"$f":"IF(G1830<>\"\",VLOOKUP($F1830,'TA STOCK LOOKUP'!$A$2:$C$202,3,FALSE),\"\")","v":""},"","","","","",""]
["","","","","","",{"$f":"IF(F1831<>\"\",VLOOKUP($F1831,'TA STOCK LOOKUP'!$A$2:$C$202,2,FALSE),\"\")","v":""},{"$f":"IF(G1831<>\"\",VLOOKUP($F1831,'TA STOCK LOOKUP'!$A$2:$C$202,3,FALSE),\"\")","v":""},"","","","","",""]
["","","","","","",{"$f":"IF(F1832<>\"\",VLOOKUP($F1832,'TA STOCK LOOKUP'!$A$2:$C$202,2,FALSE),\"\")","v":""},{"$f":"IF(G1832<>\"\",VLOOKUP($F1832,'TA STOCK LOOKUP'!$A$2:$C$202,3,FALSE),\"\")","v":""},"","","","","",""]
["","","","","","",{"$f":"IF(F1833<>\"\",VLOOKUP($F1833,'TA STOCK LOOKUP'!$A$2:$C$202,2,FALSE),\"\")","v":""},{"$f":"IF(G1833<>\"\",VLOOKUP($F1833,'TA STOCK LOOKUP'!$A$2:$C$202,3,FALSE),\"\")","v":""},"","","","","",""]
["","","","","","",{"$f":"IF(F1834<>\"\",VLOOKUP($F1834,'TA STOCK LOOKUP'!$A$2:$C$202,2,FALSE),\"\")","v":""},{"$f":"IF(G1834<>\"\",VLOOKUP($F1834,'TA STOCK LOOKUP'!$A$2:$C$202,3,FALSE),\"\")","v":""},"","","","","",""]
["","","","","","",{"$f":"IF(F1835<>\"\",VLOOKUP($F1835,'TA STOCK LOOKUP'!$A$2:$C$202,2,FALSE),\"\")","v":""},{"$f":"IF(G1835<>\"\",VLOOKUP($F1835,'TA STOCK LOOKUP'!$A$2:$C$202,3,FALSE),\"\")","v":""},"","","","","",""]
["","","","","","",{"$f":"IF(F1836<>\"\",VLOOKUP($F1836,'TA STOCK LOOKUP'!$A$2:$C$202,2,FALSE),\"\")","v":""},{"$f":"IF(G1836<>\"\",VLOOKUP($F1836,'TA STOCK LOOKUP'!$A$2:$C$202,3,FALSE),\"\")","v":""},"","","","","",""]
["","","","","","",{"$f":"IF(F1837<>\"\",VLOOKUP($F1837,'TA STOCK LOOKUP'!$A$2:$C$202,2,FALSE),\"\")","v":""},{"$f":"IF(G1837<>\"\",VLOOKUP($F1837,'TA STOCK LOOKUP'!$A$2:$C$202,3,FALSE),\"\")","v":""},"","","","","",""]
["","","","","","",{"$f":"IF(F1838<>\"\",VLOOKUP($F1838,'TA STOCK LOOKUP'!$A$2:$C$202,2,FALSE),\"\")","v":""},{"$f":"IF(G1838<>\"\",VLOOKUP($F1838,'TA STOCK LOOKUP'!$A$2:$C$202,3,FALSE),\"\")","v":""},"","","","","",""]
["","","","","","",{"$f":"IF(F1839<>\"\",VLOOKUP($F1839,'TA STOCK LOOKUP'!$A$2:$C$202,2,FALSE),\"\")","v":""},{"$f":"IF(G1839<>\"\",VLOOKUP($F1839,'TA STOCK LOOKUP'!$A$2:$C$202,3,FALSE),\"\")","v":""},"","","","","",""]
["","","","","","",{"$f":"IF(F1840<>\"\",VLOOKUP($F1840,'TA STOCK LOOKUP'!$A$2:$C$202,2,FALSE),\"\")","v":""},{"$f":"IF(G1840<>\"\",VLOOKUP($F1840,'TA STOCK LOOKUP'!$A$2:$C$202,3,FALSE),\"\")","v":""},"","","","","",""]
["","","","","","",{"$f":"IF(F1841<>\"\",VLOOKUP($F1841,'TA STOCK LOOKUP'!$A$2:$C$202,2,FALSE),\"\")","v":""},{"$f":"IF(G1841<>\"\",VLOOKUP($F1841,'TA STOCK LOOKUP'!$A$2:$C$202,3,FALSE),\"\")","v":""},"","","","","",""]
["","","","","","",{"$f":"IF(F1842<>\"\",VLOOKUP($F1842,'TA STOCK LOOKUP'!$A$2:$C$202,2,FALSE),\"\")","v":""},{"$f":"IF(G1842<>\"\",VLOOKUP($F1842,'TA STOCK LOOKUP'!$A$2:$C$202,3,FALSE),\"\")","v":""},"","","","","",""]
["","","","","","",{"$f":"IF(F1843<>\"\",VLOOKUP($F1843,'TA STOCK LOOKUP'!$A$2:$C$202,2,FALSE),\"\")","v":""},{"$f":"IF(G1843<>\"\",VLOOKUP($F1843,'TA STOCK LOOKUP'!$A$2:$C$202,3,FALSE),\"\")","v":""},"","","","","",""]
["","","","","","",{"$f":"IF(F1844<>\"\",VLOOKUP($F1844,'TA STOCK LOOKUP'!$A$2:$C$202,2,FALSE),\"\")","v":""},{"$f":"IF(G1844<>\"\",VLOOKUP($F1844,'TA STOCK LOOKUP'!$A$2:$C$202,3,FALSE),\"\")","v":""},"","","","","",""]
["","","","","","",{"$f":"IF(F1845<>\"\",VLOOKUP($F1845,'TA STOCK LOOKUP'!$A$2:$C$202,2,FALSE),\"\")","v":""},{"$f":"IF(G1845<>\"\",VLOOKUP($F1845,'TA STOCK LOOKUP'!$A$2:$C$202,3,FALSE),\"\")","v":""},"","","","","",""]
["","","","","","",{"$f":"IF(F1846<>\"\",VLOOKUP($F1846,'TA STOCK LOOKUP'!$A$2:$C$202,2,FALSE),\"\")","v":""},{"$f":"IF(G1846<>\"\",VLOOKUP($F1846,'TA STOCK LOOKUP'!$A$2:$C$202,3,FALSE),\"\")","v":""},"","","","","",""]
["","","","","","",{"$f":"IF(F1847<>\"\",VLOOKUP($F1847,'TA STOCK LOOKUP'!$A$2:$C$202,2,FALSE),\"\")","v":""},{"$f":"IF(G1847<>\"\",VLOOKUP($F1847,'TA STOCK LOOKUP'!$A$2:$C$202,3,FALSE),\"\")","v":""},"","","","","",""]
["","","","","","",{"$f":"IF(F1848<>\"\",VLOOKUP($F1848,'TA STOCK LOOKUP'!$A$2:$C$202,2,FALSE),\"\")","v":""},{"$f":"IF(G1848<>\"\",VLOOKUP($F1848,'TA STOCK LOOKUP'!$A$2:$C$202,3,FALSE),\"\")","v":""},"","","","","",""]
["","","","","","",{"$f":"IF(F1849<>\"\",VLOOKUP($F1849,'TA STOCK LOOKUP'!$A$2:$C$202,2,FALSE),\"\")","v":""},{"$f":"IF(G1849<>\"\",VLOOKUP($F1849,'TA STOCK LOOKUP'!$A$2:$C$202,3,FALSE),\"\")","v":""},"","","","","",""]
["","","","","","",{"$f":"IF(F1850<>\"\",VLOOKUP($F1850,'TA STOCK LOOKUP'!$A$2:$C$202,2,FALSE),\"\")","v":""},{"$f":"IF(G1850<>\"\",VLOOKUP($F1850,'TA STOCK LOOKUP'!$A$2:$C$202,3,FALSE),\"\")","v":""},"","","","","",""]
["","","","","","",{"$f":"IF(F1851<>\"\",VLOOKUP($F1851,'TA STOCK LOOKUP'!$A$2:$C$202,2,FALSE),\"\")","v":""},{"$f":"IF(G1851<>\"\",VLOOKUP($F1851,'TA STOCK LOOKUP'!$A$2:$C$202,3,FALSE),\"\")","v":""},"","","","","",""]
["","","","","","",{"$f":"IF(F1852<>\"\",VLOOKUP($F1852,'TA STOCK LOOKUP'!$A$2:$C$202,2,FALSE),\"\")","v":""},{"$f":"IF(G1852<>\"\",VLOOKUP($F1852,'TA STOCK LOOKUP'!$A$2:$C$202,3,FALSE),\"\")","v":""},"","","","","",""]
["","","","","","",{"$f":"IF(F1853<>\"\",VLOOKUP($F1853,'TA STOCK LOOKUP'!$A$2:$C$202,2,FALSE),\"\")","v":""},{"$f":"IF(G1853<>\"\",VLOOKUP($F1853,'TA STOCK LOOKUP'!$A$2:$C$202,3,FALSE),\"\")","v":""},"","","","","",""]
["","","","","","",{"$f":"IF(F1854<>\"\",VLOOKUP($F1854,'TA STOCK LOOKUP'!$A$2:$C$202,2,FALSE),\"\")","v":""},{"$f":"IF(G1854<>\"\",VLOOKUP($F1854,'TA STOCK LOOKUP'!$A$2:$C$202,3,FALSE),\"\")","v":""},"","","","","",""]
["","","","","","",{"$f":"IF(F1855<>\"\",VLOOKUP($F1855,'TA STOCK LOOKUP'!$A$2:$C$202,2,FALSE),\"\")","v":""},{"$f":"IF(G1855<>\"\",VLOOKUP($F1855,'TA STOCK LOOKUP'!$A$2:$C$202,3,FALSE),\"\")","v":""},"","","","","",""]
["","","","","","",{"$f":"IF(F1856<>\"\",VLOOKUP($F1856,'TA STOCK LOOKUP'!$A$2:$C$202,2,FALSE),\"\")","v":""},{"$f":"IF(G1856<>\"\",VLOOKUP($F1856,'TA STOCK LOOKUP'!$A$2:$C$202,3,FALSE),\"\")","v":""},"","","","","",""]
["","","","","","",{"$f":"IF(F1857<>\"\",VLOOKUP($F1857,'TA STOCK LOOKUP'!$A$2:$C$202,2,FALSE),\"\")","v":""},{"$f":"IF(G1857<>\"\",VLOOKUP($F1857,'TA STOCK LOOKUP'!$A$2:$C$202,3,FALSE),\"\")","v":""},"","","","","",""]
["","","","","","",{"$f":"IF(F1858<>\"\",VLOOKUP($F1858,'TA STOCK LOOKUP'!$A$2:$C$202,2,FALSE),\"\")","v":""},{"$f":"IF(G1858<>\"\",VLOOKUP($F1858,'TA STOCK LOOKUP'!$A$2:$C$202,3,FALSE),\"\")","v":""},"","","","","",""]
["","","","","","",{"$f":"IF(F1859<>\"\",VLOOKUP($F1859,'TA STOCK LOOKUP'!$A$2:$C$202,2,FALSE),\"\")","v":""},{"$f":"IF(G1859<>\"\",VLOOKUP($F1859,'TA STOCK LOOKUP'!$A$2:$C$202,3,FALSE),\"\")","v":""},"","","","","",""]
["","","","","","",{"$f":"IF(F1860<>\"\",VLOOKUP($F1860,'TA STOCK LOOKUP'!$A$2:$C$202,2,FALSE),\"\")","v":""},{"$f":"IF(G1860<>\"\",VLOOKUP($F1860,'TA STOCK LOOKUP'!$A$2:$C$202,3,FALSE),\"\")","v":""},"","","","","",""]
["","","","","","",{"$f":"IF(F1861<>\"\",VLOOKUP($F1861,'TA STOCK LOOKUP'!$A$2:$C$202,2,FALSE),\"\")","v":""},{"$f":"IF(G1861<>\"\",VLOOKUP($F1861,'TA STOCK LOOKUP'!$A$2:$C$202,3,FALSE),\"\")","v":""},"","","","","",""]
["","","","","","",{"$f":"IF(F1862<>\"\",VLOOKUP($F1862,'TA STOCK LOOKUP'!$A$2:$C$202,2,FALSE),\"\")","v":""},{"$f":"IF(G1862<>\"\",VLOOKUP($F1862,'TA STOCK LOOKUP'!$A$2:$C$202,3,FALSE),\"\")","v":""},"","","","","",""]
["","","","","","",{"$f":"IF(F1863<>\"\",VLOOKUP($F1863,'TA STOCK LOOKUP'!$A$2:$C$202,2,FALSE),\"\")","v":""},{"$f":"IF(G1863<>\"\",VLOOKUP($F1863,'TA STOCK LOOKUP'!$A$2:$C$202,3,FALSE),\"\")","v":""},"","","","","",""]
["","","","","","",{"$f":"IF(F1864<>\"\",VLOOKUP($F1864,'TA STOCK LOOKUP'!$A$2:$C$202,2,FALSE),\"\")","v":""},{"$f":"IF(G1864<>\"\",VLOOKUP($F1864,'TA STOCK LOOKUP'!$A$2:$C$202,3,FALSE),\"\")","v":""},"","","","","",""]
["","","","","","",{"$f":"IF(F1865<>\"\",VLOOKUP($F1865,'TA STOCK LOOKUP'!$A$2:$C$202,2,FALSE),\"\")","v":""},{"$f":"IF(G1865<>\"\",VLOOKUP($F1865,'TA STOCK LOOKUP'!$A$2:$C$202,3,FALSE),\"\")","v":""},"","","","","",""]
["","","","","","",{"$f":"IF(F1866<>\"\",VLOOKUP($F1866,'TA STOCK LOOKUP'!$A$2:$C$202,2,FALSE),\"\")","v":""},{"$f":"IF(G1866<>\"\",VLOOKUP($F1866,'TA STOCK LOOKUP'!$A$2:$C$202,3,FALSE),\"\")","v":""},"","","","","",""]
["","","","","","",{"$f":"IF(F1867<>\"\",VLOOKUP($F1867,'TA STOCK LOOKUP'!$A$2:$C$202,2,FALSE),\"\")","v":""},{"$f":"IF(G1867<>\"\",VLOOKUP($F1867,'TA STOCK LOOKUP'!$A$2:$C$202,3,FALSE),\"\")","v":""},"","","","","",""]
["","","","","","",{"$f":"IF(F1868<>\"\",VLOOKUP($F1868,'TA STOCK LOOKUP'!$A$2:$C$202,2,FALSE),\"\")","v":""},{"$f":"IF(G1868<>\"\",VLOOKUP($F1868,'TA STOCK LOOKUP'!$A$2:$C$202,3,FALSE),\"\")","v":""},"","","","","",""]
["","","","","","",{"$f":"IF(F1869<>\"\",VLOOKUP($F1869,'TA STOCK LOOKUP'!$A$2:$C$202,2,FALSE),\"\")","v":""},{"$f":"IF(G1869<>\"\",VLOOKUP($F1869,'TA STOCK LOOKUP'!$A$2:$C$202,3,FALSE),\"\")","v":""},"","","","","",""]
["","","","","","",{"$f":"IF(F1870<>\"\",VLOOKUP($F1870,'TA STOCK LOOKUP'!$A$2:$C$202,2,FALSE),\"\")","v":""},{"$f":"IF(G1870<>\"\",VLOOKUP($F1870,'TA STOCK LOOKUP'!$A$2:$C$202,3,FALSE),\"\")","v":""},"","","","","",""]
["","","","","","",{"$f":"IF(F1871<>\"\",VLOOKUP($F1871,'TA STOCK LOOKUP'!$A$2:$C$202,2,FALSE),\"\")","v":""},{"$f":"IF(G1871<>\"\",VLOOKUP($F1871,'TA STOCK LOOKUP'!$A$2:$C$202,3,FALSE),\"\")","v":""},"","","","","",""]
["","","","","","",{"$f":"IF(F1872<>\"\",VLOOKUP($F1872,'TA STOCK LOOKUP'!$A$2:$C$202,2,FALSE),\"\")","v":""},{"$f":"IF(G1872<>\"\",VLOOKUP($F1872,'TA STOCK LOOKUP'!$A$2:$C$202,3,FALSE),\"\")","v":""},"","","","","",""]
["","","","","","",{"$f":"IF(F1873<>\"\",VLOOKUP($F1873,'TA STOCK LOOKUP'!$A$2:$C$202,2,FALSE),\"\")","v":""},{"$f":"IF(G1873<>\"\",VLOOKUP($F1873,'TA STOCK LOOKUP'!$A$2:$C$202,3,FALSE),\"\")","v":""},"","","","","",""]
["","","","","","",{"$f":"IF(F1874<>\"\",VLOOKUP($F1874,'TA STOCK LOOKUP'!$A$2:$C$202,2,FALSE),\"\")","v":""},{"$f":"IF(G1874<>\"\",VLOOKUP($F1874,'TA STOCK LOOKUP'!$A$2:$C$202,3,FALSE),\"\")","v":""},"","","","","",""]
["","","","","","",{"$f":"IF(F1875<>\"\",VLOOKUP($F1875,'TA STOCK LOOKUP'!$A$2:$C$202,2,FALSE),\"\")","v":""},{"$f":"IF(G1875<>\"\",VLOOKUP($F1875,'TA STOCK LOOKUP'!$A$2:$C$202,3,FALSE),\"\")","v":""},"","","","","",""]
["","","","","","",{"$f":"IF(F1876<>\"\",VLOOKUP($F1876,'TA STOCK LOOKUP'!$A$2:$C$202,2,FALSE),\"\")","v":""},{"$f":"IF(G1876<>\"\",VLOOKUP($F1876,'TA STOCK LOOKUP'!$A$2:$C$202,3,FALSE),\"\")","v":""},"","","","","",""]
["","","","","","",{"$f":"IF(F1877<>\"\",VLOOKUP($F1877,'TA STOCK LOOKUP'!$A$2:$C$202,2,FALSE),\"\")","v":""},{"$f":"IF(G1877<>\"\",VLOOKUP($F1877,'TA STOCK LOOKUP'!$A$2:$C$202,3,FALSE),\"\")","v":""},"","","","","",""]
["","","","","","",{"$f":"IF(F1878<>\"\",VLOOKUP($F1878,'TA STOCK LOOKUP'!$A$2:$C$202,2,FALSE),\"\")","v":""},{"$f":"IF(G1878<>\"\",VLOOKUP($F1878,'TA STOCK LOOKUP'!$A$2:$C$202,3,FALSE),\"\")","v":""},"","","","","",""]
["","","","","","",{"$f":"IF(F1879<>\"\",VLOOKUP($F1879,'TA STOCK LOOKUP'!$A$2:$C$202,2,FALSE),\"\")","v":""},{"$f":"IF(G1879<>\"\",VLOOKUP($F1879,'TA STOCK LOOKUP'!$A$2:$C$202,3,FALSE),\"\")","v":""},"","","","","",""]
["","","","","","",{"$f":"IF(F1880<>\"\",VLOOKUP($F1880,'TA STOCK LOOKUP'!$A$2:$C$202,2,FALSE),\"\")","v":""},{"$f":"IF(G1880<>\"\",VLOOKUP($F1880,'TA STOCK LOOKUP'!$A$2:$C$202,3,FALSE),\"\")","v":""},"","","","","",""]
["","","","","","",{"$f":"IF(F1881<>\"\",VLOOKUP($F1881,'TA STOCK LOOKUP'!$A$2:$C$202,2,FALSE),\"\")","v":""},{"$f":"IF(G1881<>\"\",VLOOKUP($F1881,'TA STOCK LOOKUP'!$A$2:$C$202,3,FALSE),\"\")","v":""},"","","","","",""]
["","","","","","",{"$f":"IF(F1882<>\"\",VLOOKUP($F1882,'TA STOCK LOOKUP'!$A$2:$C$202,2,FALSE),\"\")","v":""},{"$f":"IF(G1882<>\"\",VLOOKUP($F1882,'TA STOCK LOOKUP'!$A$2:$C$202,3,FALSE),\"\")","v":""},"","","","","",""]
["","","","","","",{"$f":"IF(F1883<>\"\",VLOOKUP($F1883,'TA STOCK LOOKUP'!$A$2:$C$202,2,FALSE),\"\")","v":""},{"$f":"IF(G1883<>\"\",VLOOKUP($F1883,'TA STOCK LOOKUP'!$A$2:$C$202,3,FALSE),\"\")","v":""},"","","","","",""]
["","","","","","",{"$f":"IF(F1884<>\"\",VLOOKUP($F1884,'TA STOCK LOOKUP'!$A$2:$C$202,2,FALSE),\"\")","v":""},{"$f":"IF(G1884<>\"\",VLOOKUP($F1884,'TA STOCK LOOKUP'!$A$2:$C$202,3,FALSE),\"\")","v":""},"","","","","",""]
["","","","","","",{"$f":"IF(F1885<>\"\",VLOOKUP($F1885,'TA STOCK LOOKUP'!$A$2:$C$202,2,FALSE),\"\")","v":""},{"$f":"IF(G1885<>\"\",VLOOKUP($F1885,'TA STOCK LOOKUP'!$A$2:$C$202,3,FALSE),\"\")","v":""},"","","","","",""]
["","","","","","",{"$f":"IF(F1886<>\"\",VLOOKUP($F1886,'TA STOCK LOOKUP'!$A$2:$C$202,2,FALSE),\"\")","v":""},{"$f":"IF(G1886<>\"\",VLOOKUP($F1886,'TA STOCK LOOKUP'!$A$2:$C$202,3,FALSE),\"\")","v":""},"","","","","",""]
["","","","","","",{"$f":"IF(F1887<>\"\",VLOOKUP($F1887,'TA STOCK LOOKUP'!$A$2:$C$202,2,FALSE),\"\")","v":""},{"$f":"IF(G1887<>\"\",VLOOKUP($F1887,'TA STOCK LOOKUP'!$A$2:$C$202,3,FALSE),\"\")","v":""},"","","","","",""]
["","","","","","",{"$f":"IF(F1888<>\"\",VLOOKUP($F1888,'TA STOCK LOOKUP'!$A$2:$C$202,2,FALSE),\"\")","v":""},{"$f":"IF(G1888<>\"\",VLOOKUP($F1888,'TA STOCK LOOKUP'!$A$2:$C$202,3,FALSE),\"\")","v":""},"","","","","",""]
["","","","","","",{"$f":"IF(F1889<>\"\",VLOOKUP($F1889,'TA STOCK LOOKUP'!$A$2:$C$202,2,FALSE),\"\")","v":""},{"$f":"IF(G1889<>\"\",VLOOKUP($F1889,'TA STOCK LOOKUP'!$A$2:$C$202,3,FALSE),\"\")","v":""},"","","","","",""]
["","","","","","",{"$f":"IF(F1890<>\"\",VLOOKUP($F1890,'TA STOCK LOOKUP'!$A$2:$C$202,2,FALSE),\"\")","v":""},{"$f":"IF(G1890<>\"\",VLOOKUP($F1890,'TA STOCK LOOKUP'!$A$2:$C$202,3,FALSE),\"\")","v":""},"","","","","",""]
["","","","","","",{"$f":"IF(F1891<>\"\",VLOOKUP($F1891,'TA STOCK LOOKUP'!$A$2:$C$202,2,FALSE),\"\")","v":""},{"$f":"IF(G1891<>\"\",VLOOKUP($F1891,'TA STOCK LOOKUP'!$A$2:$C$202,3,FALSE),\"\")","v":""},"","","","","",""]
["","","","","","",{"$f":"IF(F1892<>\"\",VLOOKUP($F1892,'TA STOCK LOOKUP'!$A$2:$C$202,2,FALSE),\"\")","v":""},{"$f":"IF(G1892<>\"\",VLOOKUP($F1892,'TA STOCK LOOKUP'!$A$2:$C$202,3,FALSE),\"\")","v":""},"","","","","",""]
["","","","","","",{"$f":"IF(F1893<>\"\",VLOOKUP($F1893,'TA STOCK LOOKUP'!$A$2:$C$202,2,FALSE),\"\")","v":""},{"$f":"IF(G1893<>\"\",VLOOKUP($F1893,'TA STOCK LOOKUP'!$A$2:$C$202,3,FALSE),\"\")","v":""},"","","","","",""]
["","","","","","",{"$f":"IF(F1894<>\"\",VLOOKUP($F1894,'TA STOCK LOOKUP'!$A$2:$C$202,2,FALSE),\"\")","v":""},{"$f":"IF(G1894<>\"\",VLOOKUP($F1894,'TA STOCK LOOKUP'!$A$2:$C$202,3,FALSE),\"\")","v":""},"","","","","",""]
["","","","","","",{"$f":"IF(F1895<>\"\",VLOOKUP($F1895,'TA STOCK LOOKUP'!$A$2:$C$202,2,FALSE),\"\")","v":""},{"$f":"IF(G1895<>\"\",VLOOKUP($F1895,'TA STOCK LOOKUP'!$A$2:$C$202,3,FALSE),\"\")","v":""},"","","","","",""]
["","","","","","",{"$f":"IF(F1896<>\"\",VLOOKUP($F1896,'TA STOCK LOOKUP'!$A$2:$C$202,2,FALSE),\"\")","v":""},{"$f":"IF(G1896<>\"\",VLOOKUP($F1896,'TA STOCK LOOKUP'!$A$2:$C$202,3,FALSE),\"\")","v":""},"","","","","",""]
["","","","","","",{"$f":"IF(F1897<>\"\",VLOOKUP($F1897,'TA STOCK LOOKUP'!$A$2:$C$202,2,FALSE),\"\")","v":""},{"$f":"IF(G1897<>\"\",VLOOKUP($F1897,'TA STOCK LOOKUP'!$A$2:$C$202,3,FALSE),\"\")","v":""},"","","","","",""]
["","","","","","",{"$f":"IF(F1898<>\"\",VLOOKUP($F1898,'TA STOCK LOOKUP'!$A$2:$C$202,2,FALSE),\"\")","v":""},{"$f":"IF(G1898<>\"\",VLOOKUP($F1898,'TA STOCK LOOKUP'!$A$2:$C$202,3,FALSE),\"\")","v":""},"","","","","",""]
["","","","","","",{"$f":"IF(F1899<>\"\",VLOOKUP($F1899,'TA STOCK LOOKUP'!$A$2:$C$202,2,FALSE),\"\")","v":""},{"$f":"IF(G1899<>\"\",VLOOKUP($F1899,'TA STOCK LOOKUP'!$A$2:$C$202,3,FALSE),\"\")","v":""},"","","","","",""]
["","","","","","",{"$f":"IF(F1900<>\"\",VLOOKUP($F1900,'TA STOCK LOOKUP'!$A$2:$C$202,2,FALSE),\"\")","v":""},{"$f":"IF(G1900<>\"\",VLOOKUP($F1900,'TA STOCK LOOKUP'!$A$2:$C$202,3,FALSE),\"\")","v":""},"","","","","",""]
["","","","","","",{"$f":"IF(F1901<>\"\",VLOOKUP($F1901,'TA STOCK LOOKUP'!$A$2:$C$202,2,FALSE),\"\")","v":""},{"$f":"IF(G1901<>\"\",VLOOKUP($F1901,'TA STOCK LOOKUP'!$A$2:$C$202,3,FALSE),\"\")","v":""},"","","","","",""]
["","","","","","",{"$f":"IF(F1902<>\"\",VLOOKUP($F1902,'TA STOCK LOOKUP'!$A$2:$C$202,2,FALSE),\"\")","v":""},{"$f":"IF(G1902<>\"\",VLOOKUP($F1902,'TA STOCK LOOKUP'!$A$2:$C$202,3,FALSE),\"\")","v":""},"","","","","",""]
["","","","","","",{"$f":"IF(F1903<>\"\",VLOOKUP($F1903,'TA STOCK LOOKUP'!$A$2:$C$202,2,FALSE),\"\")","v":""},{"$f":"IF(G1903<>\"\",VLOOKUP($F1903,'TA STOCK LOOKUP'!$A$2:$C$202,3,FALSE),\"\")","v":""},"","","","","",""]
["","","","","","",{"$f":"IF(F1904<>\"\",VLOOKUP($F1904,'TA STOCK LOOKUP'!$A$2:$C$202,2,FALSE),\"\")","v":""},{"$f":"IF(G1904<>\"\",VLOOKUP($F1904,'TA STOCK LOOKUP'!$A$2:$C$202,3,FALSE),\"\")","v":""},"","","","","",""]
["","","","","","",{"$f":"IF(F1905<>\"\",VLOOKUP($F1905,'TA STOCK LOOKUP'!$A$2:$C$202,2,FALSE),\"\")","v":""},{"$f":"IF(G1905<>\"\",VLOOKUP($F1905,'TA STOCK LOOKUP'!$A$2:$C$202,3,FALSE),\"\")","v":""},"","","","","",""]
["","","","","","",{"$f":"IF(F1906<>\"\",VLOOKUP($F1906,'TA STOCK LOOKUP'!$A$2:$C$202,2,FALSE),\"\")","v":""},{"$f":"IF(G1906<>\"\",VLOOKUP($F1906,'TA STOCK LOOKUP'!$A$2:$C$202,3,FALSE),\"\")","v":""},"","","","","",""]
["","","","","","",{"$f":"IF(F1907<>\"\",VLOOKUP($F1907,'TA STOCK LOOKUP'!$A$2:$C$202,2,FALSE),\"\")","v":""},{"$f":"IF(G1907<>\"\",VLOOKUP($F1907,'TA STOCK LOOKUP'!$A$2:$C$202,3,FALSE),\"\")","v":""},"","","","","",""]
["","","","","","",{"$f":"IF(F1908<>\"\",VLOOKUP($F1908,'TA STOCK LOOKUP'!$A$2:$C$202,2,FALSE),\"\")","v":""},{"$f":"IF(G1908<>\"\",VLOOKUP($F1908,'TA STOCK LOOKUP'!$A$2:$C$202,3,FALSE),\"\")","v":""},"","","","","",""]
["","","","","","",{"$f":"IF(F1909<>\"\",VLOOKUP($F1909,'TA STOCK LOOKUP'!$A$2:$C$202,2,FALSE),\"\")","v":""},{"$f":"IF(G1909<>\"\",VLOOKUP($F1909,'TA STOCK LOOKUP'!$A$2:$C$202,3,FALSE),\"\")","v":""},"","","","","",""]
["","","","","","",{"$f":"IF(F1910<>\"\",VLOOKUP($F1910,'TA STOCK LOOKUP'!$A$2:$C$202,2,FALSE),\"\")","v":""},{"$f":"IF(G1910<>\"\",VLOOKUP($F1910,'TA STOCK LOOKUP'!$A$2:$C$202,3,FALSE),\"\")","v":""},"","","","","",""]
["","","","","","",{"$f":"IF(F1911<>\"\",VLOOKUP($F1911,'TA STOCK LOOKUP'!$A$2:$C$202,2,FALSE),\"\")","v":""},{"$f":"IF(G1911<>\"\",VLOOKUP($F1911,'TA STOCK LOOKUP'!$A$2:$C$202,3,FALSE),\"\")","v":""},"","","","","",""]
["","","","","","",{"$f":"IF(F1912<>\"\",VLOOKUP($F1912,'TA STOCK LOOKUP'!$A$2:$C$202,2,FALSE),\"\")","v":""},{"$f":"IF(G1912<>\"\",VLOOKUP($F1912,'TA STOCK LOOKUP'!$A$2:$C$202,3,FALSE),\"\")","v":""},"","","","","",""]
["","","","","","",{"$f":"IF(F1913<>\"\",VLOOKUP($F1913,'TA STOCK LOOKUP'!$A$2:$C$202,2,FALSE),\"\")","v":""},{"$f":"IF(G1913<>\"\",VLOOKUP($F1913,'TA STOCK LOOKUP'!$A$2:$C$202,3,FALSE),\"\")","v":""},"","","","","",""]
["","","","","","",{"$f":"IF(F1914<>\"\",VLOOKUP($F1914,'TA STOCK LOOKUP'!$A$2:$C$202,2,FALSE),\"\")","v":""},{"$f":"IF(G1914<>\"\",VLOOKUP($F1914,'TA STOCK LOOKUP'!$A$2:$C$202,3,FALSE),\"\")","v":""},"","","","","",""]
["","","","","","",{"$f":"IF(F1915<>\"\",VLOOKUP($F1915,'TA STOCK LOOKUP'!$A$2:$C$202,2,FALSE),\"\")","v":""},{"$f":"IF(G1915<>\"\",VLOOKUP($F1915,'TA STOCK LOOKUP'!$A$2:$C$202,3,FALSE),\"\")","v":""},"","","","","",""]
["","","","","","",{"$f":"IF(F1916<>\"\",VLOOKUP($F1916,'TA STOCK LOOKUP'!$A$2:$C$202,2,FALSE),\"\")","v":""},{"$f":"IF(G1916<>\"\",VLOOKUP($F1916,'TA STOCK LOOKUP'!$A$2:$C$202,3,FALSE),\"\")","v":""},"","","","","",""]
["","","","","","",{"$f":"IF(F1917<>\"\",VLOOKUP($F1917,'TA STOCK LOOKUP'!$A$2:$C$202,2,FALSE),\"\")","v":""},{"$f":"IF(G1917<>\"\",VLOOKUP($F1917,'TA STOCK LOOKUP'!$A$2:$C$202,3,FALSE),\"\")","v":""},"","","","","",""]
["","","","","","",{"$f":"IF(F1918<>\"\",VLOOKUP($F1918,'TA STOCK LOOKUP'!$A$2:$C$202,2,FALSE),\"\")","v":""},{"$f":"IF(G1918<>\"\",VLOOKUP($F1918,'TA STOCK LOOKUP'!$A$2:$C$202,3,FALSE),\"\")","v":""},"","","","","",""]
["","","","","","",{"$f":"IF(F1919<>\"\",VLOOKUP($F1919,'TA STOCK LOOKUP'!$A$2:$C$202,2,FALSE),\"\")","v":""},{"$f":"IF(G1919<>\"\",VLOOKUP($F1919,'TA STOCK LOOKUP'!$A$2:$C$202,3,FALSE),\"\")","v":""},"","","","","",""]
["","","","","","",{"$f":"IF(F1920<>\"\",VLOOKUP($F1920,'TA STOCK LOOKUP'!$A$2:$C$202,2,FALSE),\"\")","v":""},{"$f":"IF(G1920<>\"\",VLOOKUP($F1920,'TA STOCK LOOKUP'!$A$2:$C$202,3,FALSE),\"\")","v":""},"","","","","",""]
["","","","","","",{"$f":"IF(F1921<>\"\",VLOOKUP($F1921,'TA STOCK LOOKUP'!$A$2:$C$202,2,FALSE),\"\")","v":""},{"$f":"IF(G1921<>\"\",VLOOKUP($F1921,'TA STOCK LOOKUP'!$A$2:$C$202,3,FALSE),\"\")","v":""},"","","","","",""]
["","","","","","",{"$f":"IF(F1922<>\"\",VLOOKUP($F1922,'TA STOCK LOOKUP'!$A$2:$C$202,2,FALSE),\"\")","v":""},{"$f":"IF(G1922<>\"\",VLOOKUP($F1922,'TA STOCK LOOKUP'!$A$2:$C$202,3,FALSE),\"\")","v":""},"","","","","",""]
["","","","","","",{"$f":"IF(F1923<>\"\",VLOOKUP($F1923,'TA STOCK LOOKUP'!$A$2:$C$202,2,FALSE),\"\")","v":""},{"$f":"IF(G1923<>\"\",VLOOKUP($F1923,'TA STOCK LOOKUP'!$A$2:$C$202,3,FALSE),\"\")","v":""},"","","","","",""]
["","","","","","",{"$f":"IF(F1924<>\"\",VLOOKUP($F1924,'TA STOCK LOOKUP'!$A$2:$C$202,2,FALSE),\"\")","v":""},{"$f":"IF(G1924<>\"\",VLOOKUP($F1924,'TA STOCK LOOKUP'!$A$2:$C$202,3,FALSE),\"\")","v":""},"","","","","",""]
["","","","","","",{"$f":"IF(F1925<>\"\",VLOOKUP($F1925,'TA STOCK LOOKUP'!$A$2:$C$202,2,FALSE),\"\")","v":""},{"$f":"IF(G1925<>\"\",VLOOKUP($F1925,'TA STOCK LOOKUP'!$A$2:$C$202,3,FALSE),\"\")","v":""},"","","","","",""]
["","","","","","",{"$f":"IF(F1926<>\"\",VLOOKUP($F1926,'TA STOCK LOOKUP'!$A$2:$C$202,2,FALSE),\"\")","v":""},{"$f":"IF(G1926<>\"\",VLOOKUP($F1926,'TA STOCK LOOKUP'!$A$2:$C$202,3,FALSE),\"\")","v":""},"","","","","",""]
["","","","","","",{"$f":"IF(F1927<>\"\",VLOOKUP($F1927,'TA STOCK LOOKUP'!$A$2:$C$202,2,FALSE),\"\")","v":""},{"$f":"IF(G1927<>\"\",VLOOKUP($F1927,'TA STOCK LOOKUP'!$A$2:$C$202,3,FALSE),\"\")","v":""},"","","","","",""]
["","","","","","",{"$f":"IF(F1928<>\"\",VLOOKUP($F1928,'TA STOCK LOOKUP'!$A$2:$C$202,2,FALSE),\"\")","v":""},{"$f":"IF(G1928<>\"\",VLOOKUP($F1928,'TA STOCK LOOKUP'!$A$2:$C$202,3,FALSE),\"\")","v":""},"","","","","",""]
["","","","","","",{"$f":"IF(F1929<>\"\",VLOOKUP($F1929,'TA STOCK LOOKUP'!$A$2:$C$202,2,FALSE),\"\")","v":""},{"$f":"IF(G1929<>\"\",VLOOKUP($F1929,'TA STOCK LOOKUP'!$A$2:$C$202,3,FALSE),\"\")","v":""},"","","","","",""]
["","","","","","",{"$f":"IF(F1930<>\"\",VLOOKUP($F1930,'TA STOCK LOOKUP'!$A$2:$C$202,2,FALSE),\"\")","v":""},{"$f":"IF(G1930<>\"\",VLOOKUP($F1930,'TA STOCK LOOKUP'!$A$2:$C$202,3,FALSE),\"\")","v":""},"","","","","",""]
["","","","","","",{"$f":"IF(F1931<>\"\",VLOOKUP($F1931,'TA STOCK LOOKUP'!$A$2:$C$202,2,FALSE),\"\")","v":""},{"$f":"IF(G1931<>\"\",VLOOKUP($F1931,'TA STOCK LOOKUP'!$A$2:$C$202,3,FALSE),\"\")","v":""},"","","","","",""]
["","","","","","",{"$f":"IF(F1932<>\"\",VLOOKUP($F1932,'TA STOCK LOOKUP'!$A$2:$C$202,2,FALSE),\"\")","v":""},{"$f":"IF(G1932<>\"\",VLOOKUP($F1932,'TA STOCK LOOKUP'!$A$2:$C$202,3,FALSE),\"\")","v":""},"","","","","",""]
["","","","","","",{"$f":"IF(F1933<>\"\",VLOOKUP($F1933,'TA STOCK LOOKUP'!$A$2:$C$202,2,FALSE),\"\")","v":""},{"$f":"IF(G1933<>\"\",VLOOKUP($F1933,'TA STOCK LOOKUP'!$A$2:$C$202,3,FALSE),\"\")","v":""},"","","","","",""]
["","","","","","",{"$f":"IF(F1934<>\"\",VLOOKUP($F1934,'TA STOCK LOOKUP'!$A$2:$C$202,2,FALSE),\"\")","v":""},{"$f":"IF(G1934<>\"\",VLOOKUP($F1934,'TA STOCK LOOKUP'!$A$2:$C$202,3,FALSE),\"\")","v":""},"","","","","",""]
["","","","","","",{"$f":"IF(F1935<>\"\",VLOOKUP($F1935,'TA STOCK LOOKUP'!$A$2:$C$202,2,FALSE),\"\")","v":""},{"$f":"IF(G1935<>\"\",VLOOKUP($F1935,'TA STOCK LOOKUP'!$A$2:$C$202,3,FALSE),\"\")","v":""},"","","","","",""]
["","","","","","",{"$f":"IF(F1936<>\"\",VLOOKUP($F1936,'TA STOCK LOOKUP'!$A$2:$C$202,2,FALSE),\"\")","v":""},{"$f":"IF(G1936<>\"\",VLOOKUP($F1936,'TA STOCK LOOKUP'!$A$2:$C$202,3,FALSE),\"\")","v":""},"","","","","",""]
["","","","","","",{"$f":"IF(F1937<>\"\",VLOOKUP($F1937,'TA STOCK LOOKUP'!$A$2:$C$202,2,FALSE),\"\")","v":""},{"$f":"IF(G1937<>\"\",VLOOKUP($F1937,'TA STOCK LOOKUP'!$A$2:$C$202,3,FALSE),\"\")","v":""},"","","","","",""]
["","","","","","",{"$f":"IF(F1938<>\"\",VLOOKUP($F1938,'TA STOCK LOOKUP'!$A$2:$C$202,2,FALSE),\"\")","v":""},{"$f":"IF(G1938<>\"\",VLOOKUP($F1938,'TA STOCK LOOKUP'!$A$2:$C$202,3,FALSE),\"\")","v":""},"","","","","",""]
["","","","","","",{"$f":"IF(F1939<>\"\",VLOOKUP($F1939,'TA STOCK LOOKUP'!$A$2:$C$202,2,FALSE),\"\")","v":""},{"$f":"IF(G1939<>\"\",VLOOKUP($F1939,'TA STOCK LOOKUP'!$A$2:$C$202,3,FALSE),\"\")","v":""},"","","","","",""]
["","","","","","",{"$f":"IF(F1940<>\"\",VLOOKUP($F1940,'TA STOCK LOOKUP'!$A$2:$C$202,2,FALSE),\"\")","v":""},{"$f":"IF(G1940<>\"\",VLOOKUP($F1940,'TA STOCK LOOKUP'!$A$2:$C$202,3,FALSE),\"\")","v":""},"","","","","",""]
["","","","","","",{"$f":"IF(F1941<>\"\",VLOOKUP($F1941,'TA STOCK LOOKUP'!$A$2:$C$202,2,FALSE),\"\")","v":""},{"$f":"IF(G1941<>\"\",VLOOKUP($F1941,'TA STOCK LOOKUP'!$A$2:$C$202,3,FALSE),\"\")","v":""},"","","","","",""]
["","","","","","",{"$f":"IF(F1942<>\"\",VLOOKUP($F1942,'TA STOCK LOOKUP'!$A$2:$C$202,2,FALSE),\"\")","v":""},{"$f":"IF(G1942<>\"\",VLOOKUP($F1942,'TA STOCK LOOKUP'!$A$2:$C$202,3,FALSE),\"\")","v":""},"","","","","",""]
["","","","","","",{"$f":"IF(F1943<>\"\",VLOOKUP($F1943,'TA STOCK LOOKUP'!$A$2:$C$202,2,FALSE),\"\")","v":""},{"$f":"IF(G1943<>\"\",VLOOKUP($F1943,'TA STOCK LOOKUP'!$A$2:$C$202,3,FALSE),\"\")","v":""},"","","","","",""]
["","","","","","",{"$f":"IF(F1944<>\"\",VLOOKUP($F1944,'TA STOCK LOOKUP'!$A$2:$C$202,2,FALSE),\"\")","v":""},{"$f":"IF(G1944<>\"\",VLOOKUP($F1944,'TA STOCK LOOKUP'!$A$2:$C$202,3,FALSE),\"\")","v":""},"","","","","",""]
["","","","","","",{"$f":"IF(F1945<>\"\",VLOOKUP($F1945,'TA STOCK LOOKUP'!$A$2:$C$202,2,FALSE),\"\")","v":""},{"$f":"IF(G1945<>\"\",VLOOKUP($F1945,'TA STOCK LOOKUP'!$A$2:$C$202,3,FALSE),\"\")","v":""},"","","","","",""]
["","","","","","",{"$f":"IF(F1946<>\"\",VLOOKUP($F1946,'TA STOCK LOOKUP'!$A$2:$C$202,2,FALSE),\"\")","v":""},{"$f":"IF(G1946<>\"\",VLOOKUP($F1946,'TA STOCK LOOKUP'!$A$2:$C$202,3,FALSE),\"\")","v":""},"","","","","",""]
["","","","","","",{"$f":"IF(F1947<>\"\",VLOOKUP($F1947,'TA STOCK LOOKUP'!$A$2:$C$202,2,FALSE),\"\")","v":""},{"$f":"IF(G1947<>\"\",VLOOKUP($F1947,'TA STOCK LOOKUP'!$A$2:$C$202,3,FALSE),\"\")","v":""},"","","","","",""]
["","","","","","",{"$f":"IF(F1948<>\"\",VLOOKUP($F1948,'TA STOCK LOOKUP'!$A$2:$C$202,2,FALSE),\"\")","v":""},{"$f":"IF(G1948<>\"\",VLOOKUP($F1948,'TA STOCK LOOKUP'!$A$2:$C$202,3,FALSE),\"\")","v":""},"","","","","",""]
["","","","","","",{"$f":"IF(F1949<>\"\",VLOOKUP($F1949,'TA STOCK LOOKUP'!$A$2:$C$202,2,FALSE),\"\")","v":""},{"$f":"IF(G1949<>\"\",VLOOKUP($F1949,'TA STOCK LOOKUP'!$A$2:$C$202,3,FALSE),\"\")","v":""},"","","","","",""]
["","","","","","",{"$f":"IF(F1950<>\"\",VLOOKUP($F1950,'TA STOCK LOOKUP'!$A$2:$C$202,2,FALSE),\"\")","v":""},{"$f":"IF(G1950<>\"\",VLOOKUP($F1950,'TA STOCK LOOKUP'!$A$2:$C$202,3,FALSE),\"\")","v":""},"","","","","",""]
["","","","","","",{"$f":"IF(F1951<>\"\",VLOOKUP($F1951,'TA STOCK LOOKUP'!$A$2:$C$202,2,FALSE),\"\")","v":""},{"$f":"IF(G1951<>\"\",VLOOKUP($F1951,'TA STOCK LOOKUP'!$A$2:$C$202,3,FALSE),\"\")","v":""},"","","","","",""]
["","","","","","",{"$f":"IF(F1952<>\"\",VLOOKUP($F1952,'TA STOCK LOOKUP'!$A$2:$C$202,2,FALSE),\"\")","v":""},{"$f":"IF(G1952<>\"\",VLOOKUP($F1952,'TA STOCK LOOKUP'!$A$2:$C$202,3,FALSE),\"\")","v":""},"","","","","",""]
["","","","","","",{"$f":"IF(F1953<>\"\",VLOOKUP($F1953,'TA STOCK LOOKUP'!$A$2:$C$202,2,FALSE),\"\")","v":""},{"$f":"IF(G1953<>\"\",VLOOKUP($F1953,'TA STOCK LOOKUP'!$A$2:$C$202,3,FALSE),\"\")","v":""},"","","","","",""]
["","","","","","",{"$f":"IF(F1954<>\"\",VLOOKUP($F1954,'TA STOCK LOOKUP'!$A$2:$C$202,2,FALSE),\"\")","v":""},{"$f":"IF(G1954<>\"\",VLOOKUP($F1954,'TA STOCK LOOKUP'!$A$2:$C$202,3,FALSE),\"\")","v":""},"","","","","",""]
["","","","","","",{"$f":"IF(F1955<>\"\",VLOOKUP($F1955,'TA STOCK LOOKUP'!$A$2:$C$202,2,FALSE),\"\")","v":""},{"$f":"IF(G1955<>\"\",VLOOKUP($F1955,'TA STOCK LOOKUP'!$A$2:$C$202,3,FALSE),\"\")","v":""},"","","","","",""]
["","","","","","",{"$f":"IF(F1956<>\"\",VLOOKUP($F1956,'TA STOCK LOOKUP'!$A$2:$C$202,2,FALSE),\"\")","v":""},{"$f":"IF(G1956<>\"\",VLOOKUP($F1956,'TA STOCK LOOKUP'!$A$2:$C$202,3,FALSE),\"\")","v":""},"","","","","",""]
["","","","","","",{"$f":"IF(F1957<>\"\",VLOOKUP($F1957,'TA STOCK LOOKUP'!$A$2:$C$202,2,FALSE),\"\")","v":""},{"$f":"IF(G1957<>\"\",VLOOKUP($F1957,'TA STOCK LOOKUP'!$A$2:$C$202,3,FALSE),\"\")","v":""},"","","","","",""]
["","","","","","",{"$f":"IF(F1958<>\"\",VLOOKUP($F1958,'TA STOCK LOOKUP'!$A$2:$C$202,2,FALSE),\"\")","v":""},{"$f":"IF(G1958<>\"\",VLOOKUP($F1958,'TA STOCK LOOKUP'!$A$2:$C$202,3,FALSE),\"\")","v":""},"","","","","",""]
["","","","","","",{"$f":"IF(F1959<>\"\",VLOOKUP($F1959,'TA STOCK LOOKUP'!$A$2:$C$202,2,FALSE),\"\")","v":""},{"$f":"IF(G1959<>\"\",VLOOKUP($F1959,'TA STOCK LOOKUP'!$A$2:$C$202,3,FALSE),\"\")","v":""},"","","","","",""]
["","","","","","",{"$f":"IF(F1960<>\"\",VLOOKUP($F1960,'TA STOCK LOOKUP'!$A$2:$C$202,2,FALSE),\"\")","v":""},{"$f":"IF(G1960<>\"\",VLOOKUP($F1960,'TA STOCK LOOKUP'!$A$2:$C$202,3,FALSE),\"\")","v":""},"","","","","",""]
["","","","","","",{"$f":"IF(F1961<>\"\",VLOOKUP($F1961,'TA STOCK LOOKUP'!$A$2:$C$202,2,FALSE),\"\")","v":""},{"$f":"IF(G1961<>\"\",VLOOKUP($F1961,'TA STOCK LOOKUP'!$A$2:$C$202,3,FALSE),\"\")","v":""},"","","","","",""]
["","","","","","",{"$f":"IF(F1962<>\"\",VLOOKUP($F1962,'TA STOCK LOOKUP'!$A$2:$C$202,2,FALSE),\"\")","v":""},{"$f":"IF(G1962<>\"\",VLOOKUP($F1962,'TA STOCK LOOKUP'!$A$2:$C$202,3,FALSE),\"\")","v":""},"","","","","",""]
["","","","","","",{"$f":"IF(F1963<>\"\",VLOOKUP($F1963,'TA STOCK LOOKUP'!$A$2:$C$202,2,FALSE),\"\")","v":""},{"$f":"IF(G1963<>\"\",VLOOKUP($F1963,'TA STOCK LOOKUP'!$A$2:$C$202,3,FALSE),\"\")","v":""},"","","","","",""]
["","","","","","",{"$f":"IF(F1964<>\"\",VLOOKUP($F1964,'TA STOCK LOOKUP'!$A$2:$C$202,2,FALSE),\"\")","v":""},{"$f":"IF(G1964<>\"\",VLOOKUP($F1964,'TA STOCK LOOKUP'!$A$2:$C$202,3,FALSE),\"\")","v":""},"","","","","",""]
["","","","","","",{"$f":"IF(F1965<>\"\",VLOOKUP($F1965,'TA STOCK LOOKUP'!$A$2:$C$202,2,FALSE),\"\")","v":""},{"$f":"IF(G1965<>\"\",VLOOKUP($F1965,'TA STOCK LOOKUP'!$A$2:$C$202,3,FALSE),\"\")","v":""},"","","","","",""]
["","","","","","",{"$f":"IF(F1966<>\"\",VLOOKUP($F1966,'TA STOCK LOOKUP'!$A$2:$C$202,2,FALSE),\"\")","v":""},{"$f":"IF(G1966<>\"\",VLOOKUP($F1966,'TA STOCK LOOKUP'!$A$2:$C$202,3,FALSE),\"\")","v":""},"","","","","",""]
["","","","","","",{"$f":"IF(F1967<>\"\",VLOOKUP($F1967,'TA STOCK LOOKUP'!$A$2:$C$202,2,FALSE),\"\")","v":""},{"$f":"IF(G1967<>\"\",VLOOKUP($F1967,'TA STOCK LOOKUP'!$A$2:$C$202,3,FALSE),\"\")","v":""},"","","","","",""]
["","","","","","",{"$f":"IF(F1968<>\"\",VLOOKUP($F1968,'TA STOCK LOOKUP'!$A$2:$C$202,2,FALSE),\"\")","v":""},{"$f":"IF(G1968<>\"\",VLOOKUP($F1968,'TA STOCK LOOKUP'!$A$2:$C$202,3,FALSE),\"\")","v":""},"","","","","",""]
["","","","","","",{"$f":"IF(F1969<>\"\",VLOOKUP($F1969,'TA STOCK LOOKUP'!$A$2:$C$202,2,FALSE),\"\")","v":""},{"$f":"IF(G1969<>\"\",VLOOKUP($F1969,'TA STOCK LOOKUP'!$A$2:$C$202,3,FALSE),\"\")","v":""},"","","","","",""]
["","","","","","",{"$f":"IF(F1970<>\"\",VLOOKUP($F1970,'TA STOCK LOOKUP'!$A$2:$C$202,2,FALSE),\"\")","v":""},{"$f":"IF(G1970<>\"\",VLOOKUP($F1970,'TA STOCK LOOKUP'!$A$2:$C$202,3,FALSE),\"\")","v":""},"","","","","",""]
["","","","","","",{"$f":"IF(F1971<>\"\",VLOOKUP($F1971,'TA STOCK LOOKUP'!$A$2:$C$202,2,FALSE),\"\")","v":""},{"$f":"IF(G1971<>\"\",VLOOKUP($F1971,'TA STOCK LOOKUP'!$A$2:$C$202,3,FALSE),\"\")","v":""},"","","","","",""]
["","","","","","",{"$f":"IF(F1972<>\"\",VLOOKUP($F1972,'TA STOCK LOOKUP'!$A$2:$C$202,2,FALSE),\"\")","v":""},{"$f":"IF(G1972<>\"\",VLOOKUP($F1972,'TA STOCK LOOKUP'!$A$2:$C$202,3,FALSE),\"\")","v":""},"","","","","",""]
["","","","","","",{"$f":"IF(F1973<>\"\",VLOOKUP($F1973,'TA STOCK LOOKUP'!$A$2:$C$202,2,FALSE),\"\")","v":""},{"$f":"IF(G1973<>\"\",VLOOKUP($F1973,'TA STOCK LOOKUP'!$A$2:$C$202,3,FALSE),\"\")","v":""},"","","","","",""]
["","","","","","",{"$f":"IF(F1974<>\"\",VLOOKUP($F1974,'TA STOCK LOOKUP'!$A$2:$C$202,2,FALSE),\"\")","v":""},{"$f":"IF(G1974<>\"\",VLOOKUP($F1974,'TA STOCK LOOKUP'!$A$2:$C$202,3,FALSE),\"\")","v":""},"","","","","",""]
["","","","","","",{"$f":"IF(F1975<>\"\",VLOOKUP($F1975,'TA STOCK LOOKUP'!$A$2:$C$202,2,FALSE),\"\")","v":""},{"$f":"IF(G1975<>\"\",VLOOKUP($F1975,'TA STOCK LOOKUP'!$A$2:$C$202,3,FALSE),\"\")","v":""},"","","","","",""]
["","","","","","",{"$f":"IF(F1976<>\"\",VLOOKUP($F1976,'TA STOCK LOOKUP'!$A$2:$C$202,2,FALSE),\"\")","v":""},{"$f":"IF(G1976<>\"\",VLOOKUP($F1976,'TA STOCK LOOKUP'!$A$2:$C$202,3,FALSE),\"\")","v":""},"","","","","",""]
["","","","","","",{"$f":"IF(F1977<>\"\",VLOOKUP($F1977,'TA STOCK LOOKUP'!$A$2:$C$202,2,FALSE),\"\")","v":""},{"$f":"IF(G1977<>\"\",VLOOKUP($F1977,'TA STOCK LOOKUP'!$A$2:$C$202,3,FALSE),\"\")","v":""},"","","","","",""]
["","","","","","",{"$f":"IF(F1978<>\"\",VLOOKUP($F1978,'TA STOCK LOOKUP'!$A$2:$C$202,2,FALSE),\"\")","v":""},{"$f":"IF(G1978<>\"\",VLOOKUP($F1978,'TA STOCK LOOKUP'!$A$2:$C$202,3,FALSE),\"\")","v":""},"","","","","",""]
["","","","","","",{"$f":"IF(F1979<>\"\",VLOOKUP($F1979,'TA STOCK LOOKUP'!$A$2:$C$202,2,FALSE),\"\")","v":""},{"$f":"IF(G1979<>\"\",VLOOKUP($F1979,'TA STOCK LOOKUP'!$A$2:$C$202,3,FALSE),\"\")","v":""},"","","","","",""]
["","","","","","",{"$f":"IF(F1980<>\"\",VLOOKUP($F1980,'TA STOCK LOOKUP'!$A$2:$C$202,2,FALSE),\"\")","v":""},{"$f":"IF(G1980<>\"\",VLOOKUP($F1980,'TA STOCK LOOKUP'!$A$2:$C$202,3,FALSE),\"\")","v":""},"","","","","",""]
["","","","","","",{"$f":"IF(F1981<>\"\",VLOOKUP($F1981,'TA STOCK LOOKUP'!$A$2:$C$202,2,FALSE),\"\")","v":""},{"$f":"IF(G1981<>\"\",VLOOKUP($F1981,'TA STOCK LOOKUP'!$A$2:$C$202,3,FALSE),\"\")","v":""},"","","","","",""]
["","","","","","",{"$f":"IF(F1982<>\"\",VLOOKUP($F1982,'TA STOCK LOOKUP'!$A$2:$C$202,2,FALSE),\"\")","v":""},{"$f":"IF(G1982<>\"\",VLOOKUP($F1982,'TA STOCK LOOKUP'!$A$2:$C$202,3,FALSE),\"\")","v":""},"","","","","",""]
["","","","","","",{"$f":"IF(F1983<>\"\",VLOOKUP($F1983,'TA STOCK LOOKUP'!$A$2:$C$202,2,FALSE),\"\")","v":""},{"$f":"IF(G1983<>\"\",VLOOKUP($F1983,'TA STOCK LOOKUP'!$A$2:$C$202,3,FALSE),\"\")","v":""},"","","","","",""]
["","","","","","",{"$f":"IF(F1984<>\"\",VLOOKUP($F1984,'TA STOCK LOOKUP'!$A$2:$C$202,2,FALSE),\"\")","v":""},{"$f":"IF(G1984<>\"\",VLOOKUP($F1984,'TA STOCK LOOKUP'!$A$2:$C$202,3,FALSE),\"\")","v":""},"","","","","",""]
["","","","","","",{"$f":"IF(F1985<>\"\",VLOOKUP($F1985,'TA STOCK LOOKUP'!$A$2:$C$202,2,FALSE),\"\")","v":""},{"$f":"IF(G1985<>\"\",VLOOKUP($F1985,'TA STOCK LOOKUP'!$A$2:$C$202,3,FALSE),\"\")","v":""},"","","","","",""]
["","","","","","",{"$f":"IF(F1986<>\"\",VLOOKUP($F1986,'TA STOCK LOOKUP'!$A$2:$C$202,2,FALSE),\"\")","v":""},{"$f":"IF(G1986<>\"\",VLOOKUP($F1986,'TA STOCK LOOKUP'!$A$2:$C$202,3,FALSE),\"\")","v":""},"","","","","",""]
["","","","","","",{"$f":"IF(F1987<>\"\",VLOOKUP($F1987,'TA STOCK LOOKUP'!$A$2:$C$202,2,FALSE),\"\")","v":""},{"$f":"IF(G1987<>\"\",VLOOKUP($F1987,'TA STOCK LOOKUP'!$A$2:$C$202,3,FALSE),\"\")","v":""},"","","","","",""]
["","","","","","",{"$f":"IF(F1988<>\"\",VLOOKUP($F1988,'TA STOCK LOOKUP'!$A$2:$C$202,2,FALSE),\"\")","v":""},{"$f":"IF(G1988<>\"\",VLOOKUP($F1988,'TA STOCK LOOKUP'!$A$2:$C$202,3,FALSE),\"\")","v":""},"","","","","",""]
["","","","","","",{"$f":"IF(F1989<>\"\",VLOOKUP($F1989,'TA STOCK LOOKUP'!$A$2:$C$202,2,FALSE),\"\")","v":""},{"$f":"IF(G1989<>\"\",VLOOKUP($F1989,'TA STOCK LOOKUP'!$A$2:$C$202,3,FALSE),\"\")","v":""},"","","","","",""]
["","","","","","",{"$f":"IF(F1990<>\"\",VLOOKUP($F1990,'TA STOCK LOOKUP'!$A$2:$C$202,2,FALSE),\"\")","v":""},{"$f":"IF(G1990<>\"\",VLOOKUP($F1990,'TA STOCK LOOKUP'!$A$2:$C$202,3,FALSE),\"\")","v":""},"","","","","",""]
["","","","","","",{"$f":"IF(F1991<>\"\",VLOOKUP($F1991,'TA STOCK LOOKUP'!$A$2:$C$202,2,FALSE),\"\")","v":""},{"$f":"IF(G1991<>\"\",VLOOKUP($F1991,'TA STOCK LOOKUP'!$A$2:$C$202,3,FALSE),\"\")","v":""},"","","","","",""]
["","","","","","",{"$f":"IF(F1992<>\"\",VLOOKUP($F1992,'TA STOCK LOOKUP'!$A$2:$C$202,2,FALSE),\"\")","v":""},{"$f":"IF(G1992<>\"\",VLOOKUP($F1992,'TA STOCK LOOKUP'!$A$2:$C$202,3,FALSE),\"\")","v":""},"","","","","",""]
["","","","","","",{"$f":"IF(F1993<>\"\",VLOOKUP($F1993,'TA STOCK LOOKUP'!$A$2:$C$202,2,FALSE),\"\")","v":""},{"$f":"IF(G1993<>\"\",VLOOKUP($F1993,'TA STOCK LOOKUP'!$A$2:$C$202,3,FALSE),\"\")","v":""},"","","","","",""]
["","","","","","",{"$f":"IF(F1994<>\"\",VLOOKUP($F1994,'TA STOCK LOOKUP'!$A$2:$C$202,2,FALSE),\"\")","v":""},{"$f":"IF(G1994<>\"\",VLOOKUP($F1994,'TA STOCK LOOKUP'!$A$2:$C$202,3,FALSE),\"\")","v":""},"","","","","",""]
["","","","","","",{"$f":"IF(F1995<>\"\",VLOOKUP($F1995,'TA STOCK LOOKUP'!$A$2:$C$202,2,FALSE),\"\")","v":""},{"$f":"IF(G1995<>\"\",VLOOKUP($F1995,'TA STOCK LOOKUP'!$A$2:$C$202,3,FALSE),\"\")","v":""},"","","","","",""]
["","","","","","",{"$f":"IF(F1996<>\"\",VLOOKUP($F1996,'TA STOCK LOOKUP'!$A$2:$C$202,2,FALSE),\"\")","v":""},{"$f":"IF(G1996<>\"\",VLOOKUP($F1996,'TA STOCK LOOKUP'!$A$2:$C$202,3,FALSE),\"\")","v":""},"","","","","",""]
["","","","","","",{"$f":"IF(F1997<>\"\",VLOOKUP($F1997,'TA STOCK LOOKUP'!$A$2:$C$202,2,FALSE),\"\")","v":""},{"$f":"IF(G1997<>\"\",VLOOKUP($F1997,'TA STOCK LOOKUP'!$A$2:$C$202,3,FALSE),\"\")","v":""},"","","","","",""]
["","","","","","",{"$f":"IF(F1998<>\"\",VLOOKUP($F1998,'TA STOCK LOOKUP'!$A$2:$C$202,2,FALSE),\"\")","v":""},{"$f":"IF(G1998<>\"\",VLOOKUP($F1998,'TA STOCK LOOKUP'!$A$2:$C$202,3,FALSE),\"\")","v":""},"","","","","",""]
["","","","","","",{"$f":"IF(F1999<>\"\",VLOOKUP($F1999,'TA STOCK LOOKUP'!$A$2:$C$202,2,FALSE),\"\")","v":""},{"$f":"IF(G1999<>\"\",VLOOKUP($F1999,'TA STOCK LOOKUP'!$A$2:$C$202,3,FALSE),\"\")","v":""},"","","","","",""]
["","","","","","",{"$f":"IF(F2000<>\"\",VLOOKUP($F2000,'TA STOCK LOOKUP'!$A$2:$C$202,2,FALSE),\"\")","v":""},{"$f":"IF(G2000<>\"\",VLOOKUP($F2000,'TA STOCK LOOKUP'!$A$2:$C$202,3,FALSE),\"\")","v":""},"","","","","",""]
["","","","","","",{"$f":"IF(F2001<>\"\",VLOOKUP($F2001,'TA STOCK LOOKUP'!$A$2:$C$202,2,FALSE),\"\")","v":""},{"$f":"IF(G2001<>\"\",VLOOKUP($F2001,'TA STOCK LOOKUP'!$A$2:$C$202,3,FALSE),\"\")","v":""},"","","","","",""]
["","","","","","",{"$f":"IF(F2006<>\"\",VLOOKUP($F2006,'TA STOCK LOOKUP'!$A$2:$C$202,2,FALSE),\"\")","v":""},{"$f":"IF(G2006<>\"\",VLOOKUP($F2006,'TA STOCK LOOKUP'!$A$2:$C$202,3,FALSE),\"\")","v":""},"","","","","",""]
["","","","","","",{"$f":"IF(F2011<>\"\",VLOOKUP($F2011,'TA STOCK LOOKUP'!$A$2:$C$202,2,FALSE),\"\")","v":""},{"$f":"IF(G2011<>\"\",VLOOKUP($F2011,'TA STOCK LOOKUP'!$A$2:$C$202,3,FALSE),\"\")","v":""},"","","","","",""]
["","","","","","",{"$f":"IF(F2012<>\"\",VLOOKUP($F2012,'TA STOCK LOOKUP'!$A$2:$C$202,2,FALSE),\"\")","v":""},{"$f":"IF(G2012<>\"\",VLOOKUP($F2012,'TA STOCK LOOKUP'!$A$2:$C$202,3,FALSE),\"\")","v":""},"","","","","",""]
["","","","","","",{"$f":"IF(F2018<>\"\",VLOOKUP($F2018,'TA STOCK LOOKUP'!$A$2:$C$202,2,FALSE),\"\")","v":""},{"$f":"IF(G2018<>\"\",VLOOKUP($F2018,'TA STOCK LOOKUP'!$A$2:$C$202,3,FALSE),\"\")","v":""},"","","","","",""]
["","","","","","",{"$f":"IF(F2021<>\"\",VLOOKUP($F2021,'TA STOCK LOOKUP'!$A$2:$C$202,2,FALSE),\"\")","v":""},{"$f":"IF(G2021<>\"\",VLOOKUP($F2021,'TA STOCK LOOKUP'!$A$2:$C$202,3,FALSE),\"\")","v":""},"","","","","",""]
["","","","","","",{"$f":"IF(F2026<>\"\",VLOOKUP($F2026,'TA STOCK LOOKUP'!$A$2:$C$202,2,FALSE),\"\")","v":""},{"$f":"IF(G2026<>\"\",VLOOKUP($F2026,'TA STOCK LOOKUP'!$A$2:$C$202,3,FALSE),\"\")","v":""},"","","","","",""]
["","","","","","",{"$f":"IF(F2027<>\"\",VLOOKUP($F2027,'TA STOCK LOOKUP'!$A$2:$C$202,2,FALSE),\"\")","v":""},{"$f":"IF(G2027<>\"\",VLOOKUP($F2027,'TA STOCK LOOKUP'!$A$2:$C$202,3,FALSE),\"\")","v":""},"","","","","",""]
["","","","","","",{"$f":"IF(F2032<>\"\",VLOOKUP($F2032,'TA STOCK LOOKUP'!$A$2:$C$202,2,FALSE),\"\")","v":""},{"$f":"IF(G2032<>\"\",VLOOKUP($F2032,'TA STOCK LOOKUP'!$A$2:$C$202,3,FALSE),\"\")","v":""},"","","","","",""]
["","","","","","",{"$f":"IF(F2036<>\"\",VLOOKUP($F2036,'TA STOCK LOOKUP'!$A$2:$C$202,2,FALSE),\"\")","v":""},{"$f":"IF(G2036<>\"\",VLOOKUP($F2036,'TA STOCK LOOKUP'!$A$2:$C$202,3,FALSE),\"\")","v":""},"","","","","",""]
["","","","","","",{"$f":"IF(F2041<>\"\",VLOOKUP($F2041,'TA STOCK LOOKUP'!$A$2:$C$202,2,FALSE),\"\")","v":""},{"$f":"IF(G2041<>\"\",VLOOKUP($F2041,'TA STOCK LOOKUP'!$A$2:$C$202,3,FALSE),\"\")","v":""},"","","","","",""]
["","","","","","",{"$f":"IF(F2042<>\"\",VLOOKUP($F2042,'TA STOCK LOOKUP'!$A$2:$C$202,2,FALSE),\"\")","v":""},{"$f":"IF(G2042<>\"\",VLOOKUP($F2042,'TA STOCK LOOKUP'!$A$2:$C$202,3,FALSE),\"\")","v":""},"","","","","",""]
["","","","","","",{"$f":"IF(F2048<>\"\",VLOOKUP($F2048,'TA STOCK LOOKUP'!$A$2:$C$202,2,FALSE),\"\")","v":""},{"$f":"IF(G2048<>\"\",VLOOKUP($F2048,'TA STOCK LOOKUP'!$A$2:$C$202,3,FALSE),\"\")","v":""},"","","","","",""]
["","","","","","",{"$f":"IF(F2051<>\"\",VLOOKUP($F2051,'TA STOCK LOOKUP'!$A$2:$C$202,2,FALSE),\"\")","v":""},{"$f":"IF(G2051<>\"\",VLOOKUP($F2051,'TA STOCK LOOKUP'!$A$2:$C$202,3,FALSE),\"\")","v":""},"","","","","",""]
["","","","","","",{"$f":"IF(F2056<>\"\",VLOOKUP($F2056,'TA STOCK LOOKUP'!$A$2:$C$202,2,FALSE),\"\")","v":""},{"$f":"IF(G2056<>\"\",VLOOKUP($F2056,'TA STOCK LOOKUP'!$A$2:$C$202,3,FALSE),\"\")","v":""},"","","","","",""]
["","","","","","",{"$f":"IF(F2057<>\"\",VLOOKUP($F2057,'TA STOCK LOOKUP'!$A$2:$C$202,2,FALSE),\"\")","v":""},{"$f":"IF(G2057<>\"\",VLOOKUP($F2057,'TA STOCK LOOKUP'!$A$2:$C$202,3,FALSE),\"\")","v":""},"","","","","",""]
["","","","","","",{"$f":"IF(F2062<>\"\",VLOOKUP($F2062,'TA STOCK LOOKUP'!$A$2:$C$202,2,FALSE),\"\")","v":""},{"$f":"IF(G2062<>\"\",VLOOKUP($F2062,'TA STOCK LOOKUP'!$A$2:$C$202,3,FALSE),\"\")","v":""},"","","","","",""]
["","","","","","",{"$f":"IF(F2066<>\"\",VLOOKUP($F2066,'TA STOCK LOOKUP'!$A$2:$C$202,2,FALSE),\"\")","v":""},{"$f":"IF(G2066<>\"\",VLOOKUP($F2066,'TA STOCK LOOKUP'!$A$2:$C$202,3,FALSE),\"\")","v":""},"","","","","",""]
["","","","","","",{"$f":"IF(F2071<>\"\",VLOOKUP($F2071,'TA STOCK LOOKUP'!$A$2:$C$202,2,FALSE),\"\")","v":""},{"$f":"IF(G2071<>\"\",VLOOKUP($F2071,'TA STOCK LOOKUP'!$A$2:$C$202,3,FALSE),\"\")","v":""},"","","","","",""]
["","","","","","",{"$f":"IF(F2072<>\"\",VLOOKUP($F2072,'TA STOCK LOOKUP'!$A$2:$C$202,2,FALSE),\"\")","v":""},{"$f":"IF(G2072<>\"\",VLOOKUP($F2072,'TA STOCK LOOKUP'!$A$2:$C$202,3,FALSE),\"\")","v":""},"","","","","",""]
["","","","","","",{"$f":"IF(F2078<>\"\",VLOOKUP($F2078,'TA STOCK LOOKUP'!$A$2:$C$202,2,FALSE),\"\")","v":""},{"$f":"IF(G2078<>\"\",VLOOKUP($F2078,'TA STOCK LOOKUP'!$A$2:$C$202,3,FALSE),\"\")","v":""},"","","","","",""]
["","","","","","",{"$f":"IF(F2081<>\"\",VLOOKUP($F2081,'TA STOCK LOOKUP'!$A$2:$C$202,2,FALSE),\"\")","v":""},{"$f":"IF(G2081<>\"\",VLOOKUP($F2081,'TA STOCK LOOKUP'!$A$2:$C$202,3,FALSE),\"\")","v":""},"","","","","",""]
["","","","","","",{"$f":"IF(F2086<>\"\",VLOOKUP($F2086,'TA STOCK LOOKUP'!$A$2:$C$202,2,FALSE),\"\")","v":""},{"$f":"IF(G2086<>\"\",VLOOKUP($F2086,'TA STOCK LOOKUP'!$A$2:$C$202,3,FALSE),\"\")","v":""},"","","","","",""]
["","","","","","",{"$f":"IF(F2087<>\"\",VLOOKUP($F2087,'TA STOCK LOOKUP'!$A$2:$C$202,2,FALSE),\"\")","v":""},{"$f":"IF(G2087<>\"\",VLOOKUP($F2087,'TA STOCK LOOKUP'!$A$2:$C$202,3,FALSE),\"\")","v":""},"","","","","",""]
["","","","","","",{"$f":"IF(F2092<>\"\",VLOOKUP($F2092,'TA STOCK LOOKUP'!$A$2:$C$202,2,FALSE),\"\")","v":""},{"$f":"IF(G2092<>\"\",VLOOKUP($F2092,'TA STOCK LOOKUP'!$A$2:$C$202,3,FALSE),\"\")","v":""},"","","","","",""]
["","","","","","",{"$f":"IF(F2096<>\"\",VLOOKUP($F2096,'TA STOCK LOOKUP'!$A$2:$C$202,2,FALSE),\"\")","v":""},{"$f":"IF(G2096<>\"\",VLOOKUP($F2096,'TA STOCK LOOKUP'!$A$2:$C$202,3,FALSE),\"\")","v":""},"","","","","",""]
["","","","","","",{"$f":"IF(F2101<>\"\",VLOOKUP($F2101,'TA STOCK LOOKUP'!$A$2:$C$202,2,FALSE),\"\")","v":""},{"$f":"IF(G2101<>\"\",VLOOKUP($F2101,'TA STOCK LOOKUP'!$A$2:$C$202,3,FALSE),\"\")","v":""},"","","","","",""]
["","","","","","",{"$f":"IF(F2102<>\"\",VLOOKUP($F2102,'TA STOCK LOOKUP'!$A$2:$C$202,2,FALSE),\"\")","v":""},{"$f":"IF(G2102<>\"\",VLOOKUP($F2102,'TA STOCK LOOKUP'!$A$2:$C$202,3,FALSE),\"\")","v":""},"","","","","",""]
["","","","","","",{"$f":"IF(F2108<>\"\",VLOOKUP($F2108,'TA STOCK LOOKUP'!$A$2:$C$202,2,FALSE),\"\")","v":""},{"$f":"IF(G2108<>\"\",VLOOKUP($F2108,'TA STOCK LOOKUP'!$A$2:$C$202,3,FALSE),\"\")","v":""},"","","","","",""]
["","","","","","",{"$f":"IF(F2111<>\"\",VLOOKUP($F2111,'TA STOCK LOOKUP'!$A$2:$C$202,2,FALSE),\"\")","v":""},{"$f":"IF(G2111<>\"\",VLOOKUP($F2111,'TA STOCK LOOKUP'!$A$2:$C$202,3,FALSE),\"\")","v":""},"","","","","",""]
["","","","","","",{"$f":"IF(F2116<>\"\",VLOOKUP($F2116,'TA STOCK LOOKUP'!$A$2:$C$202,2,FALSE),\"\")","v":""},{"$f":"IF(G2116<>\"\",VLOOKUP($F2116,'TA STOCK LOOKUP'!$A$2:$C$202,3,FALSE),\"\")","v":""},"","","","","",""]
["","","","","","",{"$f":"IF(F2117<>\"\",VLOOKUP($F2117,'TA STOCK LOOKUP'!$A$2:$C$202,2,FALSE),\"\")","v":""},{"$f":"IF(G2117<>\"\",VLOOKUP($F2117,'TA STOCK LOOKUP'!$A$2:$C$202,3,FALSE),\"\")","v":""},"","","","","",""]
["","","","","","",{"$f":"IF(F2122<>\"\",VLOOKUP($F2122,'TA STOCK LOOKUP'!$A$2:$C$202,2,FALSE),\"\")","v":""},{"$f":"IF(G2122<>\"\",VLOOKUP($F2122,'TA STOCK LOOKUP'!$A$2:$C$202,3,FALSE),\"\")","v":""},"","","","","",""]
["","","","","","",{"$f":"IF(F2126<>\"\",VLOOKUP($F2126,'TA STOCK LOOKUP'!$A$2:$C$202,2,FALSE),\"\")","v":""},{"$f":"IF(G2126<>\"\",VLOOKUP($F2126,'TA STOCK LOOKUP'!$A$2:$C$202,3,FALSE),\"\")","v":""},"","","","","",""]
["","","","","","",{"$f":"IF(F2131<>\"\",VLOOKUP($F2131,'TA STOCK LOOKUP'!$A$2:$C$202,2,FALSE),\"\")","v":""},{"$f":"IF(G2131<>\"\",VLOOKUP($F2131,'TA STOCK LOOKUP'!$A$2:$C$202,3,FALSE),\"\")","v":""},"","","","","",""]
["","","","","","",{"$f":"IF(F2132<>\"\",VLOOKUP($F2132,'TA STOCK LOOKUP'!$A$2:$C$202,2,FALSE),\"\")","v":""},{"$f":"IF(G2132<>\"\",VLOOKUP($F2132,'TA STOCK LOOKUP'!$A$2:$C$202,3,FALSE),\"\")","v":""},"","","","","",""]
["","","","","","",{"$f":"IF(F2138<>\"\",VLOOKUP($F2138,'TA STOCK LOOKUP'!$A$2:$C$202,2,FALSE),\"\")","v":""},{"$f":"IF(G2138<>\"\",VLOOKUP($F2138,'TA STOCK LOOKUP'!$A$2:$C$202,3,FALSE),\"\")","v":""},"","","","","",""]
["","","","","","",{"$f":"IF(F2141<>\"\",VLOOKUP($F2141,'TA STOCK LOOKUP'!$A$2:$C$202,2,FALSE),\"\")","v":""},{"$f":"IF(G2141<>\"\",VLOOKUP($F2141,'TA STOCK LOOKUP'!$A$2:$C$202,3,FALSE),\"\")","v":""},"","","","","",""]
["","","","","","",{"$f":"IF(F2146<>\"\",VLOOKUP($F2146,'TA STOCK LOOKUP'!$A$2:$C$202,2,FALSE),\"\")","v":""},{"$f":"IF(G2146<>\"\",VLOOKUP($F2146,'TA STOCK LOOKUP'!$A$2:$C$202,3,FALSE),\"\")","v":""},"","","","","",""]
["","","","","","",{"$f":"IF(F2147<>\"\",VLOOKUP($F2147,'TA STOCK LOOKUP'!$A$2:$C$202,2,FALSE),\"\")","v":""},{"$f":"IF(G2147<>\"\",VLOOKUP($F2147,'TA STOCK LOOKUP'!$A$2:$C$202,3,FALSE),\"\")","v":""},"","","","","",""]
["","","","","","",{"$f":"IF(F2152<>\"\",VLOOKUP($F2152,'TA STOCK LOOKUP'!$A$2:$C$202,2,FALSE),\"\")","v":""},{"$f":"IF(G2152<>\"\",VLOOKUP($F2152,'TA STOCK LOOKUP'!$A$2:$C$202,3,FALSE),\"\")","v":""},"","","","","",""]
["","","","","","",{"$f":"IF(F2156<>\"\",VLOOKUP($F2156,'TA STOCK LOOKUP'!$A$2:$C$202,2,FALSE),\"\")","v":""},{"$f":"IF(G2156<>\"\",VLOOKUP($F2156,'TA STOCK LOOKUP'!$A$2:$C$202,3,FALSE),\"\")","v":""},"","","","","",""]
["","","","","","",{"$f":"IF(F2161<>\"\",VLOOKUP($F2161,'TA STOCK LOOKUP'!$A$2:$C$202,2,FALSE),\"\")","v":""},{"$f":"IF(G2161<>\"\",VLOOKUP($F2161,'TA STOCK LOOKUP'!$A$2:$C$202,3,FALSE),\"\")","v":""},"","","","","",""]
["","","","","","",{"$f":"IF(F2162<>\"\",VLOOKUP($F2162,'TA STOCK LOOKUP'!$A$2:$C$202,2,FALSE),\"\")","v":""},{"$f":"IF(G2162<>\"\",VLOOKUP($F2162,'TA STOCK LOOKUP'!$A$2:$C$202,3,FALSE),\"\")","v":""},"","","","","",""]
["","","","","","",{"$f":"IF(F2168<>\"\",VLOOKUP($F2168,'TA STOCK LOOKUP'!$A$2:$C$202,2,FALSE),\"\")","v":""},{"$f":"IF(G2168<>\"\",VLOOKUP($F2168,'TA STOCK LOOKUP'!$A$2:$C$202,3,FALSE),\"\")","v":""},"","","","","",""]
["","","","","","",{"$f":"IF(F2171<>\"\",VLOOKUP($F2171,'TA STOCK LOOKUP'!$A$2:$C$202,2,FALSE),\"\")","v":""},{"$f":"IF(G2171<>\"\",VLOOKUP($F2171,'TA STOCK LOOKUP'!$A$2:$C$202,3,FALSE),\"\")","v":""},"","","","","",""]
["","","","","","",{"$f":"IF(F2176<>\"\",VLOOKUP($F2176,'TA STOCK LOOKUP'!$A$2:$C$202,2,FALSE),\"\")","v":""},{"$f":"IF(G2176<>\"\",VLOOKUP($F2176,'TA STOCK LOOKUP'!$A$2:$C$202,3,FALSE),\"\")","v":""},"","","","","",""]
["","","","","","",{"$f":"IF(F2177<>\"\",VLOOKUP($F2177,'TA STOCK LOOKUP'!$A$2:$C$202,2,FALSE),\"\")","v":""},{"$f":"IF(G2177<>\"\",VLOOKUP($F2177,'TA STOCK LOOKUP'!$A$2:$C$202,3,FALSE),\"\")","v":""},"","","","","",""]
["","","","","","",{"$f":"IF(F2182<>\"\",VLOOKUP($F2182,'TA STOCK LOOKUP'!$A$2:$C$202,2,FALSE),\"\")","v":""},{"$f":"IF(G2182<>\"\",VLOOKUP($F2182,'TA STOCK LOOKUP'!$A$2:$C$202,3,FALSE),\"\")","v":""},"","","","","",""]
["","","","","","",{"$f":"IF(F2186<>\"\",VLOOKUP($F2186,'TA STOCK LOOKUP'!$A$2:$C$202,2,FALSE),\"\")","v":""},{"$f":"IF(G2186<>\"\",VLOOKUP($F2186,'TA STOCK LOOKUP'!$A$2:$C$202,3,FALSE),\"\")","v":""},"","","","","",""]
["","","","","","",{"$f":"IF(F2191<>\"\",VLOOKUP($F2191,'TA STOCK LOOKUP'!$A$2:$C$202,2,FALSE),\"\")","v":""},{"$f":"IF(G2191<>\"\",VLOOKUP($F2191,'TA STOCK LOOKUP'!$A$2:$C$202,3,FALSE),\"\")","v":""},"","","","","",""]
["","","","","","",{"$f":"IF(F2192<>\"\",VLOOKUP($F2192,'TA STOCK LOOKUP'!$A$2:$C$202,2,FALSE),\"\")","v":""},{"$f":"IF(G2192<>\"\",VLOOKUP($F2192,'TA STOCK LOOKUP'!$A$2:$C$202,3,FALSE),\"\")","v":""},"","","","","",""]
["","","","","","",{"$f":"IF(F2198<>\"\",VLOOKUP($F2198,'TA STOCK LOOKUP'!$A$2:$C$202,2,FALSE),\"\")","v":""},{"$f":"IF(G2198<>\"\",VLOOKUP($F2198,'TA STOCK LOOKUP'!$A$2:$C$202,3,FALSE),\"\")","v":""},"","","","","",""]
["","","","","","",{"$f":"IF(F2201<>\"\",VLOOKUP($F2201,'TA STOCK LOOKUP'!$A$2:$C$202,2,FALSE),\"\")","v":""},{"$f":"IF(G2201<>\"\",VLOOKUP($F2201,'TA STOCK LOOKUP'!$A$2:$C$202,3,FALSE),\"\")","v":""},"","","","","",""]
["","","","","","",{"$f":"IF(F2206<>\"\",VLOOKUP($F2206,'TA STOCK LOOKUP'!$A$2:$C$202,2,FALSE),\"\")","v":""},{"$f":"IF(G2206<>\"\",VLOOKUP($F2206,'TA STOCK LOOKUP'!$A$2:$C$202,3,FALSE),\"\")","v":""},"","","","","",""]
["","","","","","",{"$f":"IF(F2207<>\"\",VLOOKUP($F2207,'TA STOCK LOOKUP'!$A$2:$C$202,2,FALSE),\"\")","v":""},{"$f":"IF(G2207<>\"\",VLOOKUP($F2207,'TA STOCK LOOKUP'!$A$2:$C$202,3,FALSE),\"\")","v":""},"","","","","",""]
["","","","","","",{"$f":"IF(F2212<>\"\",VLOOKUP($F2212,'TA STOCK LOOKUP'!$A$2:$C$202,2,FALSE),\"\")","v":""},{"$f":"IF(G2212<>\"\",VLOOKUP($F2212,'TA STOCK LOOKUP'!$A$2:$C$202,3,FALSE),\"\")","v":""},"","","","","",""]
["","","","","","",{"$f":"IF(F2216<>\"\",VLOOKUP($F2216,'TA STOCK LOOKUP'!$A$2:$C$202,2,FALSE),\"\")","v":""},{"$f":"IF(G2216<>\"\",VLOOKUP($F2216,'TA STOCK LOOKUP'!$A$2:$C$202,3,FALSE),\"\")","v":""},"","","","","",""]
["","","","","","",{"$f":"IF(F2221<>\"\",VLOOKUP($F2221,'TA STOCK LOOKUP'!$A$2:$C$202,2,FALSE),\"\")","v":""},{"$f":"IF(G2221<>\"\",VLOOKUP($F2221,'TA STOCK LOOKUP'!$A$2:$C$202,3,FALSE),\"\")","v":""},"","","","","",""]
["","","","","","",{"$f":"IF(F2222<>\"\",VLOOKUP($F2222,'TA STOCK LOOKUP'!$A$2:$C$202,2,FALSE),\"\")","v":""},{"$f":"IF(G2222<>\"\",VLOOKUP($F2222,'TA STOCK LOOKUP'!$A$2:$C$202,3,FALSE),\"\")","v":""},"","","","","",""]
["","","","","","",{"$f":"IF(F2228<>\"\",VLOOKUP($F2228,'TA STOCK LOOKUP'!$A$2:$C$202,2,FALSE),\"\")","v":""},{"$f":"IF(G2228<>\"\",VLOOKUP($F2228,'TA STOCK LOOKUP'!$A$2:$C$202,3,FALSE),\"\")","v":""},"","","","","",""]
["","","","","","",{"$f":"IF(F2231<>\"\",VLOOKUP($F2231,'TA STOCK LOOKUP'!$A$2:$C$202,2,FALSE),\"\")","v":""},{"$f":"IF(G2231<>\"\",VLOOKUP($F2231,'TA STOCK LOOKUP'!$A$2:$C$202,3,FALSE),\"\")","v":""},"","","","","",""]
["","","","","","",{"$f":"IF(F2236<>\"\",VLOOKUP($F2236,'TA STOCK LOOKUP'!$A$2:$C$202,2,FALSE),\"\")","v":""},{"$f":"IF(G2236<>\"\",VLOOKUP($F2236,'TA STOCK LOOKUP'!$A$2:$C$202,3,FALSE),\"\")","v":""},"","","","","",""]
["","","","","","",{"$f":"IF(F2237<>\"\",VLOOKUP($F2237,'TA STOCK LOOKUP'!$A$2:$C$202,2,FALSE),\"\")","v":""},{"$f":"IF(G2237<>\"\",VLOOKUP($F2237,'TA STOCK LOOKUP'!$A$2:$C$202,3,FALSE),\"\")","v":""},"","","","","",""]
["","","","","","",{"$f":"IF(F2242<>\"\",VLOOKUP($F2242,'TA STOCK LOOKUP'!$A$2:$C$202,2,FALSE),\"\")","v":""},{"$f":"IF(G2242<>\"\",VLOOKUP($F2242,'TA STOCK LOOKUP'!$A$2:$C$202,3,FALSE),\"\")","v":""},"","","","","",""]
["","","","","","",{"$f":"IF(F2246<>\"\",VLOOKUP($F2246,'TA STOCK LOOKUP'!$A$2:$C$202,2,FALSE),\"\")","v":""},{"$f":"IF(G2246<>\"\",VLOOKUP($F2246,'TA STOCK LOOKUP'!$A$2:$C$202,3,FALSE),\"\")","v":""},"","","","","",""]
["","","","","","",{"$f":"IF(F2251<>\"\",VLOOKUP($F2251,'TA STOCK LOOKUP'!$A$2:$C$202,2,FALSE),\"\")","v":""},{"$f":"IF(G2251<>\"\",VLOOKUP($F2251,'TA STOCK LOOKUP'!$A$2:$C$202,3,FALSE),\"\")","v":""},"","","","","",""]
["","","","","","",{"$f":"IF(F2252<>\"\",VLOOKUP($F2252,'TA STOCK LOOKUP'!$A$2:$C$202,2,FALSE),\"\")","v":""},{"$f":"IF(G2252<>\"\",VLOOKUP($F2252,'TA STOCK LOOKUP'!$A$2:$C$202,3,FALSE),\"\")","v":""},"","","","","",""]
["","","","","","",{"$f":"IF(F2258<>\"\",VLOOKUP($F2258,'TA STOCK LOOKUP'!$A$2:$C$202,2,FALSE),\"\")","v":""},{"$f":"IF(G2258<>\"\",VLOOKUP($F2258,'TA STOCK LOOKUP'!$A$2:$C$202,3,FALSE),\"\")","v":""},"","","","","",""]
["","","","","","",{"$f":"IF(F2261<>\"\",VLOOKUP($F2261,'TA STOCK LOOKUP'!$A$2:$C$202,2,FALSE),\"\")","v":""},{"$f":"IF(G2261<>\"\",VLOOKUP($F2261,'TA STOCK LOOKUP'!$A$2:$C$202,3,FALSE),\"\")","v":""},"","","","","",""]
["","","","","","",{"$f":"IF(F2266<>\"\",VLOOKUP($F2266,'TA STOCK LOOKUP'!$A$2:$C$202,2,FALSE),\"\")","v":""},{"$f":"IF(G2266<>\"\",VLOOKUP($F2266,'TA STOCK LOOKUP'!$A$2:$C$202,3,FALSE),\"\")","v":""},"","","","","",""]
["","","","","","",{"$f":"IF(F2267<>\"\",VLOOKUP($F2267,'TA STOCK LOOKUP'!$A$2:$C$202,2,FALSE),\"\")","v":""},{"$f":"IF(G2267<>\"\",VLOOKUP($F2267,'TA STOCK LOOKUP'!$A$2:$C$202,3,FALSE),\"\")","v":""},"","","","","",""]
["","","","","","",{"$f":"IF(F2272<>\"\",VLOOKUP($F2272,'TA STOCK LOOKUP'!$A$2:$C$202,2,FALSE),\"\")","v":""},{"$f":"IF(G2272<>\"\",VLOOKUP($F2272,'TA STOCK LOOKUP'!$A$2:$C$202,3,FALSE),\"\")","v":""},"","","","","",""]
["","","","","","",{"$f":"IF(F2276<>\"\",VLOOKUP($F2276,'TA STOCK LOOKUP'!$A$2:$C$202,2,FALSE),\"\")","v":""},{"$f":"IF(G2276<>\"\",VLOOKUP($F2276,'TA STOCK LOOKUP'!$A$2:$C$202,3,FALSE),\"\")","v":""},"","","","","",""]
["","","","","","",{"$f":"IF(F2281<>\"\",VLOOKUP($F2281,'TA STOCK LOOKUP'!$A$2:$C$202,2,FALSE),\"\")","v":""},{"$f":"IF(G2281<>\"\",VLOOKUP($F2281,'TA STOCK LOOKUP'!$A$2:$C$202,3,FALSE),\"\")","v":""},"","","","","",""]
["","","","","","",{"$f":"IF(F2282<>\"\",VLOOKUP($F2282,'TA STOCK LOOKUP'!$A$2:$C$202,2,FALSE),\"\")","v":""},{"$f":"IF(G2282<>\"\",VLOOKUP($F2282,'TA STOCK LOOKUP'!$A$2:$C$202,3,FALSE),\"\")","v":""},"","","","","",""]
["","","","","","",{"$f":"IF(F2286<>\"\",VLOOKUP($F2286,'TA STOCK LOOKUP'!$A$2:$C$202,2,FALSE),\"\")","v":""},{"$f":"IF(G2286<>\"\",VLOOKUP($F2286,'TA STOCK LOOKUP'!$A$2:$C$202,3,FALSE),\"\")","v":""},"","","","","",""]
["","","","","","",{"$f":"IF(F2291<>\"\",VLOOKUP($F2291,'TA STOCK LOOKUP'!$A$2:$C$202,2,FALSE),\"\")","v":""},{"$f":"IF(G2291<>\"\",VLOOKUP($F2291,'TA STOCK LOOKUP'!$A$2:$C$202,3,FALSE),\"\")","v":""},"","","","","",""]
["","","","","","",{"$f":"IF(F2296<>\"\",VLOOKUP($F2296,'TA STOCK LOOKUP'!$A$2:$C$202,2,FALSE),\"\")","v":""},{"$f":"IF(G2296<>\"\",VLOOKUP($F2296,'TA STOCK LOOKUP'!$A$2:$C$202,3,FALSE),\"\")","v":""},"","","","","",""]
["","","","","","",{"$f":"IF(F2297<>\"\",VLOOKUP($F2297,'TA STOCK LOOKUP'!$A$2:$C$202,2,FALSE),\"\")","v":""},{"$f":"IF(G2297<>\"\",VLOOKUP($F2297,'TA STOCK LOOKUP'!$A$2:$C$202,3,FALSE),\"\")","v":""},"","","","","",""]
["","","","","","",{"$f":"IF(F2302<>\"\",VLOOKUP($F2302,'TA STOCK LOOKUP'!$A$2:$C$202,2,FALSE),\"\")","v":""},{"$f":"IF(G2302<>\"\",VLOOKUP($F2302,'TA STOCK LOOKUP'!$A$2:$C$202,3,FALSE),\"\")","v":""},"","","","","",""]
["","","","","","",{"$f":"IF(F2306<>\"\",VLOOKUP($F2306,'TA STOCK LOOKUP'!$A$2:$C$202,2,FALSE),\"\")","v":""},{"$f":"IF(G2306<>\"\",VLOOKUP($F2306,'TA STOCK LOOKUP'!$A$2:$C$202,3,FALSE),\"\")","v":""},"","","","","",""]
["","","","","","",{"$f":"IF(F2311<>\"\",VLOOKUP($F2311,'TA STOCK LOOKUP'!$A$2:$C$202,2,FALSE),\"\")","v":""},{"$f":"IF(G2311<>\"\",VLOOKUP($F2311,'TA STOCK LOOKUP'!$A$2:$C$202,3,FALSE),\"\")","v":""},"","","","","",""]
["","","","","","",{"$f":"IF(F2312<>\"\",VLOOKUP($F2312,'TA STOCK LOOKUP'!$A$2:$C$202,2,FALSE),\"\")","v":""},{"$f":"IF(G2312<>\"\",VLOOKUP($F2312,'TA STOCK LOOKUP'!$A$2:$C$202,3,FALSE),\"\")","v":""},"","","","","",""]
["","","","","","",{"$f":"IF(F2316<>\"\",VLOOKUP($F2316,'TA STOCK LOOKUP'!$A$2:$C$202,2,FALSE),\"\")","v":""},{"$f":"IF(G2316<>\"\",VLOOKUP($F2316,'TA STOCK LOOKUP'!$A$2:$C$202,3,FALSE),\"\")","v":""},"","","","","",""]
["","","","","","",{"$f":"IF(F2321<>\"\",VLOOKUP($F2321,'TA STOCK LOOKUP'!$A$2:$C$202,2,FALSE),\"\")","v":""},{"$f":"IF(G2321<>\"\",VLOOKUP($F2321,'TA STOCK LOOKUP'!$A$2:$C$202,3,FALSE),\"\")","v":""},"","","","","",""]
["","","","","","",{"$f":"IF(F2326<>\"\",VLOOKUP($F2326,'TA STOCK LOOKUP'!$A$2:$C$202,2,FALSE),\"\")","v":""},{"$f":"IF(G2326<>\"\",VLOOKUP($F2326,'TA STOCK LOOKUP'!$A$2:$C$202,3,FALSE),\"\")","v":""},"","","","","",""]
["","","","","","",{"$f":"IF(F2327<>\"\",VLOOKUP($F2327,'TA STOCK LOOKUP'!$A$2:$C$202,2,FALSE),\"\")","v":""},{"$f":"IF(G2327<>\"\",VLOOKUP($F2327,'TA STOCK LOOKUP'!$A$2:$C$202,3,FALSE),\"\")","v":""},"","","","","",""]
["","","","","","",{"$f":"IF(F2332<>\"\",VLOOKUP($F2332,'TA STOCK LOOKUP'!$A$2:$C$202,2,FALSE),\"\")","v":""},{"$f":"IF(G2332<>\"\",VLOOKUP($F2332,'TA STOCK LOOKUP'!$A$2:$C$202,3,FALSE),\"\")","v":""},"","","","","",""]
["","","","","","",{"$f":"IF(F2336<>\"\",VLOOKUP($F2336,'TA STOCK LOOKUP'!$A$2:$C$202,2,FALSE),\"\")","v":""},{"$f":"IF(G2336<>\"\",VLOOKUP($F2336,'TA STOCK LOOKUP'!$A$2:$C$202,3,FALSE),\"\")","v":""},"","","","","",""]
["","","","","","",{"$f":"IF(F2341<>\"\",VLOOKUP($F2341,'TA STOCK LOOKUP'!$A$2:$C$202,2,FALSE),\"\")","v":""},{"$f":"IF(G2341<>\"\",VLOOKUP($F2341,'TA STOCK LOOKUP'!$A$2:$C$202,3,FALSE),\"\")","v":""},"","","","","",""]
["","","","","","",{"$f":"IF(F2342<>\"\",VLOOKUP($F2342,'TA STOCK LOOKUP'!$A$2:$C$202,2,FALSE),\"\")","v":""},{"$f":"IF(G2342<>\"\",VLOOKUP($F2342,'TA STOCK LOOKUP'!$A$2:$C$202,3,FALSE),\"\")","v":""},"","","","","",""]
["","","","","","",{"$f":"IF(F2346<>\"\",VLOOKUP($F2346,'TA STOCK LOOKUP'!$A$2:$C$202,2,FALSE),\"\")","v":""},{"$f":"IF(G2346<>\"\",VLOOKUP($F2346,'TA STOCK LOOKUP'!$A$2:$C$202,3,FALSE),\"\")","v":""},"","","","","",""]
["","","","","","",{"$f":"IF(F2351<>\"\",VLOOKUP($F2351,'TA STOCK LOOKUP'!$A$2:$C$202,2,FALSE),\"\")","v":""},{"$f":"IF(G2351<>\"\",VLOOKUP($F2351,'TA STOCK LOOKUP'!$A$2:$C$202,3,FALSE),\"\")","v":""},"","","","","",""]
["","","","","","",{"$f":"IF(F2356<>\"\",VLOOKUP($F2356,'TA STOCK LOOKUP'!$A$2:$C$202,2,FALSE),\"\")","v":""},{"$f":"IF(G2356<>\"\",VLOOKUP($F2356,'TA STOCK LOOKUP'!$A$2:$C$202,3,FALSE),\"\")","v":""},"","","","","",""]
["","","","","","",{"$f":"IF(F2357<>\"\",VLOOKUP($F2357,'TA STOCK LOOKUP'!$A$2:$C$202,2,FALSE),\"\")","v":""},{"$f":"IF(G2357<>\"\",VLOOKUP($F2357,'TA STOCK LOOKUP'!$A$2:$C$202,3,FALSE),\"\")","v":""},"","","","","",""]
["","","","","","",{"$f":"IF(F2362<>\"\",VLOOKUP($F2362,'TA STOCK LOOKUP'!$A$2:$C$202,2,FALSE),\"\")","v":""},{"$f":"IF(G2362<>\"\",VLOOKUP($F2362,'TA STOCK LOOKUP'!$A$2:$C$202,3,FALSE),\"\")","v":""},"","","","","",""]
["","","","","","",{"$f":"IF(F2366<>\"\",VLOOKUP($F2366,'TA STOCK LOOKUP'!$A$2:$C$202,2,FALSE),\"\")","v":""},{"$f":"IF(G2366<>\"\",VLOOKUP($F2366,'TA STOCK LOOKUP'!$A$2:$C$202,3,FALSE),\"\")","v":""},"","","","","",""]
["","","","","","",{"$f":"IF(F2371<>\"\",VLOOKUP($F2371,'TA STOCK LOOKUP'!$A$2:$C$202,2,FALSE),\"\")","v":""},{"$f":"IF(G2371<>\"\",VLOOKUP($F2371,'TA STOCK LOOKUP'!$A$2:$C$202,3,FALSE),\"\")","v":""},"","","","","",""]
["","","","","","",{"$f":"IF(F2372<>\"\",VLOOKUP($F2372,'TA STOCK LOOKUP'!$A$2:$C$202,2,FALSE),\"\")","v":""},{"$f":"IF(G2372<>\"\",VLOOKUP($F2372,'TA STOCK LOOKUP'!$A$2:$C$202,3,FALSE),\"\")","v":""},"","","","","",""]
["","","","","","",{"$f":"IF(F2376<>\"\",VLOOKUP($F2376,'TA STOCK LOOKUP'!$A$2:$C$202,2,FALSE),\"\")","v":""},{"$f":"IF(G2376<>\"\",VLOOKUP($F2376,'TA STOCK LOOKUP'!$A$2:$C$202,3,FALSE),\"\")","v":""},"","","","","",""]
["","","","","","",{"$f":"IF(F2381<>\"\",VLOOKUP($F2381,'TA STOCK LOOKUP'!$A$2:$C$202,2,FALSE),\"\")","v":""},{"$f":"IF(G2381<>\"\",VLOOKUP($F2381,'TA STOCK LOOKUP'!$A$2:$C$202,3,FALSE),\"\")","v":""},"","","","","",""]
["","","","","","",{"$f":"IF(F2386<>\"\",VLOOKUP($F2386,'TA STOCK LOOKUP'!$A$2:$C$202,2,FALSE),\"\")","v":""},{"$f":"IF(G2386<>\"\",VLOOKUP($F2386,'TA STOCK LOOKUP'!$A$2:$C$202,3,FALSE),\"\")","v":""},"","","","","",""]
["","","","","","",{"$f":"IF(F2387<>\"\",VLOOKUP($F2387,'TA STOCK LOOKUP'!$A$2:$C$202,2,FALSE),\"\")","v":""},{"$f":"IF(G2387<>\"\",VLOOKUP($F2387,'TA STOCK LOOKUP'!$A$2:$C$202,3,FALSE),\"\")","v":""},"","","","","",""]
["","","","","","",{"$f":"IF(F2392<>\"\",VLOOKUP($F2392,'TA STOCK LOOKUP'!$A$2:$C$202,2,FALSE),\"\")","v":""},{"$f":"IF(G2392<>\"\",VLOOKUP($F2392,'TA STOCK LOOKUP'!$A$2:$C$202,3,FALSE),\"\")","v":""},"","","","","",""]
["","","","","","",{"$f":"IF(F2396<>\"\",VLOOKUP($F2396,'TA STOCK LOOKUP'!$A$2:$C$202,2,FALSE),\"\")","v":""},{"$f":"IF(G2396<>\"\",VLOOKUP($F2396,'TA STOCK LOOKUP'!$A$2:$C$202,3,FALSE),\"\")","v":""},"","","","","",""]
["","","","","","",{"$f":"IF(F2401<>\"\",VLOOKUP($F2401,'TA STOCK LOOKUP'!$A$2:$C$202,2,FALSE),\"\")","v":""},{"$f":"IF(G2401<>\"\",VLOOKUP($F2401,'TA STOCK LOOKUP'!$A$2:$C$202,3,FALSE),\"\")","v":""},"","","","","",""]
["","","","","","",{"$f":"IF(F2402<>\"\",VLOOKUP($F2402,'TA STOCK LOOKUP'!$A$2:$C$202,2,FALSE),\"\")","v":""},{"$f":"IF(G2402<>\"\",VLOOKUP($F2402,'TA STOCK LOOKUP'!$A$2:$C$202,3,FALSE),\"\")","v":""},"","","","","",""]
["","","","","","",{"$f":"IF(F2406<>\"\",VLOOKUP($F2406,'TA STOCK LOOKUP'!$A$2:$C$202,2,FALSE),\"\")","v":""},{"$f":"IF(G2406<>\"\",VLOOKUP($F2406,'TA STOCK LOOKUP'!$A$2:$C$202,3,FALSE),\"\")","v":""},"","","","","",""]
["","","","","","",{"$f":"IF(F2411<>\"\",VLOOKUP($F2411,'TA STOCK LOOKUP'!$A$2:$C$202,2,FALSE),\"\")","v":""},{"$f":"IF(G2411<>\"\",VLOOKUP($F2411,'TA STOCK LOOKUP'!$A$2:$C$202,3,FALSE),\"\")","v":""},"","","","","",""]
["","","","","","",{"$f":"IF(F2416<>\"\",VLOOKUP($F2416,'TA STOCK LOOKUP'!$A$2:$C$202,2,FALSE),\"\")","v":""},{"$f":"IF(G2416<>\"\",VLOOKUP($F2416,'TA STOCK LOOKUP'!$A$2:$C$202,3,FALSE),\"\")","v":""},"","","","","",""]
["","","","","","",{"$f":"IF(F2417<>\"\",VLOOKUP($F2417,'TA STOCK LOOKUP'!$A$2:$C$202,2,FALSE),\"\")","v":""},{"$f":"IF(G2417<>\"\",VLOOKUP($F2417,'TA STOCK LOOKUP'!$A$2:$C$202,3,FALSE),\"\")","v":""},"","","","","",""]
["","","","","","",{"$f":"IF(F2422<>\"\",VLOOKUP($F2422,'TA STOCK LOOKUP'!$A$2:$C$202,2,FALSE),\"\")","v":""},{"$f":"IF(G2422<>\"\",VLOOKUP($F2422,'TA STOCK LOOKUP'!$A$2:$C$202,3,FALSE),\"\")","v":""},"","","","","",""]
["","","","","","",{"$f":"IF(F2426<>\"\",VLOOKUP($F2426,'TA STOCK LOOKUP'!$A$2:$C$202,2,FALSE),\"\")","v":""},{"$f":"IF(G2426<>\"\",VLOOKUP($F2426,'TA STOCK LOOKUP'!$A$2:$C$202,3,FALSE),\"\")","v":""},"","","","","",""]
["","","","","","",{"$f":"IF(F2431<>\"\",VLOOKUP($F2431,'TA STOCK LOOKUP'!$A$2:$C$202,2,FALSE),\"\")","v":""},{"$f":"IF(G2431<>\"\",VLOOKUP($F2431,'TA STOCK LOOKUP'!$A$2:$C$202,3,FALSE),\"\")","v":""},"","","","","",""]
["","","","","","",{"$f":"IF(F2432<>\"\",VLOOKUP($F2432,'TA STOCK LOOKUP'!$A$2:$C$202,2,FALSE),\"\")","v":""},{"$f":"IF(G2432<>\"\",VLOOKUP($F2432,'TA STOCK LOOKUP'!$A$2:$C$202,3,FALSE),\"\")","v":""},"","","","","",""]
["","","","","","",{"$f":"IF(F2436<>\"\",VLOOKUP($F2436,'TA STOCK LOOKUP'!$A$2:$C$202,2,FALSE),\"\")","v":""},{"$f":"IF(G2436<>\"\",VLOOKUP($F2436,'TA STOCK LOOKUP'!$A$2:$C$202,3,FALSE),\"\")","v":""},"","","","","",""]
["","","","","","",{"$f":"IF(F2441<>\"\",VLOOKUP($F2441,'TA STOCK LOOKUP'!$A$2:$C$202,2,FALSE),\"\")","v":""},{"$f":"IF(G2441<>\"\",VLOOKUP($F2441,'TA STOCK LOOKUP'!$A$2:$C$202,3,FALSE),\"\")","v":""},"","","","","",""]
["","","","","","",{"$f":"IF(F2446<>\"\",VLOOKUP($F2446,'TA STOCK LOOKUP'!$A$2:$C$202,2,FALSE),\"\")","v":""},{"$f":"IF(G2446<>\"\",VLOOKUP($F2446,'TA STOCK LOOKUP'!$A$2:$C$202,3,FALSE),\"\")","v":""},"","","","","",""]
["","","","","","",{"$f":"IF(F2447<>\"\",VLOOKUP($F2447,'TA STOCK LOOKUP'!$A$2:$C$202,2,FALSE),\"\")","v":""},{"$f":"IF(G2447<>\"\",VLOOKUP($F2447,'TA STOCK LOOKUP'!$A$2:$C$202,3,FALSE),\"\")","v":""},"","","","","",""]
["","","","","","",{"$f":"IF(F2452<>\"\",VLOOKUP($F2452,'TA STOCK LOOKUP'!$A$2:$C$202,2,FALSE),\"\")","v":""},{"$f":"IF(G2452<>\"\",VLOOKUP($F2452,'TA STOCK LOOKUP'!$A$2:$C$202,3,FALSE),\"\")","v":""},"","","","","",""]
["","","","","","",{"$f":"IF(F2456<>\"\",VLOOKUP($F2456,'TA STOCK LOOKUP'!$A$2:$C$202,2,FALSE),\"\")","v":""},{"$f":"IF(G2456<>\"\",VLOOKUP($F2456,'TA STOCK LOOKUP'!$A$2:$C$202,3,FALSE),\"\")","v":""},"","","","","",""]
["","","","","","",{"$f":"IF(F2461<>\"\",VLOOKUP($F2461,'TA STOCK LOOKUP'!$A$2:$C$202,2,FALSE),\"\")","v":""},{"$f":"IF(G2461<>\"\",VLOOKUP($F2461,'TA STOCK LOOKUP'!$A$2:$C$202,3,FALSE),\"\")","v":""},"","","","","",""]
["","","","","","",{"$f":"IF(F2462<>\"\",VLOOKUP($F2462,'TA STOCK LOOKUP'!$A$2:$C$202,2,FALSE),\"\")","v":""},{"$f":"IF(G2462<>\"\",VLOOKUP($F2462,'TA STOCK LOOKUP'!$A$2:$C$202,3,FALSE),\"\")","v":""},"","","","","",""]
["","","","","","",{"$f":"IF(F2466<>\"\",VLOOKUP($F2466,'TA STOCK LOOKUP'!$A$2:$C$202,2,FALSE),\"\")","v":""},{"$f":"IF(G2466<>\"\",VLOOKUP($F2466,'TA STOCK LOOKUP'!$A$2:$C$202,3,FALSE),\"\")","v":""},"","","","","",""]
["","","","","","",{"$f":"IF(F2471<>\"\",VLOOKUP($F2471,'TA STOCK LOOKUP'!$A$2:$C$202,2,FALSE),\"\")","v":""},{"$f":"IF(G2471<>\"\",VLOOKUP($F2471,'TA STOCK LOOKUP'!$A$2:$C$202,3,FALSE),\"\")","v":""},"","","","","",""]
["","","","","","",{"$f":"IF(F2476<>\"\",VLOOKUP($F2476,'TA STOCK LOOKUP'!$A$2:$C$202,2,FALSE),\"\")","v":""},{"$f":"IF(G2476<>\"\",VLOOKUP($F2476,'TA STOCK LOOKUP'!$A$2:$C$202,3,FALSE),\"\")","v":""},"","","","","",""]
["","","","","","",{"$f":"IF(F2477<>\"\",VLOOKUP($F2477,'TA STOCK LOOKUP'!$A$2:$C$202,2,FALSE),\"\")","v":""},{"$f":"IF(G2477<>\"\",VLOOKUP($F2477,'TA STOCK LOOKUP'!$A$2:$C$202,3,FALSE),\"\")","v":""},"","","","","",""]
["","","","","","",{"$f":"IF(F2482<>\"\",VLOOKUP($F2482,'TA STOCK LOOKUP'!$A$2:$C$202,2,FALSE),\"\")","v":""},{"$f":"IF(G2482<>\"\",VLOOKUP($F2482,'TA STOCK LOOKUP'!$A$2:$C$202,3,FALSE),\"\")","v":""},"","","","","",""]
["","","","","","",{"$f":"IF(F2486<>\"\",VLOOKUP($F2486,'TA STOCK LOOKUP'!$A$2:$C$202,2,FALSE),\"\")","v":""},{"$f":"IF(G2486<>\"\",VLOOKUP($F2486,'TA STOCK LOOKUP'!$A$2:$C$202,3,FALSE),\"\")","v":""},"","","","","",""]
["","","","","","",{"$f":"IF(F2491<>\"\",VLOOKUP($F2491,'TA STOCK LOOKUP'!$A$2:$C$202,2,FALSE),\"\")","v":""},{"$f":"IF(G2491<>\"\",VLOOKUP($F2491,'TA STOCK LOOKUP'!$A$2:$C$202,3,FALSE),\"\")","v":""},"","","","","",""]
["","","","","","",{"$f":"IF(F2492<>\"\",VLOOKUP($F2492,'TA STOCK LOOKUP'!$A$2:$C$202,2,FALSE),\"\")","v":""},{"$f":"IF(G2492<>\"\",VLOOKUP($F2492,'TA STOCK LOOKUP'!$A$2:$C$202,3,FALSE),\"\")","v":""},"","","","","",""]
["","","","","","",{"$f":"IF(F2496<>\"\",VLOOKUP($F2496,'TA STOCK LOOKUP'!$A$2:$C$202,2,FALSE),\"\")","v":""},{"$f":"IF(G2496<>\"\",VLOOKUP($F2496,'TA STOCK LOOKUP'!$A$2:$C$202,3,FALSE),\"\")","v":""},"","","","","",""]
["","","","","","",{"$f":"IF(F2501<>\"\",VLOOKUP($F2501,'TA STOCK LOOKUP'!$A$2:$C$202,2,FALSE),\"\")","v":""},{"$f":"IF(G2501<>\"\",VLOOKUP($F2501,'TA STOCK LOOKUP'!$A$2:$C$202,3,FALSE),\"\")","v":""},"","","","","",""]
["","","","","","",{"$f":"IF(F2506<>\"\",VLOOKUP($F2506,'TA STOCK LOOKUP'!$A$2:$C$202,2,FALSE),\"\")","v":""},{"$f":"IF(G2506<>\"\",VLOOKUP($F2506,'TA STOCK LOOKUP'!$A$2:$C$202,3,FALSE),\"\")","v":""},"","","","","",""]
["","","","","","",{"$f":"IF(F2507<>\"\",VLOOKUP($F2507,'TA STOCK LOOKUP'!$A$2:$C$202,2,FALSE),\"\")","v":""},{"$f":"IF(G2507<>\"\",VLOOKUP($F2507,'TA STOCK LOOKUP'!$A$2:$C$202,3,FALSE),\"\")","v":""},"","","","","",""]
["","","","","","",{"$f":"IF(F2512<>\"\",VLOOKUP($F2512,'TA STOCK LOOKUP'!$A$2:$C$202,2,FALSE),\"\")","v":""},{"$f":"IF(G2512<>\"\",VLOOKUP($F2512,'TA STOCK LOOKUP'!$A$2:$C$202,3,FALSE),\"\")","v":""},"","","","","",""]
["","","","","","",{"$f":"IF(F2516<>\"\",VLOOKUP($F2516,'TA STOCK LOOKUP'!$A$2:$C$202,2,FALSE),\"\")","v":""},{"$f":"IF(G2516<>\"\",VLOOKUP($F2516,'TA STOCK LOOKUP'!$A$2:$C$202,3,FALSE),\"\")","v":""},"","","","","",""]
["","","","","","",{"$f":"IF(F2521<>\"\",VLOOKUP($F2521,'TA STOCK LOOKUP'!$A$2:$C$202,2,FALSE),\"\")","v":""},{"$f":"IF(G2521<>\"\",VLOOKUP($F2521,'TA STOCK LOOKUP'!$A$2:$C$202,3,FALSE),\"\")","v":""},"","","","","",""]
["","","","","","",{"$f":"IF(F2522<>\"\",VLOOKUP($F2522,'TA STOCK LOOKUP'!$A$2:$C$202,2,FALSE),\"\")","v":""},{"$f":"IF(G2522<>\"\",VLOOKUP($F2522,'TA STOCK LOOKUP'!$A$2:$C$202,3,FALSE),\"\")","v":""},"","","","","",""]
["","","","","","",{"$f":"IF(F2526<>\"\",VLOOKUP($F2526,'TA STOCK LOOKUP'!$A$2:$C$202,2,FALSE),\"\")","v":""},{"$f":"IF(G2526<>\"\",VLOOKUP($F2526,'TA STOCK LOOKUP'!$A$2:$C$202,3,FALSE),\"\")","v":""},"","","","","",""]
["","","","","","",{"$f":"IF(F2531<>\"\",VLOOKUP($F2531,'TA STOCK LOOKUP'!$A$2:$C$202,2,FALSE),\"\")","v":""},{"$f":"IF(G2531<>\"\",VLOOKUP($F2531,'TA STOCK LOOKUP'!$A$2:$C$202,3,FALSE),\"\")","v":""},"","","","","",""]
["","","","","","",{"$f":"IF(F2536<>\"\",VLOOKUP($F2536,'TA STOCK LOOKUP'!$A$2:$C$202,2,FALSE),\"\")","v":""},{"$f":"IF(G2536<>\"\",VLOOKUP($F2536,'TA STOCK LOOKUP'!$A$2:$C$202,3,FALSE),\"\")","v":""},"","","","","",""]
["","","","","","",{"$f":"IF(F2537<>\"\",VLOOKUP($F2537,'TA STOCK LOOKUP'!$A$2:$C$202,2,FALSE),\"\")","v":""},{"$f":"IF(G2537<>\"\",VLOOKUP($F2537,'TA STOCK LOOKUP'!$A$2:$C$202,3,FALSE),\"\")","v":""},"","","","","",""]
["","","","","","",{"$f":"IF(F2543<>\"\",VLOOKUP($F2543,'TA STOCK LOOKUP'!$A$2:$C$202,2,FALSE),\"\")","v":""},{"$f":"IF(G2543<>\"\",VLOOKUP($F2543,'TA STOCK LOOKUP'!$A$2:$C$202,3,FALSE),\"\")","v":""},"","","","","",""]
["","","","","","",{"$f":"IF(F2546<>\"\",VLOOKUP($F2546,'TA STOCK LOOKUP'!$A$2:$C$202,2,FALSE),\"\")","v":""},{"$f":"IF(G2546<>\"\",VLOOKUP($F2546,'TA STOCK LOOKUP'!$A$2:$C$202,3,FALSE),\"\")","v":""},"","","","","",""]
["","","","","","",{"$f":"IF(F2551<>\"\",VLOOKUP($F2551,'TA STOCK LOOKUP'!$A$2:$C$202,2,FALSE),\"\")","v":""},{"$f":"IF(G2551<>\"\",VLOOKUP($F2551,'TA STOCK LOOKUP'!$A$2:$C$202,3,FALSE),\"\")","v":""},"","","","","",""]
["","","","","","",{"$f":"IF(F2552<>\"\",VLOOKUP($F2552,'TA STOCK LOOKUP'!$A$2:$C$202,2,FALSE),\"\")","v":""},{"$f":"IF(G2552<>\"\",VLOOKUP($F2552,'TA STOCK LOOKUP'!$A$2:$C$202,3,FALSE),\"\")","v":""},"","","","","",""]
["","","","","","",{"$f":"IF(F2556<>\"\",VLOOKUP($F2556,'TA STOCK LOOKUP'!$A$2:$C$202,2,FALSE),\"\")","v":""},{"$f":"IF(G2556<>\"\",VLOOKUP($F2556,'TA STOCK LOOKUP'!$A$2:$C$202,3,FALSE),\"\")","v":""},"","","","","",""]
["","","","","","",{"$f":"IF(F2561<>\"\",VLOOKUP($F2561,'TA STOCK LOOKUP'!$A$2:$C$202,2,FALSE),\"\")","v":""},{"$f":"IF(G2561<>\"\",VLOOKUP($F2561,'TA STOCK LOOKUP'!$A$2:$C$202,3,FALSE),\"\")","v":""},"","","","","",""]
["","","","","","",{"$f":"IF(F2566<>\"\",VLOOKUP($F2566,'TA STOCK LOOKUP'!$A$2:$C$202,2,FALSE),\"\")","v":""},{"$f":"IF(G2566<>\"\",VLOOKUP($F2566,'TA STOCK LOOKUP'!$A$2:$C$202,3,FALSE),\"\")","v":""},"","","","","",""]
["","","","","","",{"$f":"IF(F2567<>\"\",VLOOKUP($F2567,'TA STOCK LOOKUP'!$A$2:$C$202,2,FALSE),\"\")","v":""},{"$f":"IF(G2567<>\"\",VLOOKUP($F2567,'TA STOCK LOOKUP'!$A$2:$C$202,3,FALSE),\"\")","v":""},"","","","","",""]
["","","","","","",{"$f":"IF(F2573<>\"\",VLOOKUP($F2573,'TA STOCK LOOKUP'!$A$2:$C$202,2,FALSE),\"\")","v":""},{"$f":"IF(G2573<>\"\",VLOOKUP($F2573,'TA STOCK LOOKUP'!$A$2:$C$202,3,FALSE),\"\")","v":""},"","","","","",""]
["","","","","","",{"$f":"IF(F2576<>\"\",VLOOKUP($F2576,'TA STOCK LOOKUP'!$A$2:$C$202,2,FALSE),\"\")","v":""},{"$f":"IF(G2576<>\"\",VLOOKUP($F2576,'TA STOCK LOOKUP'!$A$2:$C$202,3,FALSE),\"\")","v":""},"","","","","",""]
["","","","","","",{"$f":"IF(F2581<>\"\",VLOOKUP($F2581,'TA STOCK LOOKUP'!$A$2:$C$202,2,FALSE),\"\")","v":""},{"$f":"IF(G2581<>\"\",VLOOKUP($F2581,'TA STOCK LOOKUP'!$A$2:$C$202,3,FALSE),\"\")","v":""},"","","","","",""]
["","","","","","",{"$f":"IF(F2582<>\"\",VLOOKUP($F2582,'TA STOCK LOOKUP'!$A$2:$C$202,2,FALSE),\"\")","v":""},{"$f":"IF(G2582<>\"\",VLOOKUP($F2582,'TA STOCK LOOKUP'!$A$2:$C$202,3,FALSE),\"\")","v":""},"","","","","",""]
["","","","","","",{"$f":"IF(F2586<>\"\",VLOOKUP($F2586,'TA STOCK LOOKUP'!$A$2:$C$202,2,FALSE),\"\")","v":""},{"$f":"IF(G2586<>\"\",VLOOKUP($F2586,'TA STOCK LOOKUP'!$A$2:$C$202,3,FALSE),\"\")","v":""},"","","","","",""]
["","","","","","",{"$f":"IF(F2591<>\"\",VLOOKUP($F2591,'TA STOCK LOOKUP'!$A$2:$C$202,2,FALSE),\"\")","v":""},{"$f":"IF(G2591<>\"\",VLOOKUP($F2591,'TA STOCK LOOKUP'!$A$2:$C$202,3,FALSE),\"\")","v":""},"","","","","",""]
["","","","","","",{"$f":"IF(F2596<>\"\",VLOOKUP($F2596,'TA STOCK LOOKUP'!$A$2:$C$202,2,FALSE),\"\")","v":""},{"$f":"IF(G2596<>\"\",VLOOKUP($F2596,'TA STOCK LOOKUP'!$A$2:$C$202,3,FALSE),\"\")","v":""},"","","","","",""]
["","","","","","",{"$f":"IF(F2597<>\"\",VLOOKUP($F2597,'TA STOCK LOOKUP'!$A$2:$C$202,2,FALSE),\"\")","v":""},{"$f":"IF(G2597<>\"\",VLOOKUP($F2597,'TA STOCK LOOKUP'!$A$2:$C$202,3,FALSE),\"\")","v":""},"","","","","",""]
["","","","","","",{"$f":"IF(F2603<>\"\",VLOOKUP($F2603,'TA STOCK LOOKUP'!$A$2:$C$202,2,FALSE),\"\")","v":""},{"$f":"IF(G2603<>\"\",VLOOKUP($F2603,'TA STOCK LOOKUP'!$A$2:$C$202,3,FALSE),\"\")","v":""},"","","","","",""]
["","","","","","",{"$f":"IF(F2606<>\"\",VLOOKUP($F2606,'TA STOCK LOOKUP'!$A$2:$C$202,2,FALSE),\"\")","v":""},{"$f":"IF(G2606<>\"\",VLOOKUP($F2606,'TA STOCK LOOKUP'!$A$2:$C$202,3,FALSE),\"\")","v":""},"","","","","",""]
["","","","","","",{"$f":"IF(F2611<>\"\",VLOOKUP($F2611,'TA STOCK LOOKUP'!$A$2:$C$202,2,FALSE),\"\")","v":""},{"$f":"IF(G2611<>\"\",VLOOKUP($F2611,'TA STOCK LOOKUP'!$A$2:$C$202,3,FALSE),\"\")","v":""},"","","","","",""]
["","","","","","",{"$f":"IF(F2612<>\"\",VLOOKUP($F2612,'TA STOCK LOOKUP'!$A$2:$C$202,2,FALSE),\"\")","v":""},{"$f":"IF(G2612<>\"\",VLOOKUP($F2612,'TA STOCK LOOKUP'!$A$2:$C$202,3,FALSE),\"\")","v":""},"","","","","",""]
["","","","","","",{"$f":"IF(F2616<>\"\",VLOOKUP($F2616,'TA STOCK LOOKUP'!$A$2:$C$202,2,FALSE),\"\")","v":""},{"$f":"IF(G2616<>\"\",VLOOKUP($F2616,'TA STOCK LOOKUP'!$A$2:$C$202,3,FALSE),\"\")","v":""},"","","","","",""]
["","","","","","",{"$f":"IF(F2621<>\"\",VLOOKUP($F2621,'TA STOCK LOOKUP'!$A$2:$C$202,2,FALSE),\"\")","v":""},{"$f":"IF(G2621<>\"\",VLOOKUP($F2621,'TA STOCK LOOKUP'!$A$2:$C$202,3,FALSE),\"\")","v":""},"","","","","",""]
["","","","","","",{"$f":"IF(F2626<>\"\",VLOOKUP($F2626,'TA STOCK LOOKUP'!$A$2:$C$202,2,FALSE),\"\")","v":""},{"$f":"IF(G2626<>\"\",VLOOKUP($F2626,'TA STOCK LOOKUP'!$A$2:$C$202,3,FALSE),\"\")","v":""},"","","","","",""]
["","","","","","",{"$f":"IF(F2627<>\"\",VLOOKUP($F2627,'TA STOCK LOOKUP'!$A$2:$C$202,2,FALSE),\"\")","v":""},{"$f":"IF(G2627<>\"\",VLOOKUP($F2627,'TA STOCK LOOKUP'!$A$2:$C$202,3,FALSE),\"\")","v":""},"","","","","",""]
["","","","","","",{"$f":"IF(F2633<>\"\",VLOOKUP($F2633,'TA STOCK LOOKUP'!$A$2:$C$202,2,FALSE),\"\")","v":""},{"$f":"IF(G2633<>\"\",VLOOKUP($F2633,'TA STOCK LOOKUP'!$A$2:$C$202,3,FALSE),\"\")","v":""},"","","","","",""]
["","","","","","",{"$f":"IF(F2636<>\"\",VLOOKUP($F2636,'TA STOCK LOOKUP'!$A$2:$C$202,2,FALSE),\"\")","v":""},{"$f":"IF(G2636<>\"\",VLOOKUP($F2636,'TA STOCK LOOKUP'!$A$2:$C$202,3,FALSE),\"\")","v":""},"","","","","",""]
["","","","","","",{"$f":"IF(F2641<>\"\",VLOOKUP($F2641,'TA STOCK LOOKUP'!$A$2:$C$202,2,FALSE),\"\")","v":""},{"$f":"IF(G2641<>\"\",VLOOKUP($F2641,'TA STOCK LOOKUP'!$A$2:$C$202,3,FALSE),\"\")","v":""},"","","","","",""]
["","","","","","",{"$f":"IF(F2642<>\"\",VLOOKUP($F2642,'TA STOCK LOOKUP'!$A$2:$C$202,2,FALSE),\"\")","v":""},{"$f":"IF(G2642<>\"\",VLOOKUP($F2642,'TA STOCK LOOKUP'!$A$2:$C$202,3,FALSE),\"\")","v":""},"","","","","",""]
["","","","","","",{"$f":"IF(F2646<>\"\",VLOOKUP($F2646,'TA STOCK LOOKUP'!$A$2:$C$202,2,FALSE),\"\")","v":""},{"$f":"IF(G2646<>\"\",VLOOKUP($F2646,'TA STOCK LOOKUP'!$A$2:$C$202,3,FALSE),\"\")","v":""},"","","","","",""]
["","","","","","",{"$f":"IF(F2651<>\"\",VLOOKUP($F2651,'TA STOCK LOOKUP'!$A$2:$C$202,2,FALSE),\"\")","v":""},{"$f":"IF(G2651<>\"\",VLOOKUP($F2651,'TA STOCK LOOKUP'!$A$2:$C$202,3,FALSE),\"\")","v":""},"","","","","",""]
["","","","","","",{"$f":"IF(F2656<>\"\",VLOOKUP($F2656,'TA STOCK LOOKUP'!$A$2:$C$202,2,FALSE),\"\")","v":""},{"$f":"IF(G2656<>\"\",VLOOKUP($F2656,'TA STOCK LOOKUP'!$A$2:$C$202,3,FALSE),\"\")","v":""},"","","","","",""]
["","","","","","",{"$f":"IF(F2657<>\"\",VLOOKUP($F2657,'TA STOCK LOOKUP'!$A$2:$C$202,2,FALSE),\"\")","v":""},{"$f":"IF(G2657<>\"\",VLOOKUP($F2657,'TA STOCK LOOKUP'!$A$2:$C$202,3,FALSE),\"\")","v":""},"","","","","",""]
["","","","","","",{"$f":"IF(F2663<>\"\",VLOOKUP($F2663,'TA STOCK LOOKUP'!$A$2:$C$202,2,FALSE),\"\")","v":""},{"$f":"IF(G2663<>\"\",VLOOKUP($F2663,'TA STOCK LOOKUP'!$A$2:$C$202,3,FALSE),\"\")","v":""},"","","","","",""]
["","","","","","",{"$f":"IF(F2666<>\"\",VLOOKUP($F2666,'TA STOCK LOOKUP'!$A$2:$C$202,2,FALSE),\"\")","v":""},{"$f":"IF(G2666<>\"\",VLOOKUP($F2666,'TA STOCK LOOKUP'!$A$2:$C$202,3,FALSE),\"\")","v":""},"","","","","",""]
["","","","","","",{"$f":"IF(F2671<>\"\",VLOOKUP($F2671,'TA STOCK LOOKUP'!$A$2:$C$202,2,FALSE),\"\")","v":""},{"$f":"IF(G2671<>\"\",VLOOKUP($F2671,'TA STOCK LOOKUP'!$A$2:$C$202,3,FALSE),\"\")","v":""},"","","","","",""]
["","","","","","",{"$f":"IF(F2672<>\"\",VLOOKUP($F2672,'TA STOCK LOOKUP'!$A$2:$C$202,2,FALSE),\"\")","v":""},{"$f":"IF(G2672<>\"\",VLOOKUP($F2672,'TA STOCK LOOKUP'!$A$2:$C$202,3,FALSE),\"\")","v":""},"","","","","",""]
["","","","","","",{"$f":"IF(F2676<>\"\",VLOOKUP($F2676,'TA STOCK LOOKUP'!$A$2:$C$202,2,FALSE),\"\")","v":""},{"$f":"IF(G2676<>\"\",VLOOKUP($F2676,'TA STOCK LOOKUP'!$A$2:$C$202,3,FALSE),\"\")","v":""},"","","","","",""]
["","","","","","",{"$f":"IF(F2681<>\"\",VLOOKUP($F2681,'TA STOCK LOOKUP'!$A$2:$C$202,2,FALSE),\"\")","v":""},{"$f":"IF(G2681<>\"\",VLOOKUP($F2681,'TA STOCK LOOKUP'!$A$2:$C$202,3,FALSE),\"\")","v":""},"","","","","",""]
["","","","","","",{"$f":"IF(F2686<>\"\",VLOOKUP($F2686,'TA STOCK LOOKUP'!$A$2:$C$202,2,FALSE),\"\")","v":""},{"$f":"IF(G2686<>\"\",VLOOKUP($F2686,'TA STOCK LOOKUP'!$A$2:$C$202,3,FALSE),\"\")","v":""},"","","","","",""]
["","","","","","",{"$f":"IF(F2687<>\"\",VLOOKUP($F2687,'TA STOCK LOOKUP'!$A$2:$C$202,2,FALSE),\"\")","v":""},{"$f":"IF(G2687<>\"\",VLOOKUP($F2687,'TA STOCK LOOKUP'!$A$2:$C$202,3,FALSE),\"\")","v":""},"","","","","",""]
["","","","","","",{"$f":"IF(F2693<>\"\",VLOOKUP($F2693,'TA STOCK LOOKUP'!$A$2:$C$202,2,FALSE),\"\")","v":""},{"$f":"IF(G2693<>\"\",VLOOKUP($F2693,'TA STOCK LOOKUP'!$A$2:$C$202,3,FALSE),\"\")","v":""},"","","","","",""]
["","","","","","",{"$f":"IF(F2696<>\"\",VLOOKUP($F2696,'TA STOCK LOOKUP'!$A$2:$C$202,2,FALSE),\"\")","v":""},{"$f":"IF(G2696<>\"\",VLOOKUP($F2696,'TA STOCK LOOKUP'!$A$2:$C$202,3,FALSE),\"\")","v":""},"","","","","",""]
["","","","","","",{"$f":"IF(F2701<>\"\",VLOOKUP($F2701,'TA STOCK LOOKUP'!$A$2:$C$202,2,FALSE),\"\")","v":""},{"$f":"IF(G2701<>\"\",VLOOKUP($F2701,'TA STOCK LOOKUP'!$A$2:$C$202,3,FALSE),\"\")","v":""},"","","","","",""]
["","","","","","",{"$f":"IF(F2702<>\"\",VLOOKUP($F2702,'TA STOCK LOOKUP'!$A$2:$C$202,2,FALSE),\"\")","v":""},{"$f":"IF(G2702<>\"\",VLOOKUP($F2702,'TA STOCK LOOKUP'!$A$2:$C$202,3,FALSE),\"\")","v":""},"","","","","",""]
["","","","","","",{"$f":"IF(F2706<>\"\",VLOOKUP($F2706,'TA STOCK LOOKUP'!$A$2:$C$202,2,FALSE),\"\")","v":""},{"$f":"IF(G2706<>\"\",VLOOKUP($F2706,'TA STOCK LOOKUP'!$A$2:$C$202,3,FALSE),\"\")","v":""},"","","","","",""]
["","","","","","",{"$f":"IF(F2711<>\"\",VLOOKUP($F2711,'TA STOCK LOOKUP'!$A$2:$C$202,2,FALSE),\"\")","v":""},{"$f":"IF(G2711<>\"\",VLOOKUP($F2711,'TA STOCK LOOKUP'!$A$2:$C$202,3,FALSE),\"\")","v":""},"","","","","",""]
["","","","","","",{"$f":"IF(F2716<>\"\",VLOOKUP($F2716,'TA STOCK LOOKUP'!$A$2:$C$202,2,FALSE),\"\")","v":""},{"$f":"IF(G2716<>\"\",VLOOKUP($F2716,'TA STOCK LOOKUP'!$A$2:$C$202,3,FALSE),\"\")","v":""},"","","","","",""]
["","","","","","",{"$f":"IF(F2717<>\"\",VLOOKUP($F2717,'TA STOCK LOOKUP'!$A$2:$C$202,2,FALSE),\"\")","v":""},{"$f":"IF(G2717<>\"\",VLOOKUP($F2717,'TA STOCK LOOKUP'!$A$2:$C$202,3,FALSE),\"\")","v":""},"","","","","",""]
["","","","","","",{"$f":"IF(F2723<>\"\",VLOOKUP($F2723,'TA STOCK LOOKUP'!$A$2:$C$202,2,FALSE),\"\")","v":""},{"$f":"IF(G2723<>\"\",VLOOKUP($F2723,'TA STOCK LOOKUP'!$A$2:$C$202,3,FALSE),\"\")","v":""},"","","","","",""]
["","","","","","",{"$f":"IF(F2726<>\"\",VLOOKUP($F2726,'TA STOCK LOOKUP'!$A$2:$C$202,2,FALSE),\"\")","v":""},{"$f":"IF(G2726<>\"\",VLOOKUP($F2726,'TA STOCK LOOKUP'!$A$2:$C$202,3,FALSE),\"\")","v":""},"","","","","",""]
["","","","","","",{"$f":"IF(F2731<>\"\",VLOOKUP($F2731,'TA STOCK LOOKUP'!$A$2:$C$202,2,FALSE),\"\")","v":""},{"$f":"IF(G2731<>\"\",VLOOKUP($F2731,'TA STOCK LOOKUP'!$A$2:$C$202,3,FALSE),\"\")","v":""},"","","","","",""]
["","","","","","",{"$f":"IF(F2732<>\"\",VLOOKUP($F2732,'TA STOCK LOOKUP'!$A$2:$C$202,2,FALSE),\"\")","v":""},{"$f":"IF(G2732<>\"\",VLOOKUP($F2732,'TA STOCK LOOKUP'!$A$2:$C$202,3,FALSE),\"\")","v":""},"","","","","",""]
["","","","","","",{"$f":"IF(F2736<>\"\",VLOOKUP($F2736,'TA STOCK LOOKUP'!$A$2:$C$202,2,FALSE),\"\")","v":""},{"$f":"IF(G2736<>\"\",VLOOKUP($F2736,'TA STOCK LOOKUP'!$A$2:$C$202,3,FALSE),\"\")","v":""},"","","","","",""]
["","","","","","",{"$f":"IF(F2741<>\"\",VLOOKUP($F2741,'TA STOCK LOOKUP'!$A$2:$C$202,2,FALSE),\"\")","v":""},{"$f":"IF(G2741<>\"\",VLOOKUP($F2741,'TA STOCK LOOKUP'!$A$2:$C$202,3,FALSE),\"\")","v":""},"","","","","",""]
["","","","","","",{"$f":"IF(F2746<>\"\",VLOOKUP($F2746,'TA STOCK LOOKUP'!$A$2:$C$202,2,FALSE),\"\")","v":""},{"$f":"IF(G2746<>\"\",VLOOKUP($F2746,'TA STOCK LOOKUP'!$A$2:$C$202,3,FALSE),\"\")","v":""},"","","","","",""]
["","","","","","",{"$f":"IF(F2747<>\"\",VLOOKUP($F2747,'TA STOCK LOOKUP'!$A$2:$C$202,2,FALSE),\"\")","v":""},{"$f":"IF(G2747<>\"\",VLOOKUP($F2747,'TA STOCK LOOKUP'!$A$2:$C$202,3,FALSE),\"\")","v":""},"","","","","",""]
["","","","","","",{"$f":"IF(F2753<>\"\",VLOOKUP($F2753,'TA STOCK LOOKUP'!$A$2:$C$202,2,FALSE),\"\")","v":""},{"$f":"IF(G2753<>\"\",VLOOKUP($F2753,'TA STOCK LOOKUP'!$A$2:$C$202,3,FALSE),\"\")","v":""},"","","","","",""]
["","","","","","",{"$f":"IF(F2756<>\"\",VLOOKUP($F2756,'TA STOCK LOOKUP'!$A$2:$C$202,2,FALSE),\"\")","v":""},{"$f":"IF(G2756<>\"\",VLOOKUP($F2756,'TA STOCK LOOKUP'!$A$2:$C$202,3,FALSE),\"\")","v":""},"","","","","",""]
["","","","","","",{"$f":"IF(F2761<>\"\",VLOOKUP($F2761,'TA STOCK LOOKUP'!$A$2:$C$202,2,FALSE),\"\")","v":""},{"$f":"IF(G2761<>\"\",VLOOKUP($F2761,'TA STOCK LOOKUP'!$A$2:$C$202,3,FALSE),\"\")","v":""},"","","","","",""]
["","","","","","",{"$f":"IF(F2762<>\"\",VLOOKUP($F2762,'TA STOCK LOOKUP'!$A$2:$C$202,2,FALSE),\"\")","v":""},{"$f":"IF(G2762<>\"\",VLOOKUP($F2762,'TA STOCK LOOKUP'!$A$2:$C$202,3,FALSE),\"\")","v":""},"","","","","",""]
["","","","","","",{"$f":"IF(F2766<>\"\",VLOOKUP($F2766,'TA STOCK LOOKUP'!$A$2:$C$202,2,FALSE),\"\")","v":""},{"$f":"IF(G2766<>\"\",VLOOKUP($F2766,'TA STOCK LOOKUP'!$A$2:$C$202,3,FALSE),\"\")","v":""},"","","","","",""]
["","","","","","",{"$f":"IF(F2771<>\"\",VLOOKUP($F2771,'TA STOCK LOOKUP'!$A$2:$C$202,2,FALSE),\"\")","v":""},{"$f":"IF(G2771<>\"\",VLOOKUP($F2771,'TA STOCK LOOKUP'!$A$2:$C$202,3,FALSE),\"\")","v":""},"","","","","",""]
["","","","","","",{"$f":"IF(F2776<>\"\",VLOOKUP($F2776,'TA STOCK LOOKUP'!$A$2:$C$202,2,FALSE),\"\")","v":""},{"$f":"IF(G2776<>\"\",VLOOKUP($F2776,'TA STOCK LOOKUP'!$A$2:$C$202,3,FALSE),\"\")","v":""},"","","","","",""]
["","","","","","",{"$f":"IF(F2777<>\"\",VLOOKUP($F2777,'TA STOCK LOOKUP'!$A$2:$C$202,2,FALSE),\"\")","v":""},{"$f":"IF(G2777<>\"\",VLOOKUP($F2777,'TA STOCK LOOKUP'!$A$2:$C$202,3,FALSE),\"\")","v":""},"","","","","",""]
["","","","","","",{"$f":"IF(F2783<>\"\",VLOOKUP($F2783,'TA STOCK LOOKUP'!$A$2:$C$202,2,FALSE),\"\")","v":""},{"$f":"IF(G2783<>\"\",VLOOKUP($F2783,'TA STOCK LOOKUP'!$A$2:$C$202,3,FALSE),\"\")","v":""},"","","","","",""]
["","","","","","",{"$f":"IF(F2786<>\"\",VLOOKUP($F2786,'TA STOCK LOOKUP'!$A$2:$C$202,2,FALSE),\"\")","v":""},{"$f":"IF(G2786<>\"\",VLOOKUP($F2786,'TA STOCK LOOKUP'!$A$2:$C$202,3,FALSE),\"\")","v":""},"","","","","",""]
["","","","","","",{"$f":"IF(F2791<>\"\",VLOOKUP($F2791,'TA STOCK LOOKUP'!$A$2:$C$202,2,FALSE),\"\")","v":""},{"$f":"IF(G2791<>\"\",VLOOKUP($F2791,'TA STOCK LOOKUP'!$A$2:$C$202,3,FALSE),\"\")","v":""},"","","","","",""]
["","","","","","",{"$f":"IF(F2792<>\"\",VLOOKUP($F2792,'TA STOCK LOOKUP'!$A$2:$C$202,2,FALSE),\"\")","v":""},{"$f":"IF(G2792<>\"\",VLOOKUP($F2792,'TA STOCK LOOKUP'!$A$2:$C$202,3,FALSE),\"\")","v":""},"","","","","",""]
["","","","","","",{"$f":"IF(F2796<>\"\",VLOOKUP($F2796,'TA STOCK LOOKUP'!$A$2:$C$202,2,FALSE),\"\")","v":""},{"$f":"IF(G2796<>\"\",VLOOKUP($F2796,'TA STOCK LOOKUP'!$A$2:$C$202,3,FALSE),\"\")","v":""},"","","","","",""]
["","","","","","",{"$f":"IF(F2801<>\"\",VLOOKUP($F2801,'TA STOCK LOOKUP'!$A$2:$C$202,2,FALSE),\"\")","v":""},{"$f":"IF(G2801<>\"\",VLOOKUP($F2801,'TA STOCK LOOKUP'!$A$2:$C$202,3,FALSE),\"\")","v":""},"","","","","",""]
["","","","","","",{"$f":"IF(F2806<>\"\",VLOOKUP($F2806,'TA STOCK LOOKUP'!$A$2:$C$202,2,FALSE),\"\")","v":""},{"$f":"IF(G2806<>\"\",VLOOKUP($F2806,'TA STOCK LOOKUP'!$A$2:$C$202,3,FALSE),\"\")","v":""},"","","","","",""]
["","","","","","",{"$f":"IF(F2807<>\"\",VLOOKUP($F2807,'TA STOCK LOOKUP'!$A$2:$C$202,2,FALSE),\"\")","v":""},{"$f":"IF(G2807<>\"\",VLOOKUP($F2807,'TA STOCK LOOKUP'!$A$2:$C$202,3,FALSE),\"\")","v":""},"","","","","",""]
["","","","","","",{"$f":"IF(F2813<>\"\",VLOOKUP($F2813,'TA STOCK LOOKUP'!$A$2:$C$202,2,FALSE),\"\")","v":""},{"$f":"IF(G2813<>\"\",VLOOKUP($F2813,'TA STOCK LOOKUP'!$A$2:$C$202,3,FALSE),\"\")","v":""},"","","","","",""]
["","","","","","",{"$f":"IF(F2816<>\"\",VLOOKUP($F2816,'TA STOCK LOOKUP'!$A$2:$C$202,2,FALSE),\"\")","v":""},{"$f":"IF(G2816<>\"\",VLOOKUP($F2816,'TA STOCK LOOKUP'!$A$2:$C$202,3,FALSE),\"\")","v":""},"","","","","",""]
["","","","","","",{"$f":"IF(F2821<>\"\",VLOOKUP($F2821,'TA STOCK LOOKUP'!$A$2:$C$202,2,FALSE),\"\")","v":""},{"$f":"IF(G2821<>\"\",VLOOKUP($F2821,'TA STOCK LOOKUP'!$A$2:$C$202,3,FALSE),\"\")","v":""},"","","","","",""]
["","","","","","",{"$f":"IF(F2822<>\"\",VLOOKUP($F2822,'TA STOCK LOOKUP'!$A$2:$C$202,2,FALSE),\"\")","v":""},{"$f":"IF(G2822<>\"\",VLOOKUP($F2822,'TA STOCK LOOKUP'!$A$2:$C$202,3,FALSE),\"\")","v":""},"","","","","",""]
["","","","","","",{"$f":"IF(F2827<>\"\",VLOOKUP($F2827,'TA STOCK LOOKUP'!$A$2:$C$202,2,FALSE),\"\")","v":""},{"$f":"IF(G2827<>\"\",VLOOKUP($F2827,'TA STOCK LOOKUP'!$A$2:$C$202,3,FALSE),\"\")","v":""},"","","","","",""]
["","","","","","",{"$f":"IF(F2831<>\"\",VLOOKUP($F2831,'TA STOCK LOOKUP'!$A$2:$C$202,2,FALSE),\"\")","v":""},{"$f":"IF(G2831<>\"\",VLOOKUP($F2831,'TA STOCK LOOKUP'!$A$2:$C$202,3,FALSE),\"\")","v":""},"","","","","",""]
["","","","","","",{"$f":"IF(F2836<>\"\",VLOOKUP($F2836,'TA STOCK LOOKUP'!$A$2:$C$202,2,FALSE),\"\")","v":""},{"$f":"IF(G2836<>\"\",VLOOKUP($F2836,'TA STOCK LOOKUP'!$A$2:$C$202,3,FALSE),\"\")","v":""},"","","","","",""]
["","","","","","",{"$f":"IF(F2837<>\"\",VLOOKUP($F2837,'TA STOCK LOOKUP'!$A$2:$C$202,2,FALSE),\"\")","v":""},{"$f":"IF(G2837<>\"\",VLOOKUP($F2837,'TA STOCK LOOKUP'!$A$2:$C$202,3,FALSE),\"\")","v":""},"","","","","",""]
["","","","","","",{"$f":"IF(F2843<>\"\",VLOOKUP($F2843,'TA STOCK LOOKUP'!$A$2:$C$202,2,FALSE),\"\")","v":""},{"$f":"IF(G2843<>\"\",VLOOKUP($F2843,'TA STOCK LOOKUP'!$A$2:$C$202,3,FALSE),\"\")","v":""},"","","","","",""]
["","","","","","",{"$f":"IF(F2846<>\"\",VLOOKUP($F2846,'TA STOCK LOOKUP'!$A$2:$C$202,2,FALSE),\"\")","v":""},{"$f":"IF(G2846<>\"\",VLOOKUP($F2846,'TA STOCK LOOKUP'!$A$2:$C$202,3,FALSE),\"\")","v":""},"","","","","",""]
["","","","","","",{"$f":"IF(F2851<>\"\",VLOOKUP($F2851,'TA STOCK LOOKUP'!$A$2:$C$202,2,FALSE),\"\")","v":""},{"$f":"IF(G2851<>\"\",VLOOKUP($F2851,'TA STOCK LOOKUP'!$A$2:$C$202,3,FALSE),\"\")","v":""},"","","","","",""]
["","","","","","",{"$f":"IF(F2852<>\"\",VLOOKUP($F2852,'TA STOCK LOOKUP'!$A$2:$C$202,2,FALSE),\"\")","v":""},{"$f":"IF(G2852<>\"\",VLOOKUP($F2852,'TA STOCK LOOKUP'!$A$2:$C$202,3,FALSE),\"\")","v":""},"","","","","",""]
["","","","","","",{"$f":"IF(F2857<>\"\",VLOOKUP($F2857,'TA STOCK LOOKUP'!$A$2:$C$202,2,FALSE),\"\")","v":""},{"$f":"IF(G2857<>\"\",VLOOKUP($F2857,'TA STOCK LOOKUP'!$A$2:$C$202,3,FALSE),\"\")","v":""},"","","","","",""]
["","","","","","",{"$f":"IF(F2861<>\"\",VLOOKUP($F2861,'TA STOCK LOOKUP'!$A$2:$C$202,2,FALSE),\"\")","v":""},{"$f":"IF(G2861<>\"\",VLOOKUP($F2861,'TA STOCK LOOKUP'!$A$2:$C$202,3,FALSE),\"\")","v":""},"","","","","",""]
["","","","","","",{"$f":"IF(F2866<>\"\",VLOOKUP($F2866,'TA STOCK LOOKUP'!$A$2:$C$202,2,FALSE),\"\")","v":""},{"$f":"IF(G2866<>\"\",VLOOKUP($F2866,'TA STOCK LOOKUP'!$A$2:$C$202,3,FALSE),\"\")","v":""},"","","","","",""]
["","","","","","",{"$f":"IF(F2867<>\"\",VLOOKUP($F2867,'TA STOCK LOOKUP'!$A$2:$C$202,2,FALSE),\"\")","v":""},{"$f":"IF(G2867<>\"\",VLOOKUP($F2867,'TA STOCK LOOKUP'!$A$2:$C$202,3,FALSE),\"\")","v":""},"","","","","",""]
["","","","","","",{"$f":"IF(F2873<>\"\",VLOOKUP($F2873,'TA STOCK LOOKUP'!$A$2:$C$202,2,FALSE),\"\")","v":""},{"$f":"IF(G2873<>\"\",VLOOKUP($F2873,'TA STOCK LOOKUP'!$A$2:$C$202,3,FALSE),\"\")","v":""},"","","","","",""]
["","","","","","",{"$f":"IF(F2876<>\"\",VLOOKUP($F2876,'TA STOCK LOOKUP'!$A$2:$C$202,2,FALSE),\"\")","v":""},{"$f":"IF(G2876<>\"\",VLOOKUP($F2876,'TA STOCK LOOKUP'!$A$2:$C$202,3,FALSE),\"\")","v":""},"","","","","",""]
["","","","","","",{"$f":"IF(F2881<>\"\",VLOOKUP($F2881,'TA STOCK LOOKUP'!$A$2:$C$202,2,FALSE),\"\")","v":""},{"$f":"IF(G2881<>\"\",VLOOKUP($F2881,'TA STOCK LOOKUP'!$A$2:$C$202,3,FALSE),\"\")","v":""},"","","","","",""]
["","","","","","",{"$f":"IF(F2882<>\"\",VLOOKUP($F2882,'TA STOCK LOOKUP'!$A$2:$C$202,2,FALSE),\"\")","v":""},{"$f":"IF(G2882<>\"\",VLOOKUP($F2882,'TA STOCK LOOKUP'!$A$2:$C$202,3,FALSE),\"\")","v":""},"","","","","",""]
["","","","","","",{"$f":"IF(F2887<>\"\",VLOOKUP($F2887,'TA STOCK LOOKUP'!$A$2:$C$202,2,FALSE),\"\")","v":""},{"$f":"IF(G2887<>\"\",VLOOKUP($F2887,'TA STOCK LOOKUP'!$A$2:$C$202,3,FALSE),\"\")","v":""},"","","","","",""]
["","","","","","",{"$f":"IF(F2891<>\"\",VLOOKUP($F2891,'TA STOCK LOOKUP'!$A$2:$C$202,2,FALSE),\"\")","v":""},{"$f":"IF(G2891<>\"\",VLOOKUP($F2891,'TA STOCK LOOKUP'!$A$2:$C$202,3,FALSE),\"\")","v":""},"","","","","",""]
["","","","","","",{"$f":"IF(F2896<>\"\",VLOOKUP($F2896,'TA STOCK LOOKUP'!$A$2:$C$202,2,FALSE),\"\")","v":""},{"$f":"IF(G2896<>\"\",VLOOKUP($F2896,'TA STOCK LOOKUP'!$A$2:$C$202,3,FALSE),\"\")","v":""},"","","","","",""]
["","","","","","",{"$f":"IF(F2897<>\"\",VLOOKUP($F2897,'TA STOCK LOOKUP'!$A$2:$C$202,2,FALSE),\"\")","v":""},{"$f":"IF(G2897<>\"\",VLOOKUP($F2897,'TA STOCK LOOKUP'!$A$2:$C$202,3,FALSE),\"\")","v":""},"","","","","",""]
["","","","","","",{"$f":"IF(F2903<>\"\",VLOOKUP($F2903,'TA STOCK LOOKUP'!$A$2:$C$202,2,FALSE),\"\")","v":""},{"$f":"IF(G2903<>\"\",VLOOKUP($F2903,'TA STOCK LOOKUP'!$A$2:$C$202,3,FALSE),\"\")","v":""},"","","","","",""]
["","","","","","",{"$f":"IF(F2906<>\"\",VLOOKUP($F2906,'TA STOCK LOOKUP'!$A$2:$C$202,2,FALSE),\"\")","v":""},{"$f":"IF(G2906<>\"\",VLOOKUP($F2906,'TA STOCK LOOKUP'!$A$2:$C$202,3,FALSE),\"\")","v":""},"","","","","",""]
["","","","","","",{"$f":"IF(F2911<>\"\",VLOOKUP($F2911,'TA STOCK LOOKUP'!$A$2:$C$202,2,FALSE),\"\")","v":""},{"$f":"IF(G2911<>\"\",VLOOKUP($F2911,'TA STOCK LOOKUP'!$A$2:$C$202,3,FALSE),\"\")","v":""},"","","","","",""]
["","","","","","",{"$f":"IF(F2912<>\"\",VLOOKUP($F2912,'TA STOCK LOOKUP'!$A$2:$C$202,2,FALSE),\"\")","v":""},{"$f":"IF(G2912<>\"\",VLOOKUP($F2912,'TA STOCK LOOKUP'!$A$2:$C$202,3,FALSE),\"\")","v":""},"","","","","",""]
["","","","","","",{"$f":"IF(F2917<>\"\",VLOOKUP($F2917,'TA STOCK LOOKUP'!$A$2:$C$202,2,FALSE),\"\")","v":""},{"$f":"IF(G2917<>\"\",VLOOKUP($F2917,'TA STOCK LOOKUP'!$A$2:$C$202,3,FALSE),\"\")","v":""},"","","","","",""]
["","","","","","",{"$f":"IF(F2921<>\"\",VLOOKUP($F2921,'TA STOCK LOOKUP'!$A$2:$C$202,2,FALSE),\"\")","v":""},{"$f":"IF(G2921<>\"\",VLOOKUP($F2921,'TA STOCK LOOKUP'!$A$2:$C$202,3,FALSE),\"\")","v":""},"","","","","",""]
["","","","","","",{"$f":"IF(F2926<>\"\",VLOOKUP($F2926,'TA STOCK LOOKUP'!$A$2:$C$202,2,FALSE),\"\")","v":""},{"$f":"IF(G2926<>\"\",VLOOKUP($F2926,'TA STOCK LOOKUP'!$A$2:$C$202,3,FALSE),\"\")","v":""},"","","","","",""]
["","","","","","",{"$f":"IF(F2927<>\"\",VLOOKUP($F2927,'TA STOCK LOOKUP'!$A$2:$C$202,2,FALSE),\"\")","v":""},{"$f":"IF(G2927<>\"\",VLOOKUP($F2927,'TA STOCK LOOKUP'!$A$2:$C$202,3,FALSE),\"\")","v":""},"","","","","",""]
["","","","","","",{"$f":"IF(F2933<>\"\",VLOOKUP($F2933,'TA STOCK LOOKUP'!$A$2:$C$202,2,FALSE),\"\")","v":""},{"$f":"IF(G2933<>\"\",VLOOKUP($F2933,'TA STOCK LOOKUP'!$A$2:$C$202,3,FALSE),\"\")","v":""},"","","","","",""]
["","","","","","",{"$f":"IF(F2936<>\"\",VLOOKUP($F2936,'TA STOCK LOOKUP'!$A$2:$C$202,2,FALSE),\"\")","v":""},{"$f":"IF(G2936<>\"\",VLOOKUP($F2936,'TA STOCK LOOKUP'!$A$2:$C$202,3,FALSE),\"\")","v":""},"","","","","",""]
["","","","","","",{"$f":"IF(F2941<>\"\",VLOOKUP($F2941,'TA STOCK LOOKUP'!$A$2:$C$202,2,FALSE),\"\")","v":""},{"$f":"IF(G2941<>\"\",VLOOKUP($F2941,'TA STOCK LOOKUP'!$A$2:$C$202,3,FALSE),\"\")","v":""},"","","","","",""]
["","","","","","",{"$f":"IF(F2942<>\"\",VLOOKUP($F2942,'TA STOCK LOOKUP'!$A$2:$C$202,2,FALSE),\"\")","v":""},{"$f":"IF(G2942<>\"\",VLOOKUP($F2942,'TA STOCK LOOKUP'!$A$2:$C$202,3,FALSE),\"\")","v":""},"","","","","",""]
["","","","","","",{"$f":"IF(F2947<>\"\",VLOOKUP($F2947,'TA STOCK LOOKUP'!$A$2:$C$202,2,FALSE),\"\")","v":""},{"$f":"IF(G2947<>\"\",VLOOKUP($F2947,'TA STOCK LOOKUP'!$A$2:$C$202,3,FALSE),\"\")","v":""},"","","","","",""]
["","","","","","",{"$f":"IF(F2951<>\"\",VLOOKUP($F2951,'TA STOCK LOOKUP'!$A$2:$C$202,2,FALSE),\"\")","v":""},{"$f":"IF(G2951<>\"\",VLOOKUP($F2951,'TA STOCK LOOKUP'!$A$2:$C$202,3,FALSE),\"\")","v":""},"","","","","",""]
["","","","","","",{"$f":"IF(F2956<>\"\",VLOOKUP($F2956,'TA STOCK LOOKUP'!$A$2:$C$202,2,FALSE),\"\")","v":""},{"$f":"IF(G2956<>\"\",VLOOKUP($F2956,'TA STOCK LOOKUP'!$A$2:$C$202,3,FALSE),\"\")","v":""},"","","","","",""]
["","","","","","",{"$f":"IF(F2957<>\"\",VLOOKUP($F2957,'TA STOCK LOOKUP'!$A$2:$C$202,2,FALSE),\"\")","v":""},{"$f":"IF(G2957<>\"\",VLOOKUP($F2957,'TA STOCK LOOKUP'!$A$2:$C$202,3,FALSE),\"\")","v":""},"","","","","",""]
["","","","","","",{"$f":"IF(F2963<>\"\",VLOOKUP($F2963,'TA STOCK LOOKUP'!$A$2:$C$202,2,FALSE),\"\")","v":""},{"$f":"IF(G2963<>\"\",VLOOKUP($F2963,'TA STOCK LOOKUP'!$A$2:$C$202,3,FALSE),\"\")","v":""},"","","","","",""]
["","","","","","",{"$f":"IF(F2966<>\"\",VLOOKUP($F2966,'TA STOCK LOOKUP'!$A$2:$C$202,2,FALSE),\"\")","v":""},{"$f":"IF(G2966<>\"\",VLOOKUP($F2966,'TA STOCK LOOKUP'!$A$2:$C$202,3,FALSE),\"\")","v":""},"","","","","",""]
["","","","","","",{"$f":"IF(F2971<>\"\",VLOOKUP($F2971,'TA STOCK LOOKUP'!$A$2:$C$202,2,FALSE),\"\")","v":""},{"$f":"IF(G2971<>\"\",VLOOKUP($F2971,'TA STOCK LOOKUP'!$A$2:$C$202,3,FALSE),\"\")","v":""},"","","","","",""]
["","","","","","",{"$f":"IF(F2972<>\"\",VLOOKUP($F2972,'TA STOCK LOOKUP'!$A$2:$C$202,2,FALSE),\"\")","v":""},{"$f":"IF(G2972<>\"\",VLOOKUP($F2972,'TA STOCK LOOKUP'!$A$2:$C$202,3,FALSE),\"\")","v":""},"","","","","",""]
["","","","","","",{"$f":"IF(F2977<>\"\",VLOOKUP($F2977,'TA STOCK LOOKUP'!$A$2:$C$202,2,FALSE),\"\")","v":""},{"$f":"IF(G2977<>\"\",VLOOKUP($F2977,'TA STOCK LOOKUP'!$A$2:$C$202,3,FALSE),\"\")","v":""},"","","","","",""]
["","","","","","",{"$f":"IF(F2981<>\"\",VLOOKUP($F2981,'TA STOCK LOOKUP'!$A$2:$C$202,2,FALSE),\"\")","v":""},{"$f":"IF(G2981<>\"\",VLOOKUP($F2981,'TA STOCK LOOKUP'!$A$2:$C$202,3,FALSE),\"\")","v":""},"","","","","",""]
["","","","","","",{"$f":"IF(F2986<>\"\",VLOOKUP($F2986,'TA STOCK LOOKUP'!$A$2:$C$202,2,FALSE),\"\")","v":""},{"$f":"IF(G2986<>\"\",VLOOKUP($F2986,'TA STOCK LOOKUP'!$A$2:$C$202,3,FALSE),\"\")","v":""},"","","","","",""]
["","","","","","",{"$f":"IF(F2987<>\"\",VLOOKUP($F2987,'TA STOCK LOOKUP'!$A$2:$C$202,2,FALSE),\"\")","v":""},{"$f":"IF(G2987<>\"\",VLOOKUP($F2987,'TA STOCK LOOKUP'!$A$2:$C$202,3,FALSE),\"\")","v":""},"","","","","",""]
["","","","","","",{"$f":"IF(F2993<>\"\",VLOOKUP($F2993,'TA STOCK LOOKUP'!$A$2:$C$202,2,FALSE),\"\")","v":""},{"$f":"IF(G2993<>\"\",VLOOKUP($F2993,'TA STOCK LOOKUP'!$A$2:$C$202,3,FALSE),\"\")","v":""},"","","","","",""]
["","","","","","",{"$f":"IF(F2996<>\"\",VLOOKUP($F2996,'TA STOCK LOOKUP'!$A$2:$C$202,2,FALSE),\"\")","v":""},{"$f":"IF(G2996<>\"\",VLOOKUP($F2996,'TA STOCK LOOKUP'!$A$2:$C$202,3,FALSE),\"\")","v":""},"","","","","",""]
["","","","","","",{"$f":"IF(F3001<>\"\",VLOOKUP($F3001,'TA STOCK LOOKUP'!$A$2:$C$202,2,FALSE),\"\")","v":""},{"$f":"IF(G3001<>\"\",VLOOKUP($F3001,'TA STOCK LOOKUP'!$A$2:$C$202,3,FALSE),\"\")","v":""},"","","","","",""]
["","","","","","",{"$f":"IF(F3002<>\"\",VLOOKUP($F3002,'TA STOCK LOOKUP'!$A$2:$C$202,2,FALSE),\"\")","v":""},{"$f":"IF(G3002<>\"\",VLOOKUP($F3002,'TA STOCK LOOKUP'!$A$2:$C$202,3,FALSE),\"\")","v":""},"","","","","",""]
["","","","","","",{"$f":"IF(F3007<>\"\",VLOOKUP($F3007,'TA STOCK LOOKUP'!$A$2:$C$202,2,FALSE),\"\")","v":""},{"$f":"IF(G3007<>\"\",VLOOKUP($F3007,'TA STOCK LOOKUP'!$A$2:$C$202,3,FALSE),\"\")","v":""},"","","","","",""]
["","","","","","",{"$f":"IF(F3011<>\"\",VLOOKUP($F3011,'TA STOCK LOOKUP'!$A$2:$C$202,2,FALSE),\"\")","v":""},{"$f":"IF(G3011<>\"\",VLOOKUP($F3011,'TA STOCK LOOKUP'!$A$2:$C$202,3,FALSE),\"\")","v":""},"","","","","",""]
["","","","","","",{"$f":"IF(F3016<>\"\",VLOOKUP($F3016,'TA STOCK LOOKUP'!$A$2:$C$202,2,FALSE),\"\")","v":""},{"$f":"IF(G3016<>\"\",VLOOKUP($F3016,'TA STOCK LOOKUP'!$A$2:$C$202,3,FALSE),\"\")","v":""},"","","","","",""]
["","","","","","",{"$f":"IF(F3017<>\"\",VLOOKUP($F3017,'TA STOCK LOOKUP'!$A$2:$C$202,2,FALSE),\"\")","v":""},{"$f":"IF(G3017<>\"\",VLOOKUP($F3017,'TA STOCK LOOKUP'!$A$2:$C$202,3,FALSE),\"\")","v":""},"","","","","",""]
["","","","","","",{"$f":"IF(F3023<>\"\",VLOOKUP($F3023,'TA STOCK LOOKUP'!$A$2:$C$202,2,FALSE),\"\")","v":""},{"$f":"IF(G3023<>\"\",VLOOKUP($F3023,'TA STOCK LOOKUP'!$A$2:$C$202,3,FALSE),\"\")","v":""},"","","","","",""]
["","","","","","",{"$f":"IF(F3026<>\"\",VLOOKUP($F3026,'TA STOCK LOOKUP'!$A$2:$C$202,2,FALSE),\"\")","v":""},{"$f":"IF(G3026<>\"\",VLOOKUP($F3026,'TA STOCK LOOKUP'!$A$2:$C$202,3,FALSE),\"\")","v":""},"","","","","",""]
["","","","","","",{"$f":"IF(F3031<>\"\",VLOOKUP($F3031,'TA STOCK LOOKUP'!$A$2:$C$202,2,FALSE),\"\")","v":""},{"$f":"IF(G3031<>\"\",VLOOKUP($F3031,'TA STOCK LOOKUP'!$A$2:$C$202,3,FALSE),\"\")","v":""},"","","","","",""]
["","","","","","",{"$f":"IF(F3032<>\"\",VLOOKUP($F3032,'TA STOCK LOOKUP'!$A$2:$C$202,2,FALSE),\"\")","v":""},{"$f":"IF(G3032<>\"\",VLOOKUP($F3032,'TA STOCK LOOKUP'!$A$2:$C$202,3,FALSE),\"\")","v":""},"","","","","",""]
["","","","","","",{"$f":"IF(F3037<>\"\",VLOOKUP($F3037,'TA STOCK LOOKUP'!$A$2:$C$202,2,FALSE),\"\")","v":""},{"$f":"IF(G3037<>\"\",VLOOKUP($F3037,'TA STOCK LOOKUP'!$A$2:$C$202,3,FALSE),\"\")","v":""},"","","","","",""]
["","","","","","",{"$f":"IF(F3041<>\"\",VLOOKUP($F3041,'TA STOCK LOOKUP'!$A$2:$C$202,2,FALSE),\"\")","v":""},{"$f":"IF(G3041<>\"\",VLOOKUP($F3041,'TA STOCK LOOKUP'!$A$2:$C$202,3,FALSE),\"\")","v":""},"","","","","",""]
["","","","","","",{"$f":"IF(F3046<>\"\",VLOOKUP($F3046,'TA STOCK LOOKUP'!$A$2:$C$202,2,FALSE),\"\")","v":""},{"$f":"IF(G3046<>\"\",VLOOKUP($F3046,'TA STOCK LOOKUP'!$A$2:$C$202,3,FALSE),\"\")","v":""},"","","","","",""]
["","","","","","",{"$f":"IF(F3047<>\"\",VLOOKUP($F3047,'TA STOCK LOOKUP'!$A$2:$C$202,2,FALSE),\"\")","v":""},{"$f":"IF(G3047<>\"\",VLOOKUP($F3047,'TA STOCK LOOKUP'!$A$2:$C$202,3,FALSE),\"\")","v":""},"","","","","",""]
["","","","","","",{"$f":"IF(F3053<>\"\",VLOOKUP($F3053,'TA STOCK LOOKUP'!$A$2:$C$202,2,FALSE),\"\")","v":""},{"$f":"IF(G3053<>\"\",VLOOKUP($F3053,'TA STOCK LOOKUP'!$A$2:$C$202,3,FALSE),\"\")","v":""},"","","","","",""]
["","","","","","",{"$f":"IF(F3056<>\"\",VLOOKUP($F3056,'TA STOCK LOOKUP'!$A$2:$C$202,2,FALSE),\"\")","v":""},{"$f":"IF(G3056<>\"\",VLOOKUP($F3056,'TA STOCK LOOKUP'!$A$2:$C$202,3,FALSE),\"\")","v":""},"","","","","",""]
["","","","","","",{"$f":"IF(F3061<>\"\",VLOOKUP($F3061,'TA STOCK LOOKUP'!$A$2:$C$202,2,FALSE),\"\")","v":""},{"$f":"IF(G3061<>\"\",VLOOKUP($F3061,'TA STOCK LOOKUP'!$A$2:$C$202,3,FALSE),\"\")","v":""},"","","","","",""]
["","","","","","",{"$f":"IF(F3062<>\"\",VLOOKUP($F3062,'TA STOCK LOOKUP'!$A$2:$C$202,2,FALSE),\"\")","v":""},{"$f":"IF(G3062<>\"\",VLOOKUP($F3062,'TA STOCK LOOKUP'!$A$2:$C$202,3,FALSE),\"\")","v":""},"","","","","",""]
["","","","","","",{"$f":"IF(F3067<>\"\",VLOOKUP($F3067,'TA STOCK LOOKUP'!$A$2:$C$202,2,FALSE),\"\")","v":""},{"$f":"IF(G3067<>\"\",VLOOKUP($F3067,'TA STOCK LOOKUP'!$A$2:$C$202,3,FALSE),\"\")","v":""},"","","","","",""]
["","","","","","",{"$f":"IF(F3071<>\"\",VLOOKUP($F3071,'TA STOCK LOOKUP'!$A$2:$C$202,2,FALSE),\"\")","v":""},{"$f":"IF(G3071<>\"\",VLOOKUP($F3071,'TA STOCK LOOKUP'!$A$2:$C$202,3,FALSE),\"\")","v":""},"","","","","",""]
["","","","","","",{"$f":"IF(F3076<>\"\",VLOOKUP($F3076,'TA STOCK LOOKUP'!$A$2:$C$202,2,FALSE),\"\")","v":""},{"$f":"IF(G3076<>\"\",VLOOKUP($F3076,'TA STOCK LOOKUP'!$A$2:$C$202,3,FALSE),\"\")","v":""},"","","","","",""]
["","","","","","",{"$f":"IF(F3077<>\"\",VLOOKUP($F3077,'TA STOCK LOOKUP'!$A$2:$C$202,2,FALSE),\"\")","v":""},{"$f":"IF(G3077<>\"\",VLOOKUP($F3077,'TA STOCK LOOKUP'!$A$2:$C$202,3,FALSE),\"\")","v":""},"","","","","",""]
["","","","","","",{"$f":"IF(F3081<>\"\",VLOOKUP($F3081,'TA STOCK LOOKUP'!$A$2:$C$202,2,FALSE),\"\")","v":""},{"$f":"IF(G3081<>\"\",VLOOKUP($F3081,'TA STOCK LOOKUP'!$A$2:$C$202,3,FALSE),\"\")","v":""},"","","","","",""]
["","","","","","",{"$f":"IF(F3086<>\"\",VLOOKUP($F3086,'TA STOCK LOOKUP'!$A$2:$C$202,2,FALSE),\"\")","v":""},{"$f":"IF(G3086<>\"\",VLOOKUP($F3086,'TA STOCK LOOKUP'!$A$2:$C$202,3,FALSE),\"\")","v":""},"","","","","",""]
["","","","","","",{"$f":"IF(F3091<>\"\",VLOOKUP($F3091,'TA STOCK LOOKUP'!$A$2:$C$202,2,FALSE),\"\")","v":""},{"$f":"IF(G3091<>\"\",VLOOKUP($F3091,'TA STOCK LOOKUP'!$A$2:$C$202,3,FALSE),\"\")","v":""},"","","","","",""]
["","","","","","",{"$f":"IF(F3092<>\"\",VLOOKUP($F3092,'TA STOCK LOOKUP'!$A$2:$C$202,2,FALSE),\"\")","v":""},{"$f":"IF(G3092<>\"\",VLOOKUP($F3092,'TA STOCK LOOKUP'!$A$2:$C$202,3,FALSE),\"\")","v":""},"","","","","",""]
["","","","","","",{"$f":"IF(F3097<>\"\",VLOOKUP($F3097,'TA STOCK LOOKUP'!$A$2:$C$202,2,FALSE),\"\")","v":""},{"$f":"IF(G3097<>\"\",VLOOKUP($F3097,'TA STOCK LOOKUP'!$A$2:$C$202,3,FALSE),\"\")","v":""},"","","","","",""]
["","","","","","",{"$f":"IF(F3101<>\"\",VLOOKUP($F3101,'TA STOCK LOOKUP'!$A$2:$C$202,2,FALSE),\"\")","v":""},{"$f":"IF(G3101<>\"\",VLOOKUP($F3101,'TA STOCK LOOKUP'!$A$2:$C$202,3,FALSE),\"\")","v":""},"","","","","",""]
["","","","","","",{"$f":"IF(F3106<>\"\",VLOOKUP($F3106,'TA STOCK LOOKUP'!$A$2:$C$202,2,FALSE),\"\")","v":""},{"$f":"IF(G3106<>\"\",VLOOKUP($F3106,'TA STOCK LOOKUP'!$A$2:$C$202,3,FALSE),\"\")","v":""},"","","","","",""]
["","","","","","",{"$f":"IF(F3107<>\"\",VLOOKUP($F3107,'TA STOCK LOOKUP'!$A$2:$C$202,2,FALSE),\"\")","v":""},{"$f":"IF(G3107<>\"\",VLOOKUP($F3107,'TA STOCK LOOKUP'!$A$2:$C$202,3,FALSE),\"\")","v":""},"","","","","",""]
["","","","","","",{"$f":"IF(F3111<>\"\",VLOOKUP($F3111,'TA STOCK LOOKUP'!$A$2:$C$202,2,FALSE),\"\")","v":""},{"$f":"IF(G3111<>\"\",VLOOKUP($F3111,'TA STOCK LOOKUP'!$A$2:$C$202,3,FALSE),\"\")","v":""},"","","","","",""]
["","","","","","",{"$f":"IF(F3116<>\"\",VLOOKUP($F3116,'TA STOCK LOOKUP'!$A$2:$C$202,2,FALSE),\"\")","v":""},{"$f":"IF(G3116<>\"\",VLOOKUP($F3116,'TA STOCK LOOKUP'!$A$2:$C$202,3,FALSE),\"\")","v":""},"","","","","",""]
["","","","","","",{"$f":"IF(F3121<>\"\",VLOOKUP($F3121,'TA STOCK LOOKUP'!$A$2:$C$202,2,FALSE),\"\")","v":""},{"$f":"IF(G3121<>\"\",VLOOKUP($F3121,'TA STOCK LOOKUP'!$A$2:$C$202,3,FALSE),\"\")","v":""},"","","","","",""]
["","","","","","",{"$f":"IF(F3122<>\"\",VLOOKUP($F3122,'TA STOCK LOOKUP'!$A$2:$C$202,2,FALSE),\"\")","v":""},{"$f":"IF(G3122<>\"\",VLOOKUP($F3122,'TA STOCK LOOKUP'!$A$2:$C$202,3,FALSE),\"\")","v":""},"","","","","",""]
["","","","","","",{"$f":"IF(F3127<>\"\",VLOOKUP($F3127,'TA STOCK LOOKUP'!$A$2:$C$202,2,FALSE),\"\")","v":""},{"$f":"IF(G3127<>\"\",VLOOKUP($F3127,'TA STOCK LOOKUP'!$A$2:$C$202,3,FALSE),\"\")","v":""},"","","","","",""]
["","","","","","",{"$f":"IF(F3131<>\"\",VLOOKUP($F3131,'TA STOCK LOOKUP'!$A$2:$C$202,2,FALSE),\"\")","v":""},{"$f":"IF(G3131<>\"\",VLOOKUP($F3131,'TA STOCK LOOKUP'!$A$2:$C$202,3,FALSE),\"\")","v":""},"","","","","",""]
["","","","","","",{"$f":"IF(F3136<>\"\",VLOOKUP($F3136,'TA STOCK LOOKUP'!$A$2:$C$202,2,FALSE),\"\")","v":""},{"$f":"IF(G3136<>\"\",VLOOKUP($F3136,'TA STOCK LOOKUP'!$A$2:$C$202,3,FALSE),\"\")","v":""},"","","","","",""]
["","","","","","",{"$f":"IF(F3137<>\"\",VLOOKUP($F3137,'TA STOCK LOOKUP'!$A$2:$C$202,2,FALSE),\"\")","v":""},{"$f":"IF(G3137<>\"\",VLOOKUP($F3137,'TA STOCK LOOKUP'!$A$2:$C$202,3,FALSE),\"\")","v":""},"","","","","",""]
["","","","","","",{"$f":"IF(F3141<>\"\",VLOOKUP($F3141,'TA STOCK LOOKUP'!$A$2:$C$202,2,FALSE),\"\")","v":""},{"$f":"IF(G3141<>\"\",VLOOKUP($F3141,'TA STOCK LOOKUP'!$A$2:$C$202,3,FALSE),\"\")","v":""},"","","","","",""]
["","","","","","",{"$f":"IF(F3146<>\"\",VLOOKUP($F3146,'TA STOCK LOOKUP'!$A$2:$C$202,2,FALSE),\"\")","v":""},{"$f":"IF(G3146<>\"\",VLOOKUP($F3146,'TA STOCK LOOKUP'!$A$2:$C$202,3,FALSE),\"\")","v":""},"","","","","",""]
["","","","","","",{"$f":"IF(F3151<>\"\",VLOOKUP($F3151,'TA STOCK LOOKUP'!$A$2:$C$202,2,FALSE),\"\")","v":""},{"$f":"IF(G3151<>\"\",VLOOKUP($F3151,'TA STOCK LOOKUP'!$A$2:$C$202,3,FALSE),\"\")","v":""},"","","","","",""]
["","","","","","",{"$f":"IF(F3152<>\"\",VLOOKUP($F3152,'TA STOCK LOOKUP'!$A$2:$C$202,2,FALSE),\"\")","v":""},{"$f":"IF(G3152<>\"\",VLOOKUP($F3152,'TA STOCK LOOKUP'!$A$2:$C$202,3,FALSE),\"\")","v":""},"","","","","",""]
["","","","","","",{"$f":"IF(F3157<>\"\",VLOOKUP($F3157,'TA STOCK LOOKUP'!$A$2:$C$202,2,FALSE),\"\")","v":""},{"$f":"IF(G3157<>\"\",VLOOKUP($F3157,'TA STOCK LOOKUP'!$A$2:$C$202,3,FALSE),\"\")","v":""},"","","","","",""]
["","","","","","",{"$f":"IF(F3161<>\"\",VLOOKUP($F3161,'TA STOCK LOOKUP'!$A$2:$C$202,2,FALSE),\"\")","v":""},{"$f":"IF(G3161<>\"\",VLOOKUP($F3161,'TA STOCK LOOKUP'!$A$2:$C$202,3,FALSE),\"\")","v":""},"","","","","",""]
["","","","","","",{"$f":"IF(F3166<>\"\",VLOOKUP($F3166,'TA STOCK LOOKUP'!$A$2:$C$202,2,FALSE),\"\")","v":""},{"$f":"IF(G3166<>\"\",VLOOKUP($F3166,'TA STOCK LOOKUP'!$A$2:$C$202,3,FALSE),\"\")","v":""},"","","","","",""]
["","","","","","",{"$f":"IF(F3167<>\"\",VLOOKUP($F3167,'TA STOCK LOOKUP'!$A$2:$C$202,2,FALSE),\"\")","v":""},{"$f":"IF(G3167<>\"\",VLOOKUP($F3167,'TA STOCK LOOKUP'!$A$2:$C$202,3,FALSE),\"\")","v":""},"","","","","",""]
["","","","","","",{"$f":"IF(F3171<>\"\",VLOOKUP($F3171,'TA STOCK LOOKUP'!$A$2:$C$202,2,FALSE),\"\")","v":""},{"$f":"IF(G3171<>\"\",VLOOKUP($F3171,'TA STOCK LOOKUP'!$A$2:$C$202,3,FALSE),\"\")","v":""},"","","","","",""]
["","","","","","",{"$f":"IF(F3176<>\"\",VLOOKUP($F3176,'TA STOCK LOOKUP'!$A$2:$C$202,2,FALSE),\"\")","v":""},{"$f":"IF(G3176<>\"\",VLOOKUP($F3176,'TA STOCK LOOKUP'!$A$2:$C$202,3,FALSE),\"\")","v":""},"","","","","",""]
["","","","","","",{"$f":"IF(F3181<>\"\",VLOOKUP($F3181,'TA STOCK LOOKUP'!$A$2:$C$202,2,FALSE),\"\")","v":""},{"$f":"IF(G3181<>\"\",VLOOKUP($F3181,'TA STOCK LOOKUP'!$A$2:$C$202,3,FALSE),\"\")","v":""},"","","","","",""]
["","","","","","",{"$f":"IF(F3182<>\"\",VLOOKUP($F3182,'TA STOCK LOOKUP'!$A$2:$C$202,2,FALSE),\"\")","v":""},{"$f":"IF(G3182<>\"\",VLOOKUP($F3182,'TA STOCK LOOKUP'!$A$2:$C$202,3,FALSE),\"\")","v":""},"","","","","",""]
["","","","","","",{"$f":"IF(F3187<>\"\",VLOOKUP($F3187,'TA STOCK LOOKUP'!$A$2:$C$202,2,FALSE),\"\")","v":""},{"$f":"IF(G3187<>\"\",VLOOKUP($F3187,'TA STOCK LOOKUP'!$A$2:$C$202,3,FALSE),\"\")","v":""},"","","","","",""]
["","","","","","",{"$f":"IF(F3191<>\"\",VLOOKUP($F3191,'TA STOCK LOOKUP'!$A$2:$C$202,2,FALSE),\"\")","v":""},{"$f":"IF(G3191<>\"\",VLOOKUP($F3191,'TA STOCK LOOKUP'!$A$2:$C$202,3,FALSE),\"\")","v":""},"","","","","",""]
["","","","","","",{"$f":"IF(F3196<>\"\",VLOOKUP($F3196,'TA STOCK LOOKUP'!$A$2:$C$202,2,FALSE),\"\")","v":""},{"$f":"IF(G3196<>\"\",VLOOKUP($F3196,'TA STOCK LOOKUP'!$A$2:$C$202,3,FALSE),\"\")","v":""},"","","","","",""]
["","","","","","",{"$f":"IF(F3197<>\"\",VLOOKUP($F3197,'TA STOCK LOOKUP'!$A$2:$C$202,2,FALSE),\"\")","v":""},{"$f":"IF(G3197<>\"\",VLOOKUP($F3197,'TA STOCK LOOKUP'!$A$2:$C$202,3,FALSE),\"\")","v":""},"","","","","",""]
["","","","","","",{"$f":"IF(F3201<>\"\",VLOOKUP($F3201,'TA STOCK LOOKUP'!$A$2:$C$202,2,FALSE),\"\")","v":""},{"$f":"IF(G3201<>\"\",VLOOKUP($F3201,'TA STOCK LOOKUP'!$A$2:$C$202,3,FALSE),\"\")","v":""},"","","","","",""]
["","","","","","",{"$f":"IF(F3206<>\"\",VLOOKUP($F3206,'TA STOCK LOOKUP'!$A$2:$C$202,2,FALSE),\"\")","v":""},{"$f":"IF(G3206<>\"\",VLOOKUP($F3206,'TA STOCK LOOKUP'!$A$2:$C$202,3,FALSE),\"\")","v":""},"","","","","",""]
["","","","","","",{"$f":"IF(F3211<>\"\",VLOOKUP($F3211,'TA STOCK LOOKUP'!$A$2:$C$202,2,FALSE),\"\")","v":""},{"$f":"IF(G3211<>\"\",VLOOKUP($F3211,'TA STOCK LOOKUP'!$A$2:$C$202,3,FALSE),\"\")","v":""},"","","","","",""]
["","","","","","",{"$f":"IF(F3212<>\"\",VLOOKUP($F3212,'TA STOCK LOOKUP'!$A$2:$C$202,2,FALSE),\"\")","v":""},{"$f":"IF(G3212<>\"\",VLOOKUP($F3212,'TA STOCK LOOKUP'!$A$2:$C$202,3,FALSE),\"\")","v":""},"","","","","",""]
["","","","","","",{"$f":"IF(F3217<>\"\",VLOOKUP($F3217,'TA STOCK LOOKUP'!$A$2:$C$202,2,FALSE),\"\")","v":""},{"$f":"IF(G3217<>\"\",VLOOKUP($F3217,'TA STOCK LOOKUP'!$A$2:$C$202,3,FALSE),\"\")","v":""},"","","","","",""]
["","","","","","",{"$f":"IF(F3221<>\"\",VLOOKUP($F3221,'TA STOCK LOOKUP'!$A$2:$C$202,2,FALSE),\"\")","v":""},{"$f":"IF(G3221<>\"\",VLOOKUP($F3221,'TA STOCK LOOKUP'!$A$2:$C$202,3,FALSE),\"\")","v":""},"","","","","",""]
["","","","","","",{"$f":"IF(F3226<>\"\",VLOOKUP($F3226,'TA STOCK LOOKUP'!$A$2:$C$202,2,FALSE),\"\")","v":""},{"$f":"IF(G3226<>\"\",VLOOKUP($F3226,'TA STOCK LOOKUP'!$A$2:$C$202,3,FALSE),\"\")","v":""},"","","","","",""]
["","","","","","",{"$f":"IF(F3227<>\"\",VLOOKUP($F3227,'TA STOCK LOOKUP'!$A$2:$C$202,2,FALSE),\"\")","v":""},{"$f":"IF(G3227<>\"\",VLOOKUP($F3227,'TA STOCK LOOKUP'!$A$2:$C$202,3,FALSE),\"\")","v":""},"","","","","",""]
["","","","","","",{"$f":"IF(F3231<>\"\",VLOOKUP($F3231,'TA STOCK LOOKUP'!$A$2:$C$202,2,FALSE),\"\")","v":""},{"$f":"IF(G3231<>\"\",VLOOKUP($F3231,'TA STOCK LOOKUP'!$A$2:$C$202,3,FALSE),\"\")","v":""},"","","","","",""]
["","","","","","",{"$f":"IF(F3236<>\"\",VLOOKUP($F3236,'TA STOCK LOOKUP'!$A$2:$C$202,2,FALSE),\"\")","v":""},{"$f":"IF(G3236<>\"\",VLOOKUP($F3236,'TA STOCK LOOKUP'!$A$2:$C$202,3,FALSE),\"\")","v":""},"","","","","",""]
["","","","","","",{"$f":"IF(F3241<>\"\",VLOOKUP($F3241,'TA STOCK LOOKUP'!$A$2:$C$202,2,FALSE),\"\")","v":""},{"$f":"IF(G3241<>\"\",VLOOKUP($F3241,'TA STOCK LOOKUP'!$A$2:$C$202,3,FALSE),\"\")","v":""},"","","","","",""]
["","","","","","",{"$f":"IF(F3242<>\"\",VLOOKUP($F3242,'TA STOCK LOOKUP'!$A$2:$C$202,2,FALSE),\"\")","v":""},{"$f":"IF(G3242<>\"\",VLOOKUP($F3242,'TA STOCK LOOKUP'!$A$2:$C$202,3,FALSE),\"\")","v":""},"","","","","",""]
["","","","","","",{"$f":"IF(F3247<>\"\",VLOOKUP($F3247,'TA STOCK LOOKUP'!$A$2:$C$202,2,FALSE),\"\")","v":""},{"$f":"IF(G3247<>\"\",VLOOKUP($F3247,'TA STOCK LOOKUP'!$A$2:$C$202,3,FALSE),\"\")","v":""},"","","","","",""]
["","","","","","",{"$f":"IF(F3251<>\"\",VLOOKUP($F3251,'TA STOCK LOOKUP'!$A$2:$C$202,2,FALSE),\"\")","v":""},{"$f":"IF(G3251<>\"\",VLOOKUP($F3251,'TA STOCK LOOKUP'!$A$2:$C$202,3,FALSE),\"\")","v":""},"","","","","",""]
["","","","","","",{"$f":"IF(F3256<>\"\",VLOOKUP($F3256,'TA STOCK LOOKUP'!$A$2:$C$202,2,FALSE),\"\")","v":""},{"$f":"IF(G3256<>\"\",VLOOKUP($F3256,'TA STOCK LOOKUP'!$A$2:$C$202,3,FALSE),\"\")","v":""},"","","","","",""]
["","","","","","",{"$f":"IF(F3257<>\"\",VLOOKUP($F3257,'TA STOCK LOOKUP'!$A$2:$C$202,2,FALSE),\"\")","v":""},{"$f":"IF(G3257<>\"\",VLOOKUP($F3257,'TA STOCK LOOKUP'!$A$2:$C$202,3,FALSE),\"\")","v":""},"","","","","",""]
["","","","","","",{"$f":"IF(F3261<>\"\",VLOOKUP($F3261,'TA STOCK LOOKUP'!$A$2:$C$202,2,FALSE),\"\")","v":""},{"$f":"IF(G3261<>\"\",VLOOKUP($F3261,'TA STOCK LOOKUP'!$A$2:$C$202,3,FALSE),\"\")","v":""},"","","","","",""]
["","","","","","",{"$f":"IF(F3266<>\"\",VLOOKUP($F3266,'TA STOCK LOOKUP'!$A$2:$C$202,2,FALSE),\"\")","v":""},{"$f":"IF(G3266<>\"\",VLOOKUP($F3266,'TA STOCK LOOKUP'!$A$2:$C$202,3,FALSE),\"\")","v":""},"","","","","",""]
["","","","","","",{"$f":"IF(F3271<>\"\",VLOOKUP($F3271,'TA STOCK LOOKUP'!$A$2:$C$202,2,FALSE),\"\")","v":""},{"$f":"IF(G3271<>\"\",VLOOKUP($F3271,'TA STOCK LOOKUP'!$A$2:$C$202,3,FALSE),\"\")","v":""},"","","","","",""]
["","","","","","",{"$f":"IF(F3272<>\"\",VLOOKUP($F3272,'TA STOCK LOOKUP'!$A$2:$C$202,2,FALSE),\"\")","v":""},{"$f":"IF(G3272<>\"\",VLOOKUP($F3272,'TA STOCK LOOKUP'!$A$2:$C$202,3,FALSE),\"\")","v":""},"","","","","",""]
["","","","","","",{"$f":"IF(F3277<>\"\",VLOOKUP($F3277,'TA STOCK LOOKUP'!$A$2:$C$202,2,FALSE),\"\")","v":""},{"$f":"IF(G3277<>\"\",VLOOKUP($F3277,'TA STOCK LOOKUP'!$A$2:$C$202,3,FALSE),\"\")","v":""},"","","","","",""]
["","","","","","",{"$f":"IF(F3281<>\"\",VLOOKUP($F3281,'TA STOCK LOOKUP'!$A$2:$C$202,2,FALSE),\"\")","v":""},{"$f":"IF(G3281<>\"\",VLOOKUP($F3281,'TA STOCK LOOKUP'!$A$2:$C$202,3,FALSE),\"\")","v":""},"","","","","",""]
["","","","","","",{"$f":"IF(F3286<>\"\",VLOOKUP($F3286,'TA STOCK LOOKUP'!$A$2:$C$202,2,FALSE),\"\")","v":""},{"$f":"IF(G3286<>\"\",VLOOKUP($F3286,'TA STOCK LOOKUP'!$A$2:$C$202,3,FALSE),\"\")","v":""},"","","","","",""]
["","","","","","",{"$f":"IF(F3287<>\"\",VLOOKUP($F3287,'TA STOCK LOOKUP'!$A$2:$C$202,2,FALSE),\"\")","v":""},{"$f":"IF(G3287<>\"\",VLOOKUP($F3287,'TA STOCK LOOKUP'!$A$2:$C$202,3,FALSE),\"\")","v":""},"","","","","",""]
["","","","","","",{"$f":"IF(F3291<>\"\",VLOOKUP($F3291,'TA STOCK LOOKUP'!$A$2:$C$202,2,FALSE),\"\")","v":""},{"$f":"IF(G3291<>\"\",VLOOKUP($F3291,'TA STOCK LOOKUP'!$A$2:$C$202,3,FALSE),\"\")","v":""},"","","","","",""]
["","","","","","",{"$f":"IF(F3296<>\"\",VLOOKUP($F3296,'TA STOCK LOOKUP'!$A$2:$C$202,2,FALSE),\"\")","v":""},{"$f":"IF(G3296<>\"\",VLOOKUP($F3296,'TA STOCK LOOKUP'!$A$2:$C$202,3,FALSE),\"\")","v":""},"","","","","",""]
["","","","","","",{"$f":"IF(F3301<>\"\",VLOOKUP($F3301,'TA STOCK LOOKUP'!$A$2:$C$202,2,FALSE),\"\")","v":""},{"$f":"IF(G3301<>\"\",VLOOKUP($F3301,'TA STOCK LOOKUP'!$A$2:$C$202,3,FALSE),\"\")","v":""},"","","","","",""]
["","","","","","",{"$f":"IF(F3302<>\"\",VLOOKUP($F3302,'TA STOCK LOOKUP'!$A$2:$C$202,2,FALSE),\"\")","v":""},{"$f":"IF(G3302<>\"\",VLOOKUP($F3302,'TA STOCK LOOKUP'!$A$2:$C$202,3,FALSE),\"\")","v":""},"","","","","",""]
["","","","","","",{"$f":"IF(F3307<>\"\",VLOOKUP($F3307,'TA STOCK LOOKUP'!$A$2:$C$202,2,FALSE),\"\")","v":""},{"$f":"IF(G3307<>\"\",VLOOKUP($F3307,'TA STOCK LOOKUP'!$A$2:$C$202,3,FALSE),\"\")","v":""},"","","","","",""]
["","","","","","",{"$f":"IF(F3311<>\"\",VLOOKUP($F3311,'TA STOCK LOOKUP'!$A$2:$C$202,2,FALSE),\"\")","v":""},{"$f":"IF(G3311<>\"\",VLOOKUP($F3311,'TA STOCK LOOKUP'!$A$2:$C$202,3,FALSE),\"\")","v":""},"","","","","",""]
["","","","","","",{"$f":"IF(F3316<>\"\",VLOOKUP($F3316,'TA STOCK LOOKUP'!$A$2:$C$202,2,FALSE),\"\")","v":""},{"$f":"IF(G3316<>\"\",VLOOKUP($F3316,'TA STOCK LOOKUP'!$A$2:$C$202,3,FALSE),\"\")","v":""},"","","","","",""]
["","","","","","",{"$f":"IF(F3317<>\"\",VLOOKUP($F3317,'TA STOCK LOOKUP'!$A$2:$C$202,2,FALSE),\"\")","v":""},{"$f":"IF(G3317<>\"\",VLOOKUP($F3317,'TA STOCK LOOKUP'!$A$2:$C$202,3,FALSE),\"\")","v":""},"","","","","",""]
["","","","","","",{"$f":"IF(F3321<>\"\",VLOOKUP($F3321,'TA STOCK LOOKUP'!$A$2:$C$202,2,FALSE),\"\")","v":""},{"$f":"IF(G3321<>\"\",VLOOKUP($F3321,'TA STOCK LOOKUP'!$A$2:$C$202,3,FALSE),\"\")","v":""},"","","","","",""]
["","","","","","",{"$f":"IF(F3326<>\"\",VLOOKUP($F3326,'TA STOCK LOOKUP'!$A$2:$C$202,2,FALSE),\"\")","v":""},{"$f":"IF(G3326<>\"\",VLOOKUP($F3326,'TA STOCK LOOKUP'!$A$2:$C$202,3,FALSE),\"\")","v":""},"","","","","",""]
["","","","","","",{"$f":"IF(F3331<>\"\",VLOOKUP($F3331,'TA STOCK LOOKUP'!$A$2:$C$202,2,FALSE),\"\")","v":""},{"$f":"IF(G3331<>\"\",VLOOKUP($F3331,'TA STOCK LOOKUP'!$A$2:$C$202,3,FALSE),\"\")","v":""},"","","","","",""]
["","","","","","",{"$f":"IF(F3332<>\"\",VLOOKUP($F3332,'TA STOCK LOOKUP'!$A$2:$C$202,2,FALSE),\"\")","v":""},{"$f":"IF(G3332<>\"\",VLOOKUP($F3332,'TA STOCK LOOKUP'!$A$2:$C$202,3,FALSE),\"\")","v":""},"","","","","",""]
["","","","","","",{"$f":"IF(F3337<>\"\",VLOOKUP($F3337,'TA STOCK LOOKUP'!$A$2:$C$202,2,FALSE),\"\")","v":""},{"$f":"IF(G3337<>\"\",VLOOKUP($F3337,'TA STOCK LOOKUP'!$A$2:$C$202,3,FALSE),\"\")","v":""},"","","","","",""]
["","","","","","",{"$f":"IF(F3341<>\"\",VLOOKUP($F3341,'TA STOCK LOOKUP'!$A$2:$C$202,2,FALSE),\"\")","v":""},{"$f":"IF(G3341<>\"\",VLOOKUP($F3341,'TA STOCK LOOKUP'!$A$2:$C$202,3,FALSE),\"\")","v":""},"","","","","",""]
["","","","","","",{"$f":"IF(F3346<>\"\",VLOOKUP($F3346,'TA STOCK LOOKUP'!$A$2:$C$202,2,FALSE),\"\")","v":""},{"$f":"IF(G3346<>\"\",VLOOKUP($F3346,'TA STOCK LOOKUP'!$A$2:$C$202,3,FALSE),\"\")","v":""},"","","","","",""]
["","","","","","",{"$f":"IF(F3347<>\"\",VLOOKUP($F3347,'TA STOCK LOOKUP'!$A$2:$C$202,2,FALSE),\"\")","v":""},{"$f":"IF(G3347<>\"\",VLOOKUP($F3347,'TA STOCK LOOKUP'!$A$2:$C$202,3,FALSE),\"\")","v":""},"","","","","",""]
["","","","","","",{"$f":"IF(F3351<>\"\",VLOOKUP($F3351,'TA STOCK LOOKUP'!$A$2:$C$202,2,FALSE),\"\")","v":""},{"$f":"IF(G3351<>\"\",VLOOKUP($F3351,'TA STOCK LOOKUP'!$A$2:$C$202,3,FALSE),\"\")","v":""},"","","","","",""]
["","","","","","",{"$f":"IF(F3356<>\"\",VLOOKUP($F3356,'TA STOCK LOOKUP'!$A$2:$C$202,2,FALSE),\"\")","v":""},{"$f":"IF(G3356<>\"\",VLOOKUP($F3356,'TA STOCK LOOKUP'!$A$2:$C$202,3,FALSE),\"\")","v":""},"","","","","",""]
["","","","","","",{"$f":"IF(F3361<>\"\",VLOOKUP($F3361,'TA STOCK LOOKUP'!$A$2:$C$202,2,FALSE),\"\")","v":""},{"$f":"IF(G3361<>\"\",VLOOKUP($F3361,'TA STOCK LOOKUP'!$A$2:$C$202,3,FALSE),\"\")","v":""},"","","","","",""]
["","","","","","",{"$f":"IF(F3362<>\"\",VLOOKUP($F3362,'TA STOCK LOOKUP'!$A$2:$C$202,2,FALSE),\"\")","v":""},{"$f":"IF(G3362<>\"\",VLOOKUP($F3362,'TA STOCK LOOKUP'!$A$2:$C$202,3,FALSE),\"\")","v":""},"","","","","",""]
["","","","","","",{"$f":"IF(F3368<>\"\",VLOOKUP($F3368,'TA STOCK LOOKUP'!$A$2:$C$202,2,FALSE),\"\")","v":""},{"$f":"IF(G3368<>\"\",VLOOKUP($F3368,'TA STOCK LOOKUP'!$A$2:$C$202,3,FALSE),\"\")","v":""},"","","","","",""]
["","","","","","",{"$f":"IF(F3371<>\"\",VLOOKUP($F3371,'TA STOCK LOOKUP'!$A$2:$C$202,2,FALSE),\"\")","v":""},{"$f":"IF(G3371<>\"\",VLOOKUP($F3371,'TA STOCK LOOKUP'!$A$2:$C$202,3,FALSE),\"\")","v":""},"","","","","",""]
["","","","","","",{"$f":"IF(F3376<>\"\",VLOOKUP($F3376,'TA STOCK LOOKUP'!$A$2:$C$202,2,FALSE),\"\")","v":""},{"$f":"IF(G3376<>\"\",VLOOKUP($F3376,'TA STOCK LOOKUP'!$A$2:$C$202,3,FALSE),\"\")","v":""},"","","","","",""]
["","","","","","",{"$f":"IF(F3377<>\"\",VLOOKUP($F3377,'TA STOCK LOOKUP'!$A$2:$C$202,2,FALSE),\"\")","v":""},{"$f":"IF(G3377<>\"\",VLOOKUP($F3377,'TA STOCK LOOKUP'!$A$2:$C$202,3,FALSE),\"\")","v":""},"","","","","",""]
["","","","","","",{"$f":"IF(F3381<>\"\",VLOOKUP($F3381,'TA STOCK LOOKUP'!$A$2:$C$202,2,FALSE),\"\")","v":""},{"$f":"IF(G3381<>\"\",VLOOKUP($F3381,'TA STOCK LOOKUP'!$A$2:$C$202,3,FALSE),\"\")","v":""},"","","","","",""]
["","","","","","",{"$f":"IF(F3386<>\"\",VLOOKUP($F3386,'TA STOCK LOOKUP'!$A$2:$C$202,2,FALSE),\"\")","v":""},{"$f":"IF(G3386<>\"\",VLOOKUP($F3386,'TA STOCK LOOKUP'!$A$2:$C$202,3,FALSE),\"\")","v":""},"","","","","",""]
["","","","","","",{"$f":"IF(F3391<>\"\",VLOOKUP($F3391,'TA STOCK LOOKUP'!$A$2:$C$202,2,FALSE),\"\")","v":""},{"$f":"IF(G3391<>\"\",VLOOKUP($F3391,'TA STOCK LOOKUP'!$A$2:$C$202,3,FALSE),\"\")","v":""},"","","","","",""]
["","","","","","",{"$f":"IF(F3392<>\"\",VLOOKUP($F3392,'TA STOCK LOOKUP'!$A$2:$C$202,2,FALSE),\"\")","v":""},{"$f":"IF(G3392<>\"\",VLOOKUP($F3392,'TA STOCK LOOKUP'!$A$2:$C$202,3,FALSE),\"\")","v":""},"","","","","",""]
["","","","","","",{"$f":"IF(F3398<>\"\",VLOOKUP($F3398,'TA STOCK LOOKUP'!$A$2:$C$202,2,FALSE),\"\")","v":""},{"$f":"IF(G3398<>\"\",VLOOKUP($F3398,'TA STOCK LOOKUP'!$A$2:$C$202,3,FALSE),\"\")","v":""},"","","","","",""]
["","","","","","",{"$f":"IF(F3401<>\"\",VLOOKUP($F3401,'TA STOCK LOOKUP'!$A$2:$C$202,2,FALSE),\"\")","v":""},{"$f":"IF(G3401<>\"\",VLOOKUP($F3401,'TA STOCK LOOKUP'!$A$2:$C$202,3,FALSE),\"\")","v":""},"","","","","",""]
["","","","","","",{"$f":"IF(F3406<>\"\",VLOOKUP($F3406,'TA STOCK LOOKUP'!$A$2:$C$202,2,FALSE),\"\")","v":""},{"$f":"IF(G3406<>\"\",VLOOKUP($F3406,'TA STOCK LOOKUP'!$A$2:$C$202,3,FALSE),\"\")","v":""},"","","","","",""]
["","","","","","",{"$f":"IF(F3407<>\"\",VLOOKUP($F3407,'TA STOCK LOOKUP'!$A$2:$C$202,2,FALSE),\"\")","v":""},{"$f":"IF(G3407<>\"\",VLOOKUP($F3407,'TA STOCK LOOKUP'!$A$2:$C$202,3,FALSE),\"\")","v":""},"","","","","",""]
["","","","","","",{"$f":"IF(F3411<>\"\",VLOOKUP($F3411,'TA STOCK LOOKUP'!$A$2:$C$202,2,FALSE),\"\")","v":""},{"$f":"IF(G3411<>\"\",VLOOKUP($F3411,'TA STOCK LOOKUP'!$A$2:$C$202,3,FALSE),\"\")","v":""},"","","","","",""]
["","","","","","",{"$f":"IF(F3416<>\"\",VLOOKUP($F3416,'TA STOCK LOOKUP'!$A$2:$C$202,2,FALSE),\"\")","v":""},{"$f":"IF(G3416<>\"\",VLOOKUP($F3416,'TA STOCK LOOKUP'!$A$2:$C$202,3,FALSE),\"\")","v":""},"","","","","",""]
["","","","","","",{"$f":"IF(F3421<>\"\",VLOOKUP($F3421,'TA STOCK LOOKUP'!$A$2:$C$202,2,FALSE),\"\")","v":""},{"$f":"IF(G3421<>\"\",VLOOKUP($F3421,'TA STOCK LOOKUP'!$A$2:$C$202,3,FALSE),\"\")","v":""},"","","","","",""]
["","","","","","",{"$f":"IF(F3422<>\"\",VLOOKUP($F3422,'TA STOCK LOOKUP'!$A$2:$C$202,2,FALSE),\"\")","v":""},{"$f":"IF(G3422<>\"\",VLOOKUP($F3422,'TA STOCK LOOKUP'!$A$2:$C$202,3,FALSE),\"\")","v":""},"","","","","",""]
["","","","","","",{"$f":"IF(F3428<>\"\",VLOOKUP($F3428,'TA STOCK LOOKUP'!$A$2:$C$202,2,FALSE),\"\")","v":""},{"$f":"IF(G3428<>\"\",VLOOKUP($F3428,'TA STOCK LOOKUP'!$A$2:$C$202,3,FALSE),\"\")","v":""},"","","","","",""]
["","","","","","",{"$f":"IF(F3431<>\"\",VLOOKUP($F3431,'TA STOCK LOOKUP'!$A$2:$C$202,2,FALSE),\"\")","v":""},{"$f":"IF(G3431<>\"\",VLOOKUP($F3431,'TA STOCK LOOKUP'!$A$2:$C$202,3,FALSE),\"\")","v":""},"","","","","",""]
["","","","","","",{"$f":"IF(F3436<>\"\",VLOOKUP($F3436,'TA STOCK LOOKUP'!$A$2:$C$202,2,FALSE),\"\")","v":""},{"$f":"IF(G3436<>\"\",VLOOKUP($F3436,'TA STOCK LOOKUP'!$A$2:$C$202,3,FALSE),\"\")","v":""},"","","","","",""]
["","","","","","",{"$f":"IF(F3437<>\"\",VLOOKUP($F3437,'TA STOCK LOOKUP'!$A$2:$C$202,2,FALSE),\"\")","v":""},{"$f":"IF(G3437<>\"\",VLOOKUP($F3437,'TA STOCK LOOKUP'!$A$2:$C$202,3,FALSE),\"\")","v":""},"","","","","",""]
["","","","","","",{"$f":"IF(F3441<>\"\",VLOOKUP($F3441,'TA STOCK LOOKUP'!$A$2:$C$202,2,FALSE),\"\")","v":""},{"$f":"IF(G3441<>\"\",VLOOKUP($F3441,'TA STOCK LOOKUP'!$A$2:$C$202,3,FALSE),\"\")","v":""},"","","","","",""]
["","","","","","",{"$f":"IF(F3446<>\"\",VLOOKUP($F3446,'TA STOCK LOOKUP'!$A$2:$C$202,2,FALSE),\"\")","v":""},{"$f":"IF(G3446<>\"\",VLOOKUP($F3446,'TA STOCK LOOKUP'!$A$2:$C$202,3,FALSE),\"\")","v":""},"","","","","",""]
["","","","","","",{"$f":"IF(F3451<>\"\",VLOOKUP($F3451,'TA STOCK LOOKUP'!$A$2:$C$202,2,FALSE),\"\")","v":""},{"$f":"IF(G3451<>\"\",VLOOKUP($F3451,'TA STOCK LOOKUP'!$A$2:$C$202,3,FALSE),\"\")","v":""},"","","","","",""]
["","","","","","",{"$f":"IF(F3452<>\"\",VLOOKUP($F3452,'TA STOCK LOOKUP'!$A$2:$C$202,2,FALSE),\"\")","v":""},{"$f":"IF(G3452<>\"\",VLOOKUP($F3452,'TA STOCK LOOKUP'!$A$2:$C$202,3,FALSE),\"\")","v":""},"","","","","",""]
["","","","","","",{"$f":"IF(F3458<>\"\",VLOOKUP($F3458,'TA STOCK LOOKUP'!$A$2:$C$202,2,FALSE),\"\")","v":""},{"$f":"IF(G3458<>\"\",VLOOKUP($F3458,'TA STOCK LOOKUP'!$A$2:$C$202,3,FALSE),\"\")","v":""},"","","","","",""]
["","","","","","",{"$f":"IF(F3461<>\"\",VLOOKUP($F3461,'TA STOCK LOOKUP'!$A$2:$C$202,2,FALSE),\"\")","v":""},{"$f":"IF(G3461<>\"\",VLOOKUP($F3461,'TA STOCK LOOKUP'!$A$2:$C$202,3,FALSE),\"\")","v":""},"","","","","",""]
["","","","","","",{"$f":"IF(F3466<>\"\",VLOOKUP($F3466,'TA STOCK LOOKUP'!$A$2:$C$202,2,FALSE),\"\")","v":""},{"$f":"IF(G3466<>\"\",VLOOKUP($F3466,'TA STOCK LOOKUP'!$A$2:$C$202,3,FALSE),\"\")","v":""},"","","","","",""]
["","","","","","",{"$f":"IF(F3467<>\"\",VLOOKUP($F3467,'TA STOCK LOOKUP'!$A$2:$C$202,2,FALSE),\"\")","v":""},{"$f":"IF(G3467<>\"\",VLOOKUP($F3467,'TA STOCK LOOKUP'!$A$2:$C$202,3,FALSE),\"\")","v":""},"","","","","",""]
["","","","","","",{"$f":"IF(F3471<>\"\",VLOOKUP($F3471,'TA STOCK LOOKUP'!$A$2:$C$202,2,FALSE),\"\")","v":""},{"$f":"IF(G3471<>\"\",VLOOKUP($F3471,'TA STOCK LOOKUP'!$A$2:$C$202,3,FALSE),\"\")","v":""},"","","","","",""]
["","","","","","",{"$f":"IF(F3476<>\"\",VLOOKUP($F3476,'TA STOCK LOOKUP'!$A$2:$C$202,2,FALSE),\"\")","v":""},{"$f":"IF(G3476<>\"\",VLOOKUP($F3476,'TA STOCK LOOKUP'!$A$2:$C$202,3,FALSE),\"\")","v":""},"","","","","",""]
["","","","","","",{"$f":"IF(F3481<>\"\",VLOOKUP($F3481,'TA STOCK LOOKUP'!$A$2:$C$202,2,FALSE),\"\")","v":""},{"$f":"IF(G3481<>\"\",VLOOKUP($F3481,'TA STOCK LOOKUP'!$A$2:$C$202,3,FALSE),\"\")","v":""},"","","","","",""]
["","","","","","",{"$f":"IF(F3482<>\"\",VLOOKUP($F3482,'TA STOCK LOOKUP'!$A$2:$C$202,2,FALSE),\"\")","v":""},{"$f":"IF(G3482<>\"\",VLOOKUP($F3482,'TA STOCK LOOKUP'!$A$2:$C$202,3,FALSE),\"\")","v":""},"","","","","",""]
["","","","","","",{"$f":"IF(F3488<>\"\",VLOOKUP($F3488,'TA STOCK LOOKUP'!$A$2:$C$202,2,FALSE),\"\")","v":""},{"$f":"IF(G3488<>\"\",VLOOKUP($F3488,'TA STOCK LOOKUP'!$A$2:$C$202,3,FALSE),\"\")","v":""},"","","","","",""]
["","","","","","",{"$f":"IF(F3491<>\"\",VLOOKUP($F3491,'TA STOCK LOOKUP'!$A$2:$C$202,2,FALSE),\"\")","v":""},{"$f":"IF(G3491<>\"\",VLOOKUP($F3491,'TA STOCK LOOKUP'!$A$2:$C$202,3,FALSE),\"\")","v":""},"","","","","",""]
["","","","","","",{"$f":"IF(F3496<>\"\",VLOOKUP($F3496,'TA STOCK LOOKUP'!$A$2:$C$202,2,FALSE),\"\")","v":""},{"$f":"IF(G3496<>\"\",VLOOKUP($F3496,'TA STOCK LOOKUP'!$A$2:$C$202,3,FALSE),\"\")","v":""},"","","","","",""]
["","","","","","",{"$f":"IF(F3497<>\"\",VLOOKUP($F3497,'TA STOCK LOOKUP'!$A$2:$C$202,2,FALSE),\"\")","v":""},{"$f":"IF(G3497<>\"\",VLOOKUP($F3497,'TA STOCK LOOKUP'!$A$2:$C$202,3,FALSE),\"\")","v":""},"","","","","",""]
["","","","","","",{"$f":"IF(F3501<>\"\",VLOOKUP($F3501,'TA STOCK LOOKUP'!$A$2:$C$202,2,FALSE),\"\")","v":""},{"$f":"IF(G3501<>\"\",VLOOKUP($F3501,'TA STOCK LOOKUP'!$A$2:$C$202,3,FALSE),\"\")","v":""},"","","","","",""]
["","","","","","",{"$f":"IF(F3506<>\"\",VLOOKUP($F3506,'TA STOCK LOOKUP'!$A$2:$C$202,2,FALSE),\"\")","v":""},{"$f":"IF(G3506<>\"\",VLOOKUP($F3506,'TA STOCK LOOKUP'!$A$2:$C$202,3,FALSE),\"\")","v":""},"","","","","",""]
["","","","","","",{"$f":"IF(F3511<>\"\",VLOOKUP($F3511,'TA STOCK LOOKUP'!$A$2:$C$202,2,FALSE),\"\")","v":""},{"$f":"IF(G3511<>\"\",VLOOKUP($F3511,'TA STOCK LOOKUP'!$A$2:$C$202,3,FALSE),\"\")","v":""},"","","","","",""]
["","","","","","",{"$f":"IF(F3512<>\"\",VLOOKUP($F3512,'TA STOCK LOOKUP'!$A$2:$C$202,2,FALSE),\"\")","v":""},{"$f":"IF(G3512<>\"\",VLOOKUP($F3512,'TA STOCK LOOKUP'!$A$2:$C$202,3,FALSE),\"\")","v":""},"","","","","",""]
["","","","","","",{"$f":"IF(F3518<>\"\",VLOOKUP($F3518,'TA STOCK LOOKUP'!$A$2:$C$202,2,FALSE),\"\")","v":""},{"$f":"IF(G3518<>\"\",VLOOKUP($F3518,'TA STOCK LOOKUP'!$A$2:$C$202,3,FALSE),\"\")","v":""},"","","","","",""]
["","","","","","",{"$f":"IF(F3521<>\"\",VLOOKUP($F3521,'TA STOCK LOOKUP'!$A$2:$C$202,2,FALSE),\"\")","v":""},{"$f":"IF(G3521<>\"\",VLOOKUP($F3521,'TA STOCK LOOKUP'!$A$2:$C$202,3,FALSE),\"\")","v":""},"","","","","",""]
["","","","","","",{"$f":"IF(F3526<>\"\",VLOOKUP($F3526,'TA STOCK LOOKUP'!$A$2:$C$202,2,FALSE),\"\")","v":""},{"$f":"IF(G3526<>\"\",VLOOKUP($F3526,'TA STOCK LOOKUP'!$A$2:$C$202,3,FALSE),\"\")","v":""},"","","","","",""]
["","","","","","",{"$f":"IF(F3527<>\"\",VLOOKUP($F3527,'TA STOCK LOOKUP'!$A$2:$C$202,2,FALSE),\"\")","v":""},{"$f":"IF(G3527<>\"\",VLOOKUP($F3527,'TA STOCK LOOKUP'!$A$2:$C$202,3,FALSE),\"\")","v":""},"","","","","",""]
["","","","","","",{"$f":"IF(F3531<>\"\",VLOOKUP($F3531,'TA STOCK LOOKUP'!$A$2:$C$202,2,FALSE),\"\")","v":""},{"$f":"IF(G3531<>\"\",VLOOKUP($F3531,'TA STOCK LOOKUP'!$A$2:$C$202,3,FALSE),\"\")","v":""},"","","","","",""]
["","","","","","",{"$f":"IF(F3536<>\"\",VLOOKUP($F3536,'TA STOCK LOOKUP'!$A$2:$C$202,2,FALSE),\"\")","v":""},{"$f":"IF(G3536<>\"\",VLOOKUP($F3536,'TA STOCK LOOKUP'!$A$2:$C$202,3,FALSE),\"\")","v":""},"","","","","",""]
["","","","","","",{"$f":"IF(F3541<>\"\",VLOOKUP($F3541,'TA STOCK LOOKUP'!$A$2:$C$202,2,FALSE),\"\")","v":""},{"$f":"IF(G3541<>\"\",VLOOKUP($F3541,'TA STOCK LOOKUP'!$A$2:$C$202,3,FALSE),\"\")","v":""},"","","","","",""]
["","","","","","",{"$f":"IF(F3542<>\"\",VLOOKUP($F3542,'TA STOCK LOOKUP'!$A$2:$C$202,2,FALSE),\"\")","v":""},{"$f":"IF(G3542<>\"\",VLOOKUP($F3542,'TA STOCK LOOKUP'!$A$2:$C$202,3,FALSE),\"\")","v":""},"","","","","",""]
["","","","","","",{"$f":"IF(F3548<>\"\",VLOOKUP($F3548,'TA STOCK LOOKUP'!$A$2:$C$202,2,FALSE),\"\")","v":""},{"$f":"IF(G3548<>\"\",VLOOKUP($F3548,'TA STOCK LOOKUP'!$A$2:$C$202,3,FALSE),\"\")","v":""},"","","","","",""]
["","","","","","",{"$f":"IF(F3551<>\"\",VLOOKUP($F3551,'TA STOCK LOOKUP'!$A$2:$C$202,2,FALSE),\"\")","v":""},{"$f":"IF(G3551<>\"\",VLOOKUP($F3551,'TA STOCK LOOKUP'!$A$2:$C$202,3,FALSE),\"\")","v":""},"","","","","",""]
["","","","","","",{"$f":"IF(F3556<>\"\",VLOOKUP($F3556,'TA STOCK LOOKUP'!$A$2:$C$202,2,FALSE),\"\")","v":""},{"$f":"IF(G3556<>\"\",VLOOKUP($F3556,'TA STOCK LOOKUP'!$A$2:$C$202,3,FALSE),\"\")","v":""},"","","","","",""]
["","","","","","",{"$f":"IF(F3557<>\"\",VLOOKUP($F3557,'TA STOCK LOOKUP'!$A$2:$C$202,2,FALSE),\"\")","v":""},{"$f":"IF(G3557<>\"\",VLOOKUP($F3557,'TA STOCK LOOKUP'!$A$2:$C$202,3,FALSE),\"\")","v":""},"","","","","",""]
["","","","","","",{"$f":"IF(F3561<>\"\",VLOOKUP($F3561,'TA STOCK LOOKUP'!$A$2:$C$202,2,FALSE),\"\")","v":""},{"$f":"IF(G3561<>\"\",VLOOKUP($F3561,'TA STOCK LOOKUP'!$A$2:$C$202,3,FALSE),\"\")","v":""},"","","","","",""]
["","","","","","",{"$f":"IF(F3566<>\"\",VLOOKUP($F3566,'TA STOCK LOOKUP'!$A$2:$C$202,2,FALSE),\"\")","v":""},{"$f":"IF(G3566<>\"\",VLOOKUP($F3566,'TA STOCK LOOKUP'!$A$2:$C$202,3,FALSE),\"\")","v":""},"","","","","",""]
["","","","","","",{"$f":"IF(F3571<>\"\",VLOOKUP($F3571,'TA STOCK LOOKUP'!$A$2:$C$202,2,FALSE),\"\")","v":""},{"$f":"IF(G3571<>\"\",VLOOKUP($F3571,'TA STOCK LOOKUP'!$A$2:$C$202,3,FALSE),\"\")","v":""},"","","","","",""]
["","","","","","",{"$f":"IF(F3572<>\"\",VLOOKUP($F3572,'TA STOCK LOOKUP'!$A$2:$C$202,2,FALSE),\"\")","v":""},{"$f":"IF(G3572<>\"\",VLOOKUP($F3572,'TA STOCK LOOKUP'!$A$2:$C$202,3,FALSE),\"\")","v":""},"","","","","",""]
["","","","","","",{"$f":"IF(F3578<>\"\",VLOOKUP($F3578,'TA STOCK LOOKUP'!$A$2:$C$202,2,FALSE),\"\")","v":""},{"$f":"IF(G3578<>\"\",VLOOKUP($F3578,'TA STOCK LOOKUP'!$A$2:$C$202,3,FALSE),\"\")","v":""},"","","","","",""]
["","","","","","",{"$f":"IF(F3581<>\"\",VLOOKUP($F3581,'TA STOCK LOOKUP'!$A$2:$C$202,2,FALSE),\"\")","v":""},{"$f":"IF(G3581<>\"\",VLOOKUP($F3581,'TA STOCK LOOKUP'!$A$2:$C$202,3,FALSE),\"\")","v":""},"","","","","",""]
["","","","","","",{"$f":"IF(F3586<>\"\",VLOOKUP($F3586,'TA STOCK LOOKUP'!$A$2:$C$202,2,FALSE),\"\")","v":""},{"$f":"IF(G3586<>\"\",VLOOKUP($F3586,'TA STOCK LOOKUP'!$A$2:$C$202,3,FALSE),\"\")","v":""},"","","","","",""]
["","","","","","",{"$f":"IF(F3587<>\"\",VLOOKUP($F3587,'TA STOCK LOOKUP'!$A$2:$C$202,2,FALSE),\"\")","v":""},{"$f":"IF(G3587<>\"\",VLOOKUP($F3587,'TA STOCK LOOKUP'!$A$2:$C$202,3,FALSE),\"\")","v":""},"","","","","",""]
["","","","","","",{"$f":"IF(F3591<>\"\",VLOOKUP($F3591,'TA STOCK LOOKUP'!$A$2:$C$202,2,FALSE),\"\")","v":""},{"$f":"IF(G3591<>\"\",VLOOKUP($F3591,'TA STOCK LOOKUP'!$A$2:$C$202,3,FALSE),\"\")","v":""},"","","","","",""]
["","","","","","",{"$f":"IF(F3596<>\"\",VLOOKUP($F3596,'TA STOCK LOOKUP'!$A$2:$C$202,2,FALSE),\"\")","v":""},{"$f":"IF(G3596<>\"\",VLOOKUP($F3596,'TA STOCK LOOKUP'!$A$2:$C$202,3,FALSE),\"\")","v":""},"","","","","",""]
["","","","","","",{"$f":"IF(F3601<>\"\",VLOOKUP($F3601,'TA STOCK LOOKUP'!$A$2:$C$202,2,FALSE),\"\")","v":""},{"$f":"IF(G3601<>\"\",VLOOKUP($F3601,'TA STOCK LOOKUP'!$A$2:$C$202,3,FALSE),\"\")","v":""},"","","","","",""]
["","","","","","",{"$f":"IF(F3602<>\"\",VLOOKUP($F3602,'TA STOCK LOOKUP'!$A$2:$C$202,2,FALSE),\"\")","v":""},{"$f":"IF(G3602<>\"\",VLOOKUP($F3602,'TA STOCK LOOKUP'!$A$2:$C$202,3,FALSE),\"\")","v":""},"","","","","",""]
["","","","","","",{"$f":"IF(F3608<>\"\",VLOOKUP($F3608,'TA STOCK LOOKUP'!$A$2:$C$202,2,FALSE),\"\")","v":""},{"$f":"IF(G3608<>\"\",VLOOKUP($F3608,'TA STOCK LOOKUP'!$A$2:$C$202,3,FALSE),\"\")","v":""},"","","","","",""]
["","","","","","",{"$f":"IF(F3611<>\"\",VLOOKUP($F3611,'TA STOCK LOOKUP'!$A$2:$C$202,2,FALSE),\"\")","v":""},{"$f":"IF(G3611<>\"\",VLOOKUP($F3611,'TA STOCK LOOKUP'!$A$2:$C$202,3,FALSE),\"\")","v":""},"","","","","",""]
["","","","","","",{"$f":"IF(F3616<>\"\",VLOOKUP($F3616,'TA STOCK LOOKUP'!$A$2:$C$202,2,FALSE),\"\")","v":""},{"$f":"IF(G3616<>\"\",VLOOKUP($F3616,'TA STOCK LOOKUP'!$A$2:$C$202,3,FALSE),\"\")","v":""},"","","","","",""]
["","","","","","",{"$f":"IF(F3617<>\"\",VLOOKUP($F3617,'TA STOCK LOOKUP'!$A$2:$C$202,2,FALSE),\"\")","v":""},{"$f":"IF(G3617<>\"\",VLOOKUP($F3617,'TA STOCK LOOKUP'!$A$2:$C$202,3,FALSE),\"\")","v":""},"","","","","",""]
["","","","","","",{"$f":"IF(F3622<>\"\",VLOOKUP($F3622,'TA STOCK LOOKUP'!$A$2:$C$202,2,FALSE),\"\")","v":""},{"$f":"IF(G3622<>\"\",VLOOKUP($F3622,'TA STOCK LOOKUP'!$A$2:$C$202,3,FALSE),\"\")","v":""},"","","","","",""]
["","","","","","",{"$f":"IF(F3626<>\"\",VLOOKUP($F3626,'TA STOCK LOOKUP'!$A$2:$C$202,2,FALSE),\"\")","v":""},{"$f":"IF(G3626<>\"\",VLOOKUP($F3626,'TA STOCK LOOKUP'!$A$2:$C$202,3,FALSE),\"\")","v":""},"","","","","",""]
["","","","","","",{"$f":"IF(F3631<>\"\",VLOOKUP($F3631,'TA STOCK LOOKUP'!$A$2:$C$202,2,FALSE),\"\")","v":""},{"$f":"IF(G3631<>\"\",VLOOKUP($F3631,'TA STOCK LOOKUP'!$A$2:$C$202,3,FALSE),\"\")","v":""},"","","","","",""]
["","","","","","",{"$f":"IF(F3632<>\"\",VLOOKUP($F3632,'TA STOCK LOOKUP'!$A$2:$C$202,2,FALSE),\"\")","v":""},{"$f":"IF(G3632<>\"\",VLOOKUP($F3632,'TA STOCK LOOKUP'!$A$2:$C$202,3,FALSE),\"\")","v":""},"","","","","",""]
["","","","","","",{"$f":"IF(F3638<>\"\",VLOOKUP($F3638,'TA STOCK LOOKUP'!$A$2:$C$202,2,FALSE),\"\")","v":""},{"$f":"IF(G3638<>\"\",VLOOKUP($F3638,'TA STOCK LOOKUP'!$A$2:$C$202,3,FALSE),\"\")","v":""},"","","","","",""]
["","","","","","",{"$f":"IF(F3641<>\"\",VLOOKUP($F3641,'TA STOCK LOOKUP'!$A$2:$C$202,2,FALSE),\"\")","v":""},{"$f":"IF(G3641<>\"\",VLOOKUP($F3641,'TA STOCK LOOKUP'!$A$2:$C$202,3,FALSE),\"\")","v":""},"","","","","",""]
["","","","","","",{"$f":"IF(F3646<>\"\",VLOOKUP($F3646,'TA STOCK LOOKUP'!$A$2:$C$202,2,FALSE),\"\")","v":""},{"$f":"IF(G3646<>\"\",VLOOKUP($F3646,'TA STOCK LOOKUP'!$A$2:$C$202,3,FALSE),\"\")","v":""},"","","","","",""]
["","","","","","",{"$f":"IF(F3647<>\"\",VLOOKUP($F3647,'TA STOCK LOOKUP'!$A$2:$C$202,2,FALSE),\"\")","v":""},{"$f":"IF(G3647<>\"\",VLOOKUP($F3647,'TA STOCK LOOKUP'!$A$2:$C$202,3,FALSE),\"\")","v":""},"","","","","",""]
["","","","","","",{"$f":"IF(F3652<>\"\",VLOOKUP($F3652,'TA STOCK LOOKUP'!$A$2:$C$202,2,FALSE),\"\")","v":""},{"$f":"IF(G3652<>\"\",VLOOKUP($F3652,'TA STOCK LOOKUP'!$A$2:$C$202,3,FALSE),\"\")","v":""},"","","","","",""]
["","","","","","",{"$f":"IF(F3656<>\"\",VLOOKUP($F3656,'TA STOCK LOOKUP'!$A$2:$C$202,2,FALSE),\"\")","v":""},{"$f":"IF(G3656<>\"\",VLOOKUP($F3656,'TA STOCK LOOKUP'!$A$2:$C$202,3,FALSE),\"\")","v":""},"","","","","",""]
["","","","","","",{"$f":"IF(F3661<>\"\",VLOOKUP($F3661,'TA STOCK LOOKUP'!$A$2:$C$202,2,FALSE),\"\")","v":""},{"$f":"IF(G3661<>\"\",VLOOKUP($F3661,'TA STOCK LOOKUP'!$A$2:$C$202,3,FALSE),\"\")","v":""},"","","","","",""]
["","","","","","",{"$f":"IF(F3662<>\"\",VLOOKUP($F3662,'TA STOCK LOOKUP'!$A$2:$C$202,2,FALSE),\"\")","v":""},{"$f":"IF(G3662<>\"\",VLOOKUP($F3662,'TA STOCK LOOKUP'!$A$2:$C$202,3,FALSE),\"\")","v":""},"","","","","",""]
["","","","","","",{"$f":"IF(F3668<>\"\",VLOOKUP($F3668,'TA STOCK LOOKUP'!$A$2:$C$202,2,FALSE),\"\")","v":""},{"$f":"IF(G3668<>\"\",VLOOKUP($F3668,'TA STOCK LOOKUP'!$A$2:$C$202,3,FALSE),\"\")","v":""},"","","","","",""]
["","","","","","",{"$f":"IF(F3671<>\"\",VLOOKUP($F3671,'TA STOCK LOOKUP'!$A$2:$C$202,2,FALSE),\"\")","v":""},{"$f":"IF(G3671<>\"\",VLOOKUP($F3671,'TA STOCK LOOKUP'!$A$2:$C$202,3,FALSE),\"\")","v":""},"","","","","",""]
["","","","","","",{"$f":"IF(F3676<>\"\",VLOOKUP($F3676,'TA STOCK LOOKUP'!$A$2:$C$202,2,FALSE),\"\")","v":""},{"$f":"IF(G3676<>\"\",VLOOKUP($F3676,'TA STOCK LOOKUP'!$A$2:$C$202,3,FALSE),\"\")","v":""},"","","","","",""]
["","","","","","",{"$f":"IF(F3677<>\"\",VLOOKUP($F3677,'TA STOCK LOOKUP'!$A$2:$C$202,2,FALSE),\"\")","v":""},{"$f":"IF(G3677<>\"\",VLOOKUP($F3677,'TA STOCK LOOKUP'!$A$2:$C$202,3,FALSE),\"\")","v":""},"","","","","",""]
["","","","","","",{"$f":"IF(F3682<>\"\",VLOOKUP($F3682,'TA STOCK LOOKUP'!$A$2:$C$202,2,FALSE),\"\")","v":""},{"$f":"IF(G3682<>\"\",VLOOKUP($F3682,'TA STOCK LOOKUP'!$A$2:$C$202,3,FALSE),\"\")","v":""},"","","","","",""]
["","","","","","",{"$f":"IF(F3686<>\"\",VLOOKUP($F3686,'TA STOCK LOOKUP'!$A$2:$C$202,2,FALSE),\"\")","v":""},{"$f":"IF(G3686<>\"\",VLOOKUP($F3686,'TA STOCK LOOKUP'!$A$2:$C$202,3,FALSE),\"\")","v":""},"","","","","",""]
["","","","","","",{"$f":"IF(F3691<>\"\",VLOOKUP($F3691,'TA STOCK LOOKUP'!$A$2:$C$202,2,FALSE),\"\")","v":""},{"$f":"IF(G3691<>\"\",VLOOKUP($F3691,'TA STOCK LOOKUP'!$A$2:$C$202,3,FALSE),\"\")","v":""},"","","","","",""]
["","","","","","",{"$f":"IF(F3692<>\"\",VLOOKUP($F3692,'TA STOCK LOOKUP'!$A$2:$C$202,2,FALSE),\"\")","v":""},{"$f":"IF(G3692<>\"\",VLOOKUP($F3692,'TA STOCK LOOKUP'!$A$2:$C$202,3,FALSE),\"\")","v":""},"","","","","",""]
["","","","","","",{"$f":"IF(F3698<>\"\",VLOOKUP($F3698,'TA STOCK LOOKUP'!$A$2:$C$202,2,FALSE),\"\")","v":""},{"$f":"IF(G3698<>\"\",VLOOKUP($F3698,'TA STOCK LOOKUP'!$A$2:$C$202,3,FALSE),\"\")","v":""},"","","","","",""]
["","","","","","",{"$f":"IF(F3701<>\"\",VLOOKUP($F3701,'TA STOCK LOOKUP'!$A$2:$C$202,2,FALSE),\"\")","v":""},{"$f":"IF(G3701<>\"\",VLOOKUP($F3701,'TA STOCK LOOKUP'!$A$2:$C$202,3,FALSE),\"\")","v":""},"","","","","",""]
["","","","","","",{"$f":"IF(F3706<>\"\",VLOOKUP($F3706,'TA STOCK LOOKUP'!$A$2:$C$202,2,FALSE),\"\")","v":""},{"$f":"IF(G3706<>\"\",VLOOKUP($F3706,'TA STOCK LOOKUP'!$A$2:$C$202,3,FALSE),\"\")","v":""},"","","","","",""]
["","","","","","",{"$f":"IF(F3707<>\"\",VLOOKUP($F3707,'TA STOCK LOOKUP'!$A$2:$C$202,2,FALSE),\"\")","v":""},{"$f":"IF(G3707<>\"\",VLOOKUP($F3707,'TA STOCK LOOKUP'!$A$2:$C$202,3,FALSE),\"\")","v":""},"","","","","",""]
["","","","","","",{"$f":"IF(F3712<>\"\",VLOOKUP($F3712,'TA STOCK LOOKUP'!$A$2:$C$202,2,FALSE),\"\")","v":""},{"$f":"IF(G3712<>\"\",VLOOKUP($F3712,'TA STOCK LOOKUP'!$A$2:$C$202,3,FALSE),\"\")","v":""},"","","","","",""]
["","","","","","",{"$f":"IF(F3716<>\"\",VLOOKUP($F3716,'TA STOCK LOOKUP'!$A$2:$C$202,2,FALSE),\"\")","v":""},{"$f":"IF(G3716<>\"\",VLOOKUP($F3716,'TA STOCK LOOKUP'!$A$2:$C$202,3,FALSE),\"\")","v":""},"","","","","",""]
["","","","","","",{"$f":"IF(F3721<>\"\",VLOOKUP($F3721,'TA STOCK LOOKUP'!$A$2:$C$202,2,FALSE),\"\")","v":""},{"$f":"IF(G3721<>\"\",VLOOKUP($F3721,'TA STOCK LOOKUP'!$A$2:$C$202,3,FALSE),\"\")","v":""},"","","","","",""]
["","","","","","",{"$f":"IF(F3722<>\"\",VLOOKUP($F3722,'TA STOCK LOOKUP'!$A$2:$C$202,2,FALSE),\"\")","v":""},{"$f":"IF(G3722<>\"\",VLOOKUP($F3722,'TA STOCK LOOKUP'!$A$2:$C$202,3,FALSE),\"\")","v":""},"","","","","",""]
["","","","","","",{"$f":"IF(F3728<>\"\",VLOOKUP($F3728,'TA STOCK LOOKUP'!$A$2:$C$202,2,FALSE),\"\")","v":""},{"$f":"IF(G3728<>\"\",VLOOKUP($F3728,'TA STOCK LOOKUP'!$A$2:$C$202,3,FALSE),\"\")","v":""},"","","","","",""]
["","","","","","",{"$f":"IF(F3731<>\"\",VLOOKUP($F3731,'TA STOCK LOOKUP'!$A$2:$C$202,2,FALSE),\"\")","v":""},{"$f":"IF(G3731<>\"\",VLOOKUP($F3731,'TA STOCK LOOKUP'!$A$2:$C$202,3,FALSE),\"\")","v":""},"","","","","",""]
["","","","","","",{"$f":"IF(F3736<>\"\",VLOOKUP($F3736,'TA STOCK LOOKUP'!$A$2:$C$202,2,FALSE),\"\")","v":""},{"$f":"IF(G3736<>\"\",VLOOKUP($F3736,'TA STOCK LOOKUP'!$A$2:$C$202,3,FALSE),\"\")","v":""},"","","","","",""]
["","","","","","",{"$f":"IF(F3737<>\"\",VLOOKUP($F3737,'TA STOCK LOOKUP'!$A$2:$C$202,2,FALSE),\"\")","v":""},{"$f":"IF(G3737<>\"\",VLOOKUP($F3737,'TA STOCK LOOKUP'!$A$2:$C$202,3,FALSE),\"\")","v":""},"","","","","",""]
["","","","","","",{"$f":"IF(F3742<>\"\",VLOOKUP($F3742,'TA STOCK LOOKUP'!$A$2:$C$202,2,FALSE),\"\")","v":""},{"$f":"IF(G3742<>\"\",VLOOKUP($F3742,'TA STOCK LOOKUP'!$A$2:$C$202,3,FALSE),\"\")","v":""},"","","","","",""]
["","","","","","",{"$f":"IF(F3746<>\"\",VLOOKUP($F3746,'TA STOCK LOOKUP'!$A$2:$C$202,2,FALSE),\"\")","v":""},{"$f":"IF(G3746<>\"\",VLOOKUP($F3746,'TA STOCK LOOKUP'!$A$2:$C$202,3,FALSE),\"\")","v":""},"","","","","",""]
["","","","","","",{"$f":"IF(F3751<>\"\",VLOOKUP($F3751,'TA STOCK LOOKUP'!$A$2:$C$202,2,FALSE),\"\")","v":""},{"$f":"IF(G3751<>\"\",VLOOKUP($F3751,'TA STOCK LOOKUP'!$A$2:$C$202,3,FALSE),\"\")","v":""},"","","","","",""]
["","","","","","",{"$f":"IF(F3752<>\"\",VLOOKUP($F3752,'TA STOCK LOOKUP'!$A$2:$C$202,2,FALSE),\"\")","v":""},{"$f":"IF(G3752<>\"\",VLOOKUP($F3752,'TA STOCK LOOKUP'!$A$2:$C$202,3,FALSE),\"\")","v":""},"","","","","",""]
["","","","","","",{"$f":"IF(F3758<>\"\",VLOOKUP($F3758,'TA STOCK LOOKUP'!$A$2:$C$202,2,FALSE),\"\")","v":""},{"$f":"IF(G3758<>\"\",VLOOKUP($F3758,'TA STOCK LOOKUP'!$A$2:$C$202,3,FALSE),\"\")","v":""},"","","","","",""]
["","","","","","",{"$f":"IF(F3761<>\"\",VLOOKUP($F3761,'TA STOCK LOOKUP'!$A$2:$C$202,2,FALSE),\"\")","v":""},{"$f":"IF(G3761<>\"\",VLOOKUP($F3761,'TA STOCK LOOKUP'!$A$2:$C$202,3,FALSE),\"\")","v":""},"","","","","",""]
["","","","","","",{"$f":"IF(F3766<>\"\",VLOOKUP($F3766,'TA STOCK LOOKUP'!$A$2:$C$202,2,FALSE),\"\")","v":""},{"$f":"IF(G3766<>\"\",VLOOKUP($F3766,'TA STOCK LOOKUP'!$A$2:$C$202,3,FALSE),\"\")","v":""},"","","","","",""]
["","","","","","",{"$f":"IF(F3767<>\"\",VLOOKUP($F3767,'TA STOCK LOOKUP'!$A$2:$C$202,2,FALSE),\"\")","v":""},{"$f":"IF(G3767<>\"\",VLOOKUP($F3767,'TA STOCK LOOKUP'!$A$2:$C$202,3,FALSE),\"\")","v":""},"","","","","",""]
["","","","","","",{"$f":"IF(F3772<>\"\",VLOOKUP($F3772,'TA STOCK LOOKUP'!$A$2:$C$202,2,FALSE),\"\")","v":""},{"$f":"IF(G3772<>\"\",VLOOKUP($F3772,'TA STOCK LOOKUP'!$A$2:$C$202,3,FALSE),\"\")","v":""},"","","","","",""]
["","","","","","",{"$f":"IF(F3776<>\"\",VLOOKUP($F3776,'TA STOCK LOOKUP'!$A$2:$C$202,2,FALSE),\"\")","v":""},{"$f":"IF(G3776<>\"\",VLOOKUP($F3776,'TA STOCK LOOKUP'!$A$2:$C$202,3,FALSE),\"\")","v":""},"","","","","",""]
["","","","","","",{"$f":"IF(F3781<>\"\",VLOOKUP($F3781,'TA STOCK LOOKUP'!$A$2:$C$202,2,FALSE),\"\")","v":""},{"$f":"IF(G3781<>\"\",VLOOKUP($F3781,'TA STOCK LOOKUP'!$A$2:$C$202,3,FALSE),\"\")","v":""},"","","","","",""]
["","","","","","",{"$f":"IF(F3782<>\"\",VLOOKUP($F3782,'TA STOCK LOOKUP'!$A$2:$C$202,2,FALSE),\"\")","v":""},{"$f":"IF(G3782<>\"\",VLOOKUP($F3782,'TA STOCK LOOKUP'!$A$2:$C$202,3,FALSE),\"\")","v":""},"","","","","",""]
["","","","","","",{"$f":"IF(F3788<>\"\",VLOOKUP($F3788,'TA STOCK LOOKUP'!$A$2:$C$202,2,FALSE),\"\")","v":""},{"$f":"IF(G3788<>\"\",VLOOKUP($F3788,'TA STOCK LOOKUP'!$A$2:$C$202,3,FALSE),\"\")","v":""},"","","","","",""]
["","","","","","",{"$f":"IF(F3791<>\"\",VLOOKUP($F3791,'TA STOCK LOOKUP'!$A$2:$C$202,2,FALSE),\"\")","v":""},{"$f":"IF(G3791<>\"\",VLOOKUP($F3791,'TA STOCK LOOKUP'!$A$2:$C$202,3,FALSE),\"\")","v":""},"","","","","",""]
["","","","","","",{"$f":"IF(F3796<>\"\",VLOOKUP($F3796,'TA STOCK LOOKUP'!$A$2:$C$202,2,FALSE),\"\")","v":""},{"$f":"IF(G3796<>\"\",VLOOKUP($F3796,'TA STOCK LOOKUP'!$A$2:$C$202,3,FALSE),\"\")","v":""},"","","","","",""]
["","","","","","",{"$f":"IF(F3797<>\"\",VLOOKUP($F3797,'TA STOCK LOOKUP'!$A$2:$C$202,2,FALSE),\"\")","v":""},{"$f":"IF(G3797<>\"\",VLOOKUP($F3797,'TA STOCK LOOKUP'!$A$2:$C$202,3,FALSE),\"\")","v":""},"","","","","",""]
["","","","","","",{"$f":"IF(F3802<>\"\",VLOOKUP($F3802,'TA STOCK LOOKUP'!$A$2:$C$202,2,FALSE),\"\")","v":""},{"$f":"IF(G3802<>\"\",VLOOKUP($F3802,'TA STOCK LOOKUP'!$A$2:$C$202,3,FALSE),\"\")","v":""},"","","","","",""]
["","","","","","",{"$f":"IF(F3806<>\"\",VLOOKUP($F3806,'TA STOCK LOOKUP'!$A$2:$C$202,2,FALSE),\"\")","v":""},{"$f":"IF(G3806<>\"\",VLOOKUP($F3806,'TA STOCK LOOKUP'!$A$2:$C$202,3,FALSE),\"\")","v":""},"","","","","",""]
["","","","","","",{"$f":"IF(F3811<>\"\",VLOOKUP($F3811,'TA STOCK LOOKUP'!$A$2:$C$202,2,FALSE),\"\")","v":""},{"$f":"IF(G3811<>\"\",VLOOKUP($F3811,'TA STOCK LOOKUP'!$A$2:$C$202,3,FALSE),\"\")","v":""},"","","","","",""]
["","","","","","",{"$f":"IF(F3812<>\"\",VLOOKUP($F3812,'TA STOCK LOOKUP'!$A$2:$C$202,2,FALSE),\"\")","v":""},{"$f":"IF(G3812<>\"\",VLOOKUP($F3812,'TA STOCK LOOKUP'!$A$2:$C$202,3,FALSE),\"\")","v":""},"","","","","",""]
["","","","","","",{"$f":"IF(F3818<>\"\",VLOOKUP($F3818,'TA STOCK LOOKUP'!$A$2:$C$202,2,FALSE),\"\")","v":""},{"$f":"IF(G3818<>\"\",VLOOKUP($F3818,'TA STOCK LOOKUP'!$A$2:$C$202,3,FALSE),\"\")","v":""},"","","","","",""]
["","","","","","",{"$f":"IF(F3821<>\"\",VLOOKUP($F3821,'TA STOCK LOOKUP'!$A$2:$C$202,2,FALSE),\"\")","v":""},{"$f":"IF(G3821<>\"\",VLOOKUP($F3821,'TA STOCK LOOKUP'!$A$2:$C$202,3,FALSE),\"\")","v":""},"","","","","",""]
["","","","","","",{"$f":"IF(F3826<>\"\",VLOOKUP($F3826,'TA STOCK LOOKUP'!$A$2:$C$202,2,FALSE),\"\")","v":""},{"$f":"IF(G3826<>\"\",VLOOKUP($F3826,'TA STOCK LOOKUP'!$A$2:$C$202,3,FALSE),\"\")","v":""},"","","","","",""]
["","","","","","",{"$f":"IF(F3827<>\"\",VLOOKUP($F3827,'TA STOCK LOOKUP'!$A$2:$C$202,2,FALSE),\"\")","v":""},{"$f":"IF(G3827<>\"\",VLOOKUP($F3827,'TA STOCK LOOKUP'!$A$2:$C$202,3,FALSE),\"\")","v":""},"","","","","",""]
["","","","","","",{"$f":"IF(F3832<>\"\",VLOOKUP($F3832,'TA STOCK LOOKUP'!$A$2:$C$202,2,FALSE),\"\")","v":""},{"$f":"IF(G3832<>\"\",VLOOKUP($F3832,'TA STOCK LOOKUP'!$A$2:$C$202,3,FALSE),\"\")","v":""},"","","","","",""]
["","","","","","",{"$f":"IF(F3836<>\"\",VLOOKUP($F3836,'TA STOCK LOOKUP'!$A$2:$C$202,2,FALSE),\"\")","v":""},{"$f":"IF(G3836<>\"\",VLOOKUP($F3836,'TA STOCK LOOKUP'!$A$2:$C$202,3,FALSE),\"\")","v":""},"","","","","",""]
["","","","","","",{"$f":"IF(F3841<>\"\",VLOOKUP($F3841,'TA STOCK LOOKUP'!$A$2:$C$202,2,FALSE),\"\")","v":""},{"$f":"IF(G3841<>\"\",VLOOKUP($F3841,'TA STOCK LOOKUP'!$A$2:$C$202,3,FALSE),\"\")","v":""},"","","","","",""]
["","","","","","",{"$f":"IF(F3842<>\"\",VLOOKUP($F3842,'TA STOCK LOOKUP'!$A$2:$C$202,2,FALSE),\"\")","v":""},{"$f":"IF(G3842<>\"\",VLOOKUP($F3842,'TA STOCK LOOKUP'!$A$2:$C$202,3,FALSE),\"\")","v":""},"","","","","",""]
["","","","","","",{"$f":"IF(F3848<>\"\",VLOOKUP($F3848,'TA STOCK LOOKUP'!$A$2:$C$202,2,FALSE),\"\")","v":""},{"$f":"IF(G3848<>\"\",VLOOKUP($F3848,'TA STOCK LOOKUP'!$A$2:$C$202,3,FALSE),\"\")","v":""},"","","","","",""]
["","","","","","",{"$f":"IF(F3851<>\"\",VLOOKUP($F3851,'TA STOCK LOOKUP'!$A$2:$C$202,2,FALSE),\"\")","v":""},{"$f":"IF(G3851<>\"\",VLOOKUP($F3851,'TA STOCK LOOKUP'!$A$2:$C$202,3,FALSE),\"\")","v":""},"","","","","",""]
["","","","","","",{"$f":"IF(F3856<>\"\",VLOOKUP($F3856,'TA STOCK LOOKUP'!$A$2:$C$202,2,FALSE),\"\")","v":""},{"$f":"IF(G3856<>\"\",VLOOKUP($F3856,'TA STOCK LOOKUP'!$A$2:$C$202,3,FALSE),\"\")","v":""},"","","","","",""]
["","","","","","",{"$f":"IF(F3857<>\"\",VLOOKUP($F3857,'TA STOCK LOOKUP'!$A$2:$C$202,2,FALSE),\"\")","v":""},{"$f":"IF(G3857<>\"\",VLOOKUP($F3857,'TA STOCK LOOKUP'!$A$2:$C$202,3,FALSE),\"\")","v":""},"","","","","",""]
["","","","","","",{"$f":"IF(F3862<>\"\",VLOOKUP($F3862,'TA STOCK LOOKUP'!$A$2:$C$202,2,FALSE),\"\")","v":""},{"$f":"IF(G3862<>\"\",VLOOKUP($F3862,'TA STOCK LOOKUP'!$A$2:$C$202,3,FALSE),\"\")","v":""},"","","","","",""]
["","","","","","",{"$f":"IF(F3866<>\"\",VLOOKUP($F3866,'TA STOCK LOOKUP'!$A$2:$C$202,2,FALSE),\"\")","v":""},{"$f":"IF(G3866<>\"\",VLOOKUP($F3866,'TA STOCK LOOKUP'!$A$2:$C$202,3,FALSE),\"\")","v":""},"","","","","",""]
["","","","","","",{"$f":"IF(F3871<>\"\",VLOOKUP($F3871,'TA STOCK LOOKUP'!$A$2:$C$202,2,FALSE),\"\")","v":""},{"$f":"IF(G3871<>\"\",VLOOKUP($F3871,'TA STOCK LOOKUP'!$A$2:$C$202,3,FALSE),\"\")","v":""},"","","","","",""]
["","","","","","",{"$f":"IF(F3872<>\"\",VLOOKUP($F3872,'TA STOCK LOOKUP'!$A$2:$C$202,2,FALSE),\"\")","v":""},{"$f":"IF(G3872<>\"\",VLOOKUP($F3872,'TA STOCK LOOKUP'!$A$2:$C$202,3,FALSE),\"\")","v":""},"","","","","",""]
["","","","","","",{"$f":"IF(F3878<>\"\",VLOOKUP($F3878,'TA STOCK LOOKUP'!$A$2:$C$202,2,FALSE),\"\")","v":""},{"$f":"IF(G3878<>\"\",VLOOKUP($F3878,'TA STOCK LOOKUP'!$A$2:$C$202,3,FALSE),\"\")","v":""},"","","","","",""]
["","","","","","",{"$f":"IF(F3881<>\"\",VLOOKUP($F3881,'TA STOCK LOOKUP'!$A$2:$C$202,2,FALSE),\"\")","v":""},{"$f":"IF(G3881<>\"\",VLOOKUP($F3881,'TA STOCK LOOKUP'!$A$2:$C$202,3,FALSE),\"\")","v":""},"","","","","",""]
["","","","","","",{"$f":"IF(F3886<>\"\",VLOOKUP($F3886,'TA STOCK LOOKUP'!$A$2:$C$202,2,FALSE),\"\")","v":""},{"$f":"IF(G3886<>\"\",VLOOKUP($F3886,'TA STOCK LOOKUP'!$A$2:$C$202,3,FALSE),\"\")","v":""},"","","","","",""]
["","","","","","",{"$f":"IF(F3887<>\"\",VLOOKUP($F3887,'TA STOCK LOOKUP'!$A$2:$C$202,2,FALSE),\"\")","v":""},{"$f":"IF(G3887<>\"\",VLOOKUP($F3887,'TA STOCK LOOKUP'!$A$2:$C$202,3,FALSE),\"\")","v":""},"","","","","",""]
["","","","","","",{"$f":"IF(F3892<>\"\",VLOOKUP($F3892,'TA STOCK LOOKUP'!$A$2:$C$202,2,FALSE),\"\")","v":""},{"$f":"IF(G3892<>\"\",VLOOKUP($F3892,'TA STOCK LOOKUP'!$A$2:$C$202,3,FALSE),\"\")","v":""},"","","","","",""]
["","","","","","",{"$f":"IF(F3896<>\"\",VLOOKUP($F3896,'TA STOCK LOOKUP'!$A$2:$C$202,2,FALSE),\"\")","v":""},{"$f":"IF(G3896<>\"\",VLOOKUP($F3896,'TA STOCK LOOKUP'!$A$2:$C$202,3,FALSE),\"\")","v":""},"","","","","",""]
["","","","","","",{"$f":"IF(F3901<>\"\",VLOOKUP($F3901,'TA STOCK LOOKUP'!$A$2:$C$202,2,FALSE),\"\")","v":""},{"$f":"IF(G3901<>\"\",VLOOKUP($F3901,'TA STOCK LOOKUP'!$A$2:$C$202,3,FALSE),\"\")","v":""},"","","","","",""]
["","","","","","",{"$f":"IF(F3902<>\"\",VLOOKUP($F3902,'TA STOCK LOOKUP'!$A$2:$C$202,2,FALSE),\"\")","v":""},{"$f":"IF(G3902<>\"\",VLOOKUP($F3902,'TA STOCK LOOKUP'!$A$2:$C$202,3,FALSE),\"\")","v":""},"","","","","",""]
["","","","","","",{"$f":"IF(F3906<>\"\",VLOOKUP($F3906,'TA STOCK LOOKUP'!$A$2:$C$202,2,FALSE),\"\")","v":""},{"$f":"IF(G3906<>\"\",VLOOKUP($F3906,'TA STOCK LOOKUP'!$A$2:$C$202,3,FALSE),\"\")","v":""},"","","","","",""]
["","","","","","",{"$f":"IF(F3911<>\"\",VLOOKUP($F3911,'TA STOCK LOOKUP'!$A$2:$C$202,2,FALSE),\"\")","v":""},{"$f":"IF(G3911<>\"\",VLOOKUP($F3911,'TA STOCK LOOKUP'!$A$2:$C$202,3,FALSE),\"\")","v":""},"","","","","",""]
["","","","","","",{"$f":"IF(F3916<>\"\",VLOOKUP($F3916,'TA STOCK LOOKUP'!$A$2:$C$202,2,FALSE),\"\")","v":""},{"$f":"IF(G3916<>\"\",VLOOKUP($F3916,'TA STOCK LOOKUP'!$A$2:$C$202,3,FALSE),\"\")","v":""},"","","","","",""]
["","","","","","",{"$f":"IF(F3917<>\"\",VLOOKUP($F3917,'TA STOCK LOOKUP'!$A$2:$C$202,2,FALSE),\"\")","v":""},{"$f":"IF(G3917<>\"\",VLOOKUP($F3917,'TA STOCK LOOKUP'!$A$2:$C$202,3,FALSE),\"\")","v":""},"","","","","",""]
["","","","","","",{"$f":"IF(F3922<>\"\",VLOOKUP($F3922,'TA STOCK LOOKUP'!$A$2:$C$202,2,FALSE),\"\")","v":""},{"$f":"IF(G3922<>\"\",VLOOKUP($F3922,'TA STOCK LOOKUP'!$A$2:$C$202,3,FALSE),\"\")","v":""},"","","","","",""]
["","","","","","",{"$f":"IF(F3926<>\"\",VLOOKUP($F3926,'TA STOCK LOOKUP'!$A$2:$C$202,2,FALSE),\"\")","v":""},{"$f":"IF(G3926<>\"\",VLOOKUP($F3926,'TA STOCK LOOKUP'!$A$2:$C$202,3,FALSE),\"\")","v":""},"","","","","",""]
["","","","","","",{"$f":"IF(F3931<>\"\",VLOOKUP($F3931,'TA STOCK LOOKUP'!$A$2:$C$202,2,FALSE),\"\")","v":""},{"$f":"IF(G3931<>\"\",VLOOKUP($F3931,'TA STOCK LOOKUP'!$A$2:$C$202,3,FALSE),\"\")","v":""},"","","","","",""]
["","","","","","",{"$f":"IF(F3932<>\"\",VLOOKUP($F3932,'TA STOCK LOOKUP'!$A$2:$C$202,2,FALSE),\"\")","v":""},{"$f":"IF(G3932<>\"\",VLOOKUP($F3932,'TA STOCK LOOKUP'!$A$2:$C$202,3,FALSE),\"\")","v":""},"","","","","",""]
["","","","","","",{"$f":"IF(F3936<>\"\",VLOOKUP($F3936,'TA STOCK LOOKUP'!$A$2:$C$202,2,FALSE),\"\")","v":""},{"$f":"IF(G3936<>\"\",VLOOKUP($F3936,'TA STOCK LOOKUP'!$A$2:$C$202,3,FALSE),\"\")","v":""},"","","","","",""]
["","","","","","",{"$f":"IF(F3941<>\"\",VLOOKUP($F3941,'TA STOCK LOOKUP'!$A$2:$C$202,2,FALSE),\"\")","v":""},{"$f":"IF(G3941<>\"\",VLOOKUP($F3941,'TA STOCK LOOKUP'!$A$2:$C$202,3,FALSE),\"\")","v":""},"","","","","",""]
["","","","","","",{"$f":"IF(F3946<>\"\",VLOOKUP($F3946,'TA STOCK LOOKUP'!$A$2:$C$202,2,FALSE),\"\")","v":""},{"$f":"IF(G3946<>\"\",VLOOKUP($F3946,'TA STOCK LOOKUP'!$A$2:$C$202,3,FALSE),\"\")","v":""},"","","","","",""]
["","","","","","",{"$f":"IF(F3947<>\"\",VLOOKUP($F3947,'TA STOCK LOOKUP'!$A$2:$C$202,2,FALSE),\"\")","v":""},{"$f":"IF(G3947<>\"\",VLOOKUP($F3947,'TA STOCK LOOKUP'!$A$2:$C$202,3,FALSE),\"\")","v":""},"","","","","",""]
["","","","","","",{"$f":"IF(F3952<>\"\",VLOOKUP($F3952,'TA STOCK LOOKUP'!$A$2:$C$202,2,FALSE),\"\")","v":""},{"$f":"IF(G3952<>\"\",VLOOKUP($F3952,'TA STOCK LOOKUP'!$A$2:$C$202,3,FALSE),\"\")","v":""},"","","","","",""]
["","","","","","",{"$f":"IF(F3956<>\"\",VLOOKUP($F3956,'TA STOCK LOOKUP'!$A$2:$C$202,2,FALSE),\"\")","v":""},{"$f":"IF(G3956<>\"\",VLOOKUP($F3956,'TA STOCK LOOKUP'!$A$2:$C$202,3,FALSE),\"\")","v":""},"","","","","",""]
["","","","","","",{"$f":"IF(F3961<>\"\",VLOOKUP($F3961,'TA STOCK LOOKUP'!$A$2:$C$202,2,FALSE),\"\")","v":""},{"$f":"IF(G3961<>\"\",VLOOKUP($F3961,'TA STOCK LOOKUP'!$A$2:$C$202,3,FALSE),\"\")","v":""},"","","","","",""]
["","","","","","",{"$f":"IF(F3962<>\"\",VLOOKUP($F3962,'TA STOCK LOOKUP'!$A$2:$C$202,2,FALSE),\"\")","v":""},{"$f":"IF(G3962<>\"\",VLOOKUP($F3962,'TA STOCK LOOKUP'!$A$2:$C$202,3,FALSE),\"\")","v":""},"","","","","",""]
["","","","","","",{"$f":"IF(F3966<>\"\",VLOOKUP($F3966,'TA STOCK LOOKUP'!$A$2:$C$202,2,FALSE),\"\")","v":""},{"$f":"IF(G3966<>\"\",VLOOKUP($F3966,'TA STOCK LOOKUP'!$A$2:$C$202,3,FALSE),\"\")","v":""},"","","","","",""]
["","","","","","",{"$f":"IF(F3971<>\"\",VLOOKUP($F3971,'TA STOCK LOOKUP'!$A$2:$C$202,2,FALSE),\"\")","v":""},{"$f":"IF(G3971<>\"\",VLOOKUP($F3971,'TA STOCK LOOKUP'!$A$2:$C$202,3,FALSE),\"\")","v":""},"","","","","",""]
["","","","","","",{"$f":"IF(F3976<>\"\",VLOOKUP($F3976,'TA STOCK LOOKUP'!$A$2:$C$202,2,FALSE),\"\")","v":""},{"$f":"IF(G3976<>\"\",VLOOKUP($F3976,'TA STOCK LOOKUP'!$A$2:$C$202,3,FALSE),\"\")","v":""},"","","","","",""]
["","","","","","",{"$f":"IF(F3977<>\"\",VLOOKUP($F3977,'TA STOCK LOOKUP'!$A$2:$C$202,2,FALSE),\"\")","v":""},{"$f":"IF(G3977<>\"\",VLOOKUP($F3977,'TA STOCK LOOKUP'!$A$2:$C$202,3,FALSE),\"\")","v":""},"","","","","",""]
["","","","","","",{"$f":"IF(F3982<>\"\",VLOOKUP($F3982,'TA STOCK LOOKUP'!$A$2:$C$202,2,FALSE),\"\")","v":""},{"$f":"IF(G3982<>\"\",VLOOKUP($F3982,'TA STOCK LOOKUP'!$A$2:$C$202,3,FALSE),\"\")","v":""},"","","","","",""]
["","","","","","",{"$f":"IF(F3986<>\"\",VLOOKUP($F3986,'TA STOCK LOOKUP'!$A$2:$C$202,2,FALSE),\"\")","v":""},{"$f":"IF(G3986<>\"\",VLOOKUP($F3986,'TA STOCK LOOKUP'!$A$2:$C$202,3,FALSE),\"\")","v":""},"","","","","",""]
["","","","","","",{"$f":"IF(F3991<>\"\",VLOOKUP($F3991,'TA STOCK LOOKUP'!$A$2:$C$202,2,FALSE),\"\")","v":""},{"$f":"IF(G3991<>\"\",VLOOKUP($F3991,'TA STOCK LOOKUP'!$A$2:$C$202,3,FALSE),\"\")","v":""},"","","","","",""]
["","","","","","",{"$f":"IF(F3992<>\"\",VLOOKUP($F3992,'TA STOCK LOOKUP'!$A$2:$C$202,2,FALSE),\"\")","v":""},{"$f":"IF(G3992<>\"\",VLOOKUP($F3992,'TA STOCK LOOKUP'!$A$2:$C$202,3,FALSE),\"\")","v":""},"","","","","",""]
["","","","","","",{"$f":"IF(F3996<>\"\",VLOOKUP($F3996,'TA STOCK LOOKUP'!$A$2:$C$202,2,FALSE),\"\")","v":""},{"$f":"IF(G3996<>\"\",VLOOKUP($F3996,'TA STOCK LOOKUP'!$A$2:$C$202,3,FALSE),\"\")","v":""},"","","","","",""]
["","","","","","",{"$f":"IF(F4001<>\"\",VLOOKUP($F4001,'TA STOCK LOOKUP'!$A$2:$C$202,2,FALSE),\"\")","v":""},{"$f":"IF(G4001<>\"\",VLOOKUP($F4001,'TA STOCK LOOKUP'!$A$2:$C$202,3,FALSE),\"\")","v":""},"","","","","",""]
["","","","","","",{"$f":"IF(F4006<>\"\",VLOOKUP($F4006,'TA STOCK LOOKUP'!$A$2:$C$202,2,FALSE),\"\")","v":""},{"$f":"IF(G4006<>\"\",VLOOKUP($F4006,'TA STOCK LOOKUP'!$A$2:$C$202,3,FALSE),\"\")","v":""},"","","","","",""]
["","","","","","",{"$f":"IF(F4007<>\"\",VLOOKUP($F4007,'TA STOCK LOOKUP'!$A$2:$C$202,2,FALSE),\"\")","v":""},{"$f":"IF(G4007<>\"\",VLOOKUP($F4007,'TA STOCK LOOKUP'!$A$2:$C$202,3,FALSE),\"\")","v":""},"","","","","",""]
["","","","","","",{"$f":"IF(F4012<>\"\",VLOOKUP($F4012,'TA STOCK LOOKUP'!$A$2:$C$202,2,FALSE),\"\")","v":""},{"$f":"IF(G4012<>\"\",VLOOKUP($F4012,'TA STOCK LOOKUP'!$A$2:$C$202,3,FALSE),\"\")","v":""},"","","","","",""]
["","","","","","",{"$f":"IF(F4016<>\"\",VLOOKUP($F4016,'TA STOCK LOOKUP'!$A$2:$C$202,2,FALSE),\"\")","v":""},{"$f":"IF(G4016<>\"\",VLOOKUP($F4016,'TA STOCK LOOKUP'!$A$2:$C$202,3,FALSE),\"\")","v":""},"","","","","",""]
["","","","","","",{"$f":"IF(F4021<>\"\",VLOOKUP($F4021,'TA STOCK LOOKUP'!$A$2:$C$202,2,FALSE),\"\")","v":""},{"$f":"IF(G4021<>\"\",VLOOKUP($F4021,'TA STOCK LOOKUP'!$A$2:$C$202,3,FALSE),\"\")","v":""},"","","","","",""]
["","","","","","",{"$f":"IF(F4022<>\"\",VLOOKUP($F4022,'TA STOCK LOOKUP'!$A$2:$C$202,2,FALSE),\"\")","v":""},{"$f":"IF(G4022<>\"\",VLOOKUP($F4022,'TA STOCK LOOKUP'!$A$2:$C$202,3,FALSE),\"\")","v":""},"","","","","",""]
["","","","","","",{"$f":"IF(F4026<>\"\",VLOOKUP($F4026,'TA STOCK LOOKUP'!$A$2:$C$202,2,FALSE),\"\")","v":""},{"$f":"IF(G4026<>\"\",VLOOKUP($F4026,'TA STOCK LOOKUP'!$A$2:$C$202,3,FALSE),\"\")","v":""},"","","","","",""]
["","","","","","",{"$f":"IF(F4031<>\"\",VLOOKUP($F4031,'TA STOCK LOOKUP'!$A$2:$C$202,2,FALSE),\"\")","v":""},{"$f":"IF(G4031<>\"\",VLOOKUP($F4031,'TA STOCK LOOKUP'!$A$2:$C$202,3,FALSE),\"\")","v":""},"","","","","",""]
["","","","","","",{"$f":"IF(F4036<>\"\",VLOOKUP($F4036,'TA STOCK LOOKUP'!$A$2:$C$202,2,FALSE),\"\")","v":""},{"$f":"IF(G4036<>\"\",VLOOKUP($F4036,'TA STOCK LOOKUP'!$A$2:$C$202,3,FALSE),\"\")","v":""},"","","","","",""]
["","","","","","",{"$f":"IF(F4037<>\"\",VLOOKUP($F4037,'TA STOCK LOOKUP'!$A$2:$C$202,2,FALSE),\"\")","v":""},{"$f":"IF(G4037<>\"\",VLOOKUP($F4037,'TA STOCK LOOKUP'!$A$2:$C$202,3,FALSE),\"\")","v":""},"","","","","",""]
["","","","","","",{"$f":"IF(F4042<>\"\",VLOOKUP($F4042,'TA STOCK LOOKUP'!$A$2:$C$202,2,FALSE),\"\")","v":""},{"$f":"IF(G4042<>\"\",VLOOKUP($F4042,'TA STOCK LOOKUP'!$A$2:$C$202,3,FALSE),\"\")","v":""},"","","","","",""]
["","","","","","",{"$f":"IF(F4046<>\"\",VLOOKUP($F4046,'TA STOCK LOOKUP'!$A$2:$C$202,2,FALSE),\"\")","v":""},{"$f":"IF(G4046<>\"\",VLOOKUP($F4046,'TA STOCK LOOKUP'!$A$2:$C$202,3,FALSE),\"\")","v":""},"","","","","",""]
["","","","","","",{"$f":"IF(F4051<>\"\",VLOOKUP($F4051,'TA STOCK LOOKUP'!$A$2:$C$202,2,FALSE),\"\")","v":""},{"$f":"IF(G4051<>\"\",VLOOKUP($F4051,'TA STOCK LOOKUP'!$A$2:$C$202,3,FALSE),\"\")","v":""},"","","","","",""]
["","","","","","",{"$f":"IF(F4052<>\"\",VLOOKUP($F4052,'TA STOCK LOOKUP'!$A$2:$C$202,2,FALSE),\"\")","v":""},{"$f":"IF(G4052<>\"\",VLOOKUP($F4052,'TA STOCK LOOKUP'!$A$2:$C$202,3,FALSE),\"\")","v":""},"","","","","",""]
["","","","","","",{"$f":"IF(F4056<>\"\",VLOOKUP($F4056,'TA STOCK LOOKUP'!$A$2:$C$202,2,FALSE),\"\")","v":""},{"$f":"IF(G4056<>\"\",VLOOKUP($F4056,'TA STOCK LOOKUP'!$A$2:$C$202,3,FALSE),\"\")","v":""},"","","","","",""]
["","","","","","",{"$f":"IF(F4061<>\"\",VLOOKUP($F4061,'TA STOCK LOOKUP'!$A$2:$C$202,2,FALSE),\"\")","v":""},{"$f":"IF(G4061<>\"\",VLOOKUP($F4061,'TA STOCK LOOKUP'!$A$2:$C$202,3,FALSE),\"\")","v":""},"","","","","",""]
["","","","","","",{"$f":"IF(F4066<>\"\",VLOOKUP($F4066,'TA STOCK LOOKUP'!$A$2:$C$202,2,FALSE),\"\")","v":""},{"$f":"IF(G4066<>\"\",VLOOKUP($F4066,'TA STOCK LOOKUP'!$A$2:$C$202,3,FALSE),\"\")","v":""},"","","","","",""]
["","","","","","",{"$f":"IF(F4067<>\"\",VLOOKUP($F4067,'TA STOCK LOOKUP'!$A$2:$C$202,2,FALSE),\"\")","v":""},{"$f":"IF(G4067<>\"\",VLOOKUP($F4067,'TA STOCK LOOKUP'!$A$2:$C$202,3,FALSE),\"\")","v":""},"","","","","",""]
["","","","","","",{"$f":"IF(F4072<>\"\",VLOOKUP($F4072,'TA STOCK LOOKUP'!$A$2:$C$202,2,FALSE),\"\")","v":""},{"$f":"IF(G4072<>\"\",VLOOKUP($F4072,'TA STOCK LOOKUP'!$A$2:$C$202,3,FALSE),\"\")","v":""},"","","","","",""]
["","","","","","",{"$f":"IF(F4076<>\"\",VLOOKUP($F4076,'TA STOCK LOOKUP'!$A$2:$C$202,2,FALSE),\"\")","v":""},{"$f":"IF(G4076<>\"\",VLOOKUP($F4076,'TA STOCK LOOKUP'!$A$2:$C$202,3,FALSE),\"\")","v":""},"","","","","",""]
["","","","","","",{"$f":"IF(F4081<>\"\",VLOOKUP($F4081,'TA STOCK LOOKUP'!$A$2:$C$202,2,FALSE),\"\")","v":""},{"$f":"IF(G4081<>\"\",VLOOKUP($F4081,'TA STOCK LOOKUP'!$A$2:$C$202,3,FALSE),\"\")","v":""},"","","","","",""]
["","","","","","",{"$f":"IF(F4082<>\"\",VLOOKUP($F4082,'TA STOCK LOOKUP'!$A$2:$C$202,2,FALSE),\"\")","v":""},{"$f":"IF(G4082<>\"\",VLOOKUP($F4082,'TA STOCK LOOKUP'!$A$2:$C$202,3,FALSE),\"\")","v":""},"","","","","",""]
["","","","","","",{"$f":"IF(F4086<>\"\",VLOOKUP($F4086,'TA STOCK LOOKUP'!$A$2:$C$202,2,FALSE),\"\")","v":""},{"$f":"IF(G4086<>\"\",VLOOKUP($F4086,'TA STOCK LOOKUP'!$A$2:$C$202,3,FALSE),\"\")","v":""},"","","","","",""]
["","","","","","",{"$f":"IF(F4091<>\"\",VLOOKUP($F4091,'TA STOCK LOOKUP'!$A$2:$C$202,2,FALSE),\"\")","v":""},{"$f":"IF(G4091<>\"\",VLOOKUP($F4091,'TA STOCK LOOKUP'!$A$2:$C$202,3,FALSE),\"\")","v":""},"","","","","",""]
["","","","","","",{"$f":"IF(F4096<>\"\",VLOOKUP($F4096,'TA STOCK LOOKUP'!$A$2:$C$202,2,FALSE),\"\")","v":""},{"$f":"IF(G4096<>\"\",VLOOKUP($F4096,'TA STOCK LOOKUP'!$A$2:$C$202,3,FALSE),\"\")","v":""},"","","","","",""]
["","","","","","",{"$f":"IF(F4097<>\"\",VLOOKUP($F4097,'TA STOCK LOOKUP'!$A$2:$C$202,2,FALSE),\"\")","v":""},{"$f":"IF(G4097<>\"\",VLOOKUP($F4097,'TA STOCK LOOKUP'!$A$2:$C$202,3,FALSE),\"\")","v":""},"","","","","",""]
["","","","","","",{"$f":"IF(F4102<>\"\",VLOOKUP($F4102,'TA STOCK LOOKUP'!$A$2:$C$202,2,FALSE),\"\")","v":""},{"$f":"IF(G4102<>\"\",VLOOKUP($F4102,'TA STOCK LOOKUP'!$A$2:$C$202,3,FALSE),\"\")","v":""},"","","","","",""]
["","","","","","",{"$f":"IF(F4106<>\"\",VLOOKUP($F4106,'TA STOCK LOOKUP'!$A$2:$C$202,2,FALSE),\"\")","v":""},{"$f":"IF(G4106<>\"\",VLOOKUP($F4106,'TA STOCK LOOKUP'!$A$2:$C$202,3,FALSE),\"\")","v":""},"","","","","",""]
["","","","","","",{"$f":"IF(F4111<>\"\",VLOOKUP($F4111,'TA STOCK LOOKUP'!$A$2:$C$202,2,FALSE),\"\")","v":""},{"$f":"IF(G4111<>\"\",VLOOKUP($F4111,'TA STOCK LOOKUP'!$A$2:$C$202,3,FALSE),\"\")","v":""},"","","","","",""]
["","","","","","",{"$f":"IF(F4112<>\"\",VLOOKUP($F4112,'TA STOCK LOOKUP'!$A$2:$C$202,2,FALSE),\"\")","v":""},{"$f":"IF(G4112<>\"\",VLOOKUP($F4112,'TA STOCK LOOKUP'!$A$2:$C$202,3,FALSE),\"\")","v":""},"","","","","",""]
["","","","","","",{"$f":"IF(F4116<>\"\",VLOOKUP($F4116,'TA STOCK LOOKUP'!$A$2:$C$202,2,FALSE),\"\")","v":""},{"$f":"IF(G4116<>\"\",VLOOKUP($F4116,'TA STOCK LOOKUP'!$A$2:$C$202,3,FALSE),\"\")","v":""},"","","","","",""]
["","","","","","",{"$f":"IF(F4121<>\"\",VLOOKUP($F4121,'TA STOCK LOOKUP'!$A$2:$C$202,2,FALSE),\"\")","v":""},{"$f":"IF(G4121<>\"\",VLOOKUP($F4121,'TA STOCK LOOKUP'!$A$2:$C$202,3,FALSE),\"\")","v":""},"","","","","",""]
["","","","","","",{"$f":"IF(F4126<>\"\",VLOOKUP($F4126,'TA STOCK LOOKUP'!$A$2:$C$202,2,FALSE),\"\")","v":""},{"$f":"IF(G4126<>\"\",VLOOKUP($F4126,'TA STOCK LOOKUP'!$A$2:$C$202,3,FALSE),\"\")","v":""},"","","","","",""]
["","","","","","",{"$f":"IF(F4127<>\"\",VLOOKUP($F4127,'TA STOCK LOOKUP'!$A$2:$C$202,2,FALSE),\"\")","v":""},{"$f":"IF(G4127<>\"\",VLOOKUP($F4127,'TA STOCK LOOKUP'!$A$2:$C$202,3,FALSE),\"\")","v":""},"","","","","",""]
["","","","","","",{"$f":"IF(F4132<>\"\",VLOOKUP($F4132,'TA STOCK LOOKUP'!$A$2:$C$202,2,FALSE),\"\")","v":""},{"$f":"IF(G4132<>\"\",VLOOKUP($F4132,'TA STOCK LOOKUP'!$A$2:$C$202,3,FALSE),\"\")","v":""},"","","","","",""]
["","","","","","",{"$f":"IF(F4136<>\"\",VLOOKUP($F4136,'TA STOCK LOOKUP'!$A$2:$C$202,2,FALSE),\"\")","v":""},{"$f":"IF(G4136<>\"\",VLOOKUP($F4136,'TA STOCK LOOKUP'!$A$2:$C$202,3,FALSE),\"\")","v":""},"","","","","",""]
["","","","","","",{"$f":"IF(F4141<>\"\",VLOOKUP($F4141,'TA STOCK LOOKUP'!$A$2:$C$202,2,FALSE),\"\")","v":""},{"$f":"IF(G4141<>\"\",VLOOKUP($F4141,'TA STOCK LOOKUP'!$A$2:$C$202,3,FALSE),\"\")","v":""},"","","","","",""]
["","","","","","",{"$f":"IF(F4142<>\"\",VLOOKUP($F4142,'TA STOCK LOOKUP'!$A$2:$C$202,2,FALSE),\"\")","v":""},{"$f":"IF(G4142<>\"\",VLOOKUP($F4142,'TA STOCK LOOKUP'!$A$2:$C$202,3,FALSE),\"\")","v":""},"","","","","",""]
["","","","","","",{"$f":"IF(F4146<>\"\",VLOOKUP($F4146,'TA STOCK LOOKUP'!$A$2:$C$202,2,FALSE),\"\")","v":""},{"$f":"IF(G4146<>\"\",VLOOKUP($F4146,'TA STOCK LOOKUP'!$A$2:$C$202,3,FALSE),\"\")","v":""},"","","","","",""]
["","","","","","",{"$f":"IF(F4151<>\"\",VLOOKUP($F4151,'TA STOCK LOOKUP'!$A$2:$C$202,2,FALSE),\"\")","v":""},{"$f":"IF(G4151<>\"\",VLOOKUP($F4151,'TA STOCK LOOKUP'!$A$2:$C$202,3,FALSE),\"\")","v":""},"","","","","",""]
["","","","","","",{"$f":"IF(F4156<>\"\",VLOOKUP($F4156,'TA STOCK LOOKUP'!$A$2:$C$202,2,FALSE),\"\")","v":""},{"$f":"IF(G4156<>\"\",VLOOKUP($F4156,'TA STOCK LOOKUP'!$A$2:$C$202,3,FALSE),\"\")","v":""},"","","","","",""]
["","","","","","",{"$f":"IF(F4157<>\"\",VLOOKUP($F4157,'TA STOCK LOOKUP'!$A$2:$C$202,2,FALSE),\"\")","v":""},{"$f":"IF(G4157<>\"\",VLOOKUP($F4157,'TA STOCK LOOKUP'!$A$2:$C$202,3,FALSE),\"\")","v":""},"","","","","",""]
["","","","","","",{"$f":"IF(F4163<>\"\",VLOOKUP($F4163,'TA STOCK LOOKUP'!$A$2:$C$202,2,FALSE),\"\")","v":""},{"$f":"IF(G4163<>\"\",VLOOKUP($F4163,'TA STOCK LOOKUP'!$A$2:$C$202,3,FALSE),\"\")","v":""},"","","","","",""]
["","","","","","",{"$f":"IF(F4166<>\"\",VLOOKUP($F4166,'TA STOCK LOOKUP'!$A$2:$C$202,2,FALSE),\"\")","v":""},{"$f":"IF(G4166<>\"\",VLOOKUP($F4166,'TA STOCK LOOKUP'!$A$2:$C$202,3,FALSE),\"\")","v":""},"","","","","",""]
["","","","","","",{"$f":"IF(F4171<>\"\",VLOOKUP($F4171,'TA STOCK LOOKUP'!$A$2:$C$202,2,FALSE),\"\")","v":""},{"$f":"IF(G4171<>\"\",VLOOKUP($F4171,'TA STOCK LOOKUP'!$A$2:$C$202,3,FALSE),\"\")","v":""},"","","","","",""]
["","","","","","",{"$f":"IF(F4172<>\"\",VLOOKUP($F4172,'TA STOCK LOOKUP'!$A$2:$C$202,2,FALSE),\"\")","v":""},{"$f":"IF(G4172<>\"\",VLOOKUP($F4172,'TA STOCK LOOKUP'!$A$2:$C$202,3,FALSE),\"\")","v":""},"","","","","",""]
["","","","","","",{"$f":"IF(F4176<>\"\",VLOOKUP($F4176,'TA STOCK LOOKUP'!$A$2:$C$202,2,FALSE),\"\")","v":""},{"$f":"IF(G4176<>\"\",VLOOKUP($F4176,'TA STOCK LOOKUP'!$A$2:$C$202,3,FALSE),\"\")","v":""},"","","","","",""]
["","","","","","",{"$f":"IF(F4181<>\"\",VLOOKUP($F4181,'TA STOCK LOOKUP'!$A$2:$C$202,2,FALSE),\"\")","v":""},{"$f":"IF(G4181<>\"\",VLOOKUP($F4181,'TA STOCK LOOKUP'!$A$2:$C$202,3,FALSE),\"\")","v":""},"","","","","",""]
["","","","","","",{"$f":"IF(F4186<>\"\",VLOOKUP($F4186,'TA STOCK LOOKUP'!$A$2:$C$202,2,FALSE),\"\")","v":""},{"$f":"IF(G4186<>\"\",VLOOKUP($F4186,'TA STOCK LOOKUP'!$A$2:$C$202,3,FALSE),\"\")","v":""},"","","","","",""]
["","","","","","",{"$f":"IF(F4187<>\"\",VLOOKUP($F4187,'TA STOCK LOOKUP'!$A$2:$C$202,2,FALSE),\"\")","v":""},{"$f":"IF(G4187<>\"\",VLOOKUP($F4187,'TA STOCK LOOKUP'!$A$2:$C$202,3,FALSE),\"\")","v":""},"","","","","",""]
["","","","","","",{"$f":"IF(F4193<>\"\",VLOOKUP($F4193,'TA STOCK LOOKUP'!$A$2:$C$202,2,FALSE),\"\")","v":""},{"$f":"IF(G4193<>\"\",VLOOKUP($F4193,'TA STOCK LOOKUP'!$A$2:$C$202,3,FALSE),\"\")","v":""},"","","","","",""]
["","","","","","",{"$f":"IF(F4196<>\"\",VLOOKUP($F4196,'TA STOCK LOOKUP'!$A$2:$C$202,2,FALSE),\"\")","v":""},{"$f":"IF(G4196<>\"\",VLOOKUP($F4196,'TA STOCK LOOKUP'!$A$2:$C$202,3,FALSE),\"\")","v":""},"","","","","",""]
["","","","","","",{"$f":"IF(F4201<>\"\",VLOOKUP($F4201,'TA STOCK LOOKUP'!$A$2:$C$202,2,FALSE),\"\")","v":""},{"$f":"IF(G4201<>\"\",VLOOKUP($F4201,'TA STOCK LOOKUP'!$A$2:$C$202,3,FALSE),\"\")","v":""},"","","","","",""]
["","","","","","",{"$f":"IF(F4202<>\"\",VLOOKUP($F4202,'TA STOCK LOOKUP'!$A$2:$C$202,2,FALSE),\"\")","v":""},{"$f":"IF(G4202<>\"\",VLOOKUP($F4202,'TA STOCK LOOKUP'!$A$2:$C$202,3,FALSE),\"\")","v":""},"","","","","",""]
["","","","","","",{"$f":"IF(F4206<>\"\",VLOOKUP($F4206,'TA STOCK LOOKUP'!$A$2:$C$202,2,FALSE),\"\")","v":""},{"$f":"IF(G4206<>\"\",VLOOKUP($F4206,'TA STOCK LOOKUP'!$A$2:$C$202,3,FALSE),\"\")","v":""},"","","","","",""]
["","","","","","",{"$f":"IF(F4211<>\"\",VLOOKUP($F4211,'TA STOCK LOOKUP'!$A$2:$C$202,2,FALSE),\"\")","v":""},{"$f":"IF(G4211<>\"\",VLOOKUP($F4211,'TA STOCK LOOKUP'!$A$2:$C$202,3,FALSE),\"\")","v":""},"","","","","",""]
["","","","","","",{"$f":"IF(F4216<>\"\",VLOOKUP($F4216,'TA STOCK LOOKUP'!$A$2:$C$202,2,FALSE),\"\")","v":""},{"$f":"IF(G4216<>\"\",VLOOKUP($F4216,'TA STOCK LOOKUP'!$A$2:$C$202,3,FALSE),\"\")","v":""},"","","","","",""]
["","","","","","",{"$f":"IF(F4217<>\"\",VLOOKUP($F4217,'TA STOCK LOOKUP'!$A$2:$C$202,2,FALSE),\"\")","v":""},{"$f":"IF(G4217<>\"\",VLOOKUP($F4217,'TA STOCK LOOKUP'!$A$2:$C$202,3,FALSE),\"\")","v":""},"","","","","",""]
["","","","","","",{"$f":"IF(F4223<>\"\",VLOOKUP($F4223,'TA STOCK LOOKUP'!$A$2:$C$202,2,FALSE),\"\")","v":""},{"$f":"IF(G4223<>\"\",VLOOKUP($F4223,'TA STOCK LOOKUP'!$A$2:$C$202,3,FALSE),\"\")","v":""},"","","","","",""]
["","","","","","",{"$f":"IF(F4226<>\"\",VLOOKUP($F4226,'TA STOCK LOOKUP'!$A$2:$C$202,2,FALSE),\"\")","v":""},{"$f":"IF(G4226<>\"\",VLOOKUP($F4226,'TA STOCK LOOKUP'!$A$2:$C$202,3,FALSE),\"\")","v":""},"","","","","",""]
["","","","","","",{"$f":"IF(F4231<>\"\",VLOOKUP($F4231,'TA STOCK LOOKUP'!$A$2:$C$202,2,FALSE),\"\")","v":""},{"$f":"IF(G4231<>\"\",VLOOKUP($F4231,'TA STOCK LOOKUP'!$A$2:$C$202,3,FALSE),\"\")","v":""},"","","","","",""]
["","","","","","",{"$f":"IF(F4232<>\"\",VLOOKUP($F4232,'TA STOCK LOOKUP'!$A$2:$C$202,2,FALSE),\"\")","v":""},{"$f":"IF(G4232<>\"\",VLOOKUP($F4232,'TA STOCK LOOKUP'!$A$2:$C$202,3,FALSE),\"\")","v":""},"","","","","",""]
["","","","","","",{"$f":"IF(F4236<>\"\",VLOOKUP($F4236,'TA STOCK LOOKUP'!$A$2:$C$202,2,FALSE),\"\")","v":""},{"$f":"IF(G4236<>\"\",VLOOKUP($F4236,'TA STOCK LOOKUP'!$A$2:$C$202,3,FALSE),\"\")","v":""},"","","","","",""]
["","","","","","",{"$f":"IF(F4241<>\"\",VLOOKUP($F4241,'TA STOCK LOOKUP'!$A$2:$C$202,2,FALSE),\"\")","v":""},{"$f":"IF(G4241<>\"\",VLOOKUP($F4241,'TA STOCK LOOKUP'!$A$2:$C$202,3,FALSE),\"\")","v":""},"","","","","",""]
["","","","","","",{"$f":"IF(F4246<>\"\",VLOOKUP($F4246,'TA STOCK LOOKUP'!$A$2:$C$202,2,FALSE),\"\")","v":""},{"$f":"IF(G4246<>\"\",VLOOKUP($F4246,'TA STOCK LOOKUP'!$A$2:$C$202,3,FALSE),\"\")","v":""},"","","","","",""]
["","","","","","",{"$f":"IF(F4247<>\"\",VLOOKUP($F4247,'TA STOCK LOOKUP'!$A$2:$C$202,2,FALSE),\"\")","v":""},{"$f":"IF(G4247<>\"\",VLOOKUP($F4247,'TA STOCK LOOKUP'!$A$2:$C$202,3,FALSE),\"\")","v":""},"","","","","",""]
["","","","","","",{"$f":"IF(F4253<>\"\",VLOOKUP($F4253,'TA STOCK LOOKUP'!$A$2:$C$202,2,FALSE),\"\")","v":""},{"$f":"IF(G4253<>\"\",VLOOKUP($F4253,'TA STOCK LOOKUP'!$A$2:$C$202,3,FALSE),\"\")","v":""},"","","","","",""]
["","","","","","",{"$f":"IF(F4256<>\"\",VLOOKUP($F4256,'TA STOCK LOOKUP'!$A$2:$C$202,2,FALSE),\"\")","v":""},{"$f":"IF(G4256<>\"\",VLOOKUP($F4256,'TA STOCK LOOKUP'!$A$2:$C$202,3,FALSE),\"\")","v":""},"","","","","",""]
["","","","","","",{"$f":"IF(F4261<>\"\",VLOOKUP($F4261,'TA STOCK LOOKUP'!$A$2:$C$202,2,FALSE),\"\")","v":""},{"$f":"IF(G4261<>\"\",VLOOKUP($F4261,'TA STOCK LOOKUP'!$A$2:$C$202,3,FALSE),\"\")","v":""},"","","","","",""]
["","","","","","",{"$f":"IF(F4262<>\"\",VLOOKUP($F4262,'TA STOCK LOOKUP'!$A$2:$C$202,2,FALSE),\"\")","v":""},{"$f":"IF(G4262<>\"\",VLOOKUP($F4262,'TA STOCK LOOKUP'!$A$2:$C$202,3,FALSE),\"\")","v":""},"","","","","",""]
["","","","","","",{"$f":"IF(F4266<>\"\",VLOOKUP($F4266,'TA STOCK LOOKUP'!$A$2:$C$202,2,FALSE),\"\")","v":""},{"$f":"IF(G4266<>\"\",VLOOKUP($F4266,'TA STOCK LOOKUP'!$A$2:$C$202,3,FALSE),\"\")","v":""},"","","","","",""]
["","","","","","",{"$f":"IF(F4271<>\"\",VLOOKUP($F4271,'TA STOCK LOOKUP'!$A$2:$C$202,2,FALSE),\"\")","v":""},{"$f":"IF(G4271<>\"\",VLOOKUP($F4271,'TA STOCK LOOKUP'!$A$2:$C$202,3,FALSE),\"\")","v":""},"","","","","",""]
["","","","","","",{"$f":"IF(F4276<>\"\",VLOOKUP($F4276,'TA STOCK LOOKUP'!$A$2:$C$202,2,FALSE),\"\")","v":""},{"$f":"IF(G4276<>\"\",VLOOKUP($F4276,'TA STOCK LOOKUP'!$A$2:$C$202,3,FALSE),\"\")","v":""},"","","","","",""]
["","","","","","",{"$f":"IF(F4277<>\"\",VLOOKUP($F4277,'TA STOCK LOOKUP'!$A$2:$C$202,2,FALSE),\"\")","v":""},{"$f":"IF(G4277<>\"\",VLOOKUP($F4277,'TA STOCK LOOKUP'!$A$2:$C$202,3,FALSE),\"\")","v":""},"","","","","",""]
["","","","","","",{"$f":"IF(F4283<>\"\",VLOOKUP($F4283,'TA STOCK LOOKUP'!$A$2:$C$202,2,FALSE),\"\")","v":""},{"$f":"IF(G4283<>\"\",VLOOKUP($F4283,'TA STOCK LOOKUP'!$A$2:$C$202,3,FALSE),\"\")","v":""},"","","","","",""]
["","","","","","",{"$f":"IF(F4286<>\"\",VLOOKUP($F4286,'TA STOCK LOOKUP'!$A$2:$C$202,2,FALSE),\"\")","v":""},{"$f":"IF(G4286<>\"\",VLOOKUP($F4286,'TA STOCK LOOKUP'!$A$2:$C$202,3,FALSE),\"\")","v":""},"","","","","",""]
["","","","","","",{"$f":"IF(F4291<>\"\",VLOOKUP($F4291,'TA STOCK LOOKUP'!$A$2:$C$202,2,FALSE),\"\")","v":""},{"$f":"IF(G4291<>\"\",VLOOKUP($F4291,'TA STOCK LOOKUP'!$A$2:$C$202,3,FALSE),\"\")","v":""},"","","","","",""]
["","","","","","",{"$f":"IF(F4292<>\"\",VLOOKUP($F4292,'TA STOCK LOOKUP'!$A$2:$C$202,2,FALSE),\"\")","v":""},{"$f":"IF(G4292<>\"\",VLOOKUP($F4292,'TA STOCK LOOKUP'!$A$2:$C$202,3,FALSE),\"\")","v":""},"","","","","",""]
["","","","","","",{"$f":"IF(F4296<>\"\",VLOOKUP($F4296,'TA STOCK LOOKUP'!$A$2:$C$202,2,FALSE),\"\")","v":""},{"$f":"IF(G4296<>\"\",VLOOKUP($F4296,'TA STOCK LOOKUP'!$A$2:$C$202,3,FALSE),\"\")","v":""},"","","","","",""]
["","","","","","",{"$f":"IF(F4301<>\"\",VLOOKUP($F4301,'TA STOCK LOOKUP'!$A$2:$C$202,2,FALSE),\"\")","v":""},{"$f":"IF(G4301<>\"\",VLOOKUP($F4301,'TA STOCK LOOKUP'!$A$2:$C$202,3,FALSE),\"\")","v":""},"","","","","",""]
["","","","","","",{"$f":"IF(F4306<>\"\",VLOOKUP($F4306,'TA STOCK LOOKUP'!$A$2:$C$202,2,FALSE),\"\")","v":""},{"$f":"IF(G4306<>\"\",VLOOKUP($F4306,'TA STOCK LOOKUP'!$A$2:$C$202,3,FALSE),\"\")","v":""},"","","","","",""]
["","","","","","",{"$f":"IF(F4307<>\"\",VLOOKUP($F4307,'TA STOCK LOOKUP'!$A$2:$C$202,2,FALSE),\"\")","v":""},{"$f":"IF(G4307<>\"\",VLOOKUP($F4307,'TA STOCK LOOKUP'!$A$2:$C$202,3,FALSE),\"\")","v":""},"","","","","",""]
["","","","","","",{"$f":"IF(F4313<>\"\",VLOOKUP($F4313,'TA STOCK LOOKUP'!$A$2:$C$202,2,FALSE),\"\")","v":""},{"$f":"IF(G4313<>\"\",VLOOKUP($F4313,'TA STOCK LOOKUP'!$A$2:$C$202,3,FALSE),\"\")","v":""},"","","","","",""]
["","","","","","",{"$f":"IF(F4316<>\"\",VLOOKUP($F4316,'TA STOCK LOOKUP'!$A$2:$C$202,2,FALSE),\"\")","v":""},{"$f":"IF(G4316<>\"\",VLOOKUP($F4316,'TA STOCK LOOKUP'!$A$2:$C$202,3,FALSE),\"\")","v":""},"","","","","",""]
["","","","","","",{"$f":"IF(F4321<>\"\",VLOOKUP($F4321,'TA STOCK LOOKUP'!$A$2:$C$202,2,FALSE),\"\")","v":""},{"$f":"IF(G4321<>\"\",VLOOKUP($F4321,'TA STOCK LOOKUP'!$A$2:$C$202,3,FALSE),\"\")","v":""},"","","","","",""]
["","","","","","",{"$f":"IF(F4322<>\"\",VLOOKUP($F4322,'TA STOCK LOOKUP'!$A$2:$C$202,2,FALSE),\"\")","v":""},{"$f":"IF(G4322<>\"\",VLOOKUP($F4322,'TA STOCK LOOKUP'!$A$2:$C$202,3,FALSE),\"\")","v":""},"","","","","",""]
["","","","","","",{"$f":"IF(F4326<>\"\",VLOOKUP($F4326,'TA STOCK LOOKUP'!$A$2:$C$202,2,FALSE),\"\")","v":""},{"$f":"IF(G4326<>\"\",VLOOKUP($F4326,'TA STOCK LOOKUP'!$A$2:$C$202,3,FALSE),\"\")","v":""},"","","","","",""]
["","","","","","",{"$f":"IF(F4331<>\"\",VLOOKUP($F4331,'TA STOCK LOOKUP'!$A$2:$C$202,2,FALSE),\"\")","v":""},{"$f":"IF(G4331<>\"\",VLOOKUP($F4331,'TA STOCK LOOKUP'!$A$2:$C$202,3,FALSE),\"\")","v":""},"","","","","",""]
["","","","","","",{"$f":"IF(F4336<>\"\",VLOOKUP($F4336,'TA STOCK LOOKUP'!$A$2:$C$202,2,FALSE),\"\")","v":""},{"$f":"IF(G4336<>\"\",VLOOKUP($F4336,'TA STOCK LOOKUP'!$A$2:$C$202,3,FALSE),\"\")","v":""},"","","","","",""]
["","","","","","",{"$f":"IF(F4337<>\"\",VLOOKUP($F4337,'TA STOCK LOOKUP'!$A$2:$C$202,2,FALSE),\"\")","v":""},{"$f":"IF(G4337<>\"\",VLOOKUP($F4337,'TA STOCK LOOKUP'!$A$2:$C$202,3,FALSE),\"\")","v":""},"","","","","",""]
["","","","","","",{"$f":"IF(F4343<>\"\",VLOOKUP($F4343,'TA STOCK LOOKUP'!$A$2:$C$202,2,FALSE),\"\")","v":""},{"$f":"IF(G4343<>\"\",VLOOKUP($F4343,'TA STOCK LOOKUP'!$A$2:$C$202,3,FALSE),\"\")","v":""},"","","","","",""]
["","","","","","",{"$f":"IF(F4346<>\"\",VLOOKUP($F4346,'TA STOCK LOOKUP'!$A$2:$C$202,2,FALSE),\"\")","v":""},{"$f":"IF(G4346<>\"\",VLOOKUP($F4346,'TA STOCK LOOKUP'!$A$2:$C$202,3,FALSE),\"\")","v":""},"","","","","",""]
["","","","","","",{"$f":"IF(F4351<>\"\",VLOOKUP($F4351,'TA STOCK LOOKUP'!$A$2:$C$202,2,FALSE),\"\")","v":""},{"$f":"IF(G4351<>\"\",VLOOKUP($F4351,'TA STOCK LOOKUP'!$A$2:$C$202,3,FALSE),\"\")","v":""},"","","","","",""]
["","","","","","",{"$f":"IF(F4352<>\"\",VLOOKUP($F4352,'TA STOCK LOOKUP'!$A$2:$C$202,2,FALSE),\"\")","v":""},{"$f":"IF(G4352<>\"\",VLOOKUP($F4352,'TA STOCK LOOKUP'!$A$2:$C$202,3,FALSE),\"\")","v":""},"","","","","",""]
["","","","","","",{"$f":"IF(F4356<>\"\",VLOOKUP($F4356,'TA STOCK LOOKUP'!$A$2:$C$202,2,FALSE),\"\")","v":""},{"$f":"IF(G4356<>\"\",VLOOKUP($F4356,'TA STOCK LOOKUP'!$A$2:$C$202,3,FALSE),\"\")","v":""},"","","","","",""]
["","","","","","",{"$f":"IF(F4361<>\"\",VLOOKUP($F4361,'TA STOCK LOOKUP'!$A$2:$C$202,2,FALSE),\"\")","v":""},{"$f":"IF(G4361<>\"\",VLOOKUP($F4361,'TA STOCK LOOKUP'!$A$2:$C$202,3,FALSE),\"\")","v":""},"","","","","",""]
["","","","","","",{"$f":"IF(F4366<>\"\",VLOOKUP($F4366,'TA STOCK LOOKUP'!$A$2:$C$202,2,FALSE),\"\")","v":""},{"$f":"IF(G4366<>\"\",VLOOKUP($F4366,'TA STOCK LOOKUP'!$A$2:$C$202,3,FALSE),\"\")","v":""},"","","","","",""]
["","","","","","",{"$f":"IF(F4367<>\"\",VLOOKUP($F4367,'TA STOCK LOOKUP'!$A$2:$C$202,2,FALSE),\"\")","v":""},{"$f":"IF(G4367<>\"\",VLOOKUP($F4367,'TA STOCK LOOKUP'!$A$2:$C$202,3,FALSE),\"\")","v":""},"","","","","",""]
["","","","","","",{"$f":"IF(F4373<>\"\",VLOOKUP($F4373,'TA STOCK LOOKUP'!$A$2:$C$202,2,FALSE),\"\")","v":""},{"$f":"IF(G4373<>\"\",VLOOKUP($F4373,'TA STOCK LOOKUP'!$A$2:$C$202,3,FALSE),\"\")","v":""},"","","","","",""]
["","","","","","",{"$f":"IF(F4376<>\"\",VLOOKUP($F4376,'TA STOCK LOOKUP'!$A$2:$C$202,2,FALSE),\"\")","v":""},{"$f":"IF(G4376<>\"\",VLOOKUP($F4376,'TA STOCK LOOKUP'!$A$2:$C$202,3,FALSE),\"\")","v":""},"","","","","",""]
["","","","","","",{"$f":"IF(F4381<>\"\",VLOOKUP($F4381,'TA STOCK LOOKUP'!$A$2:$C$202,2,FALSE),\"\")","v":""},{"$f":"IF(G4381<>\"\",VLOOKUP($F4381,'TA STOCK LOOKUP'!$A$2:$C$202,3,FALSE),\"\")","v":""},"","","","","",""]
["","","","","","",{"$f":"IF(F4382<>\"\",VLOOKUP($F4382,'TA STOCK LOOKUP'!$A$2:$C$202,2,FALSE),\"\")","v":""},{"$f":"IF(G4382<>\"\",VLOOKUP($F4382,'TA STOCK LOOKUP'!$A$2:$C$202,3,FALSE),\"\")","v":""},"","","","","",""]
["","","","","","",{"$f":"IF(F4386<>\"\",VLOOKUP($F4386,'TA STOCK LOOKUP'!$A$2:$C$202,2,FALSE),\"\")","v":""},{"$f":"IF(G4386<>\"\",VLOOKUP($F4386,'TA STOCK LOOKUP'!$A$2:$C$202,3,FALSE),\"\")","v":""},"","","","","",""]
["","","","","","",{"$f":"IF(F4391<>\"\",VLOOKUP($F4391,'TA STOCK LOOKUP'!$A$2:$C$202,2,FALSE),\"\")","v":""},{"$f":"IF(G4391<>\"\",VLOOKUP($F4391,'TA STOCK LOOKUP'!$A$2:$C$202,3,FALSE),\"\")","v":""},"","","","","",""]
["","","","","","",{"$f":"IF(F4396<>\"\",VLOOKUP($F4396,'TA STOCK LOOKUP'!$A$2:$C$202,2,FALSE),\"\")","v":""},{"$f":"IF(G4396<>\"\",VLOOKUP($F4396,'TA STOCK LOOKUP'!$A$2:$C$202,3,FALSE),\"\")","v":""},"","","","","",""]
["","","","","","",{"$f":"IF(F4397<>\"\",VLOOKUP($F4397,'TA STOCK LOOKUP'!$A$2:$C$202,2,FALSE),\"\")","v":""},{"$f":"IF(G4397<>\"\",VLOOKUP($F4397,'TA STOCK LOOKUP'!$A$2:$C$202,3,FALSE),\"\")","v":""},"","","","","",""]
["","","","","","",{"$f":"IF(F4403<>\"\",VLOOKUP($F4403,'TA STOCK LOOKUP'!$A$2:$C$202,2,FALSE),\"\")","v":""},{"$f":"IF(G4403<>\"\",VLOOKUP($F4403,'TA STOCK LOOKUP'!$A$2:$C$202,3,FALSE),\"\")","v":""},"","","","","",""]
["","","","","","",{"$f":"IF(F4406<>\"\",VLOOKUP($F4406,'TA STOCK LOOKUP'!$A$2:$C$202,2,FALSE),\"\")","v":""},{"$f":"IF(G4406<>\"\",VLOOKUP($F4406,'TA STOCK LOOKUP'!$A$2:$C$202,3,FALSE),\"\")","v":""},"","","","","",""]
["","","","","","",{"$f":"IF(F4411<>\"\",VLOOKUP($F4411,'TA STOCK LOOKUP'!$A$2:$C$202,2,FALSE),\"\")","v":""},{"$f":"IF(G4411<>\"\",VLOOKUP($F4411,'TA STOCK LOOKUP'!$A$2:$C$202,3,FALSE),\"\")","v":""},"","","","","",""]
["","","","","","",{"$f":"IF(F4412<>\"\",VLOOKUP($F4412,'TA STOCK LOOKUP'!$A$2:$C$202,2,FALSE),\"\")","v":""},{"$f":"IF(G4412<>\"\",VLOOKUP($F4412,'TA STOCK LOOKUP'!$A$2:$C$202,3,FALSE),\"\")","v":""},"","","","","",""]
["","","","","","",{"$f":"IF(F4416<>\"\",VLOOKUP($F4416,'TA STOCK LOOKUP'!$A$2:$C$202,2,FALSE),\"\")","v":""},{"$f":"IF(G4416<>\"\",VLOOKUP($F4416,'TA STOCK LOOKUP'!$A$2:$C$202,3,FALSE),\"\")","v":""},"","","","","",""]
["","","","","","",{"$f":"IF(F4421<>\"\",VLOOKUP($F4421,'TA STOCK LOOKUP'!$A$2:$C$202,2,FALSE),\"\")","v":""},{"$f":"IF(G4421<>\"\",VLOOKUP($F4421,'TA STOCK LOOKUP'!$A$2:$C$202,3,FALSE),\"\")","v":""},"","","","","",""]
["","","","","","",{"$f":"IF(F4426<>\"\",VLOOKUP($F4426,'TA STOCK LOOKUP'!$A$2:$C$202,2,FALSE),\"\")","v":""},{"$f":"IF(G4426<>\"\",VLOOKUP($F4426,'TA STOCK LOOKUP'!$A$2:$C$202,3,FALSE),\"\")","v":""},"","","","","",""]
["","","","","","",{"$f":"IF(F4427<>\"\",VLOOKUP($F4427,'TA STOCK LOOKUP'!$A$2:$C$202,2,FALSE),\"\")","v":""},{"$f":"IF(G4427<>\"\",VLOOKUP($F4427,'TA STOCK LOOKUP'!$A$2:$C$202,3,FALSE),\"\")","v":""},"","","","","",""]
["","","","","","",{"$f":"IF(F4433<>\"\",VLOOKUP($F4433,'TA STOCK LOOKUP'!$A$2:$C$202,2,FALSE),\"\")","v":""},{"$f":"IF(G4433<>\"\",VLOOKUP($F4433,'TA STOCK LOOKUP'!$A$2:$C$202,3,FALSE),\"\")","v":""},"","","","","",""]
["","","","","","",{"$f":"IF(F4436<>\"\",VLOOKUP($F4436,'TA STOCK LOOKUP'!$A$2:$C$202,2,FALSE),\"\")","v":""},{"$f":"IF(G4436<>\"\",VLOOKUP($F4436,'TA STOCK LOOKUP'!$A$2:$C$202,3,FALSE),\"\")","v":""},"","","","","",""]
["","","","","","",{"$f":"IF(F4441<>\"\",VLOOKUP($F4441,'TA STOCK LOOKUP'!$A$2:$C$202,2,FALSE),\"\")","v":""},{"$f":"IF(G4441<>\"\",VLOOKUP($F4441,'TA STOCK LOOKUP'!$A$2:$C$202,3,FALSE),\"\")","v":""},"","","","","",""]
["","","","","","",{"$f":"IF(F4442<>\"\",VLOOKUP($F4442,'TA STOCK LOOKUP'!$A$2:$C$202,2,FALSE),\"\")","v":""},{"$f":"IF(G4442<>\"\",VLOOKUP($F4442,'TA STOCK LOOKUP'!$A$2:$C$202,3,FALSE),\"\")","v":""},"","","","","",""]
["","","","","","",{"$f":"IF(F4447<>\"\",VLOOKUP($F4447,'TA STOCK LOOKUP'!$A$2:$C$202,2,FALSE),\"\")","v":""},{"$f":"IF(G4447<>\"\",VLOOKUP($F4447,'TA STOCK LOOKUP'!$A$2:$C$202,3,FALSE),\"\")","v":""},"","","","","",""]
["","","","","","",{"$f":"IF(F4451<>\"\",VLOOKUP($F4451,'TA STOCK LOOKUP'!$A$2:$C$202,2,FALSE),\"\")","v":""},{"$f":"IF(G4451<>\"\",VLOOKUP($F4451,'TA STOCK LOOKUP'!$A$2:$C$202,3,FALSE),\"\")","v":""},"","","","","",""]
["","","","","","",{"$f":"IF(F4456<>\"\",VLOOKUP($F4456,'TA STOCK LOOKUP'!$A$2:$C$202,2,FALSE),\"\")","v":""},{"$f":"IF(G4456<>\"\",VLOOKUP($F4456,'TA STOCK LOOKUP'!$A$2:$C$202,3,FALSE),\"\")","v":""},"","","","","",""]
["","","","","","",{"$f":"IF(F4457<>\"\",VLOOKUP($F4457,'TA STOCK LOOKUP'!$A$2:$C$202,2,FALSE),\"\")","v":""},{"$f":"IF(G4457<>\"\",VLOOKUP($F4457,'TA STOCK LOOKUP'!$A$2:$C$202,3,FALSE),\"\")","v":""},"","","","","",""]
["","","","","","",{"$f":"IF(F4463<>\"\",VLOOKUP($F4463,'TA STOCK LOOKUP'!$A$2:$C$202,2,FALSE),\"\")","v":""},{"$f":"IF(G4463<>\"\",VLOOKUP($F4463,'TA STOCK LOOKUP'!$A$2:$C$202,3,FALSE),\"\")","v":""},"","","","","",""]
["","","","","","",{"$f":"IF(F4466<>\"\",VLOOKUP($F4466,'TA STOCK LOOKUP'!$A$2:$C$202,2,FALSE),\"\")","v":""},{"$f":"IF(G4466<>\"\",VLOOKUP($F4466,'TA STOCK LOOKUP'!$A$2:$C$202,3,FALSE),\"\")","v":""},"","","","","",""]
["","","","","","",{"$f":"IF(F4471<>\"\",VLOOKUP($F4471,'TA STOCK LOOKUP'!$A$2:$C$202,2,FALSE),\"\")","v":""},{"$f":"IF(G4471<>\"\",VLOOKUP($F4471,'TA STOCK LOOKUP'!$A$2:$C$202,3,FALSE),\"\")","v":""},"","","","","",""]
["","","","","","",{"$f":"IF(F4472<>\"\",VLOOKUP($F4472,'TA STOCK LOOKUP'!$A$2:$C$202,2,FALSE),\"\")","v":""},{"$f":"IF(G4472<>\"\",VLOOKUP($F4472,'TA STOCK LOOKUP'!$A$2:$C$202,3,FALSE),\"\")","v":""},"","","","","",""]
["","","","","","",{"$f":"IF(F4477<>\"\",VLOOKUP($F4477,'TA STOCK LOOKUP'!$A$2:$C$202,2,FALSE),\"\")","v":""},{"$f":"IF(G4477<>\"\",VLOOKUP($F4477,'TA STOCK LOOKUP'!$A$2:$C$202,3,FALSE),\"\")","v":""},"","","","","",""]
["","","","","","",{"$f":"IF(F4481<>\"\",VLOOKUP($F4481,'TA STOCK LOOKUP'!$A$2:$C$202,2,FALSE),\"\")","v":""},{"$f":"IF(G4481<>\"\",VLOOKUP($F4481,'TA STOCK LOOKUP'!$A$2:$C$202,3,FALSE),\"\")","v":""},"","","","","",""]
["","","","","","",{"$f":"IF(F4486<>\"\",VLOOKUP($F4486,'TA STOCK LOOKUP'!$A$2:$C$202,2,FALSE),\"\")","v":""},{"$f":"IF(G4486<>\"\",VLOOKUP($F4486,'TA STOCK LOOKUP'!$A$2:$C$202,3,FALSE),\"\")","v":""},"","","","","",""]
["","","","","","",{"$f":"IF(F4487<>\"\",VLOOKUP($F4487,'TA STOCK LOOKUP'!$A$2:$C$202,2,FALSE),\"\")","v":""},{"$f":"IF(G4487<>\"\",VLOOKUP($F4487,'TA STOCK LOOKUP'!$A$2:$C$202,3,FALSE),\"\")","v":""},"","","","","",""]
["","","","","","",{"$f":"IF(F4493<>\"\",VLOOKUP($F4493,'TA STOCK LOOKUP'!$A$2:$C$202,2,FALSE),\"\")","v":""},{"$f":"IF(G4493<>\"\",VLOOKUP($F4493,'TA STOCK LOOKUP'!$A$2:$C$202,3,FALSE),\"\")","v":""},"","","","","",""]
["","","","","","",{"$f":"IF(F4496<>\"\",VLOOKUP($F4496,'TA STOCK LOOKUP'!$A$2:$C$202,2,FALSE),\"\")","v":""},{"$f":"IF(G4496<>\"\",VLOOKUP($F4496,'TA STOCK LOOKUP'!$A$2:$C$202,3,FALSE),\"\")","v":""},"","","","","",""]
["","","","","","",{"$f":"IF(F4501<>\"\",VLOOKUP($F4501,'TA STOCK LOOKUP'!$A$2:$C$202,2,FALSE),\"\")","v":""},{"$f":"IF(G4501<>\"\",VLOOKUP($F4501,'TA STOCK LOOKUP'!$A$2:$C$202,3,FALSE),\"\")","v":""},"","","","","",""]
["","","","","","",{"$f":"IF(F4502<>\"\",VLOOKUP($F4502,'TA STOCK LOOKUP'!$A$2:$C$202,2,FALSE),\"\")","v":""},{"$f":"IF(G4502<>\"\",VLOOKUP($F4502,'TA STOCK LOOKUP'!$A$2:$C$202,3,FALSE),\"\")","v":""},"","","","","",""]
["","","","","","",{"$f":"IF(F4507<>\"\",VLOOKUP($F4507,'TA STOCK LOOKUP'!$A$2:$C$202,2,FALSE),\"\")","v":""},{"$f":"IF(G4507<>\"\",VLOOKUP($F4507,'TA STOCK LOOKUP'!$A$2:$C$202,3,FALSE),\"\")","v":""},"","","","","",""]
["","","","","","",{"$f":"IF(F4511<>\"\",VLOOKUP($F4511,'TA STOCK LOOKUP'!$A$2:$C$202,2,FALSE),\"\")","v":""},{"$f":"IF(G4511<>\"\",VLOOKUP($F4511,'TA STOCK LOOKUP'!$A$2:$C$202,3,FALSE),\"\")","v":""},"","","","","",""]
["","","","","","",{"$f":"IF(F4516<>\"\",VLOOKUP($F4516,'TA STOCK LOOKUP'!$A$2:$C$202,2,FALSE),\"\")","v":""},{"$f":"IF(G4516<>\"\",VLOOKUP($F4516,'TA STOCK LOOKUP'!$A$2:$C$202,3,FALSE),\"\")","v":""},"","","","","",""]
["","","","","","",{"$f":"IF(F4517<>\"\",VLOOKUP($F4517,'TA STOCK LOOKUP'!$A$2:$C$202,2,FALSE),\"\")","v":""},{"$f":"IF(G4517<>\"\",VLOOKUP($F4517,'TA STOCK LOOKUP'!$A$2:$C$202,3,FALSE),\"\")","v":""},"","","","","",""]
["","","","","","",{"$f":"IF(F4523<>\"\",VLOOKUP($F4523,'TA STOCK LOOKUP'!$A$2:$C$202,2,FALSE),\"\")","v":""},{"$f":"IF(G4523<>\"\",VLOOKUP($F4523,'TA STOCK LOOKUP'!$A$2:$C$202,3,FALSE),\"\")","v":""},"","","","","",""]
["","","","","","",{"$f":"IF(F4526<>\"\",VLOOKUP($F4526,'TA STOCK LOOKUP'!$A$2:$C$202,2,FALSE),\"\")","v":""},{"$f":"IF(G4526<>\"\",VLOOKUP($F4526,'TA STOCK LOOKUP'!$A$2:$C$202,3,FALSE),\"\")","v":""},"","","","","",""]
["","","","","","",{"$f":"IF(F4531<>\"\",VLOOKUP($F4531,'TA STOCK LOOKUP'!$A$2:$C$202,2,FALSE),\"\")","v":""},{"$f":"IF(G4531<>\"\",VLOOKUP($F4531,'TA STOCK LOOKUP'!$A$2:$C$202,3,FALSE),\"\")","v":""},"","","","","",""]
["","","","","","",{"$f":"IF(F4532<>\"\",VLOOKUP($F4532,'TA STOCK LOOKUP'!$A$2:$C$202,2,FALSE),\"\")","v":""},{"$f":"IF(G4532<>\"\",VLOOKUP($F4532,'TA STOCK LOOKUP'!$A$2:$C$202,3,FALSE),\"\")","v":""},"","","","","",""]
["","","","","","",{"$f":"IF(F4537<>\"\",VLOOKUP($F4537,'TA STOCK LOOKUP'!$A$2:$C$202,2,FALSE),\"\")","v":""},{"$f":"IF(G4537<>\"\",VLOOKUP($F4537,'TA STOCK LOOKUP'!$A$2:$C$202,3,FALSE),\"\")","v":""},"","","","","",""]
["","","","","","",{"$f":"IF(F4541<>\"\",VLOOKUP($F4541,'TA STOCK LOOKUP'!$A$2:$C$202,2,FALSE),\"\")","v":""},{"$f":"IF(G4541<>\"\",VLOOKUP($F4541,'TA STOCK LOOKUP'!$A$2:$C$202,3,FALSE),\"\")","v":""},"","","","","",""]
["","","","","","",{"$f":"IF(F4546<>\"\",VLOOKUP($F4546,'TA STOCK LOOKUP'!$A$2:$C$202,2,FALSE),\"\")","v":""},{"$f":"IF(G4546<>\"\",VLOOKUP($F4546,'TA STOCK LOOKUP'!$A$2:$C$202,3,FALSE),\"\")","v":""},"","","","","",""]
["","","","","","",{"$f":"IF(F4547<>\"\",VLOOKUP($F4547,'TA STOCK LOOKUP'!$A$2:$C$202,2,FALSE),\"\")","v":""},{"$f":"IF(G4547<>\"\",VLOOKUP($F4547,'TA STOCK LOOKUP'!$A$2:$C$202,3,FALSE),\"\")","v":""},"","","","","",""]
["","","","","","",{"$f":"IF(F4553<>\"\",VLOOKUP($F4553,'TA STOCK LOOKUP'!$A$2:$C$202,2,FALSE),\"\")","v":""},{"$f":"IF(G4553<>\"\",VLOOKUP($F4553,'TA STOCK LOOKUP'!$A$2:$C$202,3,FALSE),\"\")","v":""},"","","","","",""]
["","","","","","",{"$f":"IF(F4556<>\"\",VLOOKUP($F4556,'TA STOCK LOOKUP'!$A$2:$C$202,2,FALSE),\"\")","v":""},{"$f":"IF(G4556<>\"\",VLOOKUP($F4556,'TA STOCK LOOKUP'!$A$2:$C$202,3,FALSE),\"\")","v":""},"","","","","",""]
["","","","","","",{"$f":"IF(F4561<>\"\",VLOOKUP($F4561,'TA STOCK LOOKUP'!$A$2:$C$202,2,FALSE),\"\")","v":""},{"$f":"IF(G4561<>\"\",VLOOKUP($F4561,'TA STOCK LOOKUP'!$A$2:$C$202,3,FALSE),\"\")","v":""},"","","","","",""]
["","","","","","",{"$f":"IF(F4562<>\"\",VLOOKUP($F4562,'TA STOCK LOOKUP'!$A$2:$C$202,2,FALSE),\"\")","v":""},{"$f":"IF(G4562<>\"\",VLOOKUP($F4562,'TA STOCK LOOKUP'!$A$2:$C$202,3,FALSE),\"\")","v":""},"","","","","",""]
["","","","","","",{"$f":"IF(F4567<>\"\",VLOOKUP($F4567,'TA STOCK LOOKUP'!$A$2:$C$202,2,FALSE),\"\")","v":""},{"$f":"IF(G4567<>\"\",VLOOKUP($F4567,'TA STOCK LOOKUP'!$A$2:$C$202,3,FALSE),\"\")","v":""},"","","","","",""]
["","","","","","",{"$f":"IF(F4571<>\"\",VLOOKUP($F4571,'TA STOCK LOOKUP'!$A$2:$C$202,2,FALSE),\"\")","v":""},{"$f":"IF(G4571<>\"\",VLOOKUP($F4571,'TA STOCK LOOKUP'!$A$2:$C$202,3,FALSE),\"\")","v":""},"","","","","",""]
["","","","","","",{"$f":"IF(F4576<>\"\",VLOOKUP($F4576,'TA STOCK LOOKUP'!$A$2:$C$202,2,FALSE),\"\")","v":""},{"$f":"IF(G4576<>\"\",VLOOKUP($F4576,'TA STOCK LOOKUP'!$A$2:$C$202,3,FALSE),\"\")","v":""},"","","","","",""]
["","","","","","",{"$f":"IF(F4577<>\"\",VLOOKUP($F4577,'TA STOCK LOOKUP'!$A$2:$C$202,2,FALSE),\"\")","v":""},{"$f":"IF(G4577<>\"\",VLOOKUP($F4577,'TA STOCK LOOKUP'!$A$2:$C$202,3,FALSE),\"\")","v":""},"","","","","",""]
["","","","","","",{"$f":"IF(F4583<>\"\",VLOOKUP($F4583,'TA STOCK LOOKUP'!$A$2:$C$202,2,FALSE),\"\")","v":""},{"$f":"IF(G4583<>\"\",VLOOKUP($F4583,'TA STOCK LOOKUP'!$A$2:$C$202,3,FALSE),\"\")","v":""},"","","","","",""]
["","","","","","",{"$f":"IF(F4586<>\"\",VLOOKUP($F4586,'TA STOCK LOOKUP'!$A$2:$C$202,2,FALSE),\"\")","v":""},{"$f":"IF(G4586<>\"\",VLOOKUP($F4586,'TA STOCK LOOKUP'!$A$2:$C$202,3,FALSE),\"\")","v":""},"","","","","",""]
["","","","","","",{"$f":"IF(F4591<>\"\",VLOOKUP($F4591,'TA STOCK LOOKUP'!$A$2:$C$202,2,FALSE),\"\")","v":""},{"$f":"IF(G4591<>\"\",VLOOKUP($F4591,'TA STOCK LOOKUP'!$A$2:$C$202,3,FALSE),\"\")","v":""},"","","","","",""]
["","","","","","",{"$f":"IF(F4592<>\"\",VLOOKUP($F4592,'TA STOCK LOOKUP'!$A$2:$C$202,2,FALSE),\"\")","v":""},{"$f":"IF(G4592<>\"\",VLOOKUP($F4592,'TA STOCK LOOKUP'!$A$2:$C$202,3,FALSE),\"\")","v":""},"","","","","",""]
["","","","","","",{"$f":"IF(F4597<>\"\",VLOOKUP($F4597,'TA STOCK LOOKUP'!$A$2:$C$202,2,FALSE),\"\")","v":""},{"$f":"IF(G4597<>\"\",VLOOKUP($F4597,'TA STOCK LOOKUP'!$A$2:$C$202,3,FALSE),\"\")","v":""},"","","","","",""]
["","","","","","",{"$f":"IF(F4601<>\"\",VLOOKUP($F4601,'TA STOCK LOOKUP'!$A$2:$C$202,2,FALSE),\"\")","v":""},{"$f":"IF(G4601<>\"\",VLOOKUP($F4601,'TA STOCK LOOKUP'!$A$2:$C$202,3,FALSE),\"\")","v":""},"","","","","",""]
["","","","","","",{"$f":"IF(F4606<>\"\",VLOOKUP($F4606,'TA STOCK LOOKUP'!$A$2:$C$202,2,FALSE),\"\")","v":""},{"$f":"IF(G4606<>\"\",VLOOKUP($F4606,'TA STOCK LOOKUP'!$A$2:$C$202,3,FALSE),\"\")","v":""},"","","","","",""]
["","","","","","",{"$f":"IF(F4607<>\"\",VLOOKUP($F4607,'TA STOCK LOOKUP'!$A$2:$C$202,2,FALSE),\"\")","v":""},{"$f":"IF(G4607<>\"\",VLOOKUP($F4607,'TA STOCK LOOKUP'!$A$2:$C$202,3,FALSE),\"\")","v":""},"","","","","",""]
["","","","","","",{"$f":"IF(F4613<>\"\",VLOOKUP($F4613,'TA STOCK LOOKUP'!$A$2:$C$202,2,FALSE),\"\")","v":""},{"$f":"IF(G4613<>\"\",VLOOKUP($F4613,'TA STOCK LOOKUP'!$A$2:$C$202,3,FALSE),\"\")","v":""},"","","","","",""]
["","","","","","",{"$f":"IF(F4616<>\"\",VLOOKUP($F4616,'TA STOCK LOOKUP'!$A$2:$C$202,2,FALSE),\"\")","v":""},{"$f":"IF(G4616<>\"\",VLOOKUP($F4616,'TA STOCK LOOKUP'!$A$2:$C$202,3,FALSE),\"\")","v":""},"","","","","",""]
["","","","","","",{"$f":"IF(F4621<>\"\",VLOOKUP($F4621,'TA STOCK LOOKUP'!$A$2:$C$202,2,FALSE),\"\")","v":""},{"$f":"IF(G4621<>\"\",VLOOKUP($F4621,'TA STOCK LOOKUP'!$A$2:$C$202,3,FALSE),\"\")","v":""},"","","","","",""]
["","","","","","",{"$f":"IF(F4622<>\"\",VLOOKUP($F4622,'TA STOCK LOOKUP'!$A$2:$C$202,2,FALSE),\"\")","v":""},{"$f":"IF(G4622<>\"\",VLOOKUP($F4622,'TA STOCK LOOKUP'!$A$2:$C$202,3,FALSE),\"\")","v":""},"","","","","",""]
["","","","","","",{"$f":"IF(F4627<>\"\",VLOOKUP($F4627,'TA STOCK LOOKUP'!$A$2:$C$202,2,FALSE),\"\")","v":""},{"$f":"IF(G4627<>\"\",VLOOKUP($F4627,'TA STOCK LOOKUP'!$A$2:$C$202,3,FALSE),\"\")","v":""},"","","","","",""]
["","","","","","",{"$f":"IF(F4631<>\"\",VLOOKUP($F4631,'TA STOCK LOOKUP'!$A$2:$C$202,2,FALSE),\"\")","v":""},{"$f":"IF(G4631<>\"\",VLOOKUP($F4631,'TA STOCK LOOKUP'!$A$2:$C$202,3,FALSE),\"\")","v":""},"","","","","",""]
["","","","","","",{"$f":"IF(F4636<>\"\",VLOOKUP($F4636,'TA STOCK LOOKUP'!$A$2:$C$202,2,FALSE),\"\")","v":""},{"$f":"IF(G4636<>\"\",VLOOKUP($F4636,'TA STOCK LOOKUP'!$A$2:$C$202,3,FALSE),\"\")","v":""},"","","","","",""]
["","","","","","",{"$f":"IF(F4637<>\"\",VLOOKUP($F4637,'TA STOCK LOOKUP'!$A$2:$C$202,2,FALSE),\"\")","v":""},{"$f":"IF(G4637<>\"\",VLOOKUP($F4637,'TA STOCK LOOKUP'!$A$2:$C$202,3,FALSE),\"\")","v":""},"","","","","",""]
["","","","","","",{"$f":"IF(F4643<>\"\",VLOOKUP($F4643,'TA STOCK LOOKUP'!$A$2:$C$202,2,FALSE),\"\")","v":""},{"$f":"IF(G4643<>\"\",VLOOKUP($F4643,'TA STOCK LOOKUP'!$A$2:$C$202,3,FALSE),\"\")","v":""},"","","","","",""]
["","","","","","",{"$f":"IF(F4646<>\"\",VLOOKUP($F4646,'TA STOCK LOOKUP'!$A$2:$C$202,2,FALSE),\"\")","v":""},{"$f":"IF(G4646<>\"\",VLOOKUP($F4646,'TA STOCK LOOKUP'!$A$2:$C$202,3,FALSE),\"\")","v":""},"","","","","",""]
["","","","","","",{"$f":"IF(F4651<>\"\",VLOOKUP($F4651,'TA STOCK LOOKUP'!$A$2:$C$202,2,FALSE),\"\")","v":""},{"$f":"IF(G4651<>\"\",VLOOKUP($F4651,'TA STOCK LOOKUP'!$A$2:$C$202,3,FALSE),\"\")","v":""},"","","","","",""]
["","","","","","",{"$f":"IF(F4652<>\"\",VLOOKUP($F4652,'TA STOCK LOOKUP'!$A$2:$C$202,2,FALSE),\"\")","v":""},{"$f":"IF(G4652<>\"\",VLOOKUP($F4652,'TA STOCK LOOKUP'!$A$2:$C$202,3,FALSE),\"\")","v":""},"","","","","",""]
["","","","","","",{"$f":"IF(F4657<>\"\",VLOOKUP($F4657,'TA STOCK LOOKUP'!$A$2:$C$202,2,FALSE),\"\")","v":""},{"$f":"IF(G4657<>\"\",VLOOKUP($F4657,'TA STOCK LOOKUP'!$A$2:$C$202,3,FALSE),\"\")","v":""},"","","","","",""]
["","","","","","",{"$f":"IF(F4661<>\"\",VLOOKUP($F4661,'TA STOCK LOOKUP'!$A$2:$C$202,2,FALSE),\"\")","v":""},{"$f":"IF(G4661<>\"\",VLOOKUP($F4661,'TA STOCK LOOKUP'!$A$2:$C$202,3,FALSE),\"\")","v":""},"","","","","",""]
["","","","","","",{"$f":"IF(F4666<>\"\",VLOOKUP($F4666,'TA STOCK LOOKUP'!$A$2:$C$202,2,FALSE),\"\")","v":""},{"$f":"IF(G4666<>\"\",VLOOKUP($F4666,'TA STOCK LOOKUP'!$A$2:$C$202,3,FALSE),\"\")","v":""},"","","","","",""]
["","","","","","",{"$f":"IF(F4667<>\"\",VLOOKUP($F4667,'TA STOCK LOOKUP'!$A$2:$C$202,2,FALSE),\"\")","v":""},{"$f":"IF(G4667<>\"\",VLOOKUP($F4667,'TA STOCK LOOKUP'!$A$2:$C$202,3,FALSE),\"\")","v":""},"","","","","",""]
["","","","","","",{"$f":"IF(F4673<>\"\",VLOOKUP($F4673,'TA STOCK LOOKUP'!$A$2:$C$202,2,FALSE),\"\")","v":""},{"$f":"IF(G4673<>\"\",VLOOKUP($F4673,'TA STOCK LOOKUP'!$A$2:$C$202,3,FALSE),\"\")","v":""},"","","","","",""]
["","","","","","",{"$f":"IF(F4676<>\"\",VLOOKUP($F4676,'TA STOCK LOOKUP'!$A$2:$C$202,2,FALSE),\"\")","v":""},{"$f":"IF(G4676<>\"\",VLOOKUP($F4676,'TA STOCK LOOKUP'!$A$2:$C$202,3,FALSE),\"\")","v":""},"","","","","",""]
["","","","","","",{"$f":"IF(F4681<>\"\",VLOOKUP($F4681,'TA STOCK LOOKUP'!$A$2:$C$202,2,FALSE),\"\")","v":""},{"$f":"IF(G4681<>\"\",VLOOKUP($F4681,'TA STOCK LOOKUP'!$A$2:$C$202,3,FALSE),\"\")","v":""},"","","","","",""]
["","","","","","",{"$f":"IF(F4682<>\"\",VLOOKUP($F4682,'TA STOCK LOOKUP'!$A$2:$C$202,2,FALSE),\"\")","v":""},{"$f":"IF(G4682<>\"\",VLOOKUP($F4682,'TA STOCK LOOKUP'!$A$2:$C$202,3,FALSE),\"\")","v":""},"","","","","",""]
["","","","","","",{"$f":"IF(F4687<>\"\",VLOOKUP($F4687,'TA STOCK LOOKUP'!$A$2:$C$202,2,FALSE),\"\")","v":""},{"$f":"IF(G4687<>\"\",VLOOKUP($F4687,'TA STOCK LOOKUP'!$A$2:$C$202,3,FALSE),\"\")","v":""},"","","","","",""]
["","","","","","",{"$f":"IF(F4691<>\"\",VLOOKUP($F4691,'TA STOCK LOOKUP'!$A$2:$C$202,2,FALSE),\"\")","v":""},{"$f":"IF(G4691<>\"\",VLOOKUP($F4691,'TA STOCK LOOKUP'!$A$2:$C$202,3,FALSE),\"\")","v":""},"","","","","",""]
["","","","","","",{"$f":"IF(F4696<>\"\",VLOOKUP($F4696,'TA STOCK LOOKUP'!$A$2:$C$202,2,FALSE),\"\")","v":""},{"$f":"IF(G4696<>\"\",VLOOKUP($F4696,'TA STOCK LOOKUP'!$A$2:$C$202,3,FALSE),\"\")","v":""},"","","","","",""]
["","","","","","",{"$f":"IF(F4697<>\"\",VLOOKUP($F4697,'TA STOCK LOOKUP'!$A$2:$C$202,2,FALSE),\"\")","v":""},{"$f":"IF(G4697<>\"\",VLOOKUP($F4697,'TA STOCK LOOKUP'!$A$2:$C$202,3,FALSE),\"\")","v":""},"","","","","",""]
["","","","","","",{"$f":"IF(F4701<>\"\",VLOOKUP($F4701,'TA STOCK LOOKUP'!$A$2:$C$202,2,FALSE),\"\")","v":""},{"$f":"IF(G4701<>\"\",VLOOKUP($F4701,'TA STOCK LOOKUP'!$A$2:$C$202,3,FALSE),\"\")","v":""},"","","","","",""]
["","","","","","",{"$f":"IF(F4706<>\"\",VLOOKUP($F4706,'TA STOCK LOOKUP'!$A$2:$C$202,2,FALSE),\"\")","v":""},{"$f":"IF(G4706<>\"\",VLOOKUP($F4706,'TA STOCK LOOKUP'!$A$2:$C$202,3,FALSE),\"\")","v":""},"","","","","",""]
["","","","","","",{"$f":"IF(F4711<>\"\",VLOOKUP($F4711,'TA STOCK LOOKUP'!$A$2:$C$202,2,FALSE),\"\")","v":""},{"$f":"IF(G4711<>\"\",VLOOKUP($F4711,'TA STOCK LOOKUP'!$A$2:$C$202,3,FALSE),\"\")","v":""},"","","","","",""]
["","","","","","",{"$f":"IF(F4712<>\"\",VLOOKUP($F4712,'TA STOCK LOOKUP'!$A$2:$C$202,2,FALSE),\"\")","v":""},{"$f":"IF(G4712<>\"\",VLOOKUP($F4712,'TA STOCK LOOKUP'!$A$2:$C$202,3,FALSE),\"\")","v":""},"","","","","",""]
["","","","","","",{"$f":"IF(F4717<>\"\",VLOOKUP($F4717,'TA STOCK LOOKUP'!$A$2:$C$202,2,FALSE),\"\")","v":""},{"$f":"IF(G4717<>\"\",VLOOKUP($F4717,'TA STOCK LOOKUP'!$A$2:$C$202,3,FALSE),\"\")","v":""},"","","","","",""]
["","","","","","",{"$f":"IF(F4721<>\"\",VLOOKUP($F4721,'TA STOCK LOOKUP'!$A$2:$C$202,2,FALSE),\"\")","v":""},{"$f":"IF(G4721<>\"\",VLOOKUP($F4721,'TA STOCK LOOKUP'!$A$2:$C$202,3,FALSE),\"\")","v":""},"","","","","",""]
["","","","","","",{"$f":"IF(F4726<>\"\",VLOOKUP($F4726,'TA STOCK LOOKUP'!$A$2:$C$202,2,FALSE),\"\")","v":""},{"$f":"IF(G4726<>\"\",VLOOKUP($F4726,'TA STOCK LOOKUP'!$A$2:$C$202,3,FALSE),\"\")","v":""},"","","","","",""]
["","","","","","",{"$f":"IF(F4727<>\"\",VLOOKUP($F4727,'TA STOCK LOOKUP'!$A$2:$C$202,2,FALSE),\"\")","v":""},{"$f":"IF(G4727<>\"\",VLOOKUP($F4727,'TA STOCK LOOKUP'!$A$2:$C$202,3,FALSE),\"\")","v":""},"","","","","",""]
["","","","","","",{"$f":"IF(F4731<>\"\",VLOOKUP($F4731,'TA STOCK LOOKUP'!$A$2:$C$202,2,FALSE),\"\")","v":""},{"$f":"IF(G4731<>\"\",VLOOKUP($F4731,'TA STOCK LOOKUP'!$A$2:$C$202,3,FALSE),\"\")","v":""},"","","","","",""]
["","","","","","",{"$f":"IF(F4736<>\"\",VLOOKUP($F4736,'TA STOCK LOOKUP'!$A$2:$C$202,2,FALSE),\"\")","v":""},{"$f":"IF(G4736<>\"\",VLOOKUP($F4736,'TA STOCK LOOKUP'!$A$2:$C$202,3,FALSE),\"\")","v":""},"","","","","",""]
["","","","","","",{"$f":"IF(F4741<>\"\",VLOOKUP($F4741,'TA STOCK LOOKUP'!$A$2:$C$202,2,FALSE),\"\")","v":""},{"$f":"IF(G4741<>\"\",VLOOKUP($F4741,'TA STOCK LOOKUP'!$A$2:$C$202,3,FALSE),\"\")","v":""},"","","","","",""]
["","","","","","",{"$f":"IF(F4742<>\"\",VLOOKUP($F4742,'TA STOCK LOOKUP'!$A$2:$C$202,2,FALSE),\"\")","v":""},{"$f":"IF(G4742<>\"\",VLOOKUP($F4742,'TA STOCK LOOKUP'!$A$2:$C$202,3,FALSE),\"\")","v":""},"","","","","",""]
["","","","","","",{"$f":"IF(F4747<>\"\",VLOOKUP($F4747,'TA STOCK LOOKUP'!$A$2:$C$202,2,FALSE),\"\")","v":""},{"$f":"IF(G4747<>\"\",VLOOKUP($F4747,'TA STOCK LOOKUP'!$A$2:$C$202,3,FALSE),\"\")","v":""},"","","","","",""]
["","","","","","",{"$f":"IF(F4751<>\"\",VLOOKUP($F4751,'TA STOCK LOOKUP'!$A$2:$C$202,2,FALSE),\"\")","v":""},{"$f":"IF(G4751<>\"\",VLOOKUP($F4751,'TA STOCK LOOKUP'!$A$2:$C$202,3,FALSE),\"\")","v":""},"","","","","",""]
["","","","","","",{"$f":"IF(F4756<>\"\",VLOOKUP($F4756,'TA STOCK LOOKUP'!$A$2:$C$202,2,FALSE),\"\")","v":""},{"$f":"IF(G4756<>\"\",VLOOKUP($F4756,'TA STOCK LOOKUP'!$A$2:$C$202,3,FALSE),\"\")","v":""},"","","","","",""]
["","","","","","",{"$f":"IF(F4757<>\"\",VLOOKUP($F4757,'TA STOCK LOOKUP'!$A$2:$C$202,2,FALSE),\"\")","v":""},{"$f":"IF(G4757<>\"\",VLOOKUP($F4757,'TA STOCK LOOKUP'!$A$2:$C$202,3,FALSE),\"\")","v":""},"","","","","",""]
["","","","","","",{"$f":"IF(F4761<>\"\",VLOOKUP($F4761,'TA STOCK LOOKUP'!$A$2:$C$202,2,FALSE),\"\")","v":""},{"$f":"IF(G4761<>\"\",VLOOKUP($F4761,'TA STOCK LOOKUP'!$A$2:$C$202,3,FALSE),\"\")","v":""},"","","","","",""]
["","","","","","",{"$f":"IF(F4766<>\"\",VLOOKUP($F4766,'TA STOCK LOOKUP'!$A$2:$C$202,2,FALSE),\"\")","v":""},{"$f":"IF(G4766<>\"\",VLOOKUP($F4766,'TA STOCK LOOKUP'!$A$2:$C$202,3,FALSE),\"\")","v":""},"","","","","",""]
["","","","","","",{"$f":"IF(F4771<>\"\",VLOOKUP($F4771,'TA STOCK LOOKUP'!$A$2:$C$202,2,FALSE),\"\")","v":""},{"$f":"IF(G4771<>\"\",VLOOKUP($F4771,'TA STOCK LOOKUP'!$A$2:$C$202,3,FALSE),\"\")","v":""},"","","","","",""]
["","","","","","",{"$f":"IF(F4772<>\"\",VLOOKUP($F4772,'TA STOCK LOOKUP'!$A$2:$C$202,2,FALSE),\"\")","v":""},{"$f":"IF(G4772<>\"\",VLOOKUP($F4772,'TA STOCK LOOKUP'!$A$2:$C$202,3,FALSE),\"\")","v":""},"","","","","",""]
["","","","","","",{"$f":"IF(F4777<>\"\",VLOOKUP($F4777,'TA STOCK LOOKUP'!$A$2:$C$202,2,FALSE),\"\")","v":""},{"$f":"IF(G4777<>\"\",VLOOKUP($F4777,'TA STOCK LOOKUP'!$A$2:$C$202,3,FALSE),\"\")","v":""},"","","","","",""]
["","","","","","",{"$f":"IF(F4781<>\"\",VLOOKUP($F4781,'TA STOCK LOOKUP'!$A$2:$C$202,2,FALSE),\"\")","v":""},{"$f":"IF(G4781<>\"\",VLOOKUP($F4781,'TA STOCK LOOKUP'!$A$2:$C$202,3,FALSE),\"\")","v":""},"","","","","",""]
["","","","","","",{"$f":"IF(F4786<>\"\",VLOOKUP($F4786,'TA STOCK LOOKUP'!$A$2:$C$202,2,FALSE),\"\")","v":""},{"$f":"IF(G4786<>\"\",VLOOKUP($F4786,'TA STOCK LOOKUP'!$A$2:$C$202,3,FALSE),\"\")","v":""},"","","","","",""]
["","","","","","",{"$f":"IF(F4787<>\"\",VLOOKUP($F4787,'TA STOCK LOOKUP'!$A$2:$C$202,2,FALSE),\"\")","v":""},{"$f":"IF(G4787<>\"\",VLOOKUP($F4787,'TA STOCK LOOKUP'!$A$2:$C$202,3,FALSE),\"\")","v":""},"","","","","",""]
["","","","","","",{"$f":"IF(F4791<>\"\",VLOOKUP($F4791,'TA STOCK LOOKUP'!$A$2:$C$202,2,FALSE),\"\")","v":""},{"$f":"IF(G4791<>\"\",VLOOKUP($F4791,'TA STOCK LOOKUP'!$A$2:$C$202,3,FALSE),\"\")","v":""},"","","","","",""]
["","","","","","",{"$f":"IF(F4796<>\"\",VLOOKUP($F4796,'TA STOCK LOOKUP'!$A$2:$C$202,2,FALSE),\"\")","v":""},{"$f":"IF(G4796<>\"\",VLOOKUP($F4796,'TA STOCK LOOKUP'!$A$2:$C$202,3,FALSE),\"\")","v":""},"","","","","",""]
["","","","","","",{"$f":"IF(F4801<>\"\",VLOOKUP($F4801,'TA STOCK LOOKUP'!$A$2:$C$202,2,FALSE),\"\")","v":""},{"$f":"IF(G4801<>\"\",VLOOKUP($F4801,'TA STOCK LOOKUP'!$A$2:$C$202,3,FALSE),\"\")","v":""},"","","","","",""]
["","","","","","",{"$f":"IF(F4802<>\"\",VLOOKUP($F4802,'TA STOCK LOOKUP'!$A$2:$C$202,2,FALSE),\"\")","v":""},{"$f":"IF(G4802<>\"\",VLOOKUP($F4802,'TA STOCK LOOKUP'!$A$2:$C$202,3,FALSE),\"\")","v":""},"","","","","",""]
["","","","","","",{"$f":"IF(F4807<>\"\",VLOOKUP($F4807,'TA STOCK LOOKUP'!$A$2:$C$202,2,FALSE),\"\")","v":""},{"$f":"IF(G4807<>\"\",VLOOKUP($F4807,'TA STOCK LOOKUP'!$A$2:$C$202,3,FALSE),\"\")","v":""},"","","","","",""]
["","","","","","",{"$f":"IF(F4811<>\"\",VLOOKUP($F4811,'TA STOCK LOOKUP'!$A$2:$C$202,2,FALSE),\"\")","v":""},{"$f":"IF(G4811<>\"\",VLOOKUP($F4811,'TA STOCK LOOKUP'!$A$2:$C$202,3,FALSE),\"\")","v":""},"","","","","",""]
["","","","","","",{"$f":"IF(F4816<>\"\",VLOOKUP($F4816,'TA STOCK LOOKUP'!$A$2:$C$202,2,FALSE),\"\")","v":""},{"$f":"IF(G4816<>\"\",VLOOKUP($F4816,'TA STOCK LOOKUP'!$A$2:$C$202,3,FALSE),\"\")","v":""},"","","","","",""]
["","","","","","",{"$f":"IF(F4817<>\"\",VLOOKUP($F4817,'TA STOCK LOOKUP'!$A$2:$C$202,2,FALSE),\"\")","v":""},{"$f":"IF(G4817<>\"\",VLOOKUP($F4817,'TA STOCK LOOKUP'!$A$2:$C$202,3,FALSE),\"\")","v":""},"","","","","",""]
["","","","","","",{"$f":"IF(F4821<>\"\",VLOOKUP($F4821,'TA STOCK LOOKUP'!$A$2:$C$202,2,FALSE),\"\")","v":""},{"$f":"IF(G4821<>\"\",VLOOKUP($F4821,'TA STOCK LOOKUP'!$A$2:$C$202,3,FALSE),\"\")","v":""},"","","","","",""]
["","","","","","",{"$f":"IF(F4826<>\"\",VLOOKUP($F4826,'TA STOCK LOOKUP'!$A$2:$C$202,2,FALSE),\"\")","v":""},{"$f":"IF(G4826<>\"\",VLOOKUP($F4826,'TA STOCK LOOKUP'!$A$2:$C$202,3,FALSE),\"\")","v":""},"","","","","",""]
["","","","","","",{"$f":"IF(F4831<>\"\",VLOOKUP($F4831,'TA STOCK LOOKUP'!$A$2:$C$202,2,FALSE),\"\")","v":""},{"$f":"IF(G4831<>\"\",VLOOKUP($F4831,'TA STOCK LOOKUP'!$A$2:$C$202,3,FALSE),\"\")","v":""},"","","","","",""]
["","","","","","",{"$f":"IF(F4832<>\"\",VLOOKUP($F4832,'TA STOCK LOOKUP'!$A$2:$C$202,2,FALSE),\"\")","v":""},{"$f":"IF(G4832<>\"\",VLOOKUP($F4832,'TA STOCK LOOKUP'!$A$2:$C$202,3,FALSE),\"\")","v":""},"","","","","",""]
["","","","","","",{"$f":"IF(F4837<>\"\",VLOOKUP($F4837,'TA STOCK LOOKUP'!$A$2:$C$202,2,FALSE),\"\")","v":""},{"$f":"IF(G4837<>\"\",VLOOKUP($F4837,'TA STOCK LOOKUP'!$A$2:$C$202,3,FALSE),\"\")","v":""},"","","","","",""]
["","","","","","",{"$f":"IF(F4841<>\"\",VLOOKUP($F4841,'TA STOCK LOOKUP'!$A$2:$C$202,2,FALSE),\"\")","v":""},{"$f":"IF(G4841<>\"\",VLOOKUP($F4841,'TA STOCK LOOKUP'!$A$2:$C$202,3,FALSE),\"\")","v":""},"","","","","",""]
["","","","","","",{"$f":"IF(F4846<>\"\",VLOOKUP($F4846,'TA STOCK LOOKUP'!$A$2:$C$202,2,FALSE),\"\")","v":""},{"$f":"IF(G4846<>\"\",VLOOKUP($F4846,'TA STOCK LOOKUP'!$A$2:$C$202,3,FALSE),\"\")","v":""},"","","","","",""]
["","","","","","",{"$f":"IF(F4847<>\"\",VLOOKUP($F4847,'TA STOCK LOOKUP'!$A$2:$C$202,2,FALSE),\"\")","v":""},{"$f":"IF(G4847<>\"\",VLOOKUP($F4847,'TA STOCK LOOKUP'!$A$2:$C$202,3,FALSE),\"\")","v":""},"","","","","",""]
["","","","","","",{"$f":"IF(F4851<>\"\",VLOOKUP($F4851,'TA STOCK LOOKUP'!$A$2:$C$202,2,FALSE),\"\")","v":""},{"$f":"IF(G4851<>\"\",VLOOKUP($F4851,'TA STOCK LOOKUP'!$A$2:$C$202,3,FALSE),\"\")","v":""},"","","","","",""]
["","","","","","",{"$f":"IF(F4856<>\"\",VLOOKUP($F4856,'TA STOCK LOOKUP'!$A$2:$C$202,2,FALSE),\"\")","v":""},{"$f":"IF(G4856<>\"\",VLOOKUP($F4856,'TA STOCK LOOKUP'!$A$2:$C$202,3,FALSE),\"\")","v":""},"","","","","",""]
["","","","","","",{"$f":"IF(F4861<>\"\",VLOOKUP($F4861,'TA STOCK LOOKUP'!$A$2:$C$202,2,FALSE),\"\")","v":""},{"$f":"IF(G4861<>\"\",VLOOKUP($F4861,'TA STOCK LOOKUP'!$A$2:$C$202,3,FALSE),\"\")","v":""},"","","","","",""]
["","","","","","",{"$f":"IF(F4862<>\"\",VLOOKUP($F4862,'TA STOCK LOOKUP'!$A$2:$C$202,2,FALSE),\"\")","v":""},{"$f":"IF(G4862<>\"\",VLOOKUP($F4862,'TA STOCK LOOKUP'!$A$2:$C$202,3,FALSE),\"\")","v":""},"","","","","",""]
["","","","","","",{"$f":"IF(F4867<>\"\",VLOOKUP($F4867,'TA STOCK LOOKUP'!$A$2:$C$202,2,FALSE),\"\")","v":""},{"$f":"IF(G4867<>\"\",VLOOKUP($F4867,'TA STOCK LOOKUP'!$A$2:$C$202,3,FALSE),\"\")","v":""},"","","","","",""]
["","","","","","",{"$f":"IF(F4871<>\"\",VLOOKUP($F4871,'TA STOCK LOOKUP'!$A$2:$C$202,2,FALSE),\"\")","v":""},{"$f":"IF(G4871<>\"\",VLOOKUP($F4871,'TA STOCK LOOKUP'!$A$2:$C$202,3,FALSE),\"\")","v":""},"","","","","",""]
["","","","","","",{"$f":"IF(F4876<>\"\",VLOOKUP($F4876,'TA STOCK LOOKUP'!$A$2:$C$202,2,FALSE),\"\")","v":""},{"$f":"IF(G4876<>\"\",VLOOKUP($F4876,'TA STOCK LOOKUP'!$A$2:$C$202,3,FALSE),\"\")","v":""},"","","","","",""]
["","","","","","",{"$f":"IF(F4877<>\"\",VLOOKUP($F4877,'TA STOCK LOOKUP'!$A$2:$C$202,2,FALSE),\"\")","v":""},{"$f":"IF(G4877<>\"\",VLOOKUP($F4877,'TA STOCK LOOKUP'!$A$2:$C$202,3,FALSE),\"\")","v":""},"","","","","",""]
["","","","","","",{"$f":"IF(F4881<>\"\",VLOOKUP($F4881,'TA STOCK LOOKUP'!$A$2:$C$202,2,FALSE),\"\")","v":""},{"$f":"IF(G4881<>\"\",VLOOKUP($F4881,'TA STOCK LOOKUP'!$A$2:$C$202,3,FALSE),\"\")","v":""},"","","","","",""]
["","","","","","",{"$f":"IF(F4886<>\"\",VLOOKUP($F4886,'TA STOCK LOOKUP'!$A$2:$C$202,2,FALSE),\"\")","v":""},{"$f":"IF(G4886<>\"\",VLOOKUP($F4886,'TA STOCK LOOKUP'!$A$2:$C$202,3,FALSE),\"\")","v":""},"","","","","",""]
["","","","","","",{"$f":"IF(F4891<>\"\",VLOOKUP($F4891,'TA STOCK LOOKUP'!$A$2:$C$202,2,FALSE),\"\")","v":""},{"$f":"IF(G4891<>\"\",VLOOKUP($F4891,'TA STOCK LOOKUP'!$A$2:$C$202,3,FALSE),\"\")","v":""},"","","","","",""]
["","","","","","",{"$f":"IF(F4892<>\"\",VLOOKUP($F4892,'TA STOCK LOOKUP'!$A$2:$C$202,2,FALSE),\"\")","v":""},{"$f":"IF(G4892<>\"\",VLOOKUP($F4892,'TA STOCK LOOKUP'!$A$2:$C$202,3,FALSE),\"\")","v":""},"","","","","",""]
["","","","","","",{"$f":"IF(F4897<>\"\",VLOOKUP($F4897,'TA STOCK LOOKUP'!$A$2:$C$202,2,FALSE),\"\")","v":""},{"$f":"IF(G4897<>\"\",VLOOKUP($F4897,'TA STOCK LOOKUP'!$A$2:$C$202,3,FALSE),\"\")","v":""},"","","","","",""]
["","","","","","",{"$f":"IF(F4901<>\"\",VLOOKUP($F4901,'TA STOCK LOOKUP'!$A$2:$C$202,2,FALSE),\"\")","v":""},{"$f":"IF(G4901<>\"\",VLOOKUP($F4901,'TA STOCK LOOKUP'!$A$2:$C$202,3,FALSE),\"\")","v":""},"","","","","",""]
["","","","","","",{"$f":"IF(F4906<>\"\",VLOOKUP($F4906,'TA STOCK LOOKUP'!$A$2:$C$202,2,FALSE),\"\")","v":""},{"$f":"IF(G4906<>\"\",VLOOKUP($F4906,'TA STOCK LOOKUP'!$A$2:$C$202,3,FALSE),\"\")","v":""},"","","","","",""]
["","","","","","",{"$f":"IF(F4907<>\"\",VLOOKUP($F4907,'TA STOCK LOOKUP'!$A$2:$C$202,2,FALSE),\"\")","v":""},{"$f":"IF(G4907<>\"\",VLOOKUP($F4907,'TA STOCK LOOKUP'!$A$2:$C$202,3,FALSE),\"\")","v":""},"","","","","",""]
["","","","","","",{"$f":"IF(F4911<>\"\",VLOOKUP($F4911,'TA STOCK LOOKUP'!$A$2:$C$202,2,FALSE),\"\")","v":""},{"$f":"IF(G4911<>\"\",VLOOKUP($F4911,'TA STOCK LOOKUP'!$A$2:$C$202,3,FALSE),\"\")","v":""},"","","","","",""]
["","","","","","",{"$f":"IF(F4916<>\"\",VLOOKUP($F4916,'TA STOCK LOOKUP'!$A$2:$C$202,2,FALSE),\"\")","v":""},{"$f":"IF(G4916<>\"\",VLOOKUP($F4916,'TA STOCK LOOKUP'!$A$2:$C$202,3,FALSE),\"\")","v":""},"","","","","",""]
["","","","","","",{"$f":"IF(F4921<>\"\",VLOOKUP($F4921,'TA STOCK LOOKUP'!$A$2:$C$202,2,FALSE),\"\")","v":""},{"$f":"IF(G4921<>\"\",VLOOKUP($F4921,'TA STOCK LOOKUP'!$A$2:$C$202,3,FALSE),\"\")","v":""},"","","","","",""]
["","","","","","",{"$f":"IF(F4922<>\"\",VLOOKUP($F4922,'TA STOCK LOOKUP'!$A$2:$C$202,2,FALSE),\"\")","v":""},{"$f":"IF(G4922<>\"\",VLOOKUP($F4922,'TA STOCK LOOKUP'!$A$2:$C$202,3,FALSE),\"\")","v":""},"","","","","",""]
["","","","","","",{"$f":"IF(F4927<>\"\",VLOOKUP($F4927,'TA STOCK LOOKUP'!$A$2:$C$202,2,FALSE),\"\")","v":""},{"$f":"IF(G4927<>\"\",VLOOKUP($F4927,'TA STOCK LOOKUP'!$A$2:$C$202,3,FALSE),\"\")","v":""},"","","","","",""]
["","","","","","",{"$f":"IF(F4931<>\"\",VLOOKUP($F4931,'TA STOCK LOOKUP'!$A$2:$C$202,2,FALSE),\"\")","v":""},{"$f":"IF(G4931<>\"\",VLOOKUP($F4931,'TA STOCK LOOKUP'!$A$2:$C$202,3,FALSE),\"\")","v":""},"","","","","",""]
["","","","","","",{"$f":"IF(F4936<>\"\",VLOOKUP($F4936,'TA STOCK LOOKUP'!$A$2:$C$202,2,FALSE),\"\")","v":""},{"$f":"IF(G4936<>\"\",VLOOKUP($F4936,'TA STOCK LOOKUP'!$A$2:$C$202,3,FALSE),\"\")","v":""},"","","","","",""]
["","","","","","",{"$f":"IF(F4937<>\"\",VLOOKUP($F4937,'TA STOCK LOOKUP'!$A$2:$C$202,2,FALSE),\"\")","v":""},{"$f":"IF(G4937<>\"\",VLOOKUP($F4937,'TA STOCK LOOKUP'!$A$2:$C$202,3,FALSE),\"\")","v":""},"","","","","",""]
["","","","","","",{"$f":"IF(F4941<>\"\",VLOOKUP($F4941,'TA STOCK LOOKUP'!$A$2:$C$202,2,FALSE),\"\")","v":""},{"$f":"IF(G4941<>\"\",VLOOKUP($F4941,'TA STOCK LOOKUP'!$A$2:$C$202,3,FALSE),\"\")","v":""},"","","","","",""]
["","","","","","",{"$f":"IF(F4946<>\"\",VLOOKUP($F4946,'TA STOCK LOOKUP'!$A$2:$C$202,2,FALSE),\"\")","v":""},{"$f":"IF(G4946<>\"\",VLOOKUP($F4946,'TA STOCK LOOKUP'!$A$2:$C$202,3,FALSE),\"\")","v":""},"","","","","",""]
["","","","","","",{"$f":"IF(F4951<>\"\",VLOOKUP($F4951,'TA STOCK LOOKUP'!$A$2:$C$202,2,FALSE),\"\")","v":""},{"$f":"IF(G4951<>\"\",VLOOKUP($F4951,'TA STOCK LOOKUP'!$A$2:$C$202,3,FALSE),\"\")","v":""},"","","","","",""]
["","","","","","",{"$f":"IF(F4952<>\"\",VLOOKUP($F4952,'TA STOCK LOOKUP'!$A$2:$C$202,2,FALSE),\"\")","v":""},{"$f":"IF(G4952<>\"\",VLOOKUP($F4952,'TA STOCK LOOKUP'!$A$2:$C$202,3,FALSE),\"\")","v":""},"","","","","",""]
["","","","","","",{"$f":"IF(F4957<>\"\",VLOOKUP($F4957,'TA STOCK LOOKUP'!$A$2:$C$202,2,FALSE),\"\")","v":""},{"$f":"IF(G4957<>\"\",VLOOKUP($F4957,'TA STOCK LOOKUP'!$A$2:$C$202,3,FALSE),\"\")","v":""},"","","","","",""]
["","","","","","",{"$f":"IF(F4961<>\"\",VLOOKUP($F4961,'TA STOCK LOOKUP'!$A$2:$C$202,2,FALSE),\"\")","v":""},{"$f":"IF(G4961<>\"\",VLOOKUP($F4961,'TA STOCK LOOKUP'!$A$2:$C$202,3,FALSE),\"\")","v":""},"","","","","",""]
["","","","","","",{"$f":"IF(F4966<>\"\",VLOOKUP($F4966,'TA STOCK LOOKUP'!$A$2:$C$202,2,FALSE),\"\")","v":""},{"$f":"IF(G4966<>\"\",VLOOKUP($F4966,'TA STOCK LOOKUP'!$A$2:$C$202,3,FALSE),\"\")","v":""},"","","","","",""]
["","","","","","",{"$f":"IF(F4967<>\"\",VLOOKUP($F4967,'TA STOCK LOOKUP'!$A$2:$C$202,2,FALSE),\"\")","v":""},{"$f":"IF(G4967<>\"\",VLOOKUP($F4967,'TA STOCK LOOKUP'!$A$2:$C$202,3,FALSE),\"\")","v":""},"","","","","",""]
["","","","","","",{"$f":"IF(F4971<>\"\",VLOOKUP($F4971,'TA STOCK LOOKUP'!$A$2:$C$202,2,FALSE),\"\")","v":""},{"$f":"IF(G4971<>\"\",VLOOKUP($F4971,'TA STOCK LOOKUP'!$A$2:$C$202,3,FALSE),\"\")","v":""},"","","","","",""]
["","","","","","",{"$f":"IF(F4976<>\"\",VLOOKUP($F4976,'TA STOCK LOOKUP'!$A$2:$C$202,2,FALSE),\"\")","v":""},{"$f":"IF(G4976<>\"\",VLOOKUP($F4976,'TA STOCK LOOKUP'!$A$2:$C$202,3,FALSE),\"\")","v":""},"","","","","",""]
["","","","","","",{"$f":"IF(F4981<>\"\",VLOOKUP($F4981,'TA STOCK LOOKUP'!$A$2:$C$202,2,FALSE),\"\")","v":""},{"$f":"IF(G4981<>\"\",VLOOKUP($F4981,'TA STOCK LOOKUP'!$A$2:$C$202,3,FALSE),\"\")","v":""},"","","","","",""]
["","","","","","",{"$f":"IF(F4982<>\"\",VLOOKUP($F4982,'TA STOCK LOOKUP'!$A$2:$C$202,2,FALSE),\"\")","v":""},{"$f":"IF(G4982<>\"\",VLOOKUP($F4982,'TA STOCK LOOKUP'!$A$2:$C$202,3,FALSE),\"\")","v":""},"","","","","",""]
["","","","","","",{"$f":"IF(F4988<>\"\",VLOOKUP($F4988,'TA STOCK LOOKUP'!$A$2:$C$202,2,FALSE),\"\")","v":""},{"$f":"IF(G4988<>\"\",VLOOKUP($F4988,'TA STOCK LOOKUP'!$A$2:$C$202,3,FALSE),\"\")","v":""},"","","","","",""]
["","","","","","",{"$f":"IF(F4991<>\"\",VLOOKUP($F4991,'TA STOCK LOOKUP'!$A$2:$C$202,2,FALSE),\"\")","v":""},{"$f":"IF(G4991<>\"\",VLOOKUP($F4991,'TA STOCK LOOKUP'!$A$2:$C$202,3,FALSE),\"\")","v":""},"","","","","",""]
["","","","","","",{"$f":"IF(F4996<>\"\",VLOOKUP($F4996,'TA STOCK LOOKUP'!$A$2:$C$202,2,FALSE),\"\")","v":""},{"$f":"IF(G4996<>\"\",VLOOKUP($F4996,'TA STOCK LOOKUP'!$A$2:$C$202,3,FALSE),\"\")","v":""},"","","","","",""]
["","","","","","",{"$f":"IF(F4997<>\"\",VLOOKUP($F4997,'TA STOCK LOOKUP'!$A$2:$C$202,2,FALSE),\"\")","v":""},{"$f":"IF(G4997<>\"\",VLOOKUP($F4997,'TA STOCK LOOKUP'!$A$2:$C$202,3,FALSE),\"\")","v":""},"","","","","",""]
["","","","","","",{"$f":"IF(F5001<>\"\",VLOOKUP($F5001,'TA STOCK LOOKUP'!$A$2:$C$202,2,FALSE),\"\")","v":""},{"$f":"IF(G5001<>\"\",VLOOKUP($F5001,'TA STOCK LOOKUP'!$A$2:$C$202,3,FALSE),\"\")","v":""},"","","","","",""]
["","","","","","","","","","","","","",""]
["","","","","","","","","","","","","",""]
["","","","","","","","","","","","","",""]
["","","","","","","","","","","","","",""]
["","","","","","","","","","","","","",""]
["","","","","","","","","","","","","",""]
["","","","","","","","","","","","","",""]
["","","","","","","","","","","","","",""]
["","","","","","","","","","","","","",""]
["","","","","","","","","","","","","",""]
["","","","","","","","","","","","","",""]
["","","","","","","","","","","","","",""]
["","","","","","","","","","","","","",""]
["","","","","","","","","","","","","",""]
["","","","","","","","","","","","","",""]
["","","","","","","","","","","","","",""]
["","","","","","","","","","","","","",""]
["","","","","","","","","","","","","",""]
["","","","","","","","","","","","","",""]
["","","","","","","","","","","","","",""]
["","","","","","","","","","","","","",""]
["","","","","","","","","","","","","",""]
["","","","","","","","","","","","","",""]
["","","","","","","","","","","","","",""]
["","","","","","","","","","","","","",""]
["","","","","","","","","","","","","",""]
["","","","","","","","","","","","","",""]
["","","","","","","","","","","","","",""]
["","","","","","","","","","","","","",""]
["","","","","","","","","","","","","",""]
["","","","","","","","","","","","","",""]
["","","","","","","","","","","","","",""]
["","","","","","","","","","","","","",""]
["","","","","","","","","","","","","",""]
["","","","","","","","","","","","","",""]
["","","","","","","","","","","","","",""]
["","","","","","","","","","","","","",""]
["","","","","","","","","","","","","",""]
["","","","","","","","","","","","","",""]
["","","","","","","","","","","","","",""]
["","","","","","","","","","","","","",""]
["","","","","","","","","","","","","",""]
["","","","","","","","","","","","","",""]
["","","","","","","","","","","","","",""]
["","","","","","","","","","","","","",""]
["","","","","","","","","","","","","",""]
["","","","","","","","","","","","","",""]
["","","","","","","","","","","","","",""]
["","","","","","","","","","","","","",""]
["","","","","","","","","","","","","",""]
["","","","","","","","","","","","","",""]
["","","","","","","","","","","","","",""]
["","","","","","","","","","","","","",""]
["","","","","","","","","","","","","",""]
["","","","","","","","","","","","","",""]
["","","","","","","","","","","","","",""]
["","","","","","","","","","","","","",""]
["","","","","","","","","","","","","",""]
["","","","","","","","","","","","","",""]
["","","","","","","","","","","","","",""]
["","","","","","","","","","","","","",""]
["","","","","","","","","","","","","",""]
["","","","","","","","","","","","","",""]
["","","","","","","","","","","","","",""]
["","","","","","","","","","","","","",""]
["","","","","","","","","","","","","",""]
["","","","","","","","","","","","","",""]
["","","","","","","","","","","","","",""]
["","","","","","","","","","","","","",""]
["","","","","","","","","","","","","",""]
["","","","","","","","","","","","","",""]
["","","","","","","","","","","","","",""]
["","","","","","","","","","","","","",""]
["","","","","","","","","","","","","",""]
["","","","","","","","","","","","","",""]
["","","","","","","","","","","","","",""]
["","","","","","","","","","","","","",""]
["","","","","","","","","","","","","",""]
["","","","","","","","","","","","","",""]
["","","","","","","","","","","","","",""]
["","","","","","","","","","","","","",""]
["","","","","","","","","","","","","",""]
["","","","","","","","","","","","","",""]
["","","","","","","","","","","","","",""]
["","","","","","","","","","","","","",""]
["","","","","","","","","","","","","",""]
["","","","","","","","","","","","","",""]
["","","","","","","","","","","","","",""]
["","","","","","","","","","","","","",""]
["","","","","","","","","","","","","",""]
["","","","","","","","","","","","","",""]
["","","","","","","","","","","","","",""]
["","","","","","","","","","","","","",""]
["","","","","","","","","","","","","",""]
["","","","","","","","","","","","","",""]
["","","","","","","","","","","","","",""]
["","","","","","","","","","","","","",""]
["","","","","","","","","","","","","",""]
["","","","","","","","","","","","","",""]
["","","","","","","","","","","","","",""]
["","","","","","","","","","","","","",""]
["","","","","","","","","","","","","",""]
["","","","","","","","","","","","","",""]
["","","","","","","","","","","","","",""]
["","","","","","","","","","","","","",""]
["","","","","","","","","","","","","",""]
["","","","","","","","","","","","","",""]
["","","","","","","","","","","","","",""]
["","","","","","","","","","","","","",""]
["","","","","","","","","","","","","",""]
["","","","","","","","","","","","","",""]
["","","","","","","","","","","","","",""]
["","","","","","","","","","","","","",""]
["","","","","","","","","","","","","",""]
["","","","","","","","","","","","","",""]
["","","","","","","","","","","","","",""]
["","","","","","","","","","","","","",""]
["","","","","","","","","","","","","",""]
["","","","","","","","","","","","","",""]
["","","","","","","","","","","","","",""]
["","","","","","","","","","","","","",""]
["","","","","","","","","","","","","",""]
["","","","","","","","","","","","","",""]
["","","","","","","","","","","","","",""]
["","","","","","","","","","","","","",""]
["","","","","","","","","","","","","",""]
["","","","","","","","","","","","","",""]
["","","","","","","","","","","","","",""]
["","","","","","","","","","","","","",""]
["","","","","","","","","","","","","",""]
["","","","","","","","","","","","","",""]
["","","","","","","","","","","","","",""]
["","","","","","","","","","","","","",""]
["","","","","","","","","","","","","",""]
["","","","","","","","","","","","","",""]
["","","","","","","","","","","","","",""]
["","","","","","","","","","","","","",""]
["","","","","","","","","","","","","",""]
["","","","","","","","","","","","","",""]
["","","","","","","","","","","","","",""]
["","","","","","","","","","","","","",""]
["","","","","","","","","","","","","",""]
["","","","","","","","","","","","","",""]
["","","","","","","","","","","","","",""]
["","","","","","","","","","","","","",""]
["","","","","","","","","","","","","",""]
["","","","","","","","","","","","","",""]
["","","","","","","","","","","","","",""]
["","","","","","","","","","","","","",""]
["","","","","","","","","","","","","",""]
["","","","","","","","","","","","","",""]
["","","","","","","","","","","","","",""]
["","","","","","","","","","","","","",""]
["","","","","","","","","","","","","",""]
["","","","","","","","","","","","","",""]
["","","","","","","","","","","","","",""]
["","","","","","","","","","","","","",""]
["","","","","","","","","","","","","",""]
["","","","","","","","","","","","","",""]
["","","","","","","","","","","","","",""]
["","","","","","","","","","","","","",""]
["","","","","","","","","","","","","",""]
["","","","","","","","","","","","","",""]
["","","","","","","","","","","","","",""]
["","","","","","","","","","","","","",""]
["","","","","","","","","","","","","",""]
["","","","","","","","","","","","","",""]
["","","","","","","","","","","","","",""]
["","","","","","","","","","","","","",""]
["","","","","","","","","","","","","",""]
["","","","","","","","","","","","","",""]
["","","","","","","","","","","","","",""]
["","","","","","","","","","","","","",""]
["","","","","","","","","","","","","",""]
["","","","","","","","","","","","","",""]
["","","","","","","","","","","","","",""]
["","","","","","","","","","","","","",""]
["","","","","","","","","","","","","",""]
["","","","","","","","","","","","","",""]
["","","","","","","","","","","","","",""]
["","","","","","","","","","","","","",""]
["","","","","","","","","","","","","",""]
["","","","","","","","","","","","","",""]
["","","","","","","","","","","","","",""]
["","","","","","","","","","","","","",""]
["","","","","","","","","","","","","",""]
["","","","","","","","","","","","","",""]
["","","","","","","","","","","","","",""]
["","","","","","","","","","","","","",""]
["","","","","","","","","","","","","",""]
["","","","","","","","","","","","","",""]
["","","","","","","","","","","","","",""]
["","","","","","","","","","","","","",""]
["","","","","","","","","","","","","",""]
["","","","","","","","","","","","","",""]
["","","","","","","","","","","","","",""]
["","","","","","","","","","","","","",""]
["","","","","","","","","","","","","",""]
["","","","","","","","","","","","","",""]
["","","","","","","","","","","","","",""]
["","","","","","","","","","","","","",""]
["","","","","","","","","","","","","",""]
["","","","","","","","","","","","","",""]
["","","","","","","","","","","","","",""]
["","","","","","","","","","","","","",""]
["","","","","","","","","","","","","",""]
["","","","","","","","","","","","","",""]
["","","","","","","","","","","","","",""]
["","","","","","","","","","","","","",""]
["","","","","","","","","","","","","",""]
["","","","","","","","","","","","","",""]
["","","","","","","","","","","","","",""]
["","","","","","","","","","","","","",""]
["","","","","","","","","","","","","",""]
["","","","","","","","","","","","","",""]
["","","","","","","","","","","","","",""]
["","","","","","","","","","","","","",""]
["","","","","","","","","","","","","",""]
["","","","","","","","","","","","","",""]
["","","","","","","","","","","","","",""]
["","","","","","","","","","","","","",""]
["","","","","","","","","","","","","",""]
["","","","","","","","","","","","","",""]
["","","","","","","","","","","","","",""]
["","","","","","","","","","","","","",""]
["","","","","","","","","","","","","",""]
["","","","","","","","","","","","","",""]
["","","","","","","","","","","","","",""]
["","","","","","","","","","","","","",""]
["","","","","","","","","","","","","",""]
["","","","","","","","","","","","","",""]
["","","","","","","","","","","","","",""]
["","","","","","","","","","","","","",""]
["","","","","","","","","","","","","",""]
["","","","","","","","","","","","","",""]
["","","","","","","","","","","","","",""]
["","","","","","","","","","","","","",""]
["","","","","","","","","","","","","",""]
["","","","","","","","","","","","","",""]
["","","","","","","","","","","","","",""]
["","","","","","","","","","","","","",""]
["","","","","","","","","","","","","",""]
["","","","","","","","","","","","","",""]
["","","","","","","","","","","","","",""]
["","","","","","","","","","","","","",""]
["","","","","","","","","","","","","",""]
["","","","","","","","","","","","","",""]
["","","","","","","","","","","","","",""]
["","","","","","","","","","","","","",""]
["","","","","","","","","","","","","",""]
["","","","","","","","","","","","","",""]
["","","","","","","","","","","","","",""]
["","","","","","","","","","","","","",""]
["","","","","","","","","","","","","",""]
["","","","","","","","","","","","","",""]
["","","","","","","","","","","","","",""]
["","","","","","","","","","","","","",""]
["","","","","","","","","","","","","",""]
["","","","","","","","","","","","","",""]
["","","","","","","","","","","","","",""]
["","","","","","","","","","","","","",""]
["","","","","","","","","","","","","",""]
["","","","","","","","","","","","","",""]
["","","","","","","","","","","","","",""]
["","","","","","","","","","","","","",""]
["","","","","","","","","","","","","",""]
["","","","","","","","","","","","","",""]
["","","","","","","","","","","","","",""]
["","","","","","","","","","","","","",""]
["","","","","","","","","","","","","",""]
["","","","","","","","","","","","","",""]
["","","","","","","","","","","","","",""]
["","","","","","","","","","","","","",""]
["","","","","","","","","","","","","",""]
["","","","","","","","","","","","","",""]
["","","","","","","","","","","","","",""]
["","","","","","","","","","","","","",""]
["","","","","","","","","","","","","",""]
["","","","","","","","","","","","","",""]
["","","","","","","","","","","","","",""]
["","","","","","","","","","","","","",""]
["","","","","","","","","","","","","",""]
["","","","","","","","","","","","","",""]
["","","","","","","","","","","","","",""]
["","","","","","","","","","","","","",""]
["","","","","","","","","","","","","",""]
["","","","","","","","","","","","","",""]
["","","","","","","","","","","","","",""]
["","","","","","","","","","","","","",""]
["","","","","","","","","","","","","",""]
["","","","","","","","","","","","","",""]
["","","","","","","","","","","","","",""]
["","","","","","","","","","","","","",""]
["","","","","","","","","","","","","",""]
["","","","","","","","","","","","","",""]
["","","","","","","","","","","","","",""]
["","","","","","","","","","","","","",""]
["","","","","","","","","","","","","",""]
["","","","","","","","","","","","","",""]
["","","","","","","","","","","","","",""]
["","","","","","","","","","","","","",""]
["","","","","","","","","","","","","",""]
["","","","","","","","","","","","","",""]
["","","","","","","","","","","","","",""]
["","","","","","","","","","","","","",""]
["","","","","","","","","","","","","",""]
["","","","","","","","","","","","","",""]
["","","","","","","","","","","","","",""]
["","","","","","","","","","","","","",""]
["","","","","","","","","","","","","",""]
["","","","","","","","","","","","","",""]
["","","","","","","","","","","","","",""]
["","","","","","","","","","","","","",""]
["","","","","","","","","","","","","",""]
["","","","","","","","","","","","","",""]
["","","","","","","","","","","","","",""]
["","","","","","","","","","","","","",""]
["","","","","","","","","","","","","",""]
["","","","","","","","","","","","","",""]
["","","","","","","","","","","","","",""]
["","","","","","","","","","","","","",""]
["","","","","","","","","","","","","",""]
["","","","","","","","","","","","","",""]
["","","","","","","","","","","","","",""]
["","","","","","","","","","","","","",""]
["","","","","","","","","","","","","",""]
["","","","","","","","","","","","","",""]
["","","","","","","","","","","","","",""]
["","","","","","","","","","","","","",""]
["","","","","","","","","","","","","",""]
["","","","","","","","","","","","","",""]
["","","","","","","","","","","","","",""]
["","","","","","","","","","","","","",""]
["","","","","","","","","","","","","",""]
["","","","","","","","","","","","","",""]
["","","","","","","","","","","","","",""]
["","","","","","","","","","","","","",""]
["","","","","","","","","","","","","",""]
["","","","","","","","","","","","","",""]
["","","","","","","","","","","","","",""]
["","","","","","","","","","","","","",""]
["","","","","","","","","","","","","",""]
["","","","","","","","","","","","","",""]
["","","","","","","","","","","","","",""]
["","","","","","","","","","","","","",""]
["","","","","","","","","","","","","",""]
["","","","","","","","","","","","","",""]
["","","","","","","","","","","","","",""]
["","","","","","","","","","","","","",""]
["","","","","","","","","","","","","",""]
["","","","","","","","","","","","","",""]
["","","","","","","","","","","","","",""]
["","","","","","","","","","","","","",""]
["","","","","","","","","","","","","",""]
["","","","","","","","","","","","","",""]
["","","","","","","","","","","","","",""]
["","","","","","","","","","","","","",""]
["","","","","","","","","","","","","",""]
["","","","","","","","","","","","","",""]
["","","","","","","","","","","","","",""]
["","","","","","","","","","","","","",""]
["","","","","","","","","","","","","",""]
["","","","","","","","","","","","","",""]
["","","","","","","","","","","","","",""]
["","","","","","","","","","","","","",""]
["","","","","","","","","","","","","",""]
["","","","","","","","","","","","","",""]
["","","","","","","","","","","","","",""]
["","","","","","","","","","","","","",""]
["","","","","","","","","","","","","",""]
["","","","","","","","","","","","","",""]
["","","","","","","","","","","","","",""]
["","","","","","","","","","","","","",""]
["","","","","","","","","","","","","",""]
["","","","","","","","","","","","","",""]
["","","","","","","","","","","","","",""]
["","","","","","","","","","","","","",""]
["","","","","","","","","","","","","",""]
["","","","","","","","","","","","","",""]
["","","","","","","","","","","","","",""]
["","","","","","","","","","","","","",""]
["","","","","","","","","","","","","",""]
["","","","","","","","","","","","","",""]
["","","","","","","","","","","","","",""]
["","","","","","","","","","","","","",""]
["","","","","","","","","","","","","",""]
["","","","","","","","","","","","","",""]
["","","","","","","","","","","","","",""]
["","","","","","","","","","","","","",""]
["","","","","","","","","","","","","",""]
["","","","","","","","","","","","","",""]
["","","","","","","","","","","","","",""]
["","","","","","","","","","","","","",""]
["","","","","","","","","","","","","",""]
["","","","","","","","","","","","","",""]
["","","","","","","","","","","","","",""]
["","","","","","","","","","","","","",""]
["","","","","","","","","","","","","",""]
["","","","","","","","","","","","","",""]
["","","","","","","","","","","","","",""]
["","","","","","","","","","","","","",""]
["","","","","","","","","","","","","",""]
["","","","","","","","","","","","","",""]
["","","","","","","","","","","","","",""]
["","","","","","","","","","","","","",""]
["","","","","","","","","","","","","",""]
["","","","","","","","","","","","","",""]
["","","","","","","","","","","","","",""]
["","","","","","","","","","","","","",""]
["","","","","","","","","","","","","",""]
["","","","","","","","","","","","","",""]
["","","","","","","","","","","","","",""]
["","","","","","","","","","","","","",""]
["","","","","","","","","","","","","",""]
["","","","","","","","","","","","","",""]
["","","","","","","","","","","","","",""]
["","","","","","","","","","","","","",""]
["","","","","","","","","","","","","",""]
["","","","","","","","","","","","","",""]
["","","","","","","","","","","","","",""]
["","","","","","","","","","","","","",""]
["","","","","","","","","","","","","",""]
["","","","","","","","","","","","","",""]
["","","","","","","","","","","","","",""]
["","","","","","","","","","","","","",""]
["","","","","","","","","","","","","",""]
["","","","","","","","","","","","","",""]
["","","","","","","","","","","","","",""]
["","","","","","","","","","","","","",""]
["","","","","","","","","","","","","",""]
["","","","","","","","","","","","","",""]
["","","","","","","","","","","","","",""]
["","","","","","","","","","","","","",""]
["","","","","","","","","","","","","",""]
["","","","","","","","","","","","","",""]
["","","","","","","","","","","","","",""]
["","","","","","","","","","","","","",""]
["","","","","","","","","","","","","",""]
["","","","","","","","","","","","","",""]
["","","","","","","","","","","","","",""]
["","","","","","","","","","","","","",""]
["","","","","","","","","","","","","",""]
["","","","","","","","","","","","","",""]
["","","","","","","","","","","","","",""]
["","","","","","","","","","","","","",""]
["","","","","","","","","","","","","",""]
["","","","","","","","","","","","","",""]
["","","","","","","","","","","","","",""]
["","","","","","","","","","","","","",""]
["","","","","","","","","","","","","",""]
["","","","","","","","","","","","","",""]
["","","","","","","","","","","","","",""]
["","","","","","","","","","","","","",""]
["","","","","","","","","","","","","",""]
["","","","","","","","","","","","","",""]
["","","","","","","","","","","","","",""]
["","","","","","","","","","","","","",""]
["","","","","","","","","","","","","",""]
["","","","","","","","","","","","","",""]
["","","","","","","","","","","","","",""]
["","","","","","","","","","","","","",""]
["","","","","","","","","","","","","",""]
["","","","","","","","","","","","","",""]
["","","","","","","","","","","","","",""]
["","","","","","","","","","","","","",""]
["","","","","","","","","","","","","",""]
["","","","","","","","","","","","","",""]
["","","","","","","","","","","","","",""]
["","","","","","","","","","","","","",""]
["","","","","","","","","","","","","",""]
["","","","","","","","","","","","","",""]
["","","","","","","","","","","","","",""]
["","","","","","","","","","","","","",""]
["","","","","","","","","","","","","",""]
["","","","","","","","","","","","","",""]
["","","","","","","","","","","","","",""]
["","","","","","","","","","","","","",""]
["","","","","","","","","","","","","",""]
["","","","","","","","","","","","","",""]
["","","","","","","","","","","","","",""]
["","","","","","","","","","","","","",""]
["","","","","","","","","","","","","",""]
["","","","","","","","","","","","","",""]
["","","","","","","","","","","","","",""]
["","","","","","","","","","","","","",""]
["","","","","","","","","","","","","",""]
["","","","","","","","","","","","","",""]
["","","","","","","","","","","","","",""]
["","","","","","","","","","","","","",""]
["","","","","","","","","","","","","",""]
["","","","","","","","","","","","","",""]
["","","","","","","","","","","","","",""]
["","","","","","","","","","","","","",""]
["","","","","","","","","","","","","",""]
["","","","","","","","","","","","","",""]
["","","","","","","","","","","","","",""]
["","","","","","","","","","","","","",""]
["","","","","","","","","","","","","",""]
["","","","","","","","","","","","","",""]
["","","","","","","","","","","","","",""]
["","","","","","","","","","","","","",""]
["","","","","","","","","","","","","",""]
["","","","","","","","","","","","","",""]
["","","","","","","","","","","","","",""]
["","","","","","","","","","","","","",""]
["","","","","","","","","","","","","",""]
["","","","","","","","","","","","","",""]
["","","","","","","","","","","","","",""]
["","","","","","","","","","","","","",""]
["","","","","","","","","","","","","",""]
["","","","","","","","","","","","","",""]
["","","","","","","","","","","","","",""]
["","","","","","","","","","","","","",""]
["","","","","","","","","","","","","",""]
["","","","","","","","","","","","","",""]
["","","","","","","","","","","","","",""]
["","","","","","","","","","","","","",""]
["","","","","","","","","","","","","",""]
["","","","","","","","","","","","","",""]
["","","","","","","","","","","","","",""]
["","","","","","","","","","","","","",""]
["","","","","","","","","","","","","",""]
["","","","","","","","","","","","","",""]
["","","","","","","","","","","","","",""]
["","","","","","","","","","","","","",""]
["","","","","","","","","","","","","",""]
["","","","","","","","","","","","","",""]
["","","","","","","","","","","","","",""]
["","","","","","","","","","","","","",""]
["","","","","","","","","","","","","",""]
["","","","","","","","","","","","","",""]
["","","","","","","","","","","","","",""]
["","","","","","","","","","","","","",""]
["","","","","","","","","","","","","",""]
["","","","","","","","","","","","","",""]
["","","","","","","","","","","","","",""]
["","","","","","","","","","","","","",""]
["","","","","","","","","","","","","",""]
["","","","","","","","","","","","","",""]
["","","","","","","","","","","","","",""]
["","","","","","","","","","","","","",""]
["","","","","","","","","","","","","",""]
["","","","","","","","","","","","","",""]
["","","","","","","","","","","","","",""]
["","","","","","","","","","","","","",""]
["","","","","","","","","","","","","",""]
["","","","","","","","","","","","","",""]
["","","","","","","","","","","","","",""]
["","","","","","","","","","","","","",""]
["","","","","","","","","","","","","",""]
["","","","","","","","","","","","","",""]
["","","","","","","","","","","","","",""]
["","","","","","","","","","","","","",""]
["","","","","","","","","","","","","",""]
["","","","","","","","","","","","","",""]
["","","","","","","","","","","","","",""]
["","","","","","","","","","","","","",""]
["","","","","","","","","","","","","",""]
["","","","","","","","","","","","","",""]
["","","","","","","","","","","","","",""]
["","","","","","","","","","","","","",""]
["","","","","","","","","","","","","",""]
["","","","","","","","","","","","","",""]
["","","","","","","","","","","","","",""]
["","","","","","","","","","","","","",""]
["","","","","","","","","","","","","",""]
["","","","","","","","","","","","","",""]
["","","","","","","","","","","","","",""]
["","","","","","","","","","","","","",""]
["","","","","","","","","","","","","",""]
["","","","","","","","","","","","","",""]
["","","","","","","","","","","","","",""]
["","","","","","","","","","","","","",""]
["","","","","","","","","","","","","",""]
["","","","","","","","","","","","","",""]
["","","","","","","","","","","","","",""]
["","","","","","","","","","","","","",""]
["","","","","","","","","","","","","",""]
["","","","","","","","","","","","","",""]
["","","","","","","","","","","","","",""]
["","","","","","","","","","","","","",""]
["","","","","","","","","","","","","",""]
["","","","","","","","","","","","","",""]
["","","","","","","","","","","","","",""]
["","","","","","","","","","","","","",""]
["","","","","","","","","","","","","",""]
["","","","","","","","","","","","","",""]
["","","","","","","","","","","","","",""]
["","","","","","","","","","","","","",""]
["","","","","","","","","","","","","",""]
["","","","","","","","","","","","","",""]
["","","","","","","","","","","","","",""]
["","","","","","","","","","","","","",""]
["","","","","","","","","","","","","",""]
["","","","","","","","","","","","","",""]
["","","","","","","","","","","","","",""]
["","","","","","","","","","","","","",""]
["","","","","","","","","","","","","",""]
["","","","","","","","","","","","","",""]
["","","","","","","","","","","","","",""]
["","","","","","","","","","","","","",""]
["","","","","","","","","","","","","",""]
["","","","","","","","","","","","","",""]
["","","","","","","","","","","","","",""]
["","","","","","","","","","","","","",""]
["","","","","","","","","","","","","",""]
["","","","","","","","","","","","","",""]
["","","","","","","","","","","","","",""]
["","","","","","","","","","","","","",""]
["","","","","","","","","","","","","",""]
["","","","","","","","","","","","","",""]
["","","","","","","","","","","","","",""]
["","","","","","","","","","","","","",""]
["","","","","","","","","","","","","",""]
["","","","","","","","","","","","","",""]
["","","","","","","","","","","","","",""]
["","","","","","","","","","","","","",""]
["","","","","","","","","","","","","",""]
["","","","","","","","","","","","","",""]
["","","","","","","","","","","","","",""]
["","","","","","","","","","","","","",""]
["","","","","","","","","","","","","",""]
["","","","","","","","","","","","","",""]
["","","","","","","","","","","","","",""]
["","","","","","","","","","","","","",""]
["","","","","","","","","","","","","",""]
["","","","","","","","","","","","","",""]
["","","","","","","","","","","","","",""]
["","","","","","","","","","","","","",""]
["","","","","","","","","","","","","",""]
["","","","","","","","","","","","","",""]
["","","","","","","","","","","","","",""]
["","","","","","","","","","","","","",""]
["","","","","","","","","","","","","",""]
["","","","","","","","","","","","","",""]
["","","","","","","","","","","","","",""]
["","","","","","","","","","","","","",""]
["","","","","","","","","","","","","",""]
["","","","","","","","","","","","","",""]
["","","","","","","","","","","","","",""]
["","","","","","","","","","","","","",""]
["","","","","","","","","","","","","",""]
["","","","","","","","","","","","","",""]
["","","","","","","","","","","","","",""]
["","","","","","","","","","","","","",""]
["","","","","","","","","","","","","",""]
["","","","","","","","","","","","","",""]
["","","","","","","","","","","","","",""]
["","","","","","","","","","","","","",""]
["","","","","","","","","","","","","",""]
["","","","","","","","","","","","","",""]
["","","","","","","","","","","","","",""]
["","","","","","","","","","","","","",""]
["","","","","","","","","","","","","",""]
["","","","","","","","","","","","","",""]
["","","","","","","","","","","","","",""]
["","","","","","","","","","","","","",""]
["","","","","","","","","","","","","",""]
["","","","","","","","","","","","","",""]
["","","","","","","","","","","","","",""]
["","","","","","","","","","","","","",""]
["","","","","","","","","","","","","",""]
["","","","","","","","","","","","","",""]
["","","","","","","","","","","","","",""]
["","","","","","","","","","","","","",""]
["","","","","","","","","","","","","",""]
["","","","","","","","","","","","","",""]
["","","","","","","","","","","","","",""]
["","","","","","","","","","","","","",""]
["","","","","","","","","","","","","",""]
["","","","","","","","","","","","","",""]
["","","","","","","","","","","","","",""]
["","","","","","","","","","","","","",""]
["","","","","","","","","","","","","",""]
["","","","","","","","","","","","","",""]
["","","","","","","","","","","","","",""]
["","","","","","","","","","","","","",""]
["","","","","","","","","","","","","",""]
["","","","","","","","","","","","","",""]
["","","","","","","","","","","","","",""]
["","","","","","","","","","","","","",""]
["","","","","","","","","","","","","",""]
["","","","","","","","","","","","","",""]
["","","","","","","","","","","","","",""]
["","","","","","","","","","","","","",""]
["","","","","","","","","","","","","",""]
["","","","","","","","","","","","","",""]
["","","","","","","","","","","","","",""]
["","","","","","","","","","","","","",""]
["","","","","","","","","","","","","",""]
["","","","","","","","","","","","","",""]
["","","","","","","","","","","","","",""]
["","","","","","","","","","","","","",""]
["","","","","","","","","","","","","",""]
["","","","","","","","","","","","","",""]
["","","","","","","","","","","","","",""]
["","","","","","","","","","","","","",""]
["","","","","","","","","","","","","",""]
["","","","","","","","","","","","","",""]
["","","","","","","","","","","","","",""]
["","","","","","","","","","","","","",""]
["","","","","","","","","","","","","",""]
["","","","","","","","","","","","","",""]
["","","","","","","","","","","","","",""]
["","","","","","","","","","","","","",""]
["","","","","","","","","","","","","",""]
["","","","","","","","","","","","","",""]
["","","","","","","","","","","","","",""]
["","","","","","","","","","","","","",""]
["","","","","","","","","","","","","",""]
["","","","","","","","","","","","","",""]
["","","","","","","","","","","","","",""]
["","","","","","","","","","","","","",""]
["","","","","","","","","","","","","",""]
["","","","","","","","","","","","","",""]
["","","","","","","","","","","","","",""]
["","","","","","","","","","","","","",""]
["","","","","","","","","","","","","",""]
["","","","","","","","","","","","","",""]
["","","","","","","","","","","","","",""]
["","","","","","","","","","","","","",""]
["","","","","","","","","","","","","",""]
["","","","","","","","","","","","","",""]
["","","","","","","","","","","","","",""]
["","","","","","","","","","","","","",""]
["","","","","","","","","","","","","",""]
["","","","","","","","","","","","","",""]
["","","","","","","","","","","","","",""]
["","","","","","","","","","","","","",""]
["","","","","","","","","","","","","",""]
["","","","","","","","","","","","","",""]
["","","","","","","","","","","","","",""]
["","","","","","","","","","","","","",""]
["","","","","","","","","","","","","",""]
["","","","","","","","","","","","","",""]
["","","","","","","","","","","","","",""]
["","","","","","","","","","","","","",""]
["","","","","","","","","","","","","",""]
["","","","","","","","","","","","","",""]
["","","","","","","","","","","","","",""]
["","","","","","","","","","","","","",""]
["","","","","","","","","","","","","",""]
["","","","","","","","","","","","","",""]
["","","","","","","","","","","","","",""]
["","","","","","","","","","","","","",""]
["","","","","","","","","","","","","",""]
["","","","","","","","","","","","","",""]
["","","","","","","","","","","","","",""]
["","","","","","","","","","","","","",""]
["","","","","","","","","","","","","",""]
["","","","","","","","","","","","","",""]
["","","","","","","","","","","","","",""]
["","","","","","","","","","","","","",""]
["","","","","","","","","","","","","",""]
["","","","","","","","","","","","","",""]
["","","","","","","","","","","","","",""]
["","","","","","","","","","","","","",""]
["","","","","","","","","","","","","",""]
["","","","","","","","","","","","","",""]
["","","","","","","","","","","","","",""]
["","","","","","","","","","","","","",""]
["","","","","","","","","","","","","",""]
["","","","","","","","","","","","","",""]
["","","","","","","","","","","","","",""]
["","","","","","","","","","","","","",""]
["","","","","","","","","","","","","",""]
["","","","","","","","","","","","","",""]
["","","","","","","","","","","","","",""]
["","","","","","","","","","","","","",""]
["","","","","","","","","","","","","",""]
["","","","","","","","","","","","","",""]
["","","","","","","","","","","","","",""]
["","","","","","","","","","","","","",""]
["","","","","","","","","","","","","",""]
["","","","","","","","","","","","","",""]
["","","","","","","","","","","","","",""]
["","","","","","","","","","","","","",""]
["","","","","","","","","","","","","",""]
["","","","","","","","","","","","","",""]
["","","","","","","","","","","","","",""]
["","","","","","","","","","","","","",""]
["","","","","","","","","","","","","",""]
["","","","","","","","","","","","","",""]
["","","","","","","","","","","","","",""]
["","","","","","","","","","","","","",""]
["","","","","","","","","","","","","",""]
["","","","","","","","","","","","","",""]
["","","","","","","","","","","","","",""]
["","","","","","","","","","","","","",""]
["","","","","","","","","","","","","",""]
["","","","","","","","","","","","","",""]
["","","","","","","","","","","","","",""]
["","","","","","","","","","","","","",""]
["","","","","","","","","","","","","",""]
["","","","","","","","","","","","","",""]
["","","","","","","","","","","","","",""]
["","","","","","","","","","","","","",""]
["","","","","","","","","","","","","",""]
["","","","","","","","","","","","","",""]
["","","","","","","","","","","","","",""]
["","","","","","","","","","","","","",""]
["","","","","","","","","","","","","",""]
["","","","","","","","","","","","","",""]
["","","","","","","","","","","","","",""]
["","","","","","","","","","","","","",""]
["","","","","","","","","","","","","",""]
["","","","","","","","","","","","","",""]
["","","","","","","","","","","","","",""]
["","","","","","","","","","","","","",""]
["","","","","","","","","","","","","",""]
["","","","","","","","","","","","","",""]
["","","","","","","","","","","","","",""]
["","","","","","","","","","","","","",""]
["","","","","","","","","","","","","",""]
["","","","","","","","","","","","","",""]
["","","","","","","","","","","","","",""]
["","","","","","","","","","","","","",""]
["","","","","","","","","","","","","",""]
["","","","","","","","","","","","","",""]
["","","","","","","","","","","","","",""]
["","","","","","","","","","","","","",""]
["","","","","","","","","","","","","",""]
["","","","","","","","","","","","","",""]
["","","","","","","","","","","","","",""]
["","","","","","","","","","","","","",""]
["","","","","","","","","","","","","",""]
["","","","","","","","","","","","","",""]
["","","","","","","","","","","","","",""]
["","","","","","","","","","","","","",""]
["","","","","","","","","","","","","",""]
["","","","","","","","","","","","","",""]
["","","","","","","","","","","","","",""]
["","","","","","","","","","","","","",""]
["","","","","","","","","","","","","",""]
["","","","","","","","","","","","","",""]
["","","","","","","","","","","","","",""]
["","","","","","","","","","","","","",""]
["","","","","","","","","","","","","",""]
["","","","","","","","","","","","","",""]
["","","","","","","","","","","","","",""]
["","","","","","","","","","","","","",""]
["","","","","","","","","","","","","",""]
["","","","","","","","","","","","","",""]
["","","","","","","","","","","","","",""]
["","","","","","","","","","","","","",""]
["","","","","","","","","","","","","",""]
["","","","","","","","","","","","","",""]
["","","","","","","","","","","","","",""]
["","","","","","","","","","","","","",""]
["","","","","","","","","","","","","",""]
["","","","","","","","","","","","","",""]
["","","","","","","","","","","","","",""]
["","","","","","","","","","","","","",""]
["","","","","","","","","","","","","",""]
["","","","","","","","","","","","","",""]
["","","","","","","","","","","","","",""]
["","","","","","","","","","","","","",""]
["","","","","","","","","","","","","",""]
["","","","","","","","","","","","","",""]
["","","","","","","","","","","","","",""]
["","","","","","","","","","","","","",""]
["","","","","","","","","","","","","",""]
["","","","","","","","","","","","","",""]
["","","","","","","","","","","","","",""]
["","","","","","","","","","","","","",""]
["","","","","","","","","","","","","",""]
["","","","","","","","","","","","","",""]
["","","","","","","","","","","","","",""]
["","","","","","","","","","","","","",""]
["","","","","","","","","","","","","",""]
["","","","","","","","","","","","","",""]
["","","","","","","","","","","","","",""]
["","","","","","","","","","","","","",""]
["","","","","","","","","","","","","",""]
["","","","","","","","","","","","","",""]
["","","","","","","","","","","","","",""]
["","","","","","","","","","","","","",""]
["","","","","","","","","","","","","",""]
["","","","","","","","","","","","","",""]
["","","","","","","","","","","","","",""]
["","","","","","","","","","","","","",""]
["","","","","","","","","","","","","",""]
["","","","","","","","","","","","","",""]
["","","","","","","","","","","","","",""]
["","","","","","","","","","","","","",""]
["","","","","","","","","","","","","",""]
["","","","","","","","","","","","","",""]
["","","","","","","","","","","","","",""]
["","","","","","","","","","","","","",""]
["","","","","","","","","","","","","",""]
["","","","","","","","","","","","","",""]
["","","","","","","","","","","","","",""]
["","","","","","","","","","","","","",""]
["","","","","","","","","","","","","",""]
["","","","","","","","","","","","","",""]
["","","","","","","","","","","","","",""]
["","","","","","","","","","","","","",""]
["","","","","","","","","","","","","",""]
["","","","","","","","","","","","","",""]
["","","","","","","","","","","","","",""]
["","","","","","","","","","","","","",""]
["","","","","","","","","","","","","",""]
["","","","","","","","","","","","","",""]
["","","","","","","","","","","","","",""]
["","","","","","","","","","","","","",""]
["","","","","","","","","","","","","",""]
["","","","","","","","","","","","","",""]
["","","","","","","","","","","","","",""]
["","","","","","","","","","","","","",""]
["","","","","","","","","","","","","",""]
["","","","","","","","","","","","","",""]
["","","","","","","","","","","","","",""]
["","","","","","","","","","","","","",""]
["","","","","","","","","","","","","",""]
["","","","","","","","","","","","","",""]
["","","","","","","","","","","","","",""]
["","","","","","","","","","","","","",""]
["","","","","","","","","","","","","",""]
["","","","","","","","","","","","","",""]
["","","","","","","","","","","","","",""]
["","","","","","","","","","","","","",""]
["","","","","","","","","","","","","",""]
["","","","","","","","","","","","","",""]
["","","","","","","","","","","","","",""]
["","","","","","","","","","","","","",""]
["","","","","","","","","","","","","",""]
["","","","","","","","","","","","","",""]
["","","","","","","","","","","","","",""]
["","","","","","","","","","","","","",""]
["","","","","","","","","","","","","",""]
["","","","","","","","","","","","","",""]
["","","","","","","","","","","","","",""]
["","","","","","","","","","","","","",""]
["","","","","","","","","","","","","",""]
["","","","","","","","","","","","","",""]
["","","","","","","","","","","","","",""]
["","","","","","","","","","","","","",""]
["","","","","","","","","","","","","",""]
["","","","","","","","","","","","","",""]
["","","","","","","","","","","","","",""]
["","","","","","","","","","","","","",""]
["","","","","","","","","","","","","",""]
["","","","","","","","","","","","","",""]
["","","","","","","","","","","","","",""]
["","","","","","","","","","","","","",""]
["","","","","","","","","","","","","",""]
["","","","","","","","","","","","","",""]
["","","","","","","","","","","","","",""]
["","","","","","","","","","","","","",""]
["","","","","","","","","","","","","",""]
["","","","","","","","","","","","","",""]
["","","","","","","","","","","","","",""]
["","","","","","","","","","","","","",""]
["","","","","","","","","","","","","",""]
["","","","","","","","","","","","","",""]
["","","","","","","","","","","","","",""]
["","","","","","","","","","","","","",""]
["","","","","","","","","","","","","",""]
["","","","","","","","","","","","","",""]
["","","","","","","","","","","","","",""]
["","","","","","","","","","","","","",""]
["","","","","","","","","","","","","",""]
["","","","","","","","","","","","","",""]
["","","","","","","","","","","","","",""]
["","","","","","","","","","","","","",""]
["","","","","","","","","","","","","",""]
["","","","","","","","","","","","","",""]
["","","","","","","","","","","","","",""]
["","","","","","","","","","","","","",""]
["","","","","","","","","","","","","",""]
["","","","","","","","","","","","","",""]
["","","","","","","","","","","","","",""]
["","","","","","","","","","","","","",""]
["","","","","","","","","","","","","",""]
["","","","","","","","","","","","","",""]
["","","","","","","","","","","","","",""]
["","","","","","","","","","","","","",""]
["","","","","","","","","","","","","",""]
["","","","","","","","","","","","","",""]
["","","","","","","","","","","","","",""]
["","","","","","","","","","","","","",""]
["","","","","","","","","","","","","",""]
["","","","","","","","","","","","","",""]
["","","","","","","","","","","","","",""]
["","","","","","","","","","","","","",""]
["","","","","","","","","","","","","",""]
["","","","","","","","","","","","","",""]
["","","","","","","","","","","","","",""]
["","","","","","","","","","","","","",""]
["","","","","","","","","","","","","",""]
["","","","","","","","","","","","","",""]
["","","","","","","","","","","","","",""]
["","","","","","","","","","","","","",""]
["","","","","","","","","","","","","",""]
["","","","","","","","","","","","","",""]
["","","","","","","","","","","","","",""]
["","","","","","","","","","","","","",""]
["","","","","","","","","","","","","",""]
["","","","","","","","","","","","","",""]
["","","","","","","","","","","","","",""]
["","","","","","","","","","","","","",""]
["","","","","","","","","","","","","",""]
["","","","","","","","","","","","","",""]
["","","","","","","","","","","","","",""]
["","","","","","","","","","","","","",""]
["","","","","","","","","","","","","",""]
["","","","","","","","","","","","","",""]
["","","","","","","","","","","","","",""]
["","","","","","","","","","","","","",""]
["","","","","","","","","","","","","",""]
["","","","","","","","","","","","","",""]
["","","","","","","","","","","","","",""]
["","","","","","","","","","","","","",""]
["","","","","","","","","","","","","",""]
["","","","","","","","","","","","","",""]
["","","","","","","","","","","","","",""]
["","","","","","","","","","","","","",""]
["","","","","","","","","","","","","",""]
["","","","","","","","","","","","","",""]
["","","","","","","","","","","","","",""]
["","","","","","","","","","","","","",""]
["","","","","","","","","","","","","",""]
["","","","","","","","","","","","","",""]
["","","","","","","","","","","","","",""]
["","","","","","","","","","","","","",""]
["","","","","","","","","","","","","",""]
["","","","","","","","","","","","","",""]
["","","","","","","","","","","","","",""]
["","","","","","","","","","","","","",""]
["","","","","","","","","","","","","",""]
["","","","","","","","","","","","","",""]
["","","","","","","","","","","","","",""]
["","","","","","","","","","","","","",""]
["","","","","","","","","","","","","",""]
["","","","","","","","","","","","","",""]
["","","","","","","","","","","","","",""]
["","","","","","","","","","","","","",""]
["","","","","","","","","","","","","",""]
["","","","","","","","","","","","","",""]
["","","","","","","","","","","","","",""]
["","","","","","","","","","","","","",""]
["","","","","","","","","","","","","",""]
["","","","","","","","","","","","","",""]
["","","","","","","","","","","","","",""]
["","","","","","","","","","","","","",""]
["","","","","","","","","","","","","",""]
["","","","","","","","","","","","","",""]
["","","","","","","","","","","","","",""]
["","","","","","","","","","","","","",""]
["","","","","","","","","","","","","",""]
["","","","","","","","","","","","","",""]
["","","","","","","","","","","","","",""]
["","","","","","","","","","","","","",""]
["","","","","","","","","","","","","",""]
["","","","","","","","","","","","","",""]
["","","","","","","","","","","","","",""]
["","","","","","","","","","","","","",""]
["","","","","","","","","","","","","",""]
["","","","","","","","","","","","","",""]
["","","","","","","","","","","","","",""]
["","","","","","","","","","","","","",""]
["","","","","","","","","","","","","",""]
["","","","","","","","","","","","","",""]
["","","","","","","","","","","","","",""]
["","","","","","","","","","","","","",""]
["","","","","","","","","","","","","",""]
["","","","","","","","","","","","","",""]
["","","","","","","","","","","","","",""]
["","","","","","","","","","","","","",""]
["","","","","","","","","","","","","",""]
["","","","","","","","","","","","","",""]
["","","","","","","","","","","","","",""]
["","","","","","","","","","","","","",""]
["","","","","","","","","","","","","",""]
["","","","","","","","","","","","","",""]
["","","","","","","","","","","","","",""]
["","","","","","","","","","","","","",""]
["","","","","","","","","","","","","",""]
["","","","","","","","","","","","","",""]
["","","","","","","","","","","","","",""]
["","","","","","","","","","","","","",""]
["","","","","","","","","","","","","",""]
["","","","","","","","","","","","","",""]
["","","","","","","","","","","","","",""]
["","","","","","","","","","","","","",""]
["","","","","","","","","","","","","",""]
["","","","","","","","","","","","","",""]
["","","","","","","","","","","","","",""]
["","","","","","","","","","","","","",""]
["","","","","","","","","","","","","",""]
["","","","","","","","","","","","","",""]
["","","","","","","","","","","","","",""]
["","","","","","","","","","","","","",""]
["","","","","","","","","","","","","",""]
["","","","","","","","","","","","","",""]
["","","","","","","","","","","","","",""]
["","","","","","","","","","","","","",""]
["","","","","","","","","","","","","",""]
["","","","","","","","","","","","","",""]
["","","","","","","","","","","","","",""]
["","","","","","","","","","","","","",""]
["","","","","","","","","","","","","",""]
["","","","","","","","","","","","","",""]
["","","","","","","","","","","","","",""]
["","","","","","","","","","","","","",""]
["","","","","","","","","","","","","",""]
["","","","","","","","","","","","","",""]
["","","","","","","","","","","","","",""]
["","","","","","","","","","","","","",""]
["","","","","","","","","","","","","",""]
["","","","","","","","","","","","","",""]
["","","","","","","","","","","","","",""]
["","","","","","","","","","","","","",""]
["","","","","","","","","","","","","",""]
["","","","","","","","","","","","","",""]
["","","","","","","","","","","","","",""]
["","","","","","","","","","","","","",""]
["","","","","","","","","","","","","",""]
["","","","","","","","","","","","","",""]
["","","","","","","","","","","","","",""]
["","","","","","","","","","","","","",""]
["","","","","","","","","","","","","",""]
["","","","","","","","","","","","","",""]
["","","","","","","","","","","","","",""]
["","","","","","","","","","","","","",""]
["","","","","","","","","","","","","",""]
["","","","","","","","","","","","","",""]
["","","","","","","","","","","","","",""]
["","","","","","","","","","","","","",""]
["","","","","","","","","","","","","",""]
["","","","","","","","","","","","","",""]
["","","","","","","","","","","","","",""]
["","","","","","","","","","","","","",""]
["","","","","","","","","","","","","",""]
["","","","","","","","","","","","","",""]
["","","","","","","","","","","","","",""]
["","","","","","","","","","","","","",""]
["","","","","","","","","","","","","",""]
["","","","","","","","","","","","","",""]
["","","","","","","","","","","","","",""]
["","","","","","","","","","","","","",""]
["","","","","","","","","","","","","",""]
["","","","","","","","","","","","","",""]
["","","","","","","","","","","","","",""]
["","","","","","","","","","","","","",""]
["","","","","","","","","","","","","",""]
["","","","","","","","","","","","","",""]
["","","","","","","","","","","","","",""]
["","","","","","","","","","","","","",""]
["","","","","","","","","","","","","",""]
["","","","","","","","","","","","","",""]
["","","","","","","","","","","","","",""]
["","","","","","","","","","","","","",""]
["","","","","","","","","","","","","",""]
["","","","","","","","","","","","","",""]
["","","","","","","","","","","","","",""]
["","","","","","","","","","","","","",""]
["","","","","","","","","","","","","",""]
["","","","","","","","","","","","","",""]
["","","","","","","","","","","","","",""]
["","","","","","","","","","","","","",""]
["","","","","","","","","","","","","",""]
["","","","","","","","","","","","","",""]
["","","","","","","","","","","","","",""]
["","","","","","","","","","","","","",""]
["","","","","","","","","","","","","",""]
["","","","","","","","","","","","","",""]
["","","","","","","","","","","","","",""]
["","","","","","","","","","","","","",""]
["","","","","","","","","","","","","",""]
["","","","","","","","","","","","","",""]
["","","","","","","","","","","","","",""]
["","","","","","","","","","","","","",""]
["","","","","","","","","","","","","",""]
["","","","","","","","","","","","","",""]
["","","","","","","","","","","","","",""]
["","","","","","","","","","","","","",""]
["","","","","","","","","","","","","",""]
["","","","","","","","","","","","","",""]
["","","","","","","","","","","","","",""]
["","","","","","","","","","","","","",""]
["","","","","","","","","","","","","",""]
["","","","","","","","","","","","","",""]
["","","","","","","","","","","","","",""]
["","","","","","","","","","","","","",""]
["","","","","","","","","","","","","",""]
["","","","","","","","","","","","","",""]
["","","","","","","","","","","","","",""]
["","","","","","","","","","","","","",""]
["","","","","","","","","","","","","",""]
["","","","","","","","","","","","","",""]
["","","","","","","","","","","","","",""]
["","","","","","","","","","","","","",""]
["","","","","","","","","","","","","",""]
["","","","","","","","","","","","","",""]
["","","","","","","","","","","","","",""]
["","","","","","","","","","","","","",""]
["","","","","","","","","","","","","",""]
["","","","","","","","","","","","","",""]
["","","","","","","","","","","","","",""]
["","","","","","","","","","","","","",""]
["","","","","","","","","","","","","",""]
["","","","","","","","","","","","","",""]
["","","","","","","","","","","","","",""]
["","","","","","","","","","","","","",""]
["","","","","","","","","","","","","",""]
["","","","","","","","","","","","","",""]
["","","","","","","","","","","","","",""]
["","","","","","","","","","","","","",""]
["","","","","","","","","","","","","",""]
["","","","","","","","","","","","","",""]
["","","","","","","","","","","","","",""]
["","","","","","","","","","","","","",""]
["","","","","","","","","","","","","",""]
["","","","","","","","","","","","","",""]
["","","","","","","","","","","","","",""]
["","","","","","","","","","","","","",""]
["","","","","","","","","","","","","",""]
["","","","","","","","","","","","","",""]
["","","","","","","","","","","","","",""]
["","","","","","","","","","","","","",""]
["","","","","","","","","","","","","",""]
["","","","","","","","","","","","","",""]
["","","","","","","","","","","","","",""]
["","","","","","","","","","","","","",""]
["","","","","","","","","","","","","",""]
["","","","","","","","","","","","","",""]
["","","","","","","","","","","","","",""]
["","","","","","","","","","","","","",""]
["","","","","","","","","","","","","",""]
["","","","","","","","","","","","","",""]
["","","","","","","","","","","","","",""]
["","","","","","","","","","","","","",""]
["","","","","","","","","","","","","",""]
["","","","","","","","","","","","","",""]
["","","","","","","","","","","","","",""]
["","","","","","","","","","","","","",""]
["","","","","","","","","","","","","",""]
["","","","","","","","","","","","","",""]
["","","","","","","","","","","","","",""]
["","","","","","","","","","","","","",""]
["","","","","","","","","","","","","",""]
["","","","","","","","","","","","","",""]
["","","","","","","","","","","","","",""]
["","","","","","","","","","","","","",""]
["","","","","","","","","","","","","",""]
["","","","","","","","","","","","","",""]
["","","","","","","","","","","","","",""]
["","","","","","","","","","","","","",""]
["","","","","","","","","","","","","",""]
["","","","","","","","","","","","","",""]
["","","","","","","","","","","","","",""]
["","","","","","","","","","","","","",""]
["","","","","","","","","","","","","",""]
["","","","","","","","","","","","","",""]
["","","","","","","","","","","","","",""]
["","","","","","","","","","","","","",""]
["","","","","","","","","","","","","",""]
["","","","","","","","","","","","","",""]
["","","","","","","","","","","","","",""]
["","","","","","","","","","","","","",""]
["","","","","","","","","","","","","",""]
["","","","","","","","","","","","","",""]
["","","","","","","","","","","","","",""]
["","","","","","","","","","","","","",""]
["","","","","","","","","","","","","",""]
["","","","","","","","","","","","","",""]
["","","","","","","","","","","","","",""]
["","","","","","","","","","","","","",""]
["","","","","","","","","","","","","",""]
["","","","","","","","","","","","","",""]
["","","","","","","","","","","","","",""]
["","","","","","","","","","","","","",""]
["","","","","","","","","","","","","",""]
["","","","","","","","","","","","","",""]
["","","","","","","","","","","","","",""]
["","","","","","","","","","","","","",""]
["","","","","","","","","","","","","",""]
["","","","","","","","","","","","","",""]
["","","","","","","","","","","","","",""]
["","","","","","","","","","","","","",""]
["","","","","","","","","","","","","",""]
["","","","","","","","","","","","","",""]
["","","","","","","","","","","","","",""]
["","","","","","","","","","","","","",""]
["","","","","","","","","","","","","",""]
["","","","","","","","","","","","","",""]
["","","","","","","","","","","","","",""]
["","","","","","","","","","","","","",""]
["","","","","","","","","","","","","",""]
["","","","","","","","","","","","","",""]
["","","","","","","","","","","","","",""]
["","","","","","","","","","","","","",""]
["","","","","","","","","","","","","",""]
["","","","","","","","","","","","","",""]
["","","","","","","","","","","","","",""]
["","","","","","","","","","","","","",""]
["","","","","","","","","","","","","",""]
["","","","","","","","","","","","","",""]
["","","","","","","","","","","","","",""]
["","","","","","","","","","","","","",""]
["","","","","","","","","","","","","",""]
["","","","","","","","","","","","","",""]
["","","","","","","","","","","","","",""]
["","","","","","","","","","","","","",""]
["","","","","","","","","","","","","",""]
["","","","","","","","","","","","","",""]
["","","","","","","","","","","","","",""]
["","","","","","","","","","","","","",""]
["","","","","","","","","","","","","",""]
["","","","","","","","","","","","","",""]
["","","","","","","","","","","","","",""]
["","","","","","","","","","","","","",""]
["","","","","","","","","","","","","",""]
["","","","","","","","","","","","","",""]
["","","","","","","","","","","","","",""]
["","","","","","","","","","","","","",""]
["","","","","","","","","","","","","",""]
["","","","","","","","","","","","","",""]
["","","","","","","","","","","","","",""]
["","","","","","","","","","","","","",""]
["","","","","","","","","","","","","",""]
["","","","","","","","","","","","","",""]
["","","","","","","","","","","","","",""]
["","","","","","","","","","","","","",""]
["","","","","","","","","","","","","",""]
["","","","","","","","","","","","","",""]
["","","","","","","","","","","","","",""]
["","","","","","","","","","","","","",""]
["","","","","","","","","","","","","",""]
["","","","","","","","","","","","","",""]
["","","","","","","","","","","","","",""]
["","","","","","","","","","","","","",""]
["","","","","","","","","","","","","",""]
["","","","","","","","","","","","","",""]
["","","","","","","","","","","","","",""]
["","","","","","","","","","","","","",""]
["","","","","","","","","","","","","",""]
["","","","","","","","","","","","","",""]
["","","","","","","","","","","","","",""]
["","","","","","","","","","","","","",""]
["","","","","","","","","","","","","",""]
["","","","","","","","","","","","","",""]
["","","","","","","","","","","","","",""]
["","","","","","","","","","","","","",""]
["","","","","","","","","","","","","",""]
["","","","","","","","","","","","","",""]
["","","","","","","","","","","","","",""]
["","","","","","","","","","","","","",""]
["","","","","","","","","","","","","",""]
["","","","","","","","","","","","","",""]
["","","","","","","","","","","","","",""]
["","","","","","","","","","","","","",""]
["","","","","","","","","","","","","",""]
["","","","","","","","","","","","","",""]
["","","","","","","","","","","","","",""]
["","","","","","","","","","","","","",""]
["","","","","","","","","","","","","",""]
["","","","","","","","","","","","","",""]
["","","","","","","","","","","","","",""]
["","","","","","","","","","","","","",""]
["","","","","","","","","","","","","",""]
["","","","","","","","","","","","","",""]
["","","","","","","","","","","","","",""]
["","","","","","","","","","","","","",""]
["","","","","","","","","","","","","",""]
["","","","","","","","","","","","","",""]
["","","","","","","","","","","","","",""]
["","","","","","","","","","","","","",""]
["","","","","","","","","","","","","",""]
["","","","","","","","","","","","","",""]
["","","","","","","","","","","","","",""]
["","","","","","","","","","","","","",""]
["","","","","","","","","","","","","",""]
["","","","","","","","","","","","","",""]
["","","","","","","","","","","","","",""]
["","","","","","","","","","","","","",""]
["","","","","","","","","","","","","",""]
["","","","","","","","","","","","","",""]
["","","","","","","","","","","","","",""]
["","","","","","","","","","","","","",""]
["","","","","","","","","","","","","",""]
["","","","","","","","","","","","","",""]
["","","","","","","","","","","","","",""]
["","","","","","","","","","","","","",""]
["","","","","","","","","","","","","",""]
["","","","","","","","","","","","","",""]
["","","","","","","","","","","","","",""]
["","","","","","","","","","","","","",""]
["","","","","","","","","","","","","",""]
["","","","","","","","","","","","","",""]
["","","","","","","","","","","","","",""]
["","","","","","","","","","","","","",""]
["","","","","","","","","","","","","",""]
["","","","","","","","","","","","","",""]
["","","","","","","","","","","","","",""]
["","","","","","","","","","","","","",""]
["","","","","","","","","","","","","",""]
["","","","","","","","","","","","","",""]
["","","","","","","","","","","","","",""]
["","","","","","","","","","","","","",""]
["","","","","","","","","","","","","",""]
["","","","","","","","","","","","","",""]
["","","","","","","","","","","","","",""]
["","","","","","","","","","","","","",""]
["","","","","","","","","","","","","",""]
["","","","","","","","","","","","","",""]
["","","","","","","","","","","","","",""]
["","","","","","","","","","","","","",""]
["","","","","","","","","","","","","",""]
["","","","","","","","","","","","","",""]
["","","","","","","","","","","","","",""]
["","","","","","","","","","","","","",""]
["","","","","","","","","","","","","",""]
["","","","","","","","","","","","","",""]
["","","","","","","","","","","","","",""]
["","","","","","","","","","","","","",""]
["","","","","","","","","","","","","",""]
["","","","","","","","","","","","","",""]
["","","","","","","","","","","","","",""]
["","","","","","","","","","","","","",""]
["","","","","","","","","","","","","",""]
["","","","","","","","","","","","","",""]
["","","","","","","","","","","","","",""]
["","","","","","","","","","","","","",""]
["","","","","","","","","","","","","",""]
["","","","","","","","","","","","","",""]
["","","","","","","","","","","","","",""]
["","","","","","","","","","","","","",""]
["","","","","","","","","","","","","",""]
["","","","","","","","","","","","","",""]
["","","","","","","","","","","","","",""]
["","","","","","","","","","","","","",""]
["","","","","","","","","","","","","",""]
["","","","","","","","","","","","","",""]
["","","","","","","","","","","","","",""]
["","","","","","","","","","","","","",""]
["","","","","","","","","","","","","",""]
["","","","","","","","","","","","","",""]
["","","","","","","","","","","","","",""]
["","","","","","","","","","","","","",""]
["","","","","","","","","","","","","",""]
["","","","","","","","","","","","","",""]
["","","","","","","","","","","","","",""]
["","","","","","","","","","","","","",""]
["","","","","","","","","","","","","",""]
["","","","","","","","","","","","","",""]
["","","","","","","","","","","","","",""]
["","","","","","","","","","","","","",""]
["","","","","","","","","","","","","",""]
["","","","","","","","","","","","","",""]
["","","","","","","","","","","","","",""]
["","","","","","","","","","","","","",""]
["","","","","","","","","","","","","",""]
["","","","","","","","","","","","","",""]
["","","","","","","","","","","","","",""]
["","","","","","","","","","","","","",""]
["","","","","","","","","","","","","",""]
["","","","","","","","","","","","","",""]
["","","","","","","","","","","","","",""]
["","","","","","","","","","","","","",""]
["","","","","","","","","","","","","",""]
["","","","","","","","","","","","","",""]
["","","","","","","","","","","","","",""]
["","","","","","","","","","","","","",""]
["","","","","","","","","","","","","",""]
["","","","","","","","","","","","","",""]
["","","","","","","","","","","","","",""]
["","","","","","","","","","","","","",""]
["","","","","","","","","","","","","",""]
["","","","","","","","","","","","","",""]
["","","","","","","","","","","","","",""]
["","","","","","","","","","","","","",""]
["","","","","","","","","","","","","",""]
["","","","","","","","","","","","","",""]
["","","","","","","","","","","","","",""]
["","","","","","","","","","","","","",""]
["","","","","","","","","","","","","",""]
["","","","","","","","","","","","","",""]
["","","","","","","","","","","","","",""]
["","","","","","","","","","","","","",""]
["","","","","","","","","","","","","",""]
["","","","","","","","","","","","","",""]
["","","","","","","","","","","","","",""]
["","","","","","","","","","","","","",""]
["","","","","","","","","","","","","",""]
["","","","","","","","","","","","","",""]
["","","","","","","","","","","","","",""]
["","","","","","","","","","","","","",""]
["","","","","","","","","","","","","",""]
["","","","","","","","","","","","","",""]
["","","","","","","","","","","","","",""]
["","","","","","","","","","","","","",""]
["","","","","","","","","","","","","",""]
["","","","","","","","","","","","","",""]
["","","","","","","","","","","","","",""]
["","","","","","","","","","","","","",""]
["","","","","","","","","","","","","",""]
["","","","","","","","","","","","","",""]
["","","","","","","","","","","","","",""]
["","","","","","","","","","","","","",""]
["","","","","","","","","","","","","",""]
["","","","","","","","","","","","","",""]
["","","","","","","","","","","","","",""]
["","","","","","","","","","","","","",""]
["","","","","","","","","","","","","",""]
["","","","","","","","","","","","","",""]
["","","","","","","","","","","","","",""]
["","","","","","","","","","","","","",""]
["","","","","","","","","","","","","",""]
["","","","","","","","","","","","","",""]
["","","","","","","","","","","","","",""]
["","","","","","","","","","","","","",""]
["","","","","","","","","","","","","",""]
["","","","","","","","","","","","","",""]
["","","","","","","","","","","","","",""]
["","","","","","","","","","","","","",""]
["","","","","","","","","","","","","",""]
["","","","","","","","","","","","","",""]
["","","","","","","","","","","","","",""]
["","","","","","","","","","","","","",""]
["","","","","","","","","","","","","",""]
["","","","","","","","","","","","","",""]
["","","","","","","","","","","","","",""]
["","","","","","","","","","","","","",""]
["","","","","","","","","","","","","",""]
["","","","","","","","","","","","","",""]
["","","","","","","","","","","","","",""]
["","","","","","","","","","","","","",""]
["","","","","","","","","","","","","",""]
["","","","","","","","","","","","","",""]
["","","","","","","","","","","","","",""]
["","","","","","","","","","","","","",""]
["","","","","","","","","","","","","",""]
["","","","","","","","","","","","","",""]
["","","","","","","","","","","","","",""]
["","","","","","","","","","","","","",""]
["","","","","","","","","","","","","",""]
["","","","","","","","","","","","","",""]
["","","","","","","","","","","","","",""]
["","","","","","","","","","","","","",""]
["","","","","","","","","","","","","",""]
["","","","","","","","","","","","","",""]
["","","","","","","","","","","","","",""]
["","","","","","","","","","","","","",""]
["","","","","","","","","","","","","",""]
["","","","","","","","","","","","","",""]
["","","","","","","","","","","","","",""]
["","","","","","","","","","","","","",""]
["","","","","","","","","","","","","",""]
["","","","","","","","","","","","","",""]
["","","","","","","","","","","","","",""]
["","","","","","","","","","","","","",""]
["","","","","","","","","","","","","",""]
["","","","","","","","","","","","","",""]
["","","","","","","","","","","","","",""]
["","","","","","","","","","","","","",""]
["","","","","","","","","","","","","",""]
["","","","","","","","","","","","","",""]
["","","","","","","","","","","","","",""]
["","","","","","","","","","","","","",""]
["","","","","","","","","","","","","",""]
["","","","","","","","","","","","","",""]
["","","","","","","","","","","","","",""]
["","","","","","","","","","","","","",""]
["","","","","","","","","","","","","",""]
["","","","","","","","","","","","","",""]
["","","","","","","","","","","","","",""]
["","","","","","","","","","","","","",""]
["","","","","","","","","","","","","",""]
["","","","","","","","","","","","","",""]
["","","","","","","","","","","","","",""]
["","","","","","","","","","","","","",""]
["","","","","","","","","","","","","",""]
["","","","","","","","","","","","","",""]
["","","","","","","","","","","","","",""]
["","","","","","","","","","","","","",""]
["","","","","","","","","","","","","",""]
["","","","","","","","","","","","","",""]
["","","","","","","","","","","","","",""]
["","","","","","","","","","","","","",""]
["","","","","","","","","","","","","",""]
["","","","","","","","","","","","","",""]
["","","","","","","","","","","","","",""]
["","","","","","","","","","","","","",""]
["","","","","","","","","","","","","",""]
["","","","","","","","","","","","","",""]
["","","","","","","","","","","","","",""]
["","","","","","","","","","","","","",""]
["","","","","","","","","","","","","",""]
["","","","","","","","","","","","","",""]
["","","","","","","","","","","","","",""]
["","","","","","","","","","","","","",""]
["","","","","","","","","","","","","",""]
["","","","","","","","","","","","","",""]
["","","","","","","","","","","","","",""]
["","","","","","","","","","","","","",""]
["","","","","","","","","","","","","",""]
["","","","","","","","","","","","","",""]
["","","","","","","","","","","","","",""]
["","","","","","","","","","","","","",""]
["","","","","","","","","","","","","",""]
["","","","","","","","","","","","","",""]
["","","","","","","","","","","","","",""]
["","","","","","","","","","","","","",""]
["","","","","","","","","","","","","",""]
["","","","","","","","","","","","","",""]
["","","","","","","","","","","","","",""]
["","","","","","","","","","","","","",""]
["","","","","","","","","","","","","",""]
["","","","","","","","","","","","","",""]
["","","","","","","","","","","","","",""]
["","","","","","","","","","","","","",""]
["","","","","","","","","","","","","",""]
["","","","","","","","","","","","","",""]
["","","","","","","","","","","","","",""]
["","","","","","","","","","","","","",""]
["","","","","","","","","","","","","",""]
["","","","","","","","","","","","","",""]
["","","","","","","","","","","","","",""]
["","","","","","","","","","","","","",""]
["","","","","","","","","","","","","",""]
["","","","","","","","","","","","","",""]
["","","","","","","","","","","","","",""]
["","","","","","","","","","","","","",""]
["","","","","","","","","","","","","",""]
["","","","","","","","","","","","","",""]
["","","","","","","","","","","","","",""]
["","","","","","","","","","","","","",""]
["","","","","","","","","","","","","",""]
["","","","","","","","","","","","","",""]
["","","","","","","","","","","","","",""]
["","","","","","","","","","","","","",""]
["","","","","","","","","","","","","",""]
["","","","","","","","","","","","","",""]
["","","","","","","","","","","","","",""]
["","","","","","","","","","","","","",""]
["","","","","","","","","","","","","",""]
["","","","","","","","","","","","","",""]
["","","","","","","","","","","","","",""]
["","","","","","","","","","","","","",""]
["","","","","","","","","","","","","",""]
["","","","","","","","","","","","","",""]
["","","","","","","","","","","","","",""]
["","","","","","","","","","","","","",""]
["","","","","","","","","","","","","",""]
["","","","","","","","","","","","","",""]
["","","","","","","","","","","","","",""]
["","","","","","","","","","","","","",""]
["","","","","","","","","","","","","",""]
["","","","","","","","","","","","","",""]
["","","","","","","","","","","","","",""]
["","","","","","","","","","","","","",""]
["","","","","","","","","","","","","",""]
["","","","","","","","","","","","","",""]
["","","","","","","","","","","","","",""]
["","","","","","","","","","","","","",""]
["","","","","","","","","","","","","",""]
["","","","","","","","","","","","","",""]
["","","","","","","","","","","","","",""]
["","","","","","","","","","","","","",""]
["","","","","","","","","","","","","",""]
["","","","","","","","","","","","","",""]
["","","","","","","","","","","","","",""]
["","","","","","","","","","","","","",""]
["","","","","","","","","","","","","",""]
["","","","","","","","","","","","","",""]
["","","","","","","","","","","","","",""]
["","","","","","","","","","","","","",""]
["","","","","","","","","","","","","",""]
["","","","","","","","","","","","","",""]
["","","","","","","","","","","","","",""]
["","","","","","","","","","","","","",""]
["","","","","","","","","","","","","",""]
["","","","","","","","","","","","","",""]
["","","","","","","","","","","","","",""]
["","","","","","","","","","","","","",""]
["","","","","","","","","","","","","",""]
["","","","","","","","","","","","","",""]
["","","","","","","","","","","","","",""]
["","","","","","","","","","","","","",""]
["","","","","","","","","","","","","",""]
["","","","","","","","","","","","","",""]
["","","","","","","","","","","","","",""]
["","","","","","","","","","","","","",""]
["","","","","","","","","","","","","",""]
["","","","","","","","","","","","","",""]
["","","","","","","","","","","","","",""]
["","","","","","","","","","","","","",""]
["","","","","","","","","","","","","",""]
["","","","","","","","","","","","","",""]
["","","","","","","","","","","","","",""]
["","","","","","","","","","","","","",""]
["","","","","","","","","","","","","",""]
["","","","","","","","","","","","","",""]
["","","","","","","","","","","","","",""]
["","","","","","","","","","","","","",""]
["","","","","","","","","","","","","",""]
["","","","","","","","","","","","","",""]

{"sheet":"TA Properties","index":1,"n_rows":5000,"n_cols":17,"rows_kept":5000,"cut":false,"hidden":false,"merged":[]}
[]
["Update Stock Macro"]
[]
[]
["UPRN","Description","Bedrooms","Room/ Flat","Street Number","Street","Town","Postcode","SG Accommodation Type","Is this Accommodation Supported?","Is it emergency first stop accommodation?","Landlord","HB TYPE","Date Added","Date Deleted","HASH UPRN","AVAILABLE"]
[{"$f":"SUBSTITUTE(UPPER($D6& \"/ \"&$E6&\"/\"&$H6),\" \",\"\")","v":"FLAT1/10/AB11AA"},{"$f":"IF($D6<>\"\",$D6 & \", \" &$E6 &\" \" &$F6 &\", \" &$G6 &\", \" & $H6 & \" - Bedrooms: \" & $C6,$E6 &\" \" &$F6 &\", \" &$G6 &\", \" & $H6 & \" - Bedrooms: \" & $C6)","v":"Flat 1, 10 Any Street, Any Town, AB1 1AA - Bedrooms: 1"},1,"Flat 1",10,"Any Street","Any Town","AB1 1AA","Housing association / RSL dwelling","No","No","LA","Not Specified Accommodation","2015-04-01","2015-04-02","24BC8AAA 0198AA6E 0CF087CE D29E39D8 E4763435",1]
["FLAT2/10/AB11AA","Flat 2, 10 Any Street, Any Town, AB1 1AA - Bedrooms: 2",2,"Flat 2",10,"Any Street","Any Town","AB1 1AA","LA ordinary dwelling","No","No","LA","Not Specified Accommodation","2015-04-01",null,"35A5CCBE F3662184 EB1B201D 175AFD4F 23748DAD",0]
["FLAT3/10/AB11AA","Flat 3, 10 Any Street, Any Town, AB1 1AA - Bedrooms: 3",3,"Flat 3",10,"Any Street","Any Town","AB1 1AA","LA ordinary dwelling","No","No","LA","Not Specified Accommodation","2015-04-01",null,"F968614F 18180083 09931E12 B9E76994 8E77A2C5",1]
["FLAT4/10/AB11AA","Flat 4, 10 Any Street, Any Town, AB1 1AA - Bedrooms: 4",4,"Flat 4",10,"Any Street","Any Town","AB1 1AA","LA ordinary dwelling","No","No","LA","Not Specified Accommodation","2015-04-01",null,"EDF01372 4BEC6AC1 96CA8A9B 1596F95E C13AB976",1]
["FLAT5/10/AB11AA","Flat 5, 10 Any Street, Any Town, AB1 1AA - Bedrooms: 1",{"$f":"C6","v":1},"Flat 5",10,"Any Street","Any Town","AB1 1AA","LA ordinary dwelling","No","No","LA","Not Specified Accommodation","2015-04-01",null,"8EB54AD0 4EEF7B0F 1270893C 5044AA7D 66AD3474",1]
["FLAT6/10/AB11AA","Flat 6, 10 Any Street, Any Town, AB1 1AA - Bedrooms: 2",{"$f":"C7","v":2},"Flat 6",10,"Any Street","Any Town","AB1 1AA","LA ordinary dwelling","No","No","LA","Not Specified Accommodation","2015-04-01",null,"1F702448 CE7EA45F D9BD37DA 6CC168CF BF2640B0",1]
["FLAT7/10/AB11AA","Flat 7, 10 Any Street, Any Town, AB1 1AA - Bedrooms: 3",3,"Flat 7",10,"Any Street","Any Town","AB1 1AA","LA ordinary dwelling","No","No","LA","Not Specified Accommodation","2015-04-01",null,"2C83FE9A 6F533A54 0DB7DFEF 4A721A77 D68FA270",1]
["FLAT8/10/AB11AA","Flat 8, 10 Any Street, Any Town, AB1 1AA - Bedrooms: 4",4,"Flat 8",10,"Any Street","Any Town","AB1 1AA","LA ordinary dwelling","No","No","LA","Not Specified Accommodation","2015-04-01",null,"FEDA389E EA8DFA90 AA191060 2FE30C50 BCC95545",1]
["FLAT9/10/AB11AA","Flat 9, 10 Any Street, Any Town, AB1 1AA - Bedrooms: 1",1,"Flat 9",10,"Any Street","Any Town","AB1 1AA","LA ordinary dwelling","No","No","LA","Not Specified Accommodation","2015-04-01",null,"B17E37F1 40F1EC86 096031B7 B5E37A68 29AC5B77",1]
["FLAT10/10/AB11AA","Flat 10, 10 Any Street, Any Town, AB1 1AA - Bedrooms: 2",2,"Flat 10",10,"Any Street","Any Town","AB1 1AA","LA ordinary dwelling","No","No","LA","Not Specified Accommodation","2015-04-01",null,"3F990DA8 CCB395D5 793B270C 5FCE9D23 2F853B8F",1]
["ROOM1/20/AB22ER","Room 1, 20 Any Street, Any Town, AB2 2ER - Bedrooms: 1",1,"Room 1",20,"Any Street","Any Town","AB2 2ER","Hostel - RSL","Yes","Yes","Vol Org","Specified – Hostel","2015-04-01","2015-04-08","5BA4CCA9 408E216E 65162B2C DEE1657C FB8E7B83",0]
["ROOM2/20/AB22ER","Room 2, 20 Any Street, Any Town, AB2 2ER - Bedrooms: 1",1,"Room 2",20,"Any Street","Any Town","AB2 2ER","Hostel - RSL","Yes","Yes","Vol Org","Specified – Hostel","2015-04-01","2015-04-08","4D59AAAA FF5AF722 B2CA7001 1CCE9BDD 6457D4E5",0]
["ROOM3/20/AB22ER","Room 3, 20 Any Street, Any Town, AB2 2ER - Bedrooms: 1",1,"Room 3",20,"Any Street","Any Town","AB2 2ER","Hostel - RSL","Yes","Yes","Vol Org","Specified – Hostel","2015-04-01","2015-04-08","CB6A0583 7BEFAB21 B99D5AA6 E6F85706 2C784994",0]
["ROOM4/20/AB22ER","Room 4, 20 Any Street, Any Town, AB2 2ER - Bedrooms: 1",1,"Room 4",20,"Any Street","Any Town","AB2 2ER","Hostel - RSL","Yes","Yes","Vol Org","Specified – Hostel","2015-04-01","2015-04-08","A974B358 21C7BAE6 ECFB22BE 12A0042E EEE89001",0]
["ROOM5/20/AB22ER","Room 5, 20 Any Street, Any Town, AB2 2ER - Bedrooms: 1",1,"Room 5",20,"Any Street","Any Town","AB2 2ER","Hostel - RSL","Yes","Yes","Vol Org","Specified – Hostel","2015-04-01","2015-04-08","A30C71BE 9BB514C2 D1C33A35 E2E1F90A E120A076",0]
["/18/AB22ER","18 Any Street, Any Town, AB2 2ER - Bedrooms: 2",2,null,18,"Any Street","Any Town","AB2 2ER","LA ordinary dwelling","No","No","LA","Not Specified Accommodation","2015-04-01",null,"0828AFF8 5599DF25 5202B653 6A8B32B3 CF1FD70C",1]
["FLAT17/26/AB34ET","Flat 17, 26 Any Street, Any Town, AB3 4ET - Bedrooms: 1",1,"Flat 17",26,"Any Street","Any Town","AB3 4ET","LA ordinary dwelling","No","No","LA","Not Specified Accommodation","2015-04-01",null,"69135487 564EB7E5 39CFDF0F 69CBAE37 E18A8ADF",1]
["FLAT18/27/AB34ET","Flat 18, 27 Any Street, Any Town, AB3 4ET - Bedrooms: 1",1,"Flat 18",27,"Any Street","Any Town","AB3 4ET","LA ordinary dwelling","No","No","LA","Not Specified Accommodation","2015-04-01",null,"5325837A 8AA4F9E8 68F97908 524A251C D17D11BF",1]
["FLAT19/28/AB34ET","Flat 19, 28 Any Street, Any Town, AB3 4ET - Bedrooms: 1",1,"Flat 19",28,"Any Street","Any Town","AB3 4ET","LA ordinary dwelling","No","No","LA","Not Specified Accommodation","2015-04-01",null,"2EA30FD9 3CF9BD72 4D7DF1C7 42DE91BE D6E3E7CB",1]
["FLAT20/29/AB34ET","Flat 20, 29 Any Street, Any Town, AB3 4ET - Bedrooms: 2",2,"Flat 20",29,"Any Street","Any Town","AB3 4ET","LA ordinary dwelling","No","No","LA","Not Specified Accommodation","2015-04-01",null,"81A5B36E A9CB0718 082796C4 1B252C7F 8A978519",1]
["FLAT21/30/AB34ET","Flat 21, 30 Any Street, Any Town, AB3 4ET - Bedrooms: 1",1,"Flat 21",30,"Any Street","Any Town","AB3 4ET","LA ordinary dwelling","No","No","LA","Not Specified Accommodation","2015-04-01",null,"9F87523A 82ED4FA3 30320CB1 102ACDE6 A2B70317",1]
["FLAT22/31/AB34ET","Flat 22, 31 Any Street, Any Town, AB3 4ET - Bedrooms: 1",1,"Flat 22",31,"Any Street","Any Town","AB3 4ET","LA ordinary dwelling","No","No","LA","Not Specified Accommodation","2015-04-01","2015-04-02","82538F16 D856B8DE 3D2FA943 F4C2C4D5 DBA97B68",1]
["FLAT23/32/AB34ET","Flat 23, 32 Any Street, Any Town, AB3 4ET - Bedrooms: 1",1,"Flat 23",32,"Any Street","Any Town","AB3 4ET","LA ordinary dwelling","No","No","LA","Not Specified Accommodation","2015-04-01",null,"DE27226C 41517541 121B5C78 22EAD753 BFF00683",1]
["FLAT24/33/AB34ET","Flat 24, 33 Any Street, Any Town, AB3 4ET - Bedrooms: 2",2,"Flat 24",33,"Any Street","Any Town","AB3 4ET","LA ordinary dwelling","No","No","LA","Not Specified Accommodation","2015-04-01",null,"C69A3DD9 A599C002 3207F680 853788FD 9E5F00B5",1]
["FLAT25/34/AB34ET","Flat 25, 34 Any Street, Any Town, AB3 4ET - Bedrooms: 1",1,"Flat 25",34,"Any Street","Any Town","AB3 4ET","LA ordinary dwelling","No","No","LA","Not Specified Accommodation","2015-04-01",null,"6D183205 6B46EDD1 557D73D5 4A342D5A 01058D8D",1]
["FLAT26/35/AB34ET","Flat 26, 35 Any Street, Any Town, AB3 4ET - Bedrooms: 1",1,"Flat 26",35,"Any Street","Any Town","AB3 4ET","LA ordinary dwelling","No","No","LA","Not Specified Accommodation","2015-04-01",null,"9CA3015A F49B9CBE 808E45EA 92FB4827 9ACFD28A",1]
["FLAT27/36/AB34ET","Flat 27, 36 Any Street, Any Town, AB3 4ET - Bedrooms: 1",1,"Flat 27",36,"Any Street","Any Town","AB3 4ET","LA ordinary dwelling","No","No","LA","Not Specified Accommodation","2015-04-01",null,"8F31EDE9 3CCBCA8C EC2DA67D 7A29F771 FAA2DC63",1]
["FLAT28/37/AB34ET","Flat 28, 37 Any Street, Any Town, AB3 4ET - Bedrooms: 2",2,"Flat 28",37,"Any Street","Any Town","AB3 4ET","LA ordinary dwelling","No","No","LA","Not Specified Accommodation","2015-04-01",null,"3DC06E09 5EE8D53F B9A71578 27B1CCC4 AEE455D2",1]
["FLAT29/38/AB34ET","Flat 29, 38 Any Street, Any Town, AB3 4ET - Bedrooms: 1",1,"Flat 29",38,"Any Street","Any Town","AB3 4ET","LA ordinary dwelling","No","No","LA","Not Specified Accommodation","2015-04-01",null,"D60D4344 DA1E3BC2 54C8E95C 43C8111E 5B68756C",1]
["FLAT30/39/AB34ET","Flat 30, 39 Any Street, Any Town, AB3 4ET - Bedrooms: 1",1,"Flat 30",39,"Any Street","Any Town","AB3 4ET","LA ordinary dwelling","No","No","LA","Not Specified Accommodation","2015-04-01",null,"AC1C41B6 A538E624 0DE2E481 412B917A 056FCA4D",1]
["FLAT31/40/AB34ET","Flat 31, 40 Any Street, Any Town, AB3 4ET - Bedrooms: 1",1,"Flat 31",40,"Any Street","Any Town","AB3 4ET","LA ordinary dwelling","No","No","LA","Not Specified Accommodation","2015-04-01",null,"4051F1FD E4650DBD E2D078A1 87F05AB5 50B248AE",1]
["FLAT32/41/AB34ET","Flat 32, 41 Any Street, Any Town, AB3 4ET - Bedrooms: 2",2,"Flat 32",41,"Any Street","Any Town","AB3 4ET","LA ordinary dwelling","No","No","LA","Not Specified Accommodation","2015-04-01",null,"34B5C258 3B4703EB EF4AD09C 69C1D2C8 D241013D",1]
["FLAT33/42/AB34ET","Flat 33, 42 Any Street, Any Town, AB3 4ET - Bedrooms: 1",1,"Flat 33",42,"Any Street","Any Town","AB3 4ET","LA ordinary dwelling","No","No","LA","Not Specified Accommodation","2015-04-01",null,"2DB650A9 1AA08E1D 487C7184 E2F4764A F69B84CF",1]
["FLAT34/43/AB34ET","Flat 34, 43 Any Street, Any Town, AB3 4ET - Bedrooms: 1",1,"Flat 34",43,"Any Street","Any Town","AB3 4ET","LA ordinary dwelling","No","No","LA","Not Specified Accommodation","2015-04-01",null,"9E037104 20580E21 DC15B7C3 D54B20C9 E70F5ACD",1]
["FLAT35/44/AB34ET","Flat 35, 44 Any Street, Any Town, AB3 4ET - Bedrooms: 1",1,"Flat 35",44,"Any Street","Any Town","AB3 4ET","LA ordinary dwelling","No","No","LA","Not Specified Accommodation","2015-04-01",null,"39881619 7B6F2F3E E840C4D5 9B2A700D 9B63170D",1]
["FLAT36/45/AB34ET","Flat 36, 45 Any Street, Any Town, AB3 4ET - Bedrooms: 2",2,"Flat 36",45,"Any Street","Any Town","AB3 4ET","LA ordinary dwelling","No","No","LA","Not Specified Accommodation","2015-04-01",null,"0EAF3FD9 1B76E25E 1E968348 4107A63A B0F4C21C",1]
["FLAT37/46/AB34ET","Flat 37, 46 Any Street, Any Town, AB3 4ET - Bedrooms: 1",1,"Flat 37",46,"Any Street","Any Town","AB3 4ET","LA ordinary dwelling","No","No","LA","Not Specified Accommodation","2015-04-01",null,"D4C4F4B9 EC4B26A0 C62B8DF3 D6FBAA98 FE72EAEA",1]
["FLAT38/47/AB34ET","Flat 38, 47 Any Street, Any Town, AB3 4ET - Bedrooms: 1",1,"Flat 38",47,"Any Street","Any Town","AB3 4ET","LA ordinary dwelling","No","No","LA","Not Specified Accommodation","2015-04-01",null,"7768856D 674BD432 E9E26CF2 082A193C 7924A329",1]
["FLAT39/48/AB34ET","Flat 39, 48 Any Street, Any Town, AB3 4ET - Bedrooms: 1",1,"Flat 39",48,"Any Street","Any Town","AB3 4ET","LA ordinary dwelling","No","No","LA","Not Specified Accommodation","2015-04-01",null,"2FA132DA 2368E8E6 2ADCA224 BBD1D796 C40942CE",1]
["FLAT40/49/AB34ET","Flat 40, 49 Any Street, Any Town, AB3 4ET - Bedrooms: 2",2,"Flat 40",49,"Any Street","Any Town","AB3 4ET","LA ordinary dwelling","No","No","LA","Not Specified Accommodation","2015-04-01",null,"741A432B EC10830A 93FFEB47 DD998C3B CE13AB8F",1]
["FLAT41/50/AB34ET","Flat 41, 50 Any Street, Any Town, AB3 4ET - Bedrooms: 1",1,"Flat 41",50,"Any Street","Any Town","AB3 4ET","LA ordinary dwelling","No","No","LA","Not Specified Accommodation","2015-04-01",null,"08B91E2B E5325458 94B503C7 99C898C0 DB4D600F",1]
["FLAT42/51/AB34ET","Flat 42, 51 Any Street, Any Town, AB3 4ET - Bedrooms: 1",1,"Flat 42",51,"Any Street","Any Town","AB3 4ET","LA ordinary dwelling","No","No","LA","Not Specified Accommodation","2015-04-01",null,"42BA5696 7866278E 63337AB4 81CB175D B834A91F",1]
["FLAT43/52/AB34ET","Flat 43, 52 Any Street, Any Town, AB3 4ET - Bedrooms: 1",1,"Flat 43",52,"Any Street","Any Town","AB3 4ET","LA ordinary dwelling","No","No","LA","Not Specified Accommodation","2015-04-01",null,"828DE9BE C15F3797 7EB6EAB2 144E8CF0 6C0E9DC5",1]
["FLAT44/53/AB34ET","Flat 44, 53 Any Street, Any Town, AB3 4ET - Bedrooms: 2",2,"Flat 44",53,"Any Street","Any Town","AB3 4ET","LA ordinary dwelling","No","No","LA","Not Specified Accommodation","2015-04-01",null,"25655140 1D4EC647 6D2579A5 7CA91EEF 044DE243",1]
["FLAT45/54/AB34ET","Flat 45, 54 Any Street, Any Town, AB3 4ET - Bedrooms: 1",1,"Flat 45",54,"Any Street","Any Town","AB3 4ET","LA ordinary dwelling","No","No","LA","Not Specified Accommodation","2015-04-01",null,"C174DC8A 3BC668B1 D34B2504 C53F1A4E 91BFB07B",1]
["FLAT46/55/AB34ET","Flat 46, 55 Any Street, Any Town, AB3 4ET - Bedrooms: 1",1,"Flat 46",55,"Any Street","Any Town","AB3 4ET","LA ordinary dwelling","No","No","LA","Not Specified Accommodation","2015-04-01",null,"F86390E4 AF17820F 19282670 B2BEFA1C 243F4E1A",1]
["FLAT47/56/AB34ET","Flat 47, 56 Any Street, Any Town, AB3 4ET - Bedrooms: 1",1,"Flat 47",56,"Any Street","Any Town","AB3 4ET","LA ordinary dwelling","No","No","LA","Not Specified Accommodation","2015-04-01",null,"9E27A52D 936308C7 B0C04D2E 6E28491C 3FFD2A1F",1]
["FLAT48/57/AB34ET","Flat 48, 57 Any Street, Any Town, AB3 4ET - Bedrooms: 2",2,"Flat 48",57,"Any Street","Any Town","AB3 4ET","LA ordinary dwelling","No","No","LA","Not Specified Accommodation","2015-04-01",null,"C96496EA B49A3930 0F5B478E 98064686 AD3B13F0",1]
["FLAT49/58/AB34ET","Flat 49, 58 Any Street, Any Town, AB3 4ET - Bedrooms: 1",1,"Flat 49",58,"Any Street","Any Town","AB3 4ET","LA ordinary dwelling","No","No","LA","Not Specified Accommodation","2015-04-01",null,"72E4E3FA DE66ABDF 3A29185C C5509299 4BAFA9B5",1]
["FLAT50/59/AB34ET","Flat 50, 59 Any Street, Any Town, AB3 4ET - Bedrooms: 1",1,"Flat 50",59,"Any Street","Any Town","AB3 4ET","LA ordinary dwelling","No","No","LA","Not Specified Accommodation","2015-04-01",null,"418F2659 07EB84CF AD2FD7ED B90EE109 1197AAD7",1]
["FLAT51/60/AB34ET","Flat 51, 60 Any Street, Any Town, AB3 4ET - Bedrooms: 1",1,"Flat 51",60,"Any Street","Any Town","AB3 4ET","LA ordinary dwelling","No","No","LA","Not Specified Accommodation","2015-04-01",null,"68397851 5808299B 7E11CD5C ADF2E356 5E0E4A6F",1]
["FLAT52/61/AB34ET","Flat 52, 61 Any Street, Any Town, AB3 4ET - Bedrooms: 2",2,"Flat 52",61,"Any Street","Any Town","AB3 4ET","LA ordinary dwelling","No","No","LA","Not Specified Accommodation","2015-04-01",null,"584FA5FE D1B42F63 30E000DF 71B167EF 149AF2DC",1]
["FLAT53/62/AB34ET","Flat 53, 62 Any Street, Any Town, AB3 4ET - Bedrooms: 1",1,"Flat 53",62,"Any Street","Any Town","AB3 4ET","LA ordinary dwelling","No","No","LA","Not Specified Accommodation","2015-04-01",null,"EB4B4BCF 69EF4E5E D7F61FD4 42EFBEBF 551E1034",1]
["FLAT54/63/AB34ET","Flat 54, 63 Any Street, Any Town, AB3 4ET - Bedrooms: 1",1,"Flat 54",63,"Any Street","Any Town","AB3 4ET","LA ordinary dwelling","No","No","LA","Not Specified Accommodation","2015-04-01",null,"1CF6B52A FF68EAB9 FC6D71FB 46B61BE8 C1035D16",1]
["FLAT55/64/AB34ET","Flat 55, 64 Any Street, Any Town, AB3 4ET - Bedrooms: 1",1,"Flat 55",64,"Any Street","Any Town","AB3 4ET","LA ordinary dwelling","No","No","LA","Not Specified Accommodation","2015-04-01",null,"EFFD713B 2FC6667E 78F02331 54B297A3 5E04C4A8",1]
["FLAT56/65/AB34ET","Flat 56, 65 Any Street, Any Town, AB3 4ET - Bedrooms: 2",2,"Flat 56",65,"Any Street","Any Town","AB3 4ET","LA ordinary dwelling","No","No","LA","Not Specified Accommodation","2015-04-01",null,"6DA0E64D 24D19177 321CE55D 3D713CA6 8656822E",1]
["FLAT57/66/AB34ET","Flat 57, 66 Any Street, Any Town, AB3 4ET - Bedrooms: 1",1,"Flat 57",66,"Any Street","Any Town","AB3 4ET","LA ordinary dwelling","No","No","LA","Not Specified Accommodation","2015-04-01",null,"16A38160 DB2EC8B1 7059478B 21F6D52D 51A74D1A",1]
["FLAT58/67/AB34ET","Flat 58, 67 Any Street, Any Town, AB3 4ET - Bedrooms: 1",1,"Flat 58",67,"Any Street","Any Town","AB3 4ET","LA ordinary dwelling","No","No","LA","Not Specified Accommodation","2015-04-01",null,"D5B85E33 65724930 511520D6 D9F26038 E191203D",1]
["FLAT59/68/AB34ET","Flat 59, 68 Any Street, Any Town, AB3 4ET - Bedrooms: 1",1,"Flat 59",68,"Any Street","Any Town","AB3 4ET","LA ordinary dwelling","No","No","LA","Not Specified Accommodation","2015-04-01",null,"6AA97243 0F0FA7C8 5E0D7DF1 EB72357C D82250E1",1]
["FLAT60/69/AB34ET","Flat 60, 69 Any Street, Any Town, AB3 4ET - Bedrooms: 2",2,"Flat 60",69,"Any Street","Any Town","AB3 4ET","LA ordinary dwelling","No","No","LA","Not Specified Accommodation","2015-04-01",null,"E9B15A71 87AE70D3 06A4016E 37136F0A 29C1FDA6",1]
["FLAT61/70/AB34ET","Flat 61, 70 Any Street, Any Town, AB3 4ET - Bedrooms: 1",1,"Flat 61",70,"Any Street","Any Town","AB3 4ET","LA ordinary dwelling","No","No","LA","Not Specified Accommodation","2015-04-01",null,"AFA37B92 938AE12B 2CC99F85 23FFE08F 289C1933",1]
["FLAT62/71/AB34ET","Flat 62, 71 Any Street, Any Town, AB3 4ET - Bedrooms: 1",1,"Flat 62",71,"Any Street","Any Town","AB3 4ET","LA ordinary dwelling","No","No","LA","Not Specified Accommodation","2015-04-01",null,"6D8323A8 98E6FA07 00F8F899 C8C0EDC2 708B67E2",1]
["FLAT63/72/AB34ET","Flat 63, 72 Any Street, Any Town, AB3 4ET - Bedrooms: 1",1,"Flat 63",72,"Any Street","Any Town","AB3 4ET","LA ordinary dwelling","No","No","LA","Not Specified Accommodation","2015-04-01",null,"B97578C9 24E5E11C 6A0D195A 41803F7C 2F2D6873",1]
["FLAT64/73/AB34ET","Flat 64, 73 Any Street, Any Town, AB3 4ET - Bedrooms: 2",2,"Flat 64",73,"Any Street","Any Town","AB3 4ET","LA ordinary dwelling","No","No","LA","Not Specified Accommodation","2015-04-01",null,"76BE670E EDA03E2F 7866A354 7BFE1E63 769F5255",1]
[{"$f":"SUBSTITUTE(UPPER($D70& \"/ \"&$E70&\"/\"&$H70),\" \",\"\")","v":"FLAT65/74/AB34ET"},{"$f":"IF($D70<>\"\",$D70 & \", \" &$E70 &\" \" &$F70 &\", \" &$G70 &\", \" & $H70 & \" - Bedrooms: \" & $C70,$E70 &\" \" &$F70 &\", \" &$G70 &\", \" & $H70 & \" - Bedrooms: \" & $C70)","v":"Flat 65, 74 Any Street, Any Town, AB3 4ET - Bedrooms: 1"},1,"Flat 65",74,"Any Street","Any Town","AB3 4ET","LA ordinary dwelling","No","No","LA","Not Specified Accommodation","2015-04-01",null,"F6A44B69 801B30FB 60239CB0 2B69C567 4DE89BAF",1]
["FLAT66/75/AB34ET","Flat 66, 75 Any Street, Any Town, AB3 4ET - Bedrooms: 1",1,"Flat 66",75,"Any Street","Any Town","AB3 4ET","LA ordinary dwelling","No","No","LA","Not Specified Accommodation","2015-04-01",null,"F90CFDD1 895F8F0E 4026E741 8CAAC194 B41B1FF9",1]
["FLAT67/76/AB34ET","Flat 67, 76 Any Street, Any Town, AB3 4ET - Bedrooms: 1",1,"Flat 67",76,"Any Street","Any Town","AB3 4ET","LA ordinary dwelling","No","No","LA","Not Specified Accommodation","2015-04-01",null,"AF2204D9 0AEE22E0 5731429A A7FC448B A6452A79",1]
["FLAT68/77/AB34ET","Flat 68, 77 Any Street, Any Town, AB3 4ET - Bedrooms: 2",2,"Flat 68",77,"Any Street","Any Town","AB3 4ET","LA ordinary dwelling","No","No","LA","Not Specified Accommodation","2015-04-01",null,"6C7C3818 949CE4F9 F28136ED 120F834F 2A62503A",1]
["FLAT69/78/AB34ET","Flat 69, 78 Any Street, Any Town, AB3 4ET - Bedrooms: 1",1,"Flat 69",78,"Any Street","Any Town","AB3 4ET","LA ordinary dwelling","No","No","LA","Not Specified Accommodation","2015-04-01",null,"37B8685D ABB1E0B1 20EA5159 4DF0B30D 90D83AEE",1]
["FLAT70/79/AB34ET","Flat 70, 79 Any Street, Any Town, AB3 4ET - Bedrooms: 1",{"$f":"C71","v":1},"Flat 70",79,"Any Street","Any Town","AB3 4ET","LA ordinary dwelling","No","No","LA","Not Specified Accommodation","2015-04-01",null,"9EA2A90E B19E005A D92D61A8 2A082920 79960261",1]
["FLAT71/80/AB34ET","Flat 71, 80 Any Street, Any Town, AB3 4ET - Bedrooms: 1",1,"Flat 71",80,"Any Street","Any Town","AB3 4ET","LA ordinary dwelling","No","No","LA","Not Specified Accommodation","2015-04-01",null,"7AA81FCC 47A6D73A BA1E675D 10063577 946CEB6E",1]
["FLAT72/81/AB34ET","Flat 72, 81 Any Street, Any Town, AB3 4ET - Bedrooms: 2",2,"Flat 72",81,"Any Street","Any Town","AB3 4ET","LA ordinary dwelling","No","No","LA","Not Specified Accommodation","2015-04-01",null,"C55BDF7E 524208D2 8206BA28 3B95F64E A66ACEFC",1]
["FLAT73/82/AB34ET","Flat 73, 82 Any Street, Any Town, AB3 4ET - Bedrooms: 1",1,"Flat 73",82,"Any Street","Any Town","AB3 4ET","LA ordinary dwelling","No","No","LA","Not Specified Accommodation","2015-04-01",null,"15A33D95 96529E06 9C2B7A4F 37C10B96 E9BBA80D",1]
["FLAT74/83/AB34ET","Flat 74, 83 Any Street, Any Town, AB3 4ET - Bedrooms: 1",1,"Flat 74",83,"Any Street","Any Town","AB3 4ET","LA ordinary dwelling","No","No","LA","Not Specified Accommodation","2015-04-01",null,"C154895C 8DEC7622 83E5B750 3E49CDDF FB67877E",1]
["FLAT75/84/AB34ET","Flat 75, 84 Any Street, Any Town, AB3 4ET - Bedrooms: 1",1,"Flat 75",84,"Any Street","Any Town","AB3 4ET","LA ordinary dwelling","No","No","LA","Not Specified Accommodation","2015-04-01",null,"9E94019A 7F5D8868 02162F72 6193068E 791AA640",1]
["FLAT76/85/AB34ET","Flat 76, 85 Any Street, Any Town, AB3 4ET - Bedrooms: 2",2,"Flat 76",85,"Any Street","Any Town","AB3 4ET","LA ordinary dwelling","No","No","LA","Not Specified Accommodation","2015-04-01",null,"A9F753C1 BC65E6BE 9F49F2A9 D296F6A0 48D21CBB",1]
["FLAT77/86/AB34ET","Flat 77, 86 Any Street, Any Town, AB3 4ET - Bedrooms: 1",1,"Flat 77",86,"Any Street","Any Town","AB3 4ET","LA ordinary dwelling","No","No","LA","Not Specified Accommodation","2015-04-01",null,"8196EB71 848CD6D7 AFC42E44 B9440BEC 9DC42D05",1]
["FLAT78/87/AB34ET","Flat 78, 87 Any Street, Any Town, AB3 4ET - Bedrooms: 1",1,"Flat 78",87,"Any Street","Any Town","AB3 4ET","LA ordinary dwelling","No","No","LA","Not Specified Accommodation","2015-04-01",null,"E85F7BB6 11D49D78 900DCB26 A305E587 16A8B286",1]
["FLAT79/88/AB34ET","Flat 79, 88 Any Street, Any Town, AB3 4ET - Bedrooms: 1",1,"Flat 79",88,"Any Street","Any Town","AB3 4ET","LA ordinary dwelling","No","No","LA","Not Specified Accommodation","2015-04-01",null,"8752180F 237F164D 8CB1CA32 4308091B EE792D38",1]
["FLAT80/89/AB34ET","Flat 80, 89 Any Street, Any Town, AB3 4ET - Bedrooms: 2",2,"Flat 80",89,"Any Street","Any Town","AB3 4ET","LA ordinary dwelling","No","No","LA","Not Specified Accommodation","2015-04-01",null,"90D17A5C 2A41C4F0 794B0158 3A18A430 F3EDB26D",1]
["FLAT81/90/AB34ET","Flat 81, 90 Any Street, Any Town, AB3 4ET - Bedrooms: 1",1,"Flat 81",90,"Any Street","Any Town","AB3 4ET","LA ordinary dwelling","No","No","LA","Not Specified Accommodation","2015-04-01",null,"558C9566 9134A78C A5EC986D 3FCEA587 D06BDEC6",1]
["FLAT82/91/AB34ET","Flat 82, 91 Any Street, Any Town, AB3 4ET - Bedrooms: 1",1,"Flat 82",91,"Any Street","Any Town","AB3 4ET","LA ordinary dwelling","No","No","LA","Not Specified Accommodation","2015-04-01",null,"07F419FC 57EB1849 385021D1 CFE898C9 CB3FE4AE",1]
["FLAT83/92/AB34ET","Flat 83, 92 Any Street, Any Town, AB3 4ET - Bedrooms: 1",1,"Flat 83",92,"Any Street","Any Town","AB3 4ET","LA ordinary dwelling","No","No","LA","Not Specified Accommodation","2015-04-01",null,"03FBFEA8 811E1C92 685622ED 2B2EFB3A 0FE657E6",1]
["FLAT84/93/AB34ET","Flat 84, 93 Any Street, Any Town, AB3 4ET - Bedrooms: 2",2,"Flat 84",93,"Any Street","Any Town","AB3 4ET","LA ordinary dwelling","No","No","LA","Not Specified Accommodation","2015-04-01",null,"D1F363CF 3A9C9150 814B485B 1AF704DF 1DA7FC2C",1]
["FLAT85/94/AB34ET","Flat 85, 94 Any Street, Any Town, AB3 4ET - Bedrooms: 1",1,"Flat 85",94,"Any Street","Any Town","AB3 4ET","LA ordinary dwelling","No","No","LA","Not Specified Accommodation","2015-04-01",null,"7AD07394 8C7CE2F5 888EFCB3 04BD2160 2E3A52D7",1]
["FLAT86/95/AB34ET","Flat 86, 95 Any Street, Any Town, AB3 4ET - Bedrooms: 1",1,"Flat 86",95,"Any Street","Any Town","AB3 4ET","LA ordinary dwelling","No","No","LA","Not Specified Accommodation","2015-04-01",null,"BB858466 B3899E95 CB872951 39FE42E1 9B3969A7",1]
["FLAT87/96/AB34ET","Flat 87, 96 Any Street, Any Town, AB3 4ET - Bedrooms: 1",1,"Flat 87",96,"Any Street","Any Town","AB3 4ET","LA ordinary dwelling","No","No","LA","Not Specified Accommodation","2015-04-01",null,"6914CC87 DA28CD31 EC9DA5CC 32184D97 8100E5D8",1]
["FLAT88/97/AB34ET","Flat 88, 97 Any Street, Any Town, AB3 4ET - Bedrooms: 2",2,"Flat 88",97,"Any Street","Any Town","AB3 4ET","LA ordinary dwelling","No","No","LA","Not Specified Accommodation","2015-04-01",null,"E008CB8A CDB42D62 E19A9F48 E1416028 4094E317",1]
["FLAT89/98/AB34ET","Flat 89, 98 Any Street, Any Town, AB3 4ET - Bedrooms: 1",1,"Flat 89",98,"Any Street","Any Town","AB3 4ET","LA ordinary dwelling","No","No","LA","Not Specified Accommodation","2015-04-01",null,"DE8A7341 09024DA9 71A34DEC 2380E1AB 72C75142",1]
["FLAT90/99/AB34ET","Flat 90, 99 Any Street, Any Town, AB3 4ET - Bedrooms: 1",1,"Flat 90",99,"Any Street","Any Town","AB3 4ET","LA ordinary dwelling","No","No","LA","Not Specified Accommodation","2015-04-01",null,"423A5563 35C364B8 7862F807 F491B051 6CFAD3B7",1]
["FLAT91/100/AB34ET","Flat 91, 100 Any Street, Any Town, AB3 4ET - Bedrooms: 1",1,"Flat 91",100,"Any Street","Any Town","AB3 4ET","LA ordinary dwelling","No","No","LA","Not Specified Accommodation","2015-04-01",null,"D44CEFAC 2A8E3BCB F1059C54 AB5FEF45 2746B71C",1]
["FLAT92/101/AB34ET","Flat 92, 101 Any Street, Any Town, AB3 4ET - Bedrooms: 2",2,"Flat 92",101,"Any Street","Any Town","AB3 4ET","LA ordinary dwelling","No","No","LA","Not Specified Accommodation","2015-04-01",null,"673E94C7 37BDBFDC CD3EF70C 52B05F3B 17BAC3A8",1]
["FLAT93/102/AB34ET","Flat 93, 102 Any Street, Any Town, AB3 4ET - Bedrooms: 1",1,"Flat 93",102,"Any Street","Any Town","AB3 4ET","LA ordinary dwelling","No","No","LA","Not Specified Accommodation","2015-04-01",null,"B125E720 B2F6809C ED7A774F A5F83CF1 27570432",1]
["FLAT94/103/AB34ET","Flat 94, 103 Any Street, Any Town, AB3 4ET - Bedrooms: 1",1,"Flat 94",103,"Any Street","Any Town","AB3 4ET","LA ordinary dwelling","No","No","LA","Not Specified Accommodation","2015-04-01",null,"2DDE0B6F 730937E9 B32DFD61 81BA62C4 1B39F0B4",1]
["FLAT95/104/AB34ET","Flat 95, 104 Any Street, Any Town, AB3 4ET - Bedrooms: 1",1,"Flat 95",104,"Any Street","Any Town","AB3 4ET","LA ordinary dwelling","No","No","LA","Not Specified Accommodation","2015-04-01",null,"90D51595 ED110D40 E470BAFB 193DC4E2 3C503A3A",1]
["FLAT96/105/AB34ET","Flat 96, 105 Any Street, Any Town, AB3 4ET - Bedrooms: 2",2,"Flat 96",105,"Any Street","Any Town","AB3 4ET","LA ordinary dwelling","No","No","LA","Not Specified Accommodation","2015-04-01",null,"EC22D993 EA3E5AB5 B8D2B5D7 85CC48CD 5C1C47E6",1]
["FLAT97/106/AB34ET","Flat 97, 106 Any Street, Any Town, AB3 4ET - Bedrooms: 1",1,"Flat 97",106,"Any Street","Any Town","AB3 4ET","LA ordinary dwelling","No","No","LA","Not Specified Accommodation","2015-04-01",null,"482F3690 D678BFA4 181EF449 E2FC57C3 AE9A9A5C",1]
["FLAT98/107/AB34ET","Flat 98, 107 Any Street, Any Town, AB3 4ET - Bedrooms: 1",1,"Flat 98",107,"Any Street","Any Town","AB3 4ET","LA ordinary dwelling","No","No","LA","Not Specified Accommodation","2015-04-01",null,"9F2E8F87 70EB0435 8A9C2E90 CC603BB1 4C7BE44C",1]
["FLAT99/108/AB34ET","Flat 99, 108 Any Street, Any Town, AB3 4ET - Bedrooms: 1",1,"Flat 99",108,"Any Street","Any Town","AB3 4ET","LA ordinary dwelling","No","No","LA","Not Specified Accommodation","2015-04-01",null,"6DA858B0 E2CB4B7C FEACC594 9307FF4B 6DF0AB29",1]
["FLAT100/109/AB34ET","Flat 100, 109 Any Street, Any Town, AB3 4ET - Bedrooms: 2",2,"Flat 100",109,"Any Street","Any Town","AB3 4ET","LA ordinary dwelling","No","No","LA","Not Specified Accommodation","2015-04-01",null,"84956FA7 B422DFA0 E706D6C3 38041E0D 3F1BAF09",1]
["FLAT101/110/AB34ET","Flat 101, 110 Any Street, Any Town, AB3 4ET - Bedrooms: 1",1,"Flat 101",110,"Any Street","Any Town","AB3 4ET","LA ordinary dwelling","No","No","LA","Not Specified Accommodation","2015-04-01",null,"787957CB AE8EE8B4 52B7C3D1 9476E9F2 28054DAF",1]
["FLAT102/111/AB34ET","Flat 102, 111 Any Street, Any Town, AB3 4ET - Bedrooms: 1",1,"Flat 102",111,"Any Street","Any Town","AB3 4ET","LA ordinary dwelling","No","No","LA","Not Specified Accommodation","2015-04-01",null,"62101FF0 5984F8E1 29347552 504983A4 147736C0",1]
["FLAT103/112/AB34ET","Flat 103, 112 Any Street, Any Town, AB3 4ET - Bedrooms: 1",1,"Flat 103",112,"Any Street","Any Town","AB3 4ET","LA ordinary dwelling","No","No","LA","Not Specified Accommodation","2015-04-01",null,"E50F0DDB 85C6E158 34BF2FB0 505CF027 4B85D8C3",1]
["FLAT104/113/AB34ET","Flat 104, 113 Any Street, Any Town, AB3 4ET - Bedrooms: 2",2,"Flat 104",113,"Any Street","Any Town","AB3 4ET","LA ordinary dwelling","No","No","LA","Not Specified Accommodation","2015-04-01",null,"23BF946C DC63F855 239D10AD 41B0E6CA 4DEFD242",1]
["FLAT105/114/AB34ET","Flat 105, 114 Any Street, Any Town, AB3 4ET - Bedrooms: 1",1,"Flat 105",114,"Any Street","Any Town","AB3 4ET","LA ordinary dwelling","No","No","LA","Not Specified Accommodation","2015-04-01",null,"BE135C55 3369458B 3AFC3250 02AFE652 21A8BCEE",1]
["FLAT106/115/AB34ET","Flat 106, 115 Any Street, Any Town, AB3 4ET - Bedrooms: 1",1,"Flat 106",115,"Any Street","Any Town","AB3 4ET","LA ordinary dwelling","No","No","LA","Not Specified Accommodation","2015-04-01",null,"F432520E E9C1AF3A 92713BAC CE3118B8 D124D673",1]
["FLAT107/116/AB34ET","Flat 107, 116 Any Street, Any Town, AB3 4ET - Bedrooms: 1",1,"Flat 107",116,"Any Street","Any Town","AB3 4ET","LA ordinary dwelling","No","No","LA","Not Specified Accommodation","2015-04-01",null,"CE357AF8 9FC9DDD9 04781978 F54C6209 7BC05D87",1]
["FLAT108/117/AB34ET","Flat 108, 117 Any Street, Any Town, AB3 4ET - Bedrooms: 2",2,"Flat 108",117,"Any Street","Any Town","AB3 4ET","LA ordinary dwelling","No","No","LA","Not Specified Accommodation","2015-04-01",null,"3E671DE8 0D23C595 DB5A59AB 6E36AD42 D600DC0C",1]
["FLAT109/118/AB34ET","Flat 109, 118 Any Street, Any Town, AB3 4ET - Bedrooms: 1",1,"Flat 109",118,"Any Street","Any Town","AB3 4ET","LA ordinary dwelling","No","No","LA","Not Specified Accommodation","2015-04-01",null,"B8AD4F95 2B5DC557 9E753B90 AEBD7750 716449A0",1]
["FLAT110/119/AB34ET","Flat 110, 119 Any Street, Any Town, AB3 4ET - Bedrooms: 1",1,"Flat 110",119,"Any Street","Any Town","AB3 4ET","LA ordinary dwelling","No","No","LA","Not Specified Accommodation","2015-04-01",null,"B2681771 3276CF66 284B3672 3C83B19E 9B917B7C",1]
["FLAT111/120/AB34ET","Flat 111, 120 Any Street, Any Town, AB3 4ET - Bedrooms: 1",1,"Flat 111",120,"Any Street","Any Town","AB3 4ET","LA ordinary dwelling","No","No","LA","Not Specified Accommodation","2015-04-01",null,"92DB87DC 047A599F 233BD37B 155EE2D4 DDF3C22A",1]
["FLAT112/121/AB34ET","Flat 112, 121 Any Street, Any Town, AB3 4ET - Bedrooms: 2",2,"Flat 112",121,"Any Street","Any Town","AB3 4ET","LA ordinary dwelling","No","No","LA","Not Specified Accommodation","2015-04-01",null,"8489738F D8A1CDF3 8D337A7C 226986EB B380A9CC",1]
["FLAT113/122/AB34ET","Flat 113, 122 Any Street, Any Town, AB3 4ET - Bedrooms: 1",1,"Flat 113",122,"Any Street","Any Town","AB3 4ET","LA ordinary dwelling","No","No","LA","Not Specified Accommodation","2015-04-01",null,"E8137FAE 26C7F35F DA8863A9 1A89B371 FC356D76",1]
["FLAT114/123/AB34ET","Flat 114, 123 Any Street, Any Town, AB3 4ET - Bedrooms: 1",1,"Flat 114",123,"Any Street","Any Town","AB3 4ET","LA ordinary dwelling","No","No","LA","Not Specified Accommodation","2015-04-01",null,"6048DE5A F18786E0 0DCBEABA 19F16F96 FD315E8C",1]
["FLAT115/124/AB34ET","Flat 115, 124 Any Street, Any Town, AB3 4ET - Bedrooms: 1",1,"Flat 115",124,"Any Street","Any Town","AB3 4ET","LA ordinary dwelling","No","No","LA","Not Specified Accommodation","2015-04-01",null,"935677AD 221E6005 A062C649 1EF1B584 D55735C8",1]
["FLAT116/125/AB34ET","Flat 116, 125 Any Street, Any Town, AB3 4ET - Bedrooms: 2",2,"Flat 116",125,"Any Street","Any Town","AB3 4ET","LA ordinary dwelling","No","No","LA","Not Specified Accommodation","2015-04-01",null,"44C5CFCB 9BEC0189 0809E074 6F270039 7930F779",1]
["FLAT117/126/AB34ET","Flat 117, 126 Any Street, Any Town, AB3 4ET - Bedrooms: 1",1,"Flat 117",126,"Any Street","Any Town","AB3 4ET","LA ordinary dwelling","No","No","LA","Not Specified Accommodation","2015-04-01",null,"0F963637 1D9ED950 51B165B4 82CDF39F 8191AA4A",1]
["FLAT118/127/AB34ET","Flat 118, 127 Any Street, Any Town, AB3 4ET - Bedrooms: 1",1,"Flat 118",127,"Any Street","Any Town","AB3 4ET","LA ordinary dwelling","No","No","LA","Not Specified Accommodation","2015-04-01",null,"8601548F C7A02E1D DADD3AB9 DE835B9A 70B0EF3F",1]
["FLAT119/128/AB34ET","Flat 119, 128 Any Street, Any Town, AB3 4ET - Bedrooms: 1",1,"Flat 119",128,"Any Street","Any Town","AB3 4ET","LA ordinary dwelling","No","No","LA","Not Specified Accommodation","2015-04-01",null,"F2582875 18A11680 1FBAFEA0 5E29AA0B C19F1474",1]
["FLAT120/129/AB34ET","Flat 120, 129 Any Street, Any Town, AB3 4ET - Bedrooms: 2",2,"Flat 120",129,"Any Street","Any Town","AB3 4ET","LA ordinary dwelling","No","No","LA","Not Specified Accommodation","2015-04-01",null,"6A416B00 E7DC89DD 2D2051FF 1A885EA9 25168C4D",1]
["FLAT121/130/AB34ET","Flat 121, 130 Any Street, Any Town, AB3 4ET - Bedrooms: 1",1,"Flat 121",130,"Any Street","Any Town","AB3 4ET","LA ordinary dwelling","No","No","LA","Not Specified Accommodation","2015-04-01",null,"96E8B753 2B156918 E237279C BB33664E CFEF520C",1]
["FLAT122/131/AB34ET","Flat 122, 131 Any Street, Any Town, AB3 4ET - Bedrooms: 1",1,"Flat 122",131,"Any Street","Any Town","AB3 4ET","LA ordinary dwelling","No","No","LA","Not Specified Accommodation","2015-04-01",null,"18CB060B D0482668 911A898B 5C0B9736 0A5CD1DE",1]
["FLAT123/132/AB34ET","Flat 123, 132 Any Street, Any Town, AB3 4ET - Bedrooms: 1",1,"Flat 123",132,"Any Street","Any Town","AB3 4ET","LA ordinary dwelling","No","No","LA","Not Specified Accommodation","2015-04-01",null,"9C4E19FD FE0E44CE 51B829E2 359937E2 5F1F1723",1]
["FLAT124/133/AB34ET","Flat 124, 133 Any Street, Any Town, AB3 4ET - Bedrooms: 2",2,"Flat 124",133,"Any Street","Any Town","AB3 4ET","LA ordinary dwelling","No","No","LA","Not Specified Accommodation","2015-04-01",null,"3FB758A4 96995EB2 7F33611D 779B57A9 C9BD578B",1]
["FLAT125/134/AB34ET","Flat 125, 134 Any Street, Any Town, AB3 4ET - Bedrooms: 1",1,"Flat 125",134,"Any Street","Any Town","AB3 4ET","LA ordinary dwelling","No","No","LA","Not Specified Accommodation","2015-04-01",null,"FC9585F2 BD70C6DC 6215DD85 83F26032 63AB2C04",1]
["FLAT126/135/AB34ET","Flat 126, 135 Any Street, Any Town, AB3 4ET - Bedrooms: 1",1,"Flat 126",135,"Any Street","Any Town","AB3 4ET","LA ordinary dwelling","No","No","LA","Not Specified Accommodation","2015-04-01",null,"94B2F1EF 6BF293B8 8189BB93 22041193 911FBE9A",1]
["FLAT127/136/AB34ET","Flat 127, 136 Any Street, Any Town, AB3 4ET - Bedrooms: 1",1,"Flat 127",136,"Any Street","Any Town","AB3 4ET","LA ordinary dwelling","No","No","LA","Not Specified Accommodation","2015-04-01",null,"8265693C 3B4B00C9 CF7EB6D7 8417DE7C E1E46378",1]
["FLAT128/137/AB34ET","Flat 128, 137 Any Street, Any Town, AB3 4ET - Bedrooms: 2",2,"Flat 128",137,"Any Street","Any Town","AB3 4ET","LA ordinary dwelling","No","No","LA","Not Specified Accommodation","2015-04-01",null,"7E78AA43 190926FF 448065A2 E2186731 4F4586CD",1]
[{"$f":"SUBSTITUTE(UPPER($D134& \"/ \"&$E134&\"/\"&$H134),\" \",\"\")","v":"FLAT129/138/AB34ET"},{"$f":"IF($D134<>\"\",$D134 & \", \" &$E134 &\" \" &$F134 &\", \" &$G134 &\", \" & $H134 & \" - Bedrooms: \" & $C134,$E134 &\" \" &$F134 &\", \" &$G134 &\", \" & $H134 & \" - Bedrooms: \" & $C134)","v":"Flat 129, 138 Any Street, Any Town, AB3 4ET - Bedrooms: 1"},1,"Flat 129",138,"Any Street","Any Town","AB3 4ET","LA ordinary dwelling","No","No","LA","Not Specified Accommodation","2015-04-01",null,"F9FD2AB3 D95D1191 29E4042F 12AB1CBA 86CA6A2A",1]
["FLAT130/139/AB34ET","Flat 130, 139 Any Street, Any Town, AB3 4ET - Bedrooms: 1",1,"Flat 130",139,"Any Street","Any Town","AB3 4ET","LA ordinary dwelling","No","No","LA","Not Specified Accommodation","2015-04-01",null,"3B58042D 92CD08E8 23CF24D1 442683A9 6DD09DF6",1]
["FLAT131/140/AB34ET","Flat 131, 140 Any Street, Any Town, AB3 4ET - Bedrooms: 1",1,"Flat 131",140,"Any Street","Any Town","AB3 4ET","LA ordinary dwelling","No","No","LA","Not Specified Accommodation","2015-04-01",null,"0CACF2A3 171C11A0 98BBFAAD EA69221A 77076A54",1]
["FLAT132/141/AB34ET","Flat 132, 141 Any Street, Any Town, AB3 4ET - Bedrooms: 2",2,"Flat 132",141,"Any Street","Any Town","AB3 4ET","LA ordinary dwelling","No","No","LA","Not Specified Accommodation","2015-04-01",null,"604A7E56 42D81045 76E47430 7B037FD0 22D2A85C",1]
["FLAT133/142/AB34ET","Flat 133, 142 Any Street, Any Town, AB3 4ET - Bedrooms: 1",1,"Flat 133",142,"Any Street","Any Town","AB3 4ET","LA ordinary dwelling","No","No","LA","Not Specified Accommodation","2015-04-01",null,"8E4C1275 C4F3BC52 E34B61D6 A6F7F965 4C5F5B86",1]
["FLAT134/143/AB34ET","Flat 134, 143 Any Street, Any Town, AB3 4ET - Bedrooms: 1",{"$f":"C135","v":1},"Flat 134",143,"Any Street","Any Town","AB3 4ET","LA ordinary dwelling","No","No","LA","Not Specified Accommodation","2015-04-01",null,"8AD07F05 87E96E15 97A5C830 9CA816A6 F2295895",1]
["FLAT135/144/AB34ET","Flat 135, 144 Any Street, Any Town, AB3 4ET - Bedrooms: 1",1,"Flat 135",144,"Any Street","Any Town","AB3 4ET","LA ordinary dwelling","No","No","LA","Not Specified Accommodation","2015-04-01",null,"F28941F3 8D396212 8ABFA4BE 33EDA24B AC65B2E1",1]
["FLAT136/145/AB34ET","Flat 136, 145 Any Street, Any Town, AB3 4ET - Bedrooms: 2",2,"Flat 136",145,"Any Street","Any Town","AB3 4ET","LA ordinary dwelling","No","No","LA","Not Specified Accommodation","2015-04-01",null,"D014C5DA 948595CA A97AFB5A F6769147 78A18EE1",1]
["FLAT137/146/AB34ET","Flat 137, 146 Any Street, Any Town, AB3 4ET - Bedrooms: 1",1,"Flat 137",146,"Any Street","Any Town","AB3 4ET","LA ordinary dwelling","No","No","LA","Not Specified Accommodation","2015-04-01",null,"C558554C 7E18EC94 A2272DF3 1D074BC9 06CA293B",1]
["FLAT138/147/AB34ET","Flat 138, 147 Any Street, Any Town, AB3 4ET - Bedrooms: 1",1,"Flat 138",147,"Any Street","Any Town","AB3 4ET","LA ordinary dwelling","No","No","LA","Not Specified Accommodation","2015-04-01",null,"98EAD85D FD8D4989 AACD0FF8 2C58CAC6 12068DF6",1]
["FLAT139/148/AB34ET","Flat 139, 148 Any Street, Any Town, AB3 4ET - Bedrooms: 1",1,"Flat 139",148,"Any Street","Any Town","AB3 4ET","LA ordinary dwelling","No","No","LA","Not Specified Accommodation","2015-04-01",null,"65537FEE D35808E7 1A2FBDC3 220AA2DB 2AF237FC",1]
["FLAT140/149/AB34ET","Flat 140, 149 Any Street, Any Town, AB3 4ET - Bedrooms: 2",2,"Flat 140",149,"Any Street","Any Town","AB3 4ET","LA ordinary dwelling","No","No","LA","Not Specified Accommodation","2015-04-01",null,"ACE85E88 0AC8FDB9 1436A636 42A0FBAB 604082FC",1]
["FLAT141/150/AB34ET","Flat 141, 150 Any Street, Any Town, AB3 4ET - Bedrooms: 1",1,"Flat 141",150,"Any Street","Any Town","AB3 4ET","LA ordinary dwelling","No","No","LA","Not Specified Accommodation","2015-04-01",null,"0D309517 DC04CDBA 3ED01E95 29064079 8E53BC86",1]
["FLAT142/151/AB34ET","Flat 142, 151 Any Street, Any Town, AB3 4ET - Bedrooms: 1",1,"Flat 142",151,"Any Street","Any Town","AB3 4ET","LA ordinary dwelling","No","No","LA","Not Specified Accommodation","2015-04-01",null,"B25B42DE 5932FB23 CB345569 BB77E85E 7892FFB5",1]
["FLAT143/152/AB34ET","Flat 143, 152 Any Street, Any Town, AB3 4ET - Bedrooms: 1",1,"Flat 143",152,"Any Street","Any Town","AB3 4ET","LA ordinary dwelling","No","No","LA","Not Specified Accommodation","2015-04-01",null,"A6D84633 FF1DCA5B 9970B664 9EF1A576 E0CFA8DB",1]
["FLAT144/153/AB34ET","Flat 144, 153 Any Street, Any Town, AB3 4ET - Bedrooms: 2",2,"Flat 144",153,"Any Street","Any Town","AB3 4ET","LA ordinary dwelling","No","No","LA","Not Specified Accommodation","2015-04-01",null,"6EDED1FB BCCB0E7F C56F87C6 5A926AA0 46A9D4E1",1]
["FLAT145/154/AB34ET","Flat 145, 154 Any Street, Any Town, AB3 4ET - Bedrooms: 1",1,"Flat 145",154,"Any Street","Any Town","AB3 4ET","LA ordinary dwelling","No","No","LA","Not Specified Accommodation","2015-04-01",null,"0A31AF7C 8362EC87 FFB74BFE C5223A4D 00CFE46C",1]
["FLAT146/155/AB34ET","Flat 146, 155 Any Street, Any Town, AB3 4ET - Bedrooms: 1",1,"Flat 146",155,"Any Street","Any Town","AB3 4ET","LA ordinary dwelling","No","No","LA","Not Specified Accommodation","2015-04-01",null,"3836BC1B 7800579A DCA72B42 E7256E9D E6238A1E",1]
["FLAT147/156/AB34ET","Flat 147, 156 Any Street, Any Town, AB3 4ET - Bedrooms: 1",1,"Flat 147",156,"Any Street","Any Town","AB3 4ET","LA ordinary dwelling","No","No","LA","Not Specified Accommodation","2015-04-01",null,"2EAE1304 DC5BB0E6 771EE076 D3502E1A 93F22E54",1]
["FLAT148/157/AB34ET","Flat 148, 157 Any Street, Any Town, AB3 4ET - Bedrooms: 2",2,"Flat 148",157,"Any Street","Any Town","AB3 4ET","LA ordinary dwelling","No","No","LA","Not Specified Accommodation","2015-04-01",null,"CD0AF8D3 8AFB87B6 EFB194FA FF065CE1 D4118869",1]
["FLAT149/158/AB34ET","Flat 149, 158 Any Street, Any Town, AB3 4ET - Bedrooms: 1",1,"Flat 149",158,"Any Street","Any Town","AB3 4ET","LA ordinary dwelling","No","No","LA","Not Specified Accommodation","2015-04-01",null,"5EFCD2F2 FD335ADD FF748AFF 0A67ED05 BFED6849",1]
["FLAT150/159/AB34ET","Flat 150, 159 Any Street, Any Town, AB3 4ET - Bedrooms: 1",1,"Flat 150",159,"Any Street","Any Town","AB3 4ET","LA ordinary dwelling","No","No","LA","Not Specified Accommodation","2015-04-01",null,"40DEDA99 35FD91FC 470E3A4D 110E9F7A 8AAC7587",1]
["FLAT151/160/AB34ET","Flat 151, 160 Any Street, Any Town, AB3 4ET - Bedrooms: 1",1,"Flat 151",160,"Any Street","Any Town","AB3 4ET","LA ordinary dwelling","No","No","LA","Not Specified Accommodation","2015-04-01",null,"85D73ACD 21085639 C3715F1F F47D2EC9 FDEB69C7",1]
["FLAT152/161/AB34ET","Flat 152, 161 Any Street, Any Town, AB3 4ET - Bedrooms: 2",2,"Flat 152",161,"Any Street","Any Town","AB3 4ET","LA ordinary dwelling","No","No","LA","Not Specified Accommodation","2015-04-01",null,"5B4CBB5F 983F286A 5C5183C6 39404BF5 E3FC9E8B",1]
["FLAT153/162/AB34ET","Flat 153, 162 Any Street, Any Town, AB3 4ET - Bedrooms: 1",1,"Flat 153",162,"Any Street","Any Town","AB3 4ET","LA ordinary dwelling","No","No","LA","Not Specified Accommodation","2015-04-01",null,"6A5470B6 99F1B1F6 4CAFCADE ACA2EEA3 FE3F616F",1]
["FLAT154/163/AB34ET","Flat 154, 163 Any Street, Any Town, AB3 4ET - Bedrooms: 1",1,"Flat 154",163,"Any Street","Any Town","AB3 4ET","LA ordinary dwelling","No","No","LA","Not Specified Accommodation","2015-04-01",null,"92319F0D 3D1157BA 3C93ED56 9CAC5696 E37FE41F",1]
["FLAT155/164/AB34ET","Flat 155, 164 Any Street, Any Town, AB3 4ET - Bedrooms: 1",1,"Flat 155",164,"Any Street","Any Town","AB3 4ET","LA ordinary dwelling","No","No","LA","Not Specified Accommodation","2015-04-01",null,"ADB42465 03EE6ACB D48D777E 2E239296 09497F87",1]
["FLAT156/165/AB34ET","Flat 156, 165 Any Street, Any Town, AB3 4ET - Bedrooms: 2",2,"Flat 156",165,"Any Street","Any Town","AB3 4ET","LA ordinary dwelling","No","No","LA","Not Specified Accommodation","2015-04-01",null,"831574A4 52A49861 5F173443 AC2C5635 2BDEA1D0",1]
["FLAT157/166/AB34ET","Flat 157, 166 Any Street, Any Town, AB3 4ET - Bedrooms: 1",1,"Flat 157",166,"Any Street","Any Town","AB3 4ET","LA ordinary dwelling","No","No","LA","Not Specified Accommodation","2015-04-01",null,"C9BE9C3B C14E6FFE CCE55CE6 8BED18FB 0EC6DFC3",1]
["FLAT158/167/AB34ET","Flat 158, 167 Any Street, Any Town, AB3 4ET - Bedrooms: 1",1,"Flat 158",167,"Any Street","Any Town","AB3 4ET","LA ordinary dwelling","No","No","LA","Not Specified Accommodation","2015-04-01",null,"00C32626 CAEB9A2C 32066AF5 8AED76A4 D8B3911D",1]
["FLAT159/168/AB34ET","Flat 159, 168 Any Street, Any Town, AB3 4ET - Bedrooms: 1",1,"Flat 159",168,"Any Street","Any Town","AB3 4ET","LA ordinary dwelling","No","No","LA","Not Specified Accommodation","2015-04-01",null,"169E0322 EEE057B6 CB810E7C CF86E6A9 4CEA7C93",1]
["FLAT160/169/AB34ET","Flat 160, 169 Any Street, Any Town, AB3 4ET - Bedrooms: 2",2,"Flat 160",169,"Any Street","Any Town","AB3 4ET","LA ordinary dwelling","No","No","LA","Not Specified Accommodation","2015-04-01",null,"55FFDC1D AB81AC70 FE8CCD84 A82393F4 263A8393",1]
["FLAT161/170/AB34ET","Flat 161, 170 Any Street, Any Town, AB3 4ET - Bedrooms: 1",1,"Flat 161",170,"Any Street","Any Town","AB3 4ET","LA ordinary dwelling","No","No","LA","Not Specified Accommodation","2015-04-01",null,"A0B12F51 4724BF4A A70968B9 2864FFA2 31342604",1]
["FLAT162/171/AB34ET","Flat 162, 171 Any Street, Any Town, AB3 4ET - Bedrooms: 1",1,"Flat 162",171,"Any Street","Any Town","AB3 4ET","LA ordinary dwelling","No","No","LA","Not Specified Accommodation","2015-04-01",null,"B0E2E718 AAA9A0CA 71829912 2330C674 286CEB18",1]
["FLAT163/172/AB34ET","Flat 163, 172 Any Street, Any Town, AB3 4ET - Bedrooms: 1",1,"Flat 163",172,"Any Street","Any Town","AB3 4ET","LA ordinary dwelling","No","No","LA","Not Specified Accommodation","2015-04-01",null,"3E31822B D891BB0C 4C1ACCB6 9517CBD8 39D5F16A",1]
["FLAT164/173/AB34ET","Flat 164, 173 Any Street, Any Town, AB3 4ET - Bedrooms: 2",2,"Flat 164",173,"Any Street","Any Town","AB3 4ET","LA ordinary dwelling","No","No","LA","Not Specified Accommodation","2015-04-01",null,"07FEB1BA A1115962 0933B1E4 C0DD867A 2BA70AF6",1]
["FLAT165/174/AB34ET","Flat 165, 174 Any Street, Any Town, AB3 4ET - Bedrooms: 1",1,"Flat 165",174,"Any Street","Any Town","AB3 4ET","LA ordinary dwelling","No","No","LA","Not Specified Accommodation","2015-04-01",null,"FF1FBE31 56FD418A C21BB477 50CC4DCC 5A25479B",1]
["FLAT166/175/AB34ET","Flat 166, 175 Any Street, Any Town, AB3 4ET - Bedrooms: 1",1,"Flat 166",175,"Any Street","Any Town","AB3 4ET","LA ordinary dwelling","No","No","LA","Not Specified Accommodation","2015-04-01",null,"F2EDBF8E B8E2253C EAF96767 BAE58535 CBB402BA",1]
["FLAT167/176/AB34ET","Flat 167, 176 Any Street, Any Town, AB3 4ET - Bedrooms: 1",1,"Flat 167",176,"Any Street","Any Town","AB3 4ET","LA ordinary dwelling","No","No","LA","Not Specified Accommodation","2015-04-01",null,"EB3FD67D 89A44D67 3B2276F5 D3A37D1E 2A490555",1]
["FLAT168/177/AB34ET","Flat 168, 177 Any Street, Any Town, AB3 4ET - Bedrooms: 2",2,"Flat 168",177,"Any Street","Any Town","AB3 4ET","LA ordinary dwelling","No","No","LA","Not Specified Accommodation","2015-04-01",null,"C8629D6E 99305E7B 23037474 A765D2BC 21F1F60A",1]
["FLAT169/178/AB34ET","Flat 169, 178 Any Street, Any Town, AB3 4ET - Bedrooms: 1",1,"Flat 169",178,"Any Street","Any Town","AB3 4ET","LA ordinary dwelling","No","No","LA","Not Specified Accommodation","2015-04-01",null,"2499D187 0FFFD3D2 F5D1908B B511FB7F 756BAA37",1]
["FLAT170/179/AB34ET","Flat 170, 179 Any Street, Any Town, AB3 4ET - Bedrooms: 1",1,"Flat 170",179,"Any Street","Any Town","AB3 4ET","LA ordinary dwelling","No","No","LA","Not Specified Accommodation","2015-04-01",null,"8C453B4D 8F1FFBDF A861ACFF 094B0DE1 78C4DE56",1]
["FLAT171/180/AB34ET","Flat 171, 180 Any Street, Any Town, AB3 4ET - Bedrooms: 1",1,"Flat 171",180,"Any Street","Any Town","AB3 4ET","LA ordinary dwelling","No","No","LA","Not Specified Accommodation","2015-04-01",null,"B384D98F C1E94511 19DCE78B D89B1FA2 16623283",1]
["FLAT172/181/AB34ET","Flat 172, 181 Any Street, Any Town, AB3 4ET - Bedrooms: 2",2,"Flat 172",181,"Any Street","Any Town","AB3 4ET","LA ordinary dwelling","No","No","LA","Not Specified Accommodation","2015-04-01",null,"D17D208B 6EB8C4C4 76594A3F 567EC7F6 078AE169",1]
["FLAT173/182/AB34ET","Flat 173, 182 Any Street, Any Town, AB3 4ET - Bedrooms: 1",1,"Flat 173",182,"Any Street","Any Town","AB3 4ET","LA ordinary dwelling","No","No","LA","Not Specified Accommodation","2015-04-01",null,"0B7596C7 8BB38305 70904AAF BBCD47ED 9AA25B66",1]
["FLAT174/183/AB34ET","Flat 174, 183 Any Street, Any Town, AB3 4ET - Bedrooms: 1",1,"Flat 174",183,"Any Street","Any Town","AB3 4ET","LA ordinary dwelling","No","No","LA","Not Specified Accommodation","2015-04-01",null,"4078DAD6 7381E403 CF973D4A 35A00B51 843CD195",1]
["FLAT175/184/AB34ET","Flat 175, 184 Any Street, Any Town, AB3 4ET - Bedrooms: 1",1,"Flat 175",184,"Any Street","Any Town","AB3 4ET","LA ordinary dwelling","No","No","LA","Not Specified Accommodation","2015-04-01",null,"73164E8B 773E7BED 9503FAE3 518CBB5C AFDB4365",1]
["FLAT176/185/AB34ET","Flat 176, 185 Any Street, Any Town, AB3 4ET - Bedrooms: 2",2,"Flat 176",185,"Any Street","Any Town","AB3 4ET","LA ordinary dwelling","No","No","LA","Not Specified Accommodation","2015-04-01",null,"BEF9D064 DFBECDF5 0C046B4E 74160250 3BB369E6",1]
["FLAT177/186/AB34ET","Flat 177, 186 Any Street, Any Town, AB3 4ET - Bedrooms: 1",1,"Flat 177",186,"Any Street","Any Town","AB3 4ET","LA ordinary dwelling","No","No","LA","Not Specified Accommodation","2015-04-01",null,"E2C68403 C776F1B3 717A61CB B0F3BABB 48802F61",1]
["FLAT178/187/AB34ET","Flat 178, 187 Any Street, Any Town, AB3 4ET - Bedrooms: 1",1,"Flat 178",187,"Any Street","Any Town","AB3 4ET","LA ordinary dwelling","No","No","LA","Not Specified Accommodation","2015-04-01",null,"3AFAB098 CB5D2F6B 0910580C 7222D301 030F48B1",1]
["FLAT179/188/AB34ET","Flat 179, 188 Any Street, Any Town, AB3 4ET - Bedrooms: 1",1,"Flat 179",188,"Any Street","Any Town","AB3 4ET","LA ordinary dwelling","No","No","LA","Not Specified Accommodation","2015-04-01",null,"8F58E2A1 CF3B7F3F AC20CC0C 10A8194E 44DCE5D4",1]
["FLAT180/189/AB34ET","Flat 180, 189 Any Street, Any Town, AB3 4ET - Bedrooms: 2",2,"Flat 180",189,"Any Street","Any Town","AB3 4ET","LA ordinary dwelling","No","No","LA","Not Specified Accommodation","2015-04-01",null,"2F67D5B2 58C2D957 0273E1FA 9109621A 3F01872D",1]
["FLAT181/190/AB34ET","Flat 181, 190 Any Street, Any Town, AB3 4ET - Bedrooms: 1",1,"Flat 181",190,"Any Street","Any Town","AB3 4ET","LA ordinary dwelling","No","No","LA","Not Specified Accommodation","2015-04-01",null,"112E411B 3B24BD62 2235CE85 024D5357 47483382",1]
["FLAT182/191/AB34ET","Flat 182, 191 Any Street, Any Town, AB3 4ET - Bedrooms: 1",1,"Flat 182",191,"Any Street","Any Town","AB3 4ET","LA ordinary dwelling","No","No","LA","Not Specified Accommodation","2015-04-01",null,"36A4D847 E014A24A 655A8C7D 5CE53E3D F659238C",1]
["FLAT183/192/AB34ET","Flat 183, 192 Any Street, Any Town, AB3 4ET - Bedrooms: 1",1,"Flat 183",192,"Any Street","Any Town","AB3 4ET","LA ordinary dwelling","No","No","LA","Not Specified Accommodation","2015-04-01",null,"536C59F2 3DF2E00D 2EB8CF1E 205F12E6 7284429A",1]
["FLAT184/193/AB34ET","Flat 184, 193 Any Street, Any Town, AB3 4ET - Bedrooms: 2",2,"Flat 184",193,"Any Street","Any Town","AB3 4ET","LA ordinary dwelling","No","No","LA","Not Specified Accommodation","2015-04-01",null,"B3D1775F 130B780B 8C52CF6F A8A29BA4 03144820",1]
["FLAT185/194/AB34ET","Flat 185, 194 Any Street, Any Town, AB3 4ET - Bedrooms: 1",1,"Flat 185",194,"Any Street","Any Town","AB3 4ET","LA ordinary dwelling","No","No","LA","Not Specified Accommodation","2015-04-01",null,"CAD4CBD5 F1BBE99E 4835AD1C 5B3C8C4F F820DA83",1]
["FLAT186/195/AB34ET","Flat 186, 195 Any Street, Any Town, AB3 4ET - Bedrooms: 1",1,"Flat 186",195,"Any Street","Any Town","AB3 4ET","LA ordinary dwelling","No","No","LA","Not Specified Accommodation","2015-04-01",null,"A1CA0A41 0AC7CAFB E671338C 595A458A ED0891C4",1]
["FLAT187/196/AB34ET","Flat 187, 196 Any Street, Any Town, AB3 4ET - Bedrooms: 1",1,"Flat 187",196,"Any Street","Any Town","AB3 4ET","LA ordinary dwelling","No","No","LA","Not Specified Accommodation","2015-04-01",null,"8E0EE487 85FE8AE5 A78B96EE 7F54754C AE909D7B",1]
["FLAT188/197/AB34ET","Flat 188, 197 Any Street, Any Town, AB3 4ET - Bedrooms: 2",2,"Flat 188",197,"Any Street","Any Town","AB3 4ET","LA ordinary dwelling","No","No","LA","Not Specified Accommodation","2015-04-01",null,"C8ECAA99 6C209BCA 1E036F9B DD9F5267 0463A6F2",1]
["FLAT189/198/AB34ET","Flat 189, 198 Any Street, Any Town, AB3 4ET - Bedrooms: 1",1,"Flat 189",198,"Any Street","Any Town","AB3 4ET","LA ordinary dwelling","No","No","LA","Not Specified Accommodation","2015-04-01",null,"0BA57374 41B5FDA7 83D2EFF0 4DFBD401 34B8F50A",1]
["FLAT190/199/AB34ET","Flat 190, 199 Any Street, Any Town, AB3 4ET - Bedrooms: 1",1,"Flat 190",199,"Any Street","Any Town","AB3 4ET","LA ordinary dwelling","No","No","LA","Not Specified Accommodation","2015-04-01",null,"EEE522B4 B76AE147 57772A54 DAC18B37 027630EE",1]
["FLAT191/200/AB34ET","Flat 191, 200 Any Street, Any Town, AB3 4ET - Bedrooms: 1",1,"Flat 191",200,"Any Street","Any Town","AB3 4ET","LA ordinary dwelling","No","No","LA","Not Specified Accommodation","2015-04-01",null,"ACB027E8 2C856936 50B694DC BCF6DCEC BA68233C",1]
["FLAT192/201/AB34ET","Flat 192, 201 Any Street, Any Town, AB3 4ET - Bedrooms: 2",2,"Flat 192",201,"Any Street","Any Town","AB3 4ET","LA ordinary dwelling","No","No","LA","Not Specified Accommodation","2015-04-01",null,"E9402D4A F832557C 7C84077A 7314C969 7E569DED",1]
[{"$f":"SUBSTITUTE(UPPER($D198& \"/ \"&$E198&\"/\"&$H198),\" \",\"\")","v":"FLAT193/202/AB34ET"},{"$f":"IF($D198<>\"\",$D198 & \", \" &$E198 &\" \" &$F198 &\", \" &$G198 &\", \" & $H198 & \" - Bedrooms: \" & $C198,$E198 &\" \" &$F198 &\", \" &$G198 &\", \" & $H198 & \" - Bedrooms: \" & $C198)","v":"Flat 193, 202 Any Street, Any Town, AB3 4ET - Bedrooms: 1"},1,"Flat 193",202,"Any Street","Any Town","AB3 4ET","LA ordinary dwelling","No","No","LA","Not Specified Accommodation","2015-04-01",null,"40276576 1246F74A ADD285B5 8599F125 A96A0978",1]
["FLAT194/203/AB34ET","Flat 194, 203 Any Street, Any Town, AB3 4ET - Bedrooms: 1",1,"Flat 194",203,"Any Street","Any Town","AB3 4ET","LA ordinary dwelling","No","No","LA","Not Specified Accommodation","2015-04-01",null,"8DBBFFDE 16638B72 80902198 894EB654 7173C197",1]
["FLAT195/204/AB34ET","Flat 195, 204 Any Street, Any Town, AB3 4ET - Bedrooms: 1",1,"Flat 195",204,"Any Street","Any Town","AB3 4ET","LA ordinary dwelling","No","No","LA","Not Specified Accommodation","2015-04-01",null,"177ABF50 835F9D61 A0A51559 E058BF21 875DE075",1]
["FLAT196/205/AB34ET","Flat 196, 205 Any Street, Any Town, AB3 4ET - Bedrooms: 2",2,"Flat 196",205,"Any Street","Any Town","AB3 4ET","LA ordinary dwelling","No","No","LA","Not Specified Accommodation","2015-04-01",null,"AAEA86DD 293FD9B8 F4F08F6B 73311988 81B58ECA",1]
["FLAT197/206/AB34ET","Flat 197, 206 Any Street, Any Town, AB3 4ET - Bedrooms: 1",1,"Flat 197",206,"Any Street","Any Town","AB3 4ET","LA ordinary dwelling","No","No","LA","Not Specified Accommodation","2015-04-01",null,"CD320AD6 5494DF39 38E56C8D C4E40FE4 1846CCF9",1]
["FLAT198/207/AB34ET","Flat 198, 207 Any Street, Any Town, AB3 4ET - Bedrooms: 1",{"$f":"C199","v":1},"Flat 198",207,"Any Street","Any Town","AB3 4ET","LA ordinary dwelling","No","No","LA","Not Specified Accommodation","2015-04-01",null,"C922CE72 4AA8372E 5862D521 3EBBD4CD 403BE541",1]
["FLAT199/208/AB34ET","Flat 199, 208 Any Street, Any Town, AB3 4ET - Bedrooms: 1",1,"Flat 199",208,"Any Street","Any Town","AB3 4ET","LA ordinary dwelling","No","No","LA","Not Specified Accommodation","2015-04-01",null,"A2D2244B 886D179D BBFBCE35 3135D0F1 324C7D23",1]
["ROOM1/1/AB12NE","Room 1, 1 New Property Street, New Town, AB1 2NE - Bedrooms: 1",1,"Room 1",1,"New Property Street","New Town","AB1 2NE","Bed and breakfast","No","No","Private","Not Specified Accommodation","2015-04-08",null,"24CEBC6C AE33ACBE C139ECA6 4F18BF9F F9A2CC14",1]
["10/1/EH75QF","10, 1 Albion Gardnes, Edinburgh, EH7 5QF - Bedrooms: 2",2,10,1,"Albion Gardnes","Edinburgh","EH7 5QF","Bed and breakfast","No","No","Private","Not Specified Accommodation","2015-04-08",null,"85973DA2 8A7B4B72 750AAD20 2852A38F F5B4C0E2",1]
[{"$f":"IF(H207<>\"\",SUBSTITUTE(UPPER(D207& \"/ \"&E207&\"/\"&H207),\" \",\"\"),\"\")","v":""},{"$f":"IF(H207<>\"\",IF(D207<>\"\",D207 & \", \" &E207 &\" \" &F207 &\", \" &G207 &\", \" & H207 & \" - Bedrooms: \" & C207,E207 &\" \" &F207 &\", \" &G207 &\", \" & H207 & \" - Bedrooms: \" & C207),\"\")","v":""}]
["",""]
["",""]
["",""]
["",""]
["",""]
["",""]
["",""]
["",""]
["",""]
["",""]
["",""]
["",""]
["",""]
["",""]
["",""]
["",""]
["",""]
["",""]
["",""]
["",""]
["",""]
["",""]
["",""]
["",""]
["",""]
["",""]
["",""]
["",""]
["",""]
["",""]
["",""]
["",""]
["",""]
["",""]
["",""]
["",""]
["",""]
["",""]
["",""]
["",""]
["",""]
["",""]
["",""]
["",""]
["",""]
["",""]
["",""]
["",""]
["",""]
["",""]
["",""]
["",""]
["",""]
["",""]
["",""]
["",""]
["",""]
["",""]
["",""]
["",""]
["",""]
[{"$f":"IF(H269<>\"\",SUBSTITUTE(UPPER(D269& \"/ \"&E269&\"/\"&H269),\" \",\"\"),\"\")","v":""},{"$f":"IF(H269<>\"\",IF(D269<>\"\",D269 & \", \" &E269 &\" \" &F269 &\", \" &G269 &\", \" & H269 & \" - Bedrooms: \" & C269,E269 &\" \" &F269 &\", \" &G269 &\", \" & H269 & \" - Bedrooms: \" & C269),\"\")","v":""}]
["",""]
["",""]
["",""]
["",""]
["",""]
["",""]
["",""]
["",""]
["",""]
["",""]
["",""]
["",""]
["",""]
["",""]
["",""]
["",""]
["",""]
["",""]
["",""]
["",""]
["",""]
["",""]
["",""]
["",""]
["",""]
["",""]
["",""]
["",""]
["",""]
["",""]
["",""]
["",""]
["",""]
["",""]
["",""]
["",""]
["",""]
["",""]
["",""]
["",""]
["",""]
["",""]
["",""]
["",""]
["",""]
["",""]
["",""]
["",""]
["",""]
["",""]
["",""]
["",""]
["",""]
["",""]
["",""]
["",""]
["",""]
["",""]
["",""]
["",""]
["",""]
["",""]
["",""]
[{"$f":"IF(H333<>\"\",SUBSTITUTE(UPPER(D333& \"/ \"&E333&\"/\"&H333),\" \",\"\"),\"\")","v":""},{"$f":"IF(H333<>\"\",IF(D333<>\"\",D333 & \", \" &E333 &\" \" &F333 &\", \" &G333 &\", \" & H333 & \" - Bedrooms: \" & C333,E333 &\" \" &F333 &\", \" &G333 &\", \" & H333 & \" - Bedrooms: \" & C333),\"\")","v":""}]
["",""]
["",""]
["",""]
["",""]
["",""]
["",""]
["",""]
["",""]
["",""]
["",""]
["",""]
["",""]
["",""]
["",""]
["",""]
["",""]
["",""]
["",""]
["",""]
["",""]
["",""]
["",""]
["",""]
["",""]
["",""]
["",""]
["",""]
["",""]
["",""]
["",""]
["",""]
["",""]
["",""]
["",""]
["",""]
["",""]
["",""]
["",""]
["",""]
["",""]
["",""]
["",""]
["",""]
["",""]
["",""]
["",""]
["",""]
["",""]
["",""]
["",""]
["",""]
["",""]
["",""]
["",""]
["",""]
["",""]
["",""]
["",""]
["",""]
["",""]
["",""]
["",""]
["",""]
[{"$f":"IF(H397<>\"\",SUBSTITUTE(UPPER(D397& \"/ \"&E397&\"/\"&H397),\" \",\"\"),\"\")","v":""},{"$f":"IF(H397<>\"\",IF(D397<>\"\",D397 & \", \" &E397 &\" \" &F397 &\", \" &G397 &\", \" & H397 & \" - Bedrooms: \" & C397,E397 &\" \" &F397 &\", \" &G397 &\", \" & H397 & \" - Bedrooms: \" & C397),\"\")","v":""}]
["",""]
["",""]
["",""]
["",""]
["",""]
["",""]
["",""]
["",""]
["",""]
["",""]
["",""]
["",""]
["",""]
["",""]
["",""]
["",""]
["",""]
["",""]
["",""]
["",""]
["",""]
["",""]
["",""]
["",""]
["",""]
["",""]
["",""]
["",""]
["",""]
["",""]
["",""]
["",""]
["",""]
["",""]
["",""]
["",""]
["",""]
["",""]
["",""]
["",""]
["",""]
["",""]
["",""]
["",""]
["",""]
["",""]
["",""]
["",""]
["",""]
["",""]
["",""]
["",""]
["",""]
["",""]
["",""]
["",""]
["",""]
["",""]
["",""]
["",""]
["",""]
["",""]
["",""]
[{"$f":"IF(H461<>\"\",SUBSTITUTE(UPPER(D461& \"/ \"&E461&\"/\"&H461),\" \",\"\"),\"\")","v":""},{"$f":"IF(H461<>\"\",IF(D461<>\"\",D461 & \", \" &E461 &\" \" &F461 &\", \" &G461 &\", \" & H461 & \" - Bedrooms: \" & C461,E461 &\" \" &F461 &\", \" &G461 &\", \" & H461 & \" - Bedrooms: \" & C461),\"\")","v":""}]
["",""]
["",""]
["",""]
["",""]
["",""]
["",""]
["",""]
["",""]
["",""]
["",""]
["",""]
["",""]
["",""]
["",""]
["",""]
["",""]
["",""]
["",""]
["",""]
["",""]
["",""]
["",""]
["",""]
["",""]
["",""]
["",""]
["",""]
["",""]
["",""]
["",""]
["",""]
["",""]
["",""]
["",""]
["",""]
["",""]
["",""]
["",""]
["",""]
["",""]
["",""]
["",""]
["",""]
["",""]
["",""]
["",""]
["",""]
["",""]
["",""]
["",""]
["",""]
["",""]
["",""]
["",""]
["",""]
["",""]
["",""]
["",""]
["",""]
["",""]
["",""]
["",""]
["",""]
[{"$f":"IF(H525<>\"\",SUBSTITUTE(UPPER(D525& \"/ \"&E525&\"/\"&H525),\" \",\"\"),\"\")","v":""},{"$f":"IF(H525<>\"\",IF(D525<>\"\",D525 & \", \" &E525 &\" \" &F525 &\", \" &G525 &\", \" & H525 & \" - Bedrooms: \" & C525,E525 &\" \" &F525 &\", \" &G525 &\", \" & H525 & \" - Bedrooms: \" & C525),\"\")","v":""}]
["",""]
["",""]
["",""]
["",""]
["",""]
["",""]
["",""]
["",""]
["",""]
["",""]
["",""]
["",""]
["",""]
["",""]
["",""]
["",""]
["",""]
["",""]
["",""]
["",""]
["",""]
["",""]
["",""]
["",""]
["",""]
["",""]
["",""]
["",""]
["",""]
["",""]
["",""]
["",""]
["",""]
["",""]
["",""]
["",""]
["",""]
["",""]
["",""]
["",""]
["",""]
["",""]
["",""]
["",""]
["",""]
["",""]
["",""]
["",""]
["",""]
["",""]
["",""]
["",""]
["",""]
["",""]
["",""]
["",""]
["",""]
["",""]
["",""]
["",""]
["",""]
["",""]
["",""]
[{"$f":"IF(H589<>\"\",SUBSTITUTE(UPPER(D589& \"/ \"&E589&\"/\"&H589),\" \",\"\"),\"\")","v":""},{"$f":"IF(H589<>\"\",IF(D589<>\"\",D589 & \", \" &E589 &\" \" &F589 &\", \" &G589 &\", \" & H589 & \" - Bedrooms: \" & C589,E589 &\" \" &F589 &\", \" &G589 &\", \" & H589 & \" - Bedrooms: \" & C589),\"\")","v":""}]
["",""]
["",""]
["",""]
["",""]
["",""]
["",""]
["",""]
["",""]
["",""]
["",""]
["",""]
["",""]
["",""]
["",""]
["",""]
["",""]
["",""]
["",""]
["",""]
["",""]
["",""]
["",""]
["",""]
["",""]
["",""]
["",""]
["",""]
["",""]
["",""]
["",""]
["",""]
["",""]
["",""]
["",""]
["",""]
["",""]
["",""]
["",""]
["",""]
["",""]
["",""]
["",""]
["",""]
["",""]
["",""]
["",""]
["",""]
["",""]
["",""]
["",""]
["",""]
["",""]
["",""]
["",""]
["",""]
["",""]
["",""]
["",""]
["",""]
["",""]
["",""]
["",""]
["",""]
[{"$f":"IF(H653<>\"\",SUBSTITUTE(UPPER(D653& \"/ \"&E653&\"/\"&H653),\" \",\"\"),\"\")","v":""},{"$f":"IF(H653<>\"\",IF(D653<>\"\",D653 & \", \" &E653 &\" \" &F653 &\", \" &G653 &\", \" & H653 & \" - Bedrooms: \" & C653,E653 &\" \" &F653 &\", \" &G653 &\", \" & H653 & \" - Bedrooms: \" & C653),\"\")","v":""}]
["",""]
["",""]
["",""]
["",""]
["",""]
["",""]
["",""]
["",""]
["",""]
["",""]
["",""]
["",""]
["",""]
["",""]
["",""]
["",""]
["",""]
["",""]
["",""]
["",""]
["",""]
["",""]
["",""]
["",""]
["",""]
["",""]
["",""]
["",""]
["",""]
["",""]
["",""]
["",""]
["",""]
["",""]
["",""]
["",""]
["",""]
["",""]
["",""]
["",""]
["",""]
["",""]
["",""]
["",""]
["",""]
["",""]
["",""]
["",""]
["",""]
["",""]
["",""]
["",""]
["",""]
["",""]
["",""]
["",""]
["",""]
["",""]
["",""]
["",""]
["",""]
["",""]
["",""]
[{"$f":"IF(H717<>\"\",SUBSTITUTE(UPPER(D717& \"/ \"&E717&\"/\"&H717),\" \",\"\"),\"\")","v":""},{"$f":"IF(H717<>\"\",IF(D717<>\"\",D717 & \", \" &E717 &\" \" &F717 &\", \" &G717 &\", \" & H717 & \" - Bedrooms: \" & C717,E717 &\" \" &F717 &\", \" &G717 &\", \" & H717 & \" - Bedrooms: \" & C717),\"\")","v":""}]
["",""]
["",""]
["",""]
["",""]
["",""]
["",""]
["",""]
["",""]
["",""]
["",""]
["",""]
["",""]
["",""]
["",""]
["",""]
["",""]
["",""]
["",""]
["",""]
["",""]
["",""]
["",""]
["",""]
["",""]
["",""]
["",""]
["",""]
["",""]
["",""]
["",""]
["",""]
["",""]
["",""]
["",""]
["",""]
["",""]
["",""]
["",""]
["",""]
["",""]
["",""]
["",""]
["",""]
["",""]
["",""]
["",""]
["",""]
["",""]
["",""]
["",""]
["",""]
["",""]
["",""]
["",""]
["",""]
["",""]
["",""]
["",""]
["",""]
["",""]
["",""]
["",""]
["",""]
[{"$f":"IF(H781<>\"\",SUBSTITUTE(UPPER(D781& \"/ \"&E781&\"/\"&H781),\" \",\"\"),\"\")","v":""},{"$f":"IF(H781<>\"\",IF(D781<>\"\",D781 & \", \" &E781 &\" \" &F781 &\", \" &G781 &\", \" & H781 & \" - Bedrooms: \" & C781,E781 &\" \" &F781 &\", \" &G781 &\", \" & H781 & \" - Bedrooms: \" & C781),\"\")","v":""}]
["",""]
["",""]
["",""]
["",""]
["",""]
["",""]
["",""]
["",""]
["",""]
["",""]
["",""]
["",""]
["",""]
["",""]
["",""]
["",""]
["",""]
["",""]
["",""]
["",""]
["",""]
["",""]
["",""]
["",""]
["",""]
["",""]
["",""]
["",""]
["",""]
["",""]
["",""]
["",""]
["",""]
["",""]
["",""]
["",""]
["",""]
["",""]
["",""]
["",""]
["",""]
["",""]
["",""]
["",""]
["",""]
["",""]
["",""]
["",""]
["",""]
["",""]
["",""]
["",""]
["",""]
["",""]
["",""]
["",""]
["",""]
["",""]
["",""]
["",""]
["",""]
["",""]
["",""]
[{"$f":"IF(H845<>\"\",SUBSTITUTE(UPPER(D845& \"/ \"&E845&\"/\"&H845),\" \",\"\"),\"\")","v":""},{"$f":"IF(H845<>\"\",IF(D845<>\"\",D845 & \", \" &E845 &\" \" &F845 &\", \" &G845 &\", \" & H845 & \" - Bedrooms: \" & C845,E845 &\" \" &F845 &\", \" &G845 &\", \" & H845 & \" - Bedrooms: \" & C845),\"\")","v":""}]
["",""]
["",""]
["",""]
["",""]
["",""]
["",""]
["",""]
["",""]
["",""]
["",""]
["",""]
["",""]
["",""]
["",""]
["",""]
["",""]
["",""]
["",""]
["",""]
["",""]
["",""]
["",""]
["",""]
["",""]
["",""]
["",""]
["",""]
["",""]
["",""]
["",""]
["",""]
["",""]
["",""]
["",""]
["",""]
["",""]
["",""]
["",""]
["",""]
["",""]
["",""]
["",""]
["",""]
["",""]
["",""]
["",""]
["",""]
["",""]
["",""]
["",""]
["",""]
["",""]
["",""]
["",""]
["",""]
["",""]
["",""]
["",""]
["",""]
["",""]
["",""]
["",""]
["",""]
[{"$f":"IF(H909<>\"\",SUBSTITUTE(UPPER(D909& \"/ \"&E909&\"/\"&H909),\" \",\"\"),\"\")","v":""},{"$f":"IF(H909<>\"\",IF(D909<>\"\",D909 & \", \" &E909 &\" \" &F909 &\", \" &G909 &\", \" & H909 & \" - Bedrooms: \" & C909,E909 &\" \" &F909 &\", \" &G909 &\", \" & H909 & \" - Bedrooms: \" & C909),\"\")","v":""}]
["",""]
["",""]
["",""]
["",""]
["",""]
["",""]
["",""]
["",""]
["",""]
["",""]
["",""]
["",""]
["",""]
["",""]
["",""]
["",""]
["",""]
["",""]
["",""]
["",""]
["",""]
["",""]
["",""]
["",""]
["",""]
["",""]
["",""]
["",""]
["",""]
["",""]
["",""]
["",""]
["",""]
["",""]
["",""]
["",""]
["",""]
["",""]
["",""]
["",""]
["",""]
["",""]
["",""]
["",""]
["",""]
["",""]
["",""]
["",""]
["",""]
["",""]
["",""]
["",""]
["",""]
["",""]
["",""]
["",""]
["",""]
["",""]
["",""]
["",""]
["",""]
["",""]
["",""]
[{"$f":"IF(H973<>\"\",SUBSTITUTE(UPPER(D973& \"/ \"&E973&\"/\"&H973),\" \",\"\"),\"\")","v":""},{"$f":"IF(H973<>\"\",IF(D973<>\"\",D973 & \", \" &E973 &\" \" &F973 &\", \" &G973 &\", \" & H973 & \" - Bedrooms: \" & C973,E973 &\" \" &F973 &\", \" &G973 &\", \" & H973 & \" - Bedrooms: \" & C973),\"\")","v":""}]
["",""]
["",""]
["",""]
["",""]
["",""]
["",""]
["",""]
["",""]
["",""]
["",""]
["",""]
["",""]
["",""]
["",""]
["",""]
["",""]
["",""]
["",""]
["",""]
["",""]
["",""]
["",""]
["",""]
["",""]
["",""]
["",""]
["",""]
["",""]
["",""]
["",""]
["",""]
["",""]
["",""]
["",""]
["",""]
["",""]
["",""]
["",""]
["",""]
["",""]
["",""]
["",""]
["",""]
["",""]
["",""]
["",""]
["",""]
["",""]
["",""]
["",""]
["",""]
["",""]
["",""]
["",""]
["",""]
["",""]
["",""]
["",""]
["",""]
["",""]
["",""]
["",""]
["",""]
[{"$f":"IF(H1037<>\"\",SUBSTITUTE(UPPER(D1037& \"/ \"&E1037&\"/\"&H1037),\" \",\"\"),\"\")","v":""},{"$f":"IF(H1037<>\"\",IF(D1037<>\"\",D1037 & \", \" &E1037 &\" \" &F1037 &\", \" &G1037 &\", \" & H1037 & \" - Bedrooms: \" & C1037,E1037 &\" \" &F1037 &\", \" &G1037 &\", \" & H1037 & \" - Bedrooms: \" & C1037),\"\")","v":""}]
["",""]
["",""]
["",""]
["",""]
["",""]
["",""]
["",""]
["",""]
["",""]
["",""]
["",""]
["",""]
["",""]
["",""]
["",""]
["",""]
["",""]
["",""]
["",""]
["",""]
["",""]
["",""]
["",""]
["",""]
["",""]
["",""]
["",""]
["",""]
["",""]
["",""]
["",""]
["",""]
["",""]
["",""]
["",""]
["",""]
["",""]
["",""]
["",""]
["",""]
["",""]
["",""]
["",""]
["",""]
["",""]
["",""]
["",""]
["",""]
["",""]
["",""]
["",""]
["",""]
["",""]
["",""]
["",""]
["",""]
["",""]
["",""]
["",""]
["",""]
["",""]
["",""]
["",""]
[{"$f":"IF(H1101<>\"\",SUBSTITUTE(UPPER(D1101& \"/ \"&E1101&\"/\"&H1101),\" \",\"\"),\"\")","v":""},{"$f":"IF(H1101<>\"\",IF(D1101<>\"\",D1101 & \", \" &E1101 &\" \" &F1101 &\", \" &G1101 &\", \" & H1101 & \" - Bedrooms: \" & C1101,E1101 &\" \" &F1101 &\", \" &G1101 &\", \" & H1101 & \" - Bedrooms: \" & C1101),\"\")","v":""}]
["",""]
["",""]
["",""]
["",""]
["",""]
["",""]
["",""]
["",""]
["",""]
["",""]
["",""]
["",""]
["",""]
["",""]
["",""]
["",""]
["",""]
["",""]
["",""]
["",""]
["",""]
["",""]
["",""]
["",""]
["",""]
["",""]
["",""]
["",""]
["",""]
["",""]
["",""]
["",""]
["",""]
["",""]
["",""]
["",""]
["",""]
["",""]
["",""]
["",""]
["",""]
["",""]
["",""]
["",""]
["",""]
["",""]
["",""]
["",""]
["",""]
["",""]
["",""]
["",""]
["",""]
["",""]
["",""]
["",""]
["",""]
["",""]
["",""]
["",""]
["",""]
["",""]
["",""]
[{"$f":"IF(H1165<>\"\",SUBSTITUTE(UPPER(D1165& \"/ \"&E1165&\"/\"&H1165),\" \",\"\"),\"\")","v":""},{"$f":"IF(H1165<>\"\",IF(D1165<>\"\",D1165 & \", \" &E1165 &\" \" &F1165 &\", \" &G1165 &\", \" & H1165 & \" - Bedrooms: \" & C1165,E1165 &\" \" &F1165 &\", \" &G1165 &\", \" & H1165 & \" - Bedrooms: \" & C1165),\"\")","v":""}]
["",""]
["",""]
["",""]
["",""]
["",""]
["",""]
["",""]
["",""]
["",""]
["",""]
["",""]
["",""]
["",""]
["",""]
["",""]
["",""]
["",""]
["",""]
["",""]
["",""]
["",""]
["",""]
["",""]
["",""]
["",""]
["",""]
["",""]
["",""]
["",""]
["",""]
["",""]
["",""]
["",""]
["",""]
["",""]
["",""]
["",""]
["",""]
["",""]
["",""]
["",""]
["",""]
["",""]
["",""]
["",""]
["",""]
["",""]
["",""]
["",""]
["",""]
["",""]
["",""]
["",""]
["",""]
["",""]
["",""]
["",""]
["",""]
["",""]
["",""]
["",""]
["",""]
["",""]
[{"$f":"IF(H1229<>\"\",SUBSTITUTE(UPPER(D1229& \"/ \"&E1229&\"/\"&H1229),\" \",\"\"),\"\")","v":""},{"$f":"IF(H1229<>\"\",IF(D1229<>\"\",D1229 & \", \" &E1229 &\" \" &F1229 &\", \" &G1229 &\", \" & H1229 & \" - Bedrooms: \" & C1229,E1229 &\" \" &F1229 &\", \" &G1229 &\", \" & H1229 & \" - Bedrooms: \" & C1229),\"\")","v":""}]
["",""]
["",""]
["",""]
["",""]
["",""]
["",""]
["",""]
["",""]
["",""]
["",""]
["",""]
["",""]
["",""]
["",""]
["",""]
["",""]
["",""]
["",""]
["",""]
["",""]
["",""]
["",""]
["",""]
["",""]
["",""]
["",""]
["",""]
["",""]
["",""]
["",""]
["",""]
["",""]
["",""]
["",""]
["",""]
["",""]
["",""]
["",""]
["",""]
["",""]
["",""]
["",""]
["",""]
["",""]
["",""]
["",""]
["",""]
["",""]
["",""]
["",""]
["",""]
["",""]
["",""]
["",""]
["",""]
["",""]
["",""]
["",""]
["",""]
["",""]
["",""]
["",""]
["",""]
[{"$f":"IF(H1293<>\"\",SUBSTITUTE(UPPER(D1293& \"/ \"&E1293&\"/\"&H1293),\" \",\"\"),\"\")","v":""},{"$f":"IF(H1293<>\"\",IF(D1293<>\"\",D1293 & \", \" &E1293 &\" \" &F1293 &\", \" &G1293 &\", \" & H1293 & \" - Bedrooms: \" & C1293,E1293 &\" \" &F1293 &\", \" &G1293 &\", \" & H1293 & \" - Bedrooms: \" & C1293),\"\")","v":""}]
["",""]
["",""]
["",""]
["",""]
["",""]
["",""]
["",""]
["",""]
["",""]
["",""]
["",""]
["",""]
["",""]
["",""]
["",""]
["",""]
["",""]
["",""]
["",""]
["",""]
["",""]
["",""]
["",""]
["",""]
["",""]
["",""]
["",""]
["",""]
["",""]
["",""]
["",""]
["",""]
["",""]
["",""]
["",""]
["",""]
["",""]
["",""]
["",""]
["",""]
["",""]
["",""]
["",""]
["",""]
["",""]
["",""]
["",""]
["",""]
["",""]
["",""]
["",""]
["",""]
["",""]
["",""]
["",""]
["",""]
["",""]
["",""]
["",""]
["",""]
["",""]
["",""]
["",""]
[{"$f":"IF(H1357<>\"\",SUBSTITUTE(UPPER(D1357& \"/ \"&E1357&\"/\"&H1357),\" \",\"\"),\"\")","v":""},{"$f":"IF(H1357<>\"\",IF(D1357<>\"\",D1357 & \", \" &E1357 &\" \" &F1357 &\", \" &G1357 &\", \" & H1357 & \" - Bedrooms: \" & C1357,E1357 &\" \" &F1357 &\", \" &G1357 &\", \" & H1357 & \" - Bedrooms: \" & C1357),\"\")","v":""}]
["",""]
["",""]
["",""]
["",""]
["",""]
["",""]
["",""]
["",""]
["",""]
["",""]
["",""]
["",""]
["",""]
["",""]
["",""]
["",""]
["",""]
["",""]
["",""]
["",""]
["",""]
["",""]
["",""]
["",""]
["",""]
["",""]
["",""]
["",""]
["",""]
["",""]
["",""]
["",""]
["",""]
["",""]
["",""]
["",""]
["",""]
["",""]
["",""]
["",""]
["",""]
["",""]
["",""]
["",""]
["",""]
["",""]
["",""]
["",""]
["",""]
["",""]
["",""]
["",""]
["",""]
["",""]
["",""]
["",""]
["",""]
["",""]
["",""]
["",""]
["",""]
["",""]
["",""]
[{"$f":"IF(H1421<>\"\",SUBSTITUTE(UPPER(D1421& \"/ \"&E1421&\"/\"&H1421),\" \",\"\"),\"\")","v":""},{"$f":"IF(H1421<>\"\",IF(D1421<>\"\",D1421 & \", \" &E1421 &\" \" &F1421 &\", \" &G1421 &\", \" & H1421 & \" - Bedrooms: \" & C1421,E1421 &\" \" &F1421 &\", \" &G1421 &\", \" & H1421 & \" - Bedrooms: \" & C1421),\"\")","v":""}]
["",""]
["",""]
["",""]
["",""]
["",""]
["",""]
["",""]
["",""]
["",""]
["",""]
["",""]
["",""]
["",""]
["",""]
["",""]
["",""]
["",""]
["",""]
["",""]
["",""]
["",""]
["",""]
["",""]
["",""]
["",""]
["",""]
["",""]
["",""]
["",""]
["",""]
["",""]
["",""]
["",""]
["",""]
["",""]
["",""]
["",""]
["",""]
["",""]
["",""]
["",""]
["",""]
["",""]
["",""]
["",""]
["",""]
["",""]
["",""]
["",""]
["",""]
["",""]
["",""]
["",""]
["",""]
["",""]
["",""]
["",""]
["",""]
["",""]
["",""]
["",""]
["",""]
["",""]
[{"$f":"IF(H1485<>\"\",SUBSTITUTE(UPPER(D1485& \"/ \"&E1485&\"/\"&H1485),\" \",\"\"),\"\")","v":""},{"$f":"IF(H1485<>\"\",IF(D1485<>\"\",D1485 & \", \" &E1485 &\" \" &F1485 &\", \" &G1485 &\", \" & H1485 & \" - Bedrooms: \" & C1485,E1485 &\" \" &F1485 &\", \" &G1485 &\", \" & H1485 & \" - Bedrooms: \" & C1485),\"\")","v":""}]
["",""]
["",""]
["",""]
["",""]
["",""]
["",""]
["",""]
["",""]
["",""]
["",""]
["",""]
["",""]
["",""]
["",""]
["",""]
["",""]
["",""]
["",""]
["",""]
["",""]
["",""]
["",""]
["",""]
["",""]
["",""]
["",""]
["",""]
["",""]
["",""]
["",""]
["",""]
["",""]
["",""]
["",""]
["",""]
["",""]
["",""]
["",""]
["",""]
["",""]
["",""]
["",""]
["",""]
["",""]
["",""]
["",""]
["",""]
["",""]
["",""]
["",""]
["",""]
["",""]
["",""]
["",""]
["",""]
["",""]
["",""]
["",""]
["",""]
["",""]
["",""]
["",""]
["",""]
[{"$f":"IF(H1549<>\"\",SUBSTITUTE(UPPER(D1549& \"/ \"&E1549&\"/\"&H1549),\" \",\"\"),\"\")","v":""},{"$f":"IF(H1549<>\"\",IF(D1549<>\"\",D1549 & \", \" &E1549 &\" \" &F1549 &\", \" &G1549 &\", \" & H1549 & \" - Bedrooms: \" & C1549,E1549 &\" \" &F1549 &\", \" &G1549 &\", \" & H1549 & \" - Bedrooms: \" & C1549),\"\")","v":""}]
["",""]
["",""]
["",""]
["",""]
["",""]
["",""]
["",""]
["",""]
["",""]
["",""]
["",""]
["",""]
["",""]
["",""]
["",""]
["",""]
["",""]
["",""]
["",""]
["",""]
["",""]
["",""]
["",""]
["",""]
["",""]
["",""]
["",""]
["",""]
["",""]
["",""]
["",""]
["",""]
["",""]
["",""]
["",""]
["",""]
["",""]
["",""]
["",""]
["",""]
["",""]
["",""]
["",""]
["",""]
["",""]
["",""]
["",""]
["",""]
["",""]
["",""]
["",""]
["",""]
["",""]
["",""]
["",""]
["",""]
["",""]
["",""]
["",""]
["",""]
["",""]
["",""]
["",""]
[{"$f":"IF(H1613<>\"\",SUBSTITUTE(UPPER(D1613& \"/ \"&E1613&\"/\"&H1613),\" \",\"\"),\"\")","v":""},{"$f":"IF(H1613<>\"\",IF(D1613<>\"\",D1613 & \", \" &E1613 &\" \" &F1613 &\", \" &G1613 &\", \" & H1613 & \" - Bedrooms: \" & C1613,E1613 &\" \" &F1613 &\", \" &G1613 &\", \" & H1613 & \" - Bedrooms: \" & C1613),\"\")","v":""}]
["",""]
["",""]
["",""]
["",""]
["",""]
["",""]
["",""]
["",""]
["",""]
["",""]
["",""]
["",""]
["",""]
["",""]
["",""]
["",""]
["",""]
["",""]
["",""]
["",""]
["",""]
["",""]
["",""]
["",""]
["",""]
["",""]
["",""]
["",""]
["",""]
["",""]
["",""]
["",""]
["",""]
["",""]
["",""]
["",""]
["",""]
["",""]
["",""]
["",""]
["",""]
["",""]
["",""]
["",""]
["",""]
["",""]
["",""]
["",""]
["",""]
["",""]
["",""]
["",""]
["",""]
["",""]
["",""]
["",""]
["",""]
["",""]
["",""]
["",""]
["",""]
["",""]
["",""]
[{"$f":"IF(H1677<>\"\",SUBSTITUTE(UPPER(D1677& \"/ \"&E1677&\"/\"&H1677),\" \",\"\"),\"\")","v":""},{"$f":"IF(H1677<>\"\",IF(D1677<>\"\",D1677 & \", \" &E1677 &\" \" &F1677 &\", \" &G1677 &\", \" & H1677 & \" - Bedrooms: \" & C1677,E1677 &\" \" &F1677 &\", \" &G1677 &\", \" & H1677 & \" - Bedrooms: \" & C1677),\"\")","v":""}]
["",""]
["",""]
["",""]
["",""]
["",""]
["",""]
["",""]
["",""]
["",""]
["",""]
["",""]
["",""]
["",""]
["",""]
["",""]
["",""]
["",""]
["",""]
["",""]
["",""]
["",""]
["",""]
["",""]
["",""]
["",""]
["",""]
["",""]
["",""]
["",""]
["",""]
["",""]
["",""]
["",""]
["",""]
["",""]
["",""]
["",""]
["",""]
["",""]
["",""]
["",""]
["",""]
["",""]
["",""]
["",""]
["",""]
["",""]
["",""]
["",""]
["",""]
["",""]
["",""]
["",""]
["",""]
["",""]
["",""]
["",""]
["",""]
["",""]
["",""]
["",""]
["",""]
["",""]
[{"$f":"IF(H1741<>\"\",SUBSTITUTE(UPPER(D1741& \"/ \"&E1741&\"/\"&H1741),\" \",\"\"),\"\")","v":""},{"$f":"IF(H1741<>\"\",IF(D1741<>\"\",D1741 & \", \" &E1741 &\" \" &F1741 &\", \" &G1741 &\", \" & H1741 & \" - Bedrooms: \" & C1741,E1741 &\" \" &F1741 &\", \" &G1741 &\", \" & H1741 & \" - Bedrooms: \" & C1741),\"\")","v":""}]
["",""]
["",""]
["",""]
["",""]
["",""]
["",""]
["",""]
["",""]
["",""]
["",""]
["",""]
["",""]
["",""]
["",""]
["",""]
["",""]
["",""]
["",""]
["",""]
["",""]
["",""]
["",""]
["",""]
["",""]
["",""]
["",""]
["",""]
["",""]
["",""]
["",""]
["",""]
["",""]
["",""]
["",""]
["",""]
["",""]
["",""]
["",""]
["",""]
["",""]
["",""]
["",""]
["",""]
["",""]
["",""]
["",""]
["",""]
["",""]
["",""]
["",""]
["",""]
["",""]
["",""]
["",""]
["",""]
["",""]
["",""]
["",""]
["",""]
["",""]
["",""]
["",""]
["",""]
[{"$f":"IF(H1805<>\"\",SUBSTITUTE(UPPER(D1805& \"/ \"&E1805&\"/\"&H1805),\" \",\"\"),\"\")","v":""},{"$f":"IF(H1805<>\"\",IF(D1805<>\"\",D1805 & \", \" &E1805 &\" \" &F1805 &\", \" &G1805 &\", \" & H1805 & \" - Bedrooms: \" & C1805,E1805 &\" \" &F1805 &\", \" &G1805 &\", \" & H1805 & \" - Bedrooms: \" & C1805),\"\")","v":""}]
["",""]
["",""]
["",""]
["",""]
["",""]
["",""]
["",""]
["",""]
["",""]
["",""]
["",""]
["",""]
["",""]
["",""]
["",""]
["",""]
["",""]
["",""]
["",""]
["",""]
["",""]
["",""]
["",""]
["",""]
["",""]
["",""]
["",""]
["",""]
["",""]
["",""]
["",""]
["",""]
["",""]
["",""]
["",""]
["",""]
["",""]
["",""]
["",""]
["",""]
["",""]
["",""]
["",""]
["",""]
["",""]
["",""]
["",""]
["",""]
["",""]
["",""]
["",""]
["",""]
["",""]
["",""]
["",""]
["",""]
["",""]
["",""]
["",""]
["",""]
["",""]
["",""]
["",""]
[{"$f":"IF(H1869<>\"\",SUBSTITUTE(UPPER(D1869& \"/ \"&E1869&\"/\"&H1869),\" \",\"\"),\"\")","v":""},{"$f":"IF(H1869<>\"\",IF(D1869<>\"\",D1869 & \", \" &E1869 &\" \" &F1869 &\", \" &G1869 &\", \" & H1869 & \" - Bedrooms: \" & C1869,E1869 &\" \" &F1869 &\", \" &G1869 &\", \" & H1869 & \" - Bedrooms: \" & C1869),\"\")","v":""}]
["",""]
["",""]
["",""]
["",""]
["",""]
["",""]
["",""]
["",""]
["",""]
["",""]
["",""]
["",""]
["",""]
["",""]
["",""]
["",""]
["",""]
["",""]
["",""]
["",""]
["",""]
["",""]
["",""]
["",""]
["",""]
["",""]
["",""]
["",""]
["",""]
["",""]
["",""]
["",""]
["",""]
["",""]
["",""]
["",""]
["",""]
["",""]
["",""]
["",""]
["",""]
["",""]
["",""]
["",""]
["",""]
["",""]
["",""]
["",""]
["",""]
["",""]
["",""]
["",""]
["",""]
["",""]
["",""]
["",""]
["",""]
["",""]
["",""]
["",""]
["",""]
["",""]
["",""]
[{"$f":"IF(H1933<>\"\",SUBSTITUTE(UPPER(D1933& \"/ \"&E1933&\"/\"&H1933),\" \",\"\"),\"\")","v":""},{"$f":"IF(H1933<>\"\",IF(D1933<>\"\",D1933 & \", \" &E1933 &\" \" &F1933 &\", \" &G1933 &\", \" & H1933 & \" - Bedrooms: \" & C1933,E1933 &\" \" &F1933 &\", \" &G1933 &\", \" & H1933 & \" - Bedrooms: \" & C1933),\"\")","v":""}]
["",""]
["",""]
["",""]
["",""]
["",""]
["",""]
["",""]
["",""]
["",""]
["",""]
["",""]
["",""]
["",""]
["",""]
["",""]
["",""]
["",""]
["",""]
["",""]
["",""]
["",""]
["",""]
["",""]
["",""]
["",""]
["",""]
["",""]
["",""]
["",""]
["",""]
["",""]
["",""]
["",""]
["",""]
["",""]
["",""]
["",""]
["",""]
["",""]
["",""]
["",""]
["",""]
["",""]
["",""]
["",""]
["",""]
["",""]
["",""]
["",""]
["",""]
["",""]
["",""]
["",""]
["",""]
["",""]
["",""]
["",""]
["",""]
["",""]
["",""]
["",""]
["",""]
["",""]
[{"$f":"IF(H1997<>\"\",SUBSTITUTE(UPPER(D1997& \"/ \"&E1997&\"/\"&H1997),\" \",\"\"),\"\")","v":""},{"$f":"IF(H1997<>\"\",IF(D1997<>\"\",D1997 & \", \" &E1997 &\" \" &F1997 &\", \" &G1997 &\", \" & H1997 & \" - Bedrooms: \" & C1997,E1997 &\" \" &F1997 &\", \" &G1997 &\", \" & H1997 & \" - Bedrooms: \" & C1997),\"\")","v":""}]
["",""]
["",""]
["",""]
["",""]
["",""]
["",""]
["",""]
["",""]
["",""]
["",""]
["",""]
["",""]
["",""]
["",""]
["",""]
["",""]
["",""]
["",""]
["",""]
["",""]
["",""]
["",""]
["",""]
["",""]
["",""]
["",""]
["",""]
["",""]
["",""]
["",""]
["",""]
["",""]
["",""]
["",""]
["",""]
["",""]
["",""]
["",""]
["",""]
["",""]
["",""]
["",""]
["",""]
["",""]
["",""]
["",""]
["",""]
["",""]
["",""]
["",""]
["",""]
["",""]
["",""]
["",""]
["",""]
["",""]
["",""]
["",""]
["",""]
["",""]
["",""]
["",""]
["",""]
[{"$f":"IF(H2061<>\"\",SUBSTITUTE(UPPER(D2061& \"/ \"&E2061&\"/\"&H2061),\" \",\"\"),\"\")","v":""},{"$f":"IF(H2061<>\"\",IF(D2061<>\"\",D2061 & \", \" &E2061 &\" \" &F2061 &\", \" &G2061 &\", \" & H2061 & \" - Bedrooms: \" & C2061,E2061 &\" \" &F2061 &\", \" &G2061 &\", \" & H2061 & \" - Bedrooms: \" & C2061),\"\")","v":""}]
["",""]
["",""]
["",""]
["",""]
["",""]
["",""]
["",""]
["",""]
["",""]
["",""]
["",""]
["",""]
["",""]
["",""]
["",""]
["",""]
["",""]
["",""]
["",""]
["",""]
["",""]
["",""]
["",""]
["",""]
["",""]
["",""]
["",""]
["",""]
["",""]
["",""]
["",""]
["",""]
["",""]
["",""]
["",""]
["",""]
["",""]
["",""]
["",""]
["",""]
["",""]
["",""]
["",""]
["",""]
["",""]
["",""]
["",""]
["",""]
["",""]
["",""]
["",""]
["",""]
["",""]
["",""]
["",""]
["",""]
["",""]
["",""]
["",""]
["",""]
["",""]
["",""]
["",""]
[{"$f":"IF(H2125<>\"\",SUBSTITUTE(UPPER(D2125& \"/ \"&E2125&\"/\"&H2125),\" \",\"\"),\"\")","v":""},{"$f":"IF(H2125<>\"\",IF(D2125<>\"\",D2125 & \", \" &E2125 &\" \" &F2125 &\", \" &G2125 &\", \" & H2125 & \" - Bedrooms: \" & C2125,E2125 &\" \" &F2125 &\", \" &G2125 &\", \" & H2125 & \" - Bedrooms: \" & C2125),\"\")","v":""}]
["",""]
["",""]
["",""]
["",""]
["",""]
["",""]
["",""]
["",""]
["",""]
["",""]
["",""]
["",""]
["",""]
["",""]
["",""]
["",""]
["",""]
["",""]
["",""]
["",""]
["",""]
["",""]
["",""]
["",""]
["",""]
["",""]
["",""]
["",""]
["",""]
["",""]
["",""]
["",""]
["",""]
["",""]
["",""]
["",""]
["",""]
["",""]
["",""]
["",""]
["",""]
["",""]
["",""]
["",""]
["",""]
["",""]
["",""]
["",""]
["",""]
["",""]
["",""]
["",""]
["",""]
["",""]
["",""]
["",""]
["",""]
["",""]
["",""]
["",""]
["",""]
["",""]
["",""]
[{"$f":"IF(H2189<>\"\",SUBSTITUTE(UPPER(D2189& \"/ \"&E2189&\"/\"&H2189),\" \",\"\"),\"\")","v":""},{"$f":"IF(H2189<>\"\",IF(D2189<>\"\",D2189 & \", \" &E2189 &\" \" &F2189 &\", \" &G2189 &\", \" & H2189 & \" - Bedrooms: \" & C2189,E2189 &\" \" &F2189 &\", \" &G2189 &\", \" & H2189 & \" - Bedrooms: \" & C2189),\"\")","v":""}]
["",""]
["",""]
["",""]
["",""]
["",""]
["",""]
["",""]
["",""]
["",""]
["",""]
["",""]
["",""]
["",""]
["",""]
["",""]
["",""]
["",""]
["",""]
["",""]
["",""]
["",""]
["",""]
["",""]
["",""]
["",""]
["",""]
["",""]
["",""]
["",""]
["",""]
["",""]
["",""]
["",""]
["",""]
["",""]
["",""]
["",""]
["",""]
["",""]
["",""]
["",""]
["",""]
["",""]
["",""]
["",""]
["",""]
["",""]
["",""]
["",""]
["",""]
["",""]
["",""]
["",""]
["",""]
["",""]
["",""]
["",""]
["",""]
["",""]
["",""]
["",""]
["",""]
["",""]
[{"$f":"IF(H2253<>\"\",SUBSTITUTE(UPPER(D2253& \"/ \"&E2253&\"/\"&H2253),\" \",\"\"),\"\")","v":""},{"$f":"IF(H2253<>\"\",IF(D2253<>\"\",D2253 & \", \" &E2253 &\" \" &F2253 &\", \" &G2253 &\", \" & H2253 & \" - Bedrooms: \" & C2253,E2253 &\" \" &F2253 &\", \" &G2253 &\", \" & H2253 & \" - Bedrooms: \" & C2253),\"\")","v":""}]
["",""]
["",""]
["",""]
["",""]
["",""]
["",""]
["",""]
["",""]
["",""]
["",""]
["",""]
["",""]
["",""]
["",""]
["",""]
["",""]
["",""]
["",""]
["",""]
["",""]
["",""]
["",""]
["",""]
["",""]
["",""]
["",""]
["",""]
["",""]
["",""]
["",""]
["",""]
["",""]
["",""]
["",""]
["",""]
["",""]
["",""]
["",""]
["",""]
["",""]
["",""]
["",""]
["",""]
["",""]
["",""]
["",""]
["",""]
["",""]
["",""]
["",""]
["",""]
["",""]
["",""]
["",""]
["",""]
["",""]
["",""]
["",""]
["",""]
["",""]
["",""]
["",""]
["",""]
[{"$f":"IF(H2317<>\"\",SUBSTITUTE(UPPER(D2317& \"/ \"&E2317&\"/\"&H2317),\" \",\"\"),\"\")","v":""},{"$f":"IF(H2317<>\"\",IF(D2317<>\"\",D2317 & \", \" &E2317 &\" \" &F2317 &\", \" &G2317 &\", \" & H2317 & \" - Bedrooms: \" & C2317,E2317 &\" \" &F2317 &\", \" &G2317 &\", \" & H2317 & \" - Bedrooms: \" & C2317),\"\")","v":""}]
["",""]
["",""]
["",""]
["",""]
["",""]
["",""]
["",""]
["",""]
["",""]
["",""]
["",""]
["",""]
["",""]
["",""]
["",""]
["",""]
["",""]
["",""]
["",""]
["",""]
["",""]
["",""]
["",""]
["",""]
["",""]
["",""]
["",""]
["",""]
["",""]
["",""]
["",""]
["",""]
["",""]
["",""]
["",""]
["",""]
["",""]
["",""]
["",""]
["",""]
["",""]
["",""]
["",""]
["",""]
["",""]
["",""]
["",""]
["",""]
["",""]
["",""]
["",""]
["",""]
["",""]
["",""]
["",""]
["",""]
["",""]
["",""]
["",""]
["",""]
["",""]
["",""]
["",""]
[{"$f":"IF(H2381<>\"\",SUBSTITUTE(UPPER(D2381& \"/ \"&E2381&\"/\"&H2381),\" \",\"\"),\"\")","v":""},{"$f":"IF(H2381<>\"\",IF(D2381<>\"\",D2381 & \", \" &E2381 &\" \" &F2381 &\", \" &G2381 &\", \" & H2381 & \" - Bedrooms: \" & C2381,E2381 &\" \" &F2381 &\", \" &G2381 &\", \" & H2381 & \" - Bedrooms: \" & C2381),\"\")","v":""}]
["",""]
["",""]
["",""]
["",""]
["",""]
["",""]
["",""]
["",""]
["",""]
["",""]
["",""]
["",""]
["",""]
["",""]
["",""]
["",""]
["",""]
["",""]
["",""]
["",""]
["",""]
["",""]
["",""]
["",""]
["",""]
["",""]
["",""]
["",""]
["",""]
["",""]
["",""]
["",""]
["",""]
["",""]
["",""]
["",""]
["",""]
["",""]
["",""]
["",""]
["",""]
["",""]
["",""]
["",""]
["",""]
["",""]
["",""]
["",""]
["",""]
["",""]
["",""]
["",""]
["",""]
["",""]
["",""]
["",""]
["",""]
["",""]
["",""]
["",""]
["",""]
["",""]
["",""]
[{"$f":"IF(H2445<>\"\",SUBSTITUTE(UPPER(D2445& \"/ \"&E2445&\"/\"&H2445),\" \",\"\"),\"\")","v":""},{"$f":"IF(H2445<>\"\",IF(D2445<>\"\",D2445 & \", \" &E2445 &\" \" &F2445 &\", \" &G2445 &\", \" & H2445 & \" - Bedrooms: \" & C2445,E2445 &\" \" &F2445 &\", \" &G2445 &\", \" & H2445 & \" - Bedrooms: \" & C2445),\"\")","v":""}]
["",""]
["",""]
["",""]
["",""]
["",""]
["",""]
["",""]
["",""]
["",""]
["",""]
["",""]
["",""]
["",""]
["",""]
["",""]
["",""]
["",""]
["",""]
["",""]
["",""]
["",""]
["",""]
["",""]
["",""]
["",""]
["",""]
["",""]
["",""]
["",""]
["",""]
["",""]
["",""]
["",""]
["",""]
["",""]
["",""]
["",""]
["",""]
["",""]
["",""]
["",""]
["",""]
["",""]
["",""]
["",""]
["",""]
["",""]
["",""]
["",""]
["",""]
["",""]
["",""]
["",""]
["",""]
["",""]
["",""]
["",""]
["",""]
["",""]
["",""]
["",""]
["",""]
["",""]
[{"$f":"IF(H2509<>\"\",SUBSTITUTE(UPPER(D2509& \"/ \"&E2509&\"/\"&H2509),\" \",\"\"),\"\")","v":""},{"$f":"IF(H2509<>\"\",IF(D2509<>\"\",D2509 & \", \" &E2509 &\" \" &F2509 &\", \" &G2509 &\", \" & H2509 & \" - Bedrooms: \" & C2509,E2509 &\" \" &F2509 &\", \" &G2509 &\", \" & H2509 & \" - Bedrooms: \" & C2509),\"\")","v":""}]
["",""]
["",""]
["",""]
["",""]
["",""]
["",""]
["",""]
["",""]
["",""]
["",""]
["",""]
["",""]
["",""]
["",""]
["",""]
["",""]
["",""]
["",""]
["",""]
["",""]
["",""]
["",""]
["",""]
["",""]
["",""]
["",""]
["",""]
["",""]
["",""]
["",""]
["",""]
["",""]
["",""]
["",""]
["",""]
["",""]
["",""]
["",""]
["",""]
["",""]
["",""]
["",""]
["",""]
["",""]
["",""]
["",""]
["",""]
["",""]
["",""]
["",""]
["",""]
["",""]
["",""]
["",""]
["",""]
["",""]
["",""]
["",""]
["",""]
["",""]
["",""]
["",""]
["",""]
[{"$f":"IF(H2573<>\"\",SUBSTITUTE(UPPER(D2573& \"/ \"&E2573&\"/\"&H2573),\" \",\"\"),\"\")","v":""},{"$f":"IF(H2573<>\"\",IF(D2573<>\"\",D2573 & \", \" &E2573 &\" \" &F2573 &\", \" &G2573 &\", \" & H2573 & \" - Bedrooms: \" & C2573,E2573 &\" \" &F2573 &\", \" &G2573 &\", \" & H2573 & \" - Bedrooms: \" & C2573),\"\")","v":""}]
["",""]
["",""]
["",""]
["",""]
["",""]
["",""]
["",""]
["",""]
["",""]
["",""]
["",""]
["",""]
["",""]
["",""]
["",""]
["",""]
["",""]
["",""]
["",""]
["",""]
["",""]
["",""]
["",""]
["",""]
["",""]
["",""]
["",""]
["",""]
["",""]
["",""]
["",""]
["",""]
["",""]
["",""]
["",""]
["",""]
["",""]
["",""]
["",""]
["",""]
["",""]
["",""]
["",""]
["",""]
["",""]
["",""]
["",""]
["",""]
["",""]
["",""]
["",""]
["",""]
["",""]
["",""]
["",""]
["",""]
["",""]
["",""]
["",""]
["",""]
["",""]
["",""]
["",""]
[{"$f":"IF(H2637<>\"\",SUBSTITUTE(UPPER(D2637& \"/ \"&E2637&\"/\"&H2637),\" \",\"\"),\"\")","v":""},{"$f":"IF(H2637<>\"\",IF(D2637<>\"\",D2637 & \", \" &E2637 &\" \" &F2637 &\", \" &G2637 &\", \" & H2637 & \" - Bedrooms: \" & C2637,E2637 &\" \" &F2637 &\", \" &G2637 &\", \" & H2637 & \" - Bedrooms: \" & C2637),\"\")","v":""}]
["",""]
["",""]
["",""]
["",""]
["",""]
["",""]
["",""]
["",""]
["",""]
["",""]
["",""]
["",""]
["",""]
["",""]
["",""]
["",""]
["",""]
["",""]
["",""]
["",""]
["",""]
["",""]
["",""]
["",""]
["",""]
["",""]
["",""]
["",""]
["",""]
["",""]
["",""]
["",""]
["",""]
["",""]
["",""]
["",""]
["",""]
["",""]
["",""]
["",""]
["",""]
["",""]
["",""]
["",""]
["",""]
["",""]
["",""]
["",""]
["",""]
["",""]
["",""]
["",""]
["",""]
["",""]
["",""]
["",""]
["",""]
["",""]
["",""]
["",""]
["",""]
["",""]
["",""]
[{"$f":"IF(H2701<>\"\",SUBSTITUTE(UPPER(D2701& \"/ \"&E2701&\"/\"&H2701),\" \",\"\"),\"\")","v":""},{"$f":"IF(H2701<>\"\",IF(D2701<>\"\",D2701 & \", \" &E2701 &\" \" &F2701 &\", \" &G2701 &\", \" & H2701 & \" - Bedrooms: \" & C2701,E2701 &\" \" &F2701 &\", \" &G2701 &\", \" & H2701 & \" - Bedrooms: \" & C2701),\"\")","v":""}]
["",""]
["",""]
["",""]
["",""]
["",""]
["",""]
["",""]
["",""]
["",""]
["",""]
["",""]
["",""]
["",""]
["",""]
["",""]
["",""]
["",""]
["",""]
["",""]
["",""]
["",""]
["",""]
["",""]
["",""]
["",""]
["",""]
["",""]
["",""]
["",""]
["",""]
["",""]
["",""]
["",""]
["",""]
["",""]
["",""]
["",""]
["",""]
["",""]
["",""]
["",""]
["",""]
["",""]
["",""]
["",""]
["",""]
["",""]
["",""]
["",""]
["",""]
["",""]
["",""]
["",""]
["",""]
["",""]
["",""]
["",""]
["",""]
["",""]
["",""]
["",""]
["",""]
["",""]
[{"$f":"IF(H2765<>\"\",SUBSTITUTE(UPPER(D2765& \"/ \"&E2765&\"/\"&H2765),\" \",\"\"),\"\")","v":""},{"$f":"IF(H2765<>\"\",IF(D2765<>\"\",D2765 & \", \" &E2765 &\" \" &F2765 &\", \" &G2765 &\", \" & H2765 & \" - Bedrooms: \" & C2765,E2765 &\" \" &F2765 &\", \" &G2765 &\", \" & H2765 & \" - Bedrooms: \" & C2765),\"\")","v":""}]
["",""]
["",""]
["",""]
["",""]
["",""]
["",""]
["",""]
["",""]
["",""]
["",""]
["",""]
["",""]
["",""]
["",""]
["",""]
["",""]
["",""]
["",""]
["",""]
["",""]
["",""]
["",""]
["",""]
["",""]
["",""]
["",""]
["",""]
["",""]
["",""]
["",""]
["",""]
["",""]
["",""]
["",""]
["",""]
["",""]
["",""]
["",""]
["",""]
["",""]
["",""]
["",""]
["",""]
["",""]
["",""]
["",""]
["",""]
["",""]
["",""]
["",""]
["",""]
["",""]
["",""]
["",""]
["",""]
["",""]
["",""]
["",""]
["",""]
["",""]
["",""]
["",""]
["",""]
[{"$f":"IF(H2829<>\"\",SUBSTITUTE(UPPER(D2829& \"/ \"&E2829&\"/\"&H2829),\" \",\"\"),\"\")","v":""},{"$f":"IF(H2829<>\"\",IF(D2829<>\"\",D2829 & \", \" &E2829 &\" \" &F2829 &\", \" &G2829 &\", \" & H2829 & \" - Bedrooms: \" & C2829,E2829 &\" \" &F2829 &\", \" &G2829 &\", \" & H2829 & \" - Bedrooms: \" & C2829),\"\")","v":""}]
["",""]
["",""]
["",""]
["",""]
["",""]
["",""]
["",""]
["",""]
["",""]
["",""]
["",""]
["",""]
["",""]
["",""]
["",""]
["",""]
["",""]
["",""]
["",""]
["",""]
["",""]
["",""]
["",""]
["",""]
["",""]
["",""]
["",""]
["",""]
["",""]
["",""]
["",""]
["",""]
["",""]
["",""]
["",""]
["",""]
["",""]
["",""]
["",""]
["",""]
["",""]
["",""]
["",""]
["",""]
["",""]
["",""]
["",""]
["",""]
["",""]
["",""]
["",""]
["",""]
["",""]
["",""]
["",""]
["",""]
["",""]
["",""]
["",""]
["",""]
["",""]
["",""]
["",""]
[{"$f":"IF(H2893<>\"\",SUBSTITUTE(UPPER(D2893& \"/ \"&E2893&\"/\"&H2893),\" \",\"\"),\"\")","v":""},{"$f":"IF(H2893<>\"\",IF(D2893<>\"\",D2893 & \", \" &E2893 &\" \" &F2893 &\", \" &G2893 &\", \" & H2893 & \" - Bedrooms: \" & C2893,E2893 &\" \" &F2893 &\", \" &G2893 &\", \" & H2893 & \" - Bedrooms: \" & C2893),\"\")","v":""}]
["",""]
["",""]
["",""]
["",""]
["",""]
["",""]
["",""]
["",""]
["",""]
["",""]
["",""]
["",""]
["",""]
["",""]
["",""]
["",""]
["",""]
["",""]
["",""]
["",""]
["",""]
["",""]
["",""]
["",""]
["",""]
["",""]
["",""]
["",""]
["",""]
["",""]
["",""]
["",""]
["",""]
["",""]
["",""]
["",""]
["",""]
["",""]
["",""]
["",""]
["",""]
["",""]
["",""]
["",""]
["",""]
["",""]
["",""]
["",""]
["",""]
["",""]
["",""]
["",""]
["",""]
["",""]
["",""]
["",""]
["",""]
["",""]
["",""]
["",""]
["",""]
["",""]
["",""]
[{"$f":"IF(H2957<>\"\",SUBSTITUTE(UPPER(D2957& \"/ \"&E2957&\"/\"&H2957),\" \",\"\"),\"\")","v":""},{"$f":"IF(H2957<>\"\",IF(D2957<>\"\",D2957 & \", \" &E2957 &\" \" &F2957 &\", \" &G2957 &\", \" & H2957 & \" - Bedrooms: \" & C2957,E2957 &\" \" &F2957 &\", \" &G2957 &\", \" & H2957 & \" - Bedrooms: \" & C2957),\"\")","v":""}]
["",""]
["",""]
["",""]
["",""]
["",""]
["",""]
["",""]
["",""]
["",""]
["",""]
["",""]
["",""]
["",""]
["",""]
["",""]
["",""]
["",""]
["",""]
["",""]
["",""]
["",""]
["",""]
["",""]
["",""]
["",""]
["",""]
["",""]
["",""]
["",""]
["",""]
["",""]
["",""]
["",""]
["",""]
["",""]
["",""]
["",""]
["",""]
["",""]
["",""]
["",""]
["",""]
["",""]
["",""]
["",""]
["",""]
["",""]
["",""]
["",""]
["",""]
["",""]
["",""]
["",""]
["",""]
["",""]
["",""]
["",""]
["",""]
["",""]
["",""]
["",""]
["",""]
["",""]
[{"$f":"IF(H3021<>\"\",SUBSTITUTE(UPPER(D3021& \"/ \"&E3021&\"/\"&H3021),\" \",\"\"),\"\")","v":""},{"$f":"IF(H3021<>\"\",IF(D3021<>\"\",D3021 & \", \" &E3021 &\" \" &F3021 &\", \" &G3021 &\", \" & H3021 & \" - Bedrooms: \" & C3021,E3021 &\" \" &F3021 &\", \" &G3021 &\", \" & H3021 & \" - Bedrooms: \" & C3021),\"\")","v":""}]
["",""]
["",""]
["",""]
["",""]
["",""]
["",""]
["",""]
["",""]
["",""]
["",""]
["",""]
["",""]
["",""]
["",""]
["",""]
["",""]
["",""]
["",""]
["",""]
["",""]
["",""]
["",""]
["",""]
["",""]
["",""]
["",""]
["",""]
["",""]
["",""]
["",""]
["",""]
["",""]
["",""]
["",""]
["",""]
["",""]
["",""]
["",""]
["",""]
["",""]
["",""]
["",""]
["",""]
["",""]
["",""]
["",""]
["",""]
["",""]
["",""]
["",""]
["",""]
["",""]
["",""]
["",""]
["",""]
["",""]
["",""]
["",""]
["",""]
["",""]
["",""]
["",""]
["",""]
[{"$f":"IF(H3085<>\"\",SUBSTITUTE(UPPER(D3085& \"/ \"&E3085&\"/\"&H3085),\" \",\"\"),\"\")","v":""},{"$f":"IF(H3085<>\"\",IF(D3085<>\"\",D3085 & \", \" &E3085 &\" \" &F3085 &\", \" &G3085 &\", \" & H3085 & \" - Bedrooms: \" & C3085,E3085 &\" \" &F3085 &\", \" &G3085 &\", \" & H3085 & \" - Bedrooms: \" & C3085),\"\")","v":""}]
["",""]
["",""]
["",""]
["",""]
["",""]
["",""]
["",""]
["",""]
["",""]
["",""]
["",""]
["",""]
["",""]
["",""]
["",""]
["",""]
["",""]
["",""]
["",""]
["",""]
["",""]
["",""]
["",""]
["",""]
["",""]
["",""]
["",""]
["",""]
["",""]
["",""]
["",""]
["",""]
["",""]
["",""]
["",""]
["",""]
["",""]
["",""]
["",""]
["",""]
["",""]
["",""]
["",""]
["",""]
["",""]
["",""]
["",""]
["",""]
["",""]
["",""]
["",""]
["",""]
["",""]
["",""]
["",""]
["",""]
["",""]
["",""]
["",""]
["",""]
["",""]
["",""]
["",""]
[{"$f":"IF(H3149<>\"\",SUBSTITUTE(UPPER(D3149& \"/ \"&E3149&\"/\"&H3149),\" \",\"\"),\"\")","v":""},{"$f":"IF(H3149<>\"\",IF(D3149<>\"\",D3149 & \", \" &E3149 &\" \" &F3149 &\", \" &G3149 &\", \" & H3149 & \" - Bedrooms: \" & C3149,E3149 &\" \" &F3149 &\", \" &G3149 &\", \" & H3149 & \" - Bedrooms: \" & C3149),\"\")","v":""}]
["",""]
["",""]
["",""]
["",""]
["",""]
["",""]
["",""]
["",""]
["",""]
["",""]
["",""]
["",""]
["",""]
["",""]
["",""]
["",""]
["",""]
["",""]
["",""]
["",""]
["",""]
["",""]
["",""]
["",""]
["",""]
["",""]
["",""]
["",""]
["",""]
["",""]
["",""]
["",""]
["",""]
["",""]
["",""]
["",""]
["",""]
["",""]
["",""]
["",""]
["",""]
["",""]
["",""]
["",""]
["",""]
["",""]
["",""]
["",""]
["",""]
["",""]
["",""]
["",""]
["",""]
["",""]
["",""]
["",""]
["",""]
["",""]
["",""]
["",""]
["",""]
["",""]
["",""]
[{"$f":"IF(H3213<>\"\",SUBSTITUTE(UPPER(D3213& \"/ \"&E3213&\"/\"&H3213),\" \",\"\"),\"\")","v":""},{"$f":"IF(H3213<>\"\",IF(D3213<>\"\",D3213 & \", \" &E3213 &\" \" &F3213 &\", \" &G3213 &\", \" & H3213 & \" - Bedrooms: \" & C3213,E3213 &\" \" &F3213 &\", \" &G3213 &\", \" & H3213 & \" - Bedrooms: \" & C3213),\"\")","v":""}]
["",""]
["",""]
["",""]
["",""]
["",""]
["",""]
["",""]
["",""]
["",""]
["",""]
["",""]
["",""]
["",""]
["",""]
["",""]
["",""]
["",""]
["",""]
["",""]
["",""]
["",""]
["",""]
["",""]
["",""]
["",""]
["",""]
["",""]
["",""]
["",""]
["",""]
["",""]
["",""]
["",""]
["",""]
["",""]
["",""]
["",""]
["",""]
["",""]
["",""]
["",""]
["",""]
["",""]
["",""]
["",""]
["",""]
["",""]
["",""]
["",""]
["",""]
["",""]
["",""]
["",""]
["",""]
["",""]
["",""]
["",""]
["",""]
["",""]
["",""]
["",""]
["",""]
["",""]
[{"$f":"IF(H3277<>\"\",SUBSTITUTE(UPPER(D3277& \"/ \"&E3277&\"/\"&H3277),\" \",\"\"),\"\")","v":""},{"$f":"IF(H3277<>\"\",IF(D3277<>\"\",D3277 & \", \" &E3277 &\" \" &F3277 &\", \" &G3277 &\", \" & H3277 & \" - Bedrooms: \" & C3277,E3277 &\" \" &F3277 &\", \" &G3277 &\", \" & H3277 & \" - Bedrooms: \" & C3277),\"\")","v":""}]
["",""]
["",""]
["",""]
["",""]
["",""]
["",""]
["",""]
["",""]
["",""]
["",""]
["",""]
["",""]
["",""]
["",""]
["",""]
["",""]
["",""]
["",""]
["",""]
["",""]
["",""]
["",""]
["",""]
["",""]
["",""]
["",""]
["",""]
["",""]
["",""]
["",""]
["",""]
["",""]
["",""]
["",""]
["",""]
["",""]
["",""]
["",""]
["",""]
["",""]
["",""]
["",""]
["",""]
["",""]
["",""]
["",""]
["",""]
["",""]
["",""]
["",""]
["",""]
["",""]
["",""]
["",""]
["",""]
["",""]
["",""]
["",""]
["",""]
["",""]
["",""]
["",""]
["",""]
[{"$f":"IF(H3341<>\"\",SUBSTITUTE(UPPER(D3341& \"/ \"&E3341&\"/\"&H3341),\" \",\"\"),\"\")","v":""},{"$f":"IF(H3341<>\"\",IF(D3341<>\"\",D3341 & \", \" &E3341 &\" \" &F3341 &\", \" &G3341 &\", \" & H3341 & \" - Bedrooms: \" & C3341,E3341 &\" \" &F3341 &\", \" &G3341 &\", \" & H3341 & \" - Bedrooms: \" & C3341),\"\")","v":""}]
["",""]
["",""]
["",""]
["",""]
["",""]
["",""]
["",""]
["",""]
["",""]
["",""]
["",""]
["",""]
["",""]
["",""]
["",""]
["",""]
["",""]
["",""]
["",""]
["",""]
["",""]
["",""]
["",""]
["",""]
["",""]
["",""]
["",""]
["",""]
["",""]
["",""]
["",""]
["",""]
["",""]
["",""]
["",""]
["",""]
["",""]
["",""]
["",""]
["",""]
["",""]
["",""]
["",""]
["",""]
["",""]
["",""]
["",""]
["",""]
["",""]
["",""]
["",""]
["",""]
["",""]
["",""]
["",""]
["",""]
["",""]
["",""]
["",""]
["",""]
["",""]
["",""]
["",""]
[{"$f":"IF(H3405<>\"\",SUBSTITUTE(UPPER(D3405& \"/ \"&E3405&\"/\"&H3405),\" \",\"\"),\"\")","v":""},{"$f":"IF(H3405<>\"\",IF(D3405<>\"\",D3405 & \", \" &E3405 &\" \" &F3405 &\", \" &G3405 &\", \" & H3405 & \" - Bedrooms: \" & C3405,E3405 &\" \" &F3405 &\", \" &G3405 &\", \" & H3405 & \" - Bedrooms: \" & C3405),\"\")","v":""}]
["",""]
["",""]
["",""]
["",""]
["",""]
["",""]
["",""]
["",""]
["",""]
["",""]
["",""]
["",""]
["",""]
["",""]
["",""]
["",""]
["",""]
["",""]
["",""]
["",""]
["",""]
["",""]
["",""]
["",""]
["",""]
["",""]
["",""]
["",""]
["",""]
["",""]
["",""]
["",""]
["",""]
["",""]
["",""]
["",""]
["",""]
["",""]
["",""]
["",""]
["",""]
["",""]
["",""]
["",""]
["",""]
["",""]
["",""]
["",""]
["",""]
["",""]
["",""]
["",""]
["",""]
["",""]
["",""]
["",""]
["",""]
["",""]
["",""]
["",""]
["",""]
["",""]
["",""]
[{"$f":"IF(H3469<>\"\",SUBSTITUTE(UPPER(D3469& \"/ \"&E3469&\"/\"&H3469),\" \",\"\"),\"\")","v":""},{"$f":"IF(H3469<>\"\",IF(D3469<>\"\",D3469 & \", \" &E3469 &\" \" &F3469 &\", \" &G3469 &\", \" & H3469 & \" - Bedrooms: \" & C3469,E3469 &\" \" &F3469 &\", \" &G3469 &\", \" & H3469 & \" - Bedrooms: \" & C3469),\"\")","v":""}]
["",""]
["",""]
["",""]
["",""]
["",""]
["",""]
["",""]
["",""]
["",""]
["",""]
["",""]
["",""]
["",""]
["",""]
["",""]
["",""]
["",""]
["",""]
["",""]
["",""]
["",""]
["",""]
["",""]
["",""]
["",""]
["",""]
["",""]
["",""]
["",""]
["",""]
["",""]
["",""]
["",""]
["",""]
["",""]
["",""]
["",""]
["",""]
["",""]
["",""]
["",""]
["",""]
["",""]
["",""]
["",""]
["",""]
["",""]
["",""]
["",""]
["",""]
["",""]
["",""]
["",""]
["",""]
["",""]
["",""]
["",""]
["",""]
["",""]
["",""]
["",""]
["",""]
["",""]
[{"$f":"IF(H3533<>\"\",SUBSTITUTE(UPPER(D3533& \"/ \"&E3533&\"/\"&H3533),\" \",\"\"),\"\")","v":""},{"$f":"IF(H3533<>\"\",IF(D3533<>\"\",D3533 & \", \" &E3533 &\" \" &F3533 &\", \" &G3533 &\", \" & H3533 & \" - Bedrooms: \" & C3533,E3533 &\" \" &F3533 &\", \" &G3533 &\", \" & H3533 & \" - Bedrooms: \" & C3533),\"\")","v":""}]
["",""]
["",""]
["",""]
["",""]
["",""]
["",""]
["",""]
["",""]
["",""]
["",""]
["",""]
["",""]
["",""]
["",""]
["",""]
["",""]
["",""]
["",""]
["",""]
["",""]
["",""]
["",""]
["",""]
["",""]
["",""]
["",""]
["",""]
["",""]
["",""]
["",""]
["",""]
["",""]
["",""]
["",""]
["",""]
["",""]
["",""]
["",""]
["",""]
["",""]
["",""]
["",""]
["",""]
["",""]
["",""]
["",""]
["",""]
["",""]
["",""]
["",""]
["",""]
["",""]
["",""]
["",""]
["",""]
["",""]
["",""]
["",""]
["",""]
["",""]
["",""]
["",""]
["",""]
[{"$f":"IF(H3597<>\"\",SUBSTITUTE(UPPER(D3597& \"/ \"&E3597&\"/\"&H3597),\" \",\"\"),\"\")","v":""},{"$f":"IF(H3597<>\"\",IF(D3597<>\"\",D3597 & \", \" &E3597 &\" \" &F3597 &\", \" &G3597 &\", \" & H3597 & \" - Bedrooms: \" & C3597,E3597 &\" \" &F3597 &\", \" &G3597 &\", \" & H3597 & \" - Bedrooms: \" & C3597),\"\")","v":""}]
["",""]
["",""]
["",""]
["",""]
["",""]
["",""]
["",""]
["",""]
["",""]
["",""]
["",""]
["",""]
["",""]
["",""]
["",""]
["",""]
["",""]
["",""]
["",""]
["",""]
["",""]
["",""]
["",""]
["",""]
["",""]
["",""]
["",""]
["",""]
["",""]
["",""]
["",""]
["",""]
["",""]
["",""]
["",""]
["",""]
["",""]
["",""]
["",""]
["",""]
["",""]
["",""]
["",""]
["",""]
["",""]
["",""]
["",""]
["",""]
["",""]
["",""]
["",""]
["",""]
["",""]
["",""]
["",""]
["",""]
["",""]
["",""]
["",""]
["",""]
["",""]
["",""]
["",""]
[{"$f":"IF(H3661<>\"\",SUBSTITUTE(UPPER(D3661& \"/ \"&E3661&\"/\"&H3661),\" \",\"\"),\"\")","v":""},{"$f":"IF(H3661<>\"\",IF(D3661<>\"\",D3661 & \", \" &E3661 &\" \" &F3661 &\", \" &G3661 &\", \" & H3661 & \" - Bedrooms: \" & C3661,E3661 &\" \" &F3661 &\", \" &G3661 &\", \" & H3661 & \" - Bedrooms: \" & C3661),\"\")","v":""}]
["",""]
["",""]
["",""]
["",""]
["",""]
["",""]
["",""]
["",""]
["",""]
["",""]
["",""]
["",""]
["",""]
["",""]
["",""]
["",""]
["",""]
["",""]
["",""]
["",""]
["",""]
["",""]
["",""]
["",""]
["",""]
["",""]
["",""]
["",""]
["",""]
["",""]
["",""]
["",""]
["",""]
["",""]
["",""]
["",""]
["",""]
["",""]
["",""]
["",""]
["",""]
["",""]
["",""]
["",""]
["",""]
["",""]
["",""]
["",""]
["",""]
["",""]
["",""]
["",""]
["",""]
["",""]
["",""]
["",""]
["",""]
["",""]
["",""]
["",""]
["",""]
["",""]
["",""]
[{"$f":"IF(H3725<>\"\",SUBSTITUTE(UPPER(D3725& \"/ \"&E3725&\"/\"&H3725),\" \",\"\"),\"\")","v":""},{"$f":"IF(H3725<>\"\",IF(D3725<>\"\",D3725 & \", \" &E3725 &\" \" &F3725 &\", \" &G3725 &\", \" & H3725 & \" - Bedrooms: \" & C3725,E3725 &\" \" &F3725 &\", \" &G3725 &\", \" & H3725 & \" - Bedrooms: \" & C3725),\"\")","v":""}]
["",""]
["",""]
["",""]
["",""]
["",""]
["",""]
["",""]
["",""]
["",""]
["",""]
["",""]
["",""]
["",""]
["",""]
["",""]
["",""]
["",""]
["",""]
["",""]
["",""]
["",""]
["",""]
["",""]
["",""]
["",""]
["",""]
["",""]
["",""]
["",""]
["",""]
["",""]
["",""]
["",""]
["",""]
["",""]
["",""]
["",""]
["",""]
["",""]
["",""]
["",""]
["",""]
["",""]
["",""]
["",""]
["",""]
["",""]
["",""]
["",""]
["",""]
["",""]
["",""]
["",""]
["",""]
["",""]
["",""]
["",""]
["",""]
["",""]
["",""]
["",""]
["",""]
["",""]
[{"$f":"IF(H3789<>\"\",SUBSTITUTE(UPPER(D3789& \"/ \"&E3789&\"/\"&H3789),\" \",\"\"),\"\")","v":""},{"$f":"IF(H3789<>\"\",IF(D3789<>\"\",D3789 & \", \" &E3789 &\" \" &F3789 &\", \" &G3789 &\", \" & H3789 & \" - Bedrooms: \" & C3789,E3789 &\" \" &F3789 &\", \" &G3789 &\", \" & H3789 & \" - Bedrooms: \" & C3789),\"\")","v":""}]
["",""]
["",""]
["",""]
["",""]
["",""]
["",""]
["",""]
["",""]
["",""]
["",""]
["",""]
["",""]
["",""]
["",""]
["",""]
["",""]
["",""]
["",""]
["",""]
["",""]
["",""]
["",""]
["",""]
["",""]
["",""]
["",""]
["",""]
["",""]
["",""]
["",""]
["",""]
["",""]
["",""]
["",""]
["",""]
["",""]
["",""]
["",""]
["",""]
["",""]
["",""]
["",""]
["",""]
["",""]
["",""]
["",""]
["",""]
["",""]
["",""]
["",""]
["",""]
["",""]
["",""]
["",""]
["",""]
["",""]
["",""]
["",""]
["",""]
["",""]
["",""]
["",""]
["",""]
[{"$f":"IF(H3853<>\"\",SUBSTITUTE(UPPER(D3853& \"/ \"&E3853&\"/\"&H3853),\" \",\"\"),\"\")","v":""},{"$f":"IF(H3853<>\"\",IF(D3853<>\"\",D3853 & \", \" &E3853 &\" \" &F3853 &\", \" &G3853 &\", \" & H3853 & \" - Bedrooms: \" & C3853,E3853 &\" \" &F3853 &\", \" &G3853 &\", \" & H3853 & \" - Bedrooms: \" & C3853),\"\")","v":""}]
["",""]
["",""]
["",""]
["",""]
["",""]
["",""]
["",""]
["",""]
["",""]
["",""]
["",""]
["",""]
["",""]
["",""]
["",""]
["",""]
["",""]
["",""]
["",""]
["",""]
["",""]
["",""]
["",""]
["",""]
["",""]
["",""]
["",""]
["",""]
["",""]
["",""]
["",""]
["",""]
["",""]
["",""]
["",""]
["",""]
["",""]
["",""]
["",""]
["",""]
["",""]
["",""]
["",""]
["",""]
["",""]
["",""]
["",""]
["",""]
["",""]
["",""]
["",""]
["",""]
["",""]
["",""]
["",""]
["",""]
["",""]
["",""]
["",""]
["",""]
["",""]
["",""]
["",""]
[{"$f":"IF(H3917<>\"\",SUBSTITUTE(UPPER(D3917& \"/ \"&E3917&\"/\"&H3917),\" \",\"\"),\"\")","v":""},{"$f":"IF(H3917<>\"\",IF(D3917<>\"\",D3917 & \", \" &E3917 &\" \" &F3917 &\", \" &G3917 &\", \" & H3917 & \" - Bedrooms: \" & C3917,E3917 &\" \" &F3917 &\", \" &G3917 &\", \" & H3917 & \" - Bedrooms: \" & C3917),\"\")","v":""}]
["",""]
["",""]
["",""]
["",""]
["",""]
["",""]
["",""]
["",""]
["",""]
["",""]
["",""]
["",""]
["",""]
["",""]
["",""]
["",""]
["",""]
["",""]
["",""]
["",""]
["",""]
["",""]
["",""]
["",""]
["",""]
["",""]
["",""]
["",""]
["",""]
["",""]
["",""]
["",""]
["",""]
["",""]
["",""]
["",""]
["",""]
["",""]
["",""]
["",""]
["",""]
["",""]
["",""]
["",""]
["",""]
["",""]
["",""]
["",""]
["",""]
["",""]
["",""]
["",""]
["",""]
["",""]
["",""]
["",""]
["",""]
["",""]
["",""]
["",""]
["",""]
["",""]
["",""]
[{"$f":"IF(H3981<>\"\",SUBSTITUTE(UPPER(D3981& \"/ \"&E3981&\"/\"&H3981),\" \",\"\"),\"\")","v":""},{"$f":"IF(H3981<>\"\",IF(D3981<>\"\",D3981 & \", \" &E3981 &\" \" &F3981 &\", \" &G3981 &\", \" & H3981 & \" - Bedrooms: \" & C3981,E3981 &\" \" &F3981 &\", \" &G3981 &\", \" & H3981 & \" - Bedrooms: \" & C3981),\"\")","v":""}]
["",""]
["",""]
["",""]
["",""]
["",""]
["",""]
["",""]
["",""]
["",""]
["",""]
["",""]
["",""]
["",""]
["",""]
["",""]
["",""]
["",""]
["",""]
["",""]
["",""]
["",""]
["",""]
["",""]
["",""]
["",""]
["",""]
["",""]
["",""]
["",""]
["",""]
["",""]
["",""]
["",""]
["",""]
["",""]
["",""]
["",""]
["",""]
["",""]
["",""]
["",""]
["",""]
["",""]
["",""]
["",""]
["",""]
["",""]
["",""]
["",""]
["",""]
["",""]
["",""]
["",""]
["",""]
["",""]
["",""]
["",""]
["",""]
["",""]
["",""]
["",""]
["",""]
["",""]
[{"$f":"IF(H4045<>\"\",SUBSTITUTE(UPPER(D4045& \"/ \"&E4045&\"/\"&H4045),\" \",\"\"),\"\")","v":""},{"$f":"IF(H4045<>\"\",IF(D4045<>\"\",D4045 & \", \" &E4045 &\" \" &F4045 &\", \" &G4045 &\", \" & H4045 & \" - Bedrooms: \" & C4045,E4045 &\" \" &F4045 &\", \" &G4045 &\", \" & H4045 & \" - Bedrooms: \" & C4045),\"\")","v":""}]
["",""]
["",""]
["",""]
["",""]
["",""]
["",""]
["",""]
["",""]
["",""]
["",""]
["",""]
["",""]
["",""]
["",""]
["",""]
["",""]
["",""]
["",""]
["",""]
["",""]
["",""]
["",""]
["",""]
["",""]
["",""]
["",""]
["",""]
["",""]
["",""]
["",""]
["",""]
["",""]
["",""]
["",""]
["",""]
["",""]
["",""]
["",""]
["",""]
["",""]
["",""]
["",""]
["",""]
["",""]
["",""]
["",""]
["",""]
["",""]
["",""]
["",""]
["",""]
["",""]
["",""]
["",""]
["",""]
["",""]
["",""]
["",""]
["",""]
["",""]
["",""]
["",""]
["",""]
[{"$f":"IF(H4109<>\"\",SUBSTITUTE(UPPER(D4109& \"/ \"&E4109&\"/\"&H4109),\" \",\"\"),\"\")","v":""},{"$f":"IF(H4109<>\"\",IF(D4109<>\"\",D4109 & \", \" &E4109 &\" \" &F4109 &\", \" &G4109 &\", \" & H4109 & \" - Bedrooms: \" & C4109,E4109 &\" \" &F4109 &\", \" &G4109 &\", \" & H4109 & \" - Bedrooms: \" & C4109),\"\")","v":""}]
["",""]
["",""]
["",""]
["",""]
["",""]
["",""]
["",""]
["",""]
["",""]
["",""]
["",""]
["",""]
["",""]
["",""]
["",""]
["",""]
["",""]
["",""]
["",""]
["",""]
["",""]
["",""]
["",""]
["",""]
["",""]
["",""]
["",""]
["",""]
["",""]
["",""]
["",""]
["",""]
["",""]
["",""]
["",""]
["",""]
["",""]
["",""]
["",""]
["",""]
["",""]
["",""]
["",""]
["",""]
["",""]
["",""]
["",""]
["",""]
["",""]
["",""]
["",""]
["",""]
["",""]
["",""]
["",""]
["",""]
["",""]
["",""]
["",""]
["",""]
["",""]
["",""]
["",""]
[{"$f":"IF(H4173<>\"\",SUBSTITUTE(UPPER(D4173& \"/ \"&E4173&\"/\"&H4173),\" \",\"\"),\"\")","v":""},{"$f":"IF(H4173<>\"\",IF(D4173<>\"\",D4173 & \", \" &E4173 &\" \" &F4173 &\", \" &G4173 &\", \" & H4173 & \" - Bedrooms: \" & C4173,E4173 &\" \" &F4173 &\", \" &G4173 &\", \" & H4173 & \" - Bedrooms: \" & C4173),\"\")","v":""}]
["",""]
["",""]
["",""]
["",""]
["",""]
["",""]
["",""]
["",""]
["",""]
["",""]
["",""]
["",""]
["",""]
["",""]
["",""]
["",""]
["",""]
["",""]
["",""]
["",""]
["",""]
["",""]
["",""]
["",""]
["",""]
["",""]
["",""]
["",""]
["",""]
["",""]
["",""]
["",""]
["",""]
["",""]
["",""]
["",""]
["",""]
["",""]
["",""]
["",""]
["",""]
["",""]
["",""]
["",""]
["",""]
["",""]
["",""]
["",""]
["",""]
["",""]
["",""]
["",""]
["",""]
["",""]
["",""]
["",""]
["",""]
["",""]
["",""]
["",""]
["",""]
["",""]
["",""]
[{"$f":"IF(H4237<>\"\",SUBSTITUTE(UPPER(D4237& \"/ \"&E4237&\"/\"&H4237),\" \",\"\"),\"\")","v":""},{"$f":"IF(H4237<>\"\",IF(D4237<>\"\",D4237 & \", \" &E4237 &\" \" &F4237 &\", \" &G4237 &\", \" & H4237 & \" - Bedrooms: \" & C4237,E4237 &\" \" &F4237 &\", \" &G4237 &\", \" & H4237 & \" - Bedrooms: \" & C4237),\"\")","v":""}]
["",""]
["",""]
["",""]
["",""]
["",""]
["",""]
["",""]
["",""]
["",""]
["",""]
["",""]
["",""]
["",""]
["",""]
["",""]
["",""]
["",""]
["",""]
["",""]
["",""]
["",""]
["",""]
["",""]
["",""]
["",""]
["",""]
["",""]
["",""]
["",""]
["",""]
["",""]
["",""]
["",""]
["",""]
["",""]
["",""]
["",""]
["",""]
["",""]
["",""]
["",""]
["",""]
["",""]
["",""]
["",""]
["",""]
["",""]
["",""]
["",""]
["",""]
["",""]
["",""]
["",""]
["",""]
["",""]
["",""]
["",""]
["",""]
["",""]
["",""]
["",""]
["",""]
["",""]
[{"$f":"IF(H4301<>\"\",SUBSTITUTE(UPPER(D4301& \"/ \"&E4301&\"/\"&H4301),\" \",\"\"),\"\")","v":""},{"$f":"IF(H4301<>\"\",IF(D4301<>\"\",D4301 & \", \" &E4301 &\" \" &F4301 &\", \" &G4301 &\", \" & H4301 & \" - Bedrooms: \" & C4301,E4301 &\" \" &F4301 &\", \" &G4301 &\", \" & H4301 & \" - Bedrooms: \" & C4301),\"\")","v":""}]
["",""]
["",""]
["",""]
["",""]
["",""]
["",""]
["",""]
["",""]
["",""]
["",""]
["",""]
["",""]
["",""]
["",""]
["",""]
["",""]
["",""]
["",""]
["",""]
["",""]
["",""]
["",""]
["",""]
["",""]
["",""]
["",""]
["",""]
["",""]
["",""]
["",""]
["",""]
["",""]
["",""]
["",""]
["",""]
["",""]
["",""]
["",""]
["",""]
["",""]
["",""]
["",""]
["",""]
["",""]
["",""]
["",""]
["",""]
["",""]
["",""]
["",""]
["",""]
["",""]
["",""]
["",""]
["",""]
["",""]
["",""]
["",""]
["",""]
["",""]
["",""]
["",""]
["",""]
[{"$f":"IF(H4365<>\"\",SUBSTITUTE(UPPER(D4365& \"/ \"&E4365&\"/\"&H4365),\" \",\"\"),\"\")","v":""},{"$f":"IF(H4365<>\"\",IF(D4365<>\"\",D4365 & \", \" &E4365 &\" \" &F4365 &\", \" &G4365 &\", \" & H4365 & \" - Bedrooms: \" & C4365,E4365 &\" \" &F4365 &\", \" &G4365 &\", \" & H4365 & \" - Bedrooms: \" & C4365),\"\")","v":""}]
["",""]
["",""]
["",""]
["",""]
["",""]
["",""]
["",""]
["",""]
["",""]
["",""]
["",""]
["",""]
["",""]
["",""]
["",""]
["",""]
["",""]
["",""]
["",""]
["",""]
["",""]
["",""]
["",""]
["",""]
["",""]
["",""]
["",""]
["",""]
["",""]
["",""]
["",""]
["",""]
["",""]
["",""]
["",""]
["",""]
["",""]
["",""]
["",""]
["",""]
["",""]
["",""]
["",""]
["",""]
["",""]
["",""]
["",""]
["",""]
["",""]
["",""]
["",""]
["",""]
["",""]
["",""]
["",""]
["",""]
["",""]
["",""]
["",""]
["",""]
["",""]
["",""]
["",""]
[{"$f":"IF(H4429<>\"\",SUBSTITUTE(UPPER(D4429& \"/ \"&E4429&\"/\"&H4429),\" \",\"\"),\"\")","v":""},{"$f":"IF(H4429<>\"\",IF(D4429<>\"\",D4429 & \", \" &E4429 &\" \" &F4429 &\", \" &G4429 &\", \" & H4429 & \" - Bedrooms: \" & C4429,E4429 &\" \" &F4429 &\", \" &G4429 &\", \" & H4429 & \" - Bedrooms: \" & C4429),\"\")","v":""}]
["",""]
["",""]
["",""]
["",""]
["",""]
["",""]
["",""]
["",""]
["",""]
["",""]
["",""]
["",""]
["",""]
["",""]
["",""]
["",""]
["",""]
["",""]
["",""]
["",""]
["",""]
["",""]
["",""]
["",""]
["",""]
["",""]
["",""]
["",""]
["",""]
["",""]
["",""]
["",""]
["",""]
["",""]
["",""]
["",""]
["",""]
["",""]
["",""]
["",""]
["",""]
["",""]
["",""]
["",""]
["",""]
["",""]
["",""]
["",""]
["",""]
["",""]
["",""]
["",""]
["",""]
["",""]
["",""]
["",""]
["",""]
["",""]
["",""]
["",""]
["",""]
["",""]
["",""]
[{"$f":"IF(H4493<>\"\",SUBSTITUTE(UPPER(D4493& \"/ \"&E4493&\"/\"&H4493),\" \",\"\"),\"\")","v":""},{"$f":"IF(H4493<>\"\",IF(D4493<>\"\",D4493 & \", \" &E4493 &\" \" &F4493 &\", \" &G4493 &\", \" & H4493 & \" - Bedrooms: \" & C4493,E4493 &\" \" &F4493 &\", \" &G4493 &\", \" & H4493 & \" - Bedrooms: \" & C4493),\"\")","v":""}]
["",""]
["",""]
["",""]
["",""]
["",""]
["",""]
["",""]
["",""]
["",""]
["",""]
["",""]
["",""]
["",""]
["",""]
["",""]
["",""]
["",""]
["",""]
["",""]
["",""]
["",""]
["",""]
["",""]
["",""]
["",""]
["",""]
["",""]
["",""]
["",""]
["",""]
["",""]
["",""]
["",""]
["",""]
["",""]
["",""]
["",""]
["",""]
["",""]
["",""]
["",""]
["",""]
["",""]
["",""]
["",""]
["",""]
["",""]
["",""]
["",""]
["",""]
["",""]
["",""]
["",""]
["",""]
["",""]
["",""]
["",""]
["",""]
["",""]
["",""]
["",""]
["",""]
["",""]
[{"$f":"IF(H4557<>\"\",SUBSTITUTE(UPPER(D4557& \"/ \"&E4557&\"/\"&H4557),\" \",\"\"),\"\")","v":""},{"$f":"IF(H4557<>\"\",IF(D4557<>\"\",D4557 & \", \" &E4557 &\" \" &F4557 &\", \" &G4557 &\", \" & H4557 & \" - Bedrooms: \" & C4557,E4557 &\" \" &F4557 &\", \" &G4557 &\", \" & H4557 & \" - Bedrooms: \" & C4557),\"\")","v":""}]
["",""]
["",""]
["",""]
["",""]
["",""]
["",""]
["",""]
["",""]
["",""]
["",""]
["",""]
["",""]
["",""]
["",""]
["",""]
["",""]
["",""]
["",""]
["",""]
["",""]
["",""]
["",""]
["",""]
["",""]
["",""]
["",""]
["",""]
["",""]
["",""]
["",""]
["",""]
["",""]
["",""]
["",""]
["",""]
["",""]
["",""]
["",""]
["",""]
["",""]
["",""]
["",""]
["",""]
["",""]
["",""]
["",""]
["",""]
["",""]
["",""]
["",""]
["",""]
["",""]
["",""]
["",""]
["",""]
["",""]
["",""]
["",""]
["",""]
["",""]
["",""]
["",""]
["",""]
[{"$f":"IF(H4621<>\"\",SUBSTITUTE(UPPER(D4621& \"/ \"&E4621&\"/\"&H4621),\" \",\"\"),\"\")","v":""},{"$f":"IF(H4621<>\"\",IF(D4621<>\"\",D4621 & \", \" &E4621 &\" \" &F4621 &\", \" &G4621 &\", \" & H4621 & \" - Bedrooms: \" & C4621,E4621 &\" \" &F4621 &\", \" &G4621 &\", \" & H4621 & \" - Bedrooms: \" & C4621),\"\")","v":""}]
["",""]
["",""]
["",""]
["",""]
["",""]
["",""]
["",""]
["",""]
["",""]
["",""]
["",""]
["",""]
["",""]
["",""]
["",""]
["",""]
["",""]
["",""]
["",""]
["",""]
["",""]
["",""]
["",""]
["",""]
["",""]
["",""]
["",""]
["",""]
["",""]
["",""]
["",""]
["",""]
["",""]
["",""]
["",""]
["",""]
["",""]
["",""]
["",""]
["",""]
["",""]
["",""]
["",""]
["",""]
["",""]
["",""]
["",""]
["",""]
["",""]
["",""]
["",""]
["",""]
["",""]
["",""]
["",""]
["",""]
["",""]
["",""]
["",""]
["",""]
["",""]
["",""]
["",""]
[{"$f":"IF(H4685<>\"\",SUBSTITUTE(UPPER(D4685& \"/ \"&E4685&\"/\"&H4685),\" \",\"\"),\"\")","v":""},{"$f":"IF(H4685<>\"\",IF(D4685<>\"\",D4685 & \", \" &E4685 &\" \" &F4685 &\", \" &G4685 &\", \" & H4685 & \" - Bedrooms: \" & C4685,E4685 &\" \" &F4685 &\", \" &G4685 &\", \" & H4685 & \" - Bedrooms: \" & C4685),\"\")","v":""}]
["",""]
["",""]
["",""]
["",""]
["",""]
["",""]
["",""]
["",""]
["",""]
["",""]
["",""]
["",""]
["",""]
["",""]
["",""]
["",""]
["",""]
["",""]
["",""]
["",""]
["",""]
["",""]
["",""]
["",""]
["",""]
["",""]
["",""]
["",""]
["",""]
["",""]
["",""]
["",""]
["",""]
["",""]
["",""]
["",""]
["",""]
["",""]
["",""]
["",""]
["",""]
["",""]
["",""]
["",""]
["",""]
["",""]
["",""]
["",""]
["",""]
["",""]
["",""]
["",""]
["",""]
["",""]
["",""]
["",""]
["",""]
["",""]
["",""]
["",""]
["",""]
["",""]
["",""]
[{"$f":"IF(H4749<>\"\",SUBSTITUTE(UPPER(D4749& \"/ \"&E4749&\"/\"&H4749),\" \",\"\"),\"\")","v":""},{"$f":"IF(H4749<>\"\",IF(D4749<>\"\",D4749 & \", \" &E4749 &\" \" &F4749 &\", \" &G4749 &\", \" & H4749 & \" - Bedrooms: \" & C4749,E4749 &\" \" &F4749 &\", \" &G4749 &\", \" & H4749 & \" - Bedrooms: \" & C4749),\"\")","v":""}]
["",""]
["",""]
["",""]
["",""]
["",""]
["",""]
["",""]
["",""]
["",""]
["",""]
["",""]
["",""]
["",""]
["",""]
["",""]
["",""]
["",""]
["",""]
["",""]
["",""]
["",""]
["",""]
["",""]
["",""]
["",""]
["",""]
["",""]
["",""]
["",""]
["",""]
["",""]
["",""]
["",""]
["",""]
["",""]
["",""]
["",""]
["",""]
["",""]
["",""]
["",""]
["",""]
["",""]
["",""]
["",""]
["",""]
["",""]
["",""]
["",""]
["",""]
["",""]
["",""]
["",""]
["",""]
["",""]
["",""]
["",""]
["",""]
["",""]
["",""]
["",""]
["",""]
["",""]
[{"$f":"IF(H4813<>\"\",SUBSTITUTE(UPPER(D4813& \"/ \"&E4813&\"/\"&H4813),\" \",\"\"),\"\")","v":""},{"$f":"IF(H4813<>\"\",IF(D4813<>\"\",D4813 & \", \" &E4813 &\" \" &F4813 &\", \" &G4813 &\", \" & H4813 & \" - Bedrooms: \" & C4813,E4813 &\" \" &F4813 &\", \" &G4813 &\", \" & H4813 & \" - Bedrooms: \" & C4813),\"\")","v":""}]
["",""]
["",""]
["",""]
["",""]
["",""]
["",""]
["",""]
["",""]
["",""]
["",""]
["",""]
["",""]
["",""]
["",""]
["",""]
["",""]
["",""]
["",""]
["",""]
["",""]
["",""]
["",""]
["",""]
["",""]
["",""]
["",""]
["",""]
["",""]
["",""]
["",""]
["",""]
["",""]
["",""]
["",""]
["",""]
["",""]
["",""]
["",""]
["",""]
["",""]
["",""]
["",""]
["",""]
["",""]
["",""]
["",""]
["",""]
["",""]
["",""]
["",""]
["",""]
["",""]
["",""]
["",""]
["",""]
["",""]
["",""]
["",""]
["",""]
["",""]
["",""]
["",""]
["",""]
[{"$f":"IF(H4877<>\"\",SUBSTITUTE(UPPER(D4877& \"/ \"&E4877&\"/\"&H4877),\" \",\"\"),\"\")","v":""},{"$f":"IF(H4877<>\"\",IF(D4877<>\"\",D4877 & \", \" &E4877 &\" \" &F4877 &\", \" &G4877 &\", \" & H4877 & \" - Bedrooms: \" & C4877,E4877 &\" \" &F4877 &\", \" &G4877 &\", \" & H4877 & \" - Bedrooms: \" & C4877),\"\")","v":""}]
["",""]
["",""]
["",""]
["",""]
["",""]
["",""]
["",""]
["",""]
["",""]
["",""]
["",""]
["",""]
["",""]
["",""]
["",""]
["",""]
["",""]
["",""]
["",""]
["",""]
["",""]
["",""]
["",""]
["",""]
["",""]
["",""]
["",""]
["",""]
["",""]
["",""]
["",""]
["",""]
["",""]
["",""]
["",""]
["",""]
["",""]
["",""]
["",""]
["",""]
["",""]
["",""]
["",""]
["",""]
["",""]
["",""]
["",""]
["",""]
["",""]
["",""]
["",""]
["",""]
["",""]
["",""]
["",""]
["",""]
["",""]
["",""]
["",""]
["",""]
["",""]
["",""]
["",""]
[{"$f":"IF(H4941<>\"\",SUBSTITUTE(UPPER(D4941& \"/ \"&E4941&\"/\"&H4941),\" \",\"\"),\"\")","v":""},{"$f":"IF(H4941<>\"\",IF(D4941<>\"\",D4941 & \", \" &E4941 &\" \" &F4941 &\", \" &G4941 &\", \" & H4941 & \" - Bedrooms: \" & C4941,E4941 &\" \" &F4941 &\", \" &G4941 &\", \" & H4941 & \" - Bedrooms: \" & C4941),\"\")","v":""}]
["",""]
["",""]
["",""]
["",""]
["",""]
["",""]
["",""]
["",""]
["",""]
["",""]
["",""]
["",""]
["",""]
["",""]
["",""]
["",""]
["",""]
["",""]
["",""]
["",""]
["",""]
["",""]
["",""]
["",""]
["",""]
["",""]
["",""]
["",""]
["",""]
["",""]
["",""]
["",""]
["",""]
["",""]
["",""]
["",""]
["",""]
["",""]
["",""]
["",""]
["",""]
["",""]
["",""]
["",""]
["",""]
["",""]
["",""]
["",""]
["",""]
["",""]
["",""]
["",""]
["",""]
["",""]
["",""]
["",""]
["",""]
["",""]
["",""]

{"sheet":"SEND DATA","index":2,"n_rows":5,"n_cols":4,"rows_kept":5,"cut":false,"hidden":false,"merged":[]}
[]
[]
["Email address to send extract to:","homelessness_statistics_inbox@scotland.gsi.gov.uk",null,"(Change this if you'd like to send to a central collation point within your local authority)"]
[]
["Click on the image below to the send extract to the above email address.  You'll have chance to review the email before sending.  Cases where no further action is required will be archived."]

{"sheet":"Guidance on Completion","index":3,"n_rows":5,"n_cols":1,"rows_kept":5,"cut":false,"hidden":false,"merged":[]}
["General Guidance on Completing the HL3 Return is available at:"]
["http://www.gov.scot/Topics/Statistics/15257/1529/HL3"]
[]
["User instructions for this stand-alone system are available at:"]
["http://www.gov.scot/Topics/Statistics/15257/1529/HL3/HL3Standalone"]

{"sheet":"CLEAR ALL DATA","index":4,"n_rows":2,"n_cols":1,"rows_kept":2,"cut":false,"hidden":false,"merged":[]}
[]
["Press this button to remove any sample data from ENTER DATA HERE and ARCHIVE"]

{"sheet":"ARCHIVE","index":5,"n_rows":20000,"n_cols":15,"rows_kept":4500,"cut":true,"hidden":false,"merged":[],"bounds":{"rows_first":2000,"rows_last":500,"rows_between":2000,"halvings":0}}
["HL1 APPREF\n(Must be provided for all cases)","First Name","Last Name","Are There Any Children In The Household Or Is Any Household Member Pregnant?","Date Offered","Property Address\n(LA Use Only)","Accommodation Type (Hide)","UPRN HASH","Accepted","Taken Up?","Entry Date","Is the accommodation unsuitable?","Exit Date","Is it in breach?","HL3APPREF"]
["","","","","","","","","","","","","","",""]
["","","","","","","","","","","","","","",""]
["","","","","","","","","","","","","","",""]
["","","","","","","","","","","","","","",""]
["","","","","","","","","","","","","","",""]
["","","","","","","","","","","","","","",""]
["","","","","","","","","","","","","","",""]
["","","","","","","","","","","","","","",""]
["","","","","","","","","","","","","","",""]
["","","","","","","","","","","","","","",""]
["","","","","","","","","","","","","","",""]
["","","","","","","","","","","","","","",""]
["","","","","","","","","","","","","","",""]
["","","","","","","","","","","","","","",""]
["","","","","","","","","","","","","","",""]
["","","","","","","","","","","","","","",""]
["","","","","","","","","","","","","","",""]
["","","","","","","","","","","","","","",""]
["","","","","","","","","","","","","","",""]
["","","","","","","","","","","","","","",""]
["","","","","","","","","","","","","","",""]
["","","","","","","","","","","","","","",""]
["","","","","","","","","","","","","","",""]
["","","","","","","","","","","","","","",""]
["","","","","","","","","","","","","","",""]
["","","","","","","","","","","","","","",""]
["","","","","","","","","","","","","","",""]
["","","","","","","","","","","","","","",""]
["","","","","","","","","","","","","","",""]
["","","","","","","","","","","","","","",""]
["","","","","","","","","","","","","","",""]
["","","","","","","","","","","","","","",""]
["","","","","","","","","","","","","","",""]
["","","","","","","","","","","","","","",""]
["","","","","","","","","","","","","","",""]
["","","","","","","","","","","","","","",""]
["","","","","","","","","","","","","","",""]
["","","","","","","","","","","","","","",""]
["","","","","","","","","","","","","","",""]
["","","","","","","","","","","","","","",""]
["","","","","","","","","","","","","","",""]
["","","","","","","","","","","","","","",""]
["","","","","","","","","","","","","","",""]
["","","","","","","","","","","","","","",""]
["","","","","","","","","","","","","","",""]
["","","","","","","","","","","","","","",""]
["","","","","","","","","","","","","","",""]
["","","","","","","","","","","","","","",""]
["","","","","","","","","","","","","","",""]
["","","","","","","","","","","","","","",""]
["","","","","","","","","","","","","","",""]
["","","","","","","","","","","","","","",""]
["","","","","","","","","","","","","","",""]
["","","","","","","","","","","","","","",""]
["","","","","","","","","","","","","","",""]
["","","","","","","","","","","","","","",""]
["","","","","","","","","","","","","","",""]
["","","","","","","","","","","","","","",""]
["","","","","","","","","","","","","","",""]
["","","","","","","","","","","","","","",""]
["","","","","","","","","","","","","","",""]
["","","","","","","","","","","","","","",""]
["","","","","","","","","","","","","","",""]
["","","","","","","","","","","","","","",""]
["","","","","","","","","","","","","","",""]
["","","","","","","","","","","","","","",""]
["","","","","","","","","","","","","","",""]
["","","","","","","","","","","","","","",""]
["","","","","","","","","","","","","","",""]
["","","","","","","","","","","","","","",""]
["","","","","","","","","","","","","","",""]
["","","","","","","","","","","","","","",""]
["","","","","","","","","","","","","","",""]
["","","","","","","","","","","","","","",""]
["","","","","","","","","","","","","","",""]
["","","","","","","","","","","","","","",""]
["","","","","","","","","","","","","","",""]
["","","","","","","","","","","","","","",""]
["","","","","","","","","","","","","","",""]
["","","","","","","","","","","","","","",""]
["","","","","","","","","","","","","","",""]
["","","","","","","","","","","","","","",""]
["","","","","","","","","","","","","","",""]
["","","","","","","","","","","","","","",""]
["","","","","","","","","","","","","","",""]
["","","","","","","","","","","","","","",""]
["","","","","","","","","","","","","","",""]
["","","","","","","","","","","","","","",""]
["","","","","","","","","","","","","","",""]
["","","","","","","","","","","","","","",""]
["","","","","","","","","","","","","","",""]
["","","","","","","","","","","","","","",""]
["","","","","","","","","","","","","","",""]
["","","","","","","","","","","","","","",""]
["","","","","","","","","","","","","","",""]
["","","","","","","","","","","","","","",""]
["","","","","","","","","","","","","","",""]
["","","","","","","","","","","","","","",""]
["","","","","","","","","","","","","","",""]
["","","","","","","","","","","","","","",""]
["","","","","","","","","","","","","","",""]
["","","","","","","","","","","","","","",""]
["","","","","","","","","","","","","","",""]
["","","","","","","","","","","","","","",""]
["","","","","","","","","","","","","","",""]
["","","","","","","","","","","","","","",""]
["","","","","","","","","","","","","","",""]
["","","","","","","","","","","","","","",""]
["","","","","","","","","","","","","","",""]
["","","","","","","","","","","","","","",""]
["","","","","","","","","","","","","","",""]
["","","","","","","","","","","","","","",""]
["","","","","","","","","","","","","","",""]
["","","","","","","","","","","","","","",""]
["","","","","","","","","","","","","","",""]
["","","","","","","","","","","","","","",""]
["","","","","","","","","","","","","","",""]
["","","","","","","","","","","","","","",""]
["","","","","","","","","","","","","","",""]
["","","","","","","","","","","","","","",""]
["","","","","","","","","","","","","","",""]
["","","","","","","","","","","","","","",""]
["","","","","","","","","","","","","","",""]
["","","","","","","","","","","","","","",""]
["","","","","","","","","","","","","","",""]
["","","","","","","","","","","","","","",""]
["","","","","","","","","","","","","","",""]
["","","","","","","","","","","","","","",""]
["","","","","","","","","","","","","","",""]
["","","","","","","","","","","","","","",""]
["","","","","","","","","","","","","","",""]
["","","","","","","","","","","","","","",""]
["","","","","","","","","","","","","","",""]
["","","","","","","","","","","","","","",""]
["","","","","","","","","","","","","","",""]
["","","","","","","","","","","","","","",""]
["","","","","","","","","","","","","","",""]
["","","","","","","","","","","","","","",""]
["","","","","","","","","","","","","","",""]
["","","","","","","","","","","","","","",""]
["","","","","","","","","","","","","","",""]
["","","","","","","","","","","","","","",""]
["","","","","","","","","","","","","","",""]
["","","","","","","","","","","","","","",""]
["","","","","","","","","","","","","","",""]
["","","","","","","","","","","","","","",""]
["","","","","","","","","","","","","","",""]
["","","","","","","","","","","","","","",""]
["","","","","","","","","","","","","","",""]
["","","","","","","","","","","","","","",""]
["","","","","","","","","","","","","","",""]
["","","","","","","","","","","","","","",""]
["","","","","","","","","","","","","","",""]
["","","","","","","","","","","","","","",""]
["","","","","","","","","","","","","","",""]
["","","","","","","","","","","","","","",""]
["","","","","","","","","","","","","","",""]
["","","","","","","","","","","","","","",""]
["","","","","","","","","","","","","","",""]
["","","","","","","","","","","","","","",""]
["","","","","","","","","","","","","","",""]
["","","","","","","","","","","","","","",""]
["","","","","","","","","","","","","","",""]
["","","","","","","","","","","","","","",""]
["","","","","","","","","","","","","","",""]
["","","","","","","","","","","","","","",""]
["","","","","","","","","","","","","","",""]
["","","","","","","","","","","","","","",""]
["","","","","","","","","","","","","","",""]
["","","","","","","","","","","","","","",""]
["","","","","","","","","","","","","","",""]
["","","","","","","","","","","","","","",""]
["","","","","","","","","","","","","","",""]
["","","","","","","","","","","","","","",""]
["","","","","","","","","","","","","","",""]
["","","","","","","","","","","","","","",""]
["","","","","","","","","","","","","","",""]
["","","","","","","","","","","","","","",""]
["","","","","","","","","","","","","","",""]
["","","","","","","","","","","","","","",""]
["","","","","","","","","","","","","","",""]
["","","","","","","","","","","","","","",""]
["","","","","","","","","","","","","","",""]
["","","","","","","","","","","","","","",""]
["","","","","","","","","","","","","","",""]
["","","","","","","","","","","","","","",""]
["","","","","","","","","","","","","","",""]
["","","","","","","","","","","","","","",""]
["","","","","","","","","","","","","","",""]
["","","","","","","","","","","","","","",""]
["","","","","","","","","","","","","","",""]
["","","","","","","","","","","","","","",""]
["","","","","","","","","","","","","","",""]
["","","","","","","","","","","","","","",""]
["","","","","","","","","","","","","","",""]
["","","","","","","","","","","","","","",""]
["","","","","","","","","","","","","","",""]
["","","","","","","","","","","","","","",""]
["","","","","","","","","","","","","","",""]
["","","","","","","","","","","","","","",""]
["","","","","","","","","","","","","","",""]
["","","","","","","","","","","","","","",""]
["","","","","","","","","","","","","","",""]
["","","","","","","","","","","","","","",""]
["","","","","","","","","","","","","","",""]
["","","","","","","","","","","","","","",""]
["","","","","","","","","","","","","","",""]
["","","","","","","","","","","","","","",""]
["","","","","","","","","","","","","","",""]
["","","","","","","","","","","","","","",""]
["","","","","","","","","","","","","","",""]
["","","","","","","","","","","","","","",""]
["","","","","","","","","","","","","","",""]
["","","","","","","","","","","","","","",""]
["","","","","","","","","","","","","","",""]
["","","","","","","","","","","","","","",""]
["","","","","","","","","","","","","","",""]
["","","","","","","","","","","","","","",""]
["","","","","","","","","","","","","","",""]
["","","","","","","","","","","","","","",""]
["","","","","","","","","","","","","","",""]
["","","","","","","","","","","","","","",""]
["","","","","","","","","","","","","","",""]
["","","","","","","","","","","","","","",""]
["","","","","","","","","","","","","","",""]
["","","","","","","","","","","","","","",""]
["","","","","","","","","","","","","","",""]
["","","","","","","","","","","","","","",""]
["","","","","","","","","","","","","","",""]
["","","","","","","","","","","","","","",""]
["","","","","","","","","","","","","","",""]
["","","","","","","","","","","","","","",""]
["","","","","","","","","","","","","","",""]
["","","","","","","","","","","","","","",""]
["","","","","","","","","","","","","","",""]
["","","","","","","","","","","","","","",""]
["","","","","","","","","","","","","","",""]
["","","","","","","","","","","","","","",""]
["","","","","","","","","","","","","","",""]
["","","","","","","","","","","","","","",""]
["","","","","","","","","","","","","","",""]
["","","","","","","","","","","","","","",""]
["","","","","","","","","","","","","","",""]
["","","","","","","","","","","","","","",""]
["","","","","","","","","","","","","","",""]
["","","","","","","","","","","","","","",""]
["","","","","","","","","","","","","","",""]
["","","","","","","","","","","","","","",""]
["","","","","","","","","","","","","","",""]
["","","","","","","","","","","","","","",""]
["","","","","","","","","","","","","","",""]
["","","","","","","","","","","","","","",""]
["","","","","","","","","","","","","","",""]
["","","","","","","","","","","","","","",""]
["","","","","","","","","","","","","","",""]
["","","","","","","","","","","","","","",""]
["","","","","","","","","","","","","","",""]
["","","","","","","","","","","","","","",""]
["","","","","","","","","","","","","","",""]
["","","","","","","","","","","","","","",""]
["","","","","","","","","","","","","","",""]
["","","","","","","","","","","","","","",""]
["","","","","","","","","","","","","","",""]
["","","","","","","","","","","","","","",""]
["","","","","","","","","","","","","","",""]
["","","","","","","","","","","","","","",""]
["","","","","","","","","","","","","","",""]
["","","","","","","","","","","","","","",""]
["","","","","","","","","","","","","","",""]
["","","","","","","","","","","","","","",""]
["","","","","","","","","","","","","","",""]
["","","","","","","","","","","","","","",""]
["","","","","","","","","","","","","","",""]
["","","","","","","","","","","","","","",""]
["","","","","","","","","","","","","","",""]
["","","","","","","","","","","","","","",""]
["","","","","","","","","","","","","","",""]
["","","","","","","","","","","","","","",""]
["","","","","","","","","","","","","","",""]
["","","","","","","","","","","","","","",""]
["","","","","","","","","","","","","","",""]
["","","","","","","","","","","","","","",""]
["","","","","","","","","","","","","","",""]
["","","","","","","","","","","","","","",""]
["","","","","","","","","","","","","","",""]
["","","","","","","","","","","","","","",""]
["","","","","","","","","","","","","","",""]
["","","","","","","","","","","","","","",""]
["","","","","","","","","","","","","","",""]
["","","","","","","","","","","","","","",""]
["","","","","","","","","","","","","","",""]
["","","","","","","","","","","","","","",""]
["","","","","","","","","","","","","","",""]
["","","","","","","","","","","","","","",""]
["","","","","","","","","","","","","","",""]
["","","","","","","","","","","","","","",""]
["","","","","","","","","","","","","","",""]
["","","","","","","","","","","","","","",""]
["","","","","","","","","","","","","","",""]
["","","","","","","","","","","","","","",""]
["","","","","","","","","","","","","","",""]
["","","","","","","","","","","","","","",""]
["","","","","","","","","","","","","","",""]
["","","","","","","","","","","","","","",""]
["","","","","","","","","","","","","","",""]
["","","","","","","","","","","","","","",""]
["","","","","","","","","","","","","","",""]
["","","","","","","","","","","","","","",""]
["","","","","","","","","","","","","","",""]
["","","","","","","","","","","","","","",""]
["","","","","","","","","","","","","","",""]
["","","","","","","","","","","","","","",""]
["","","","","","","","","","","","","","",""]
["","","","","","","","","","","","","","",""]
["","","","","","","","","","","","","","",""]
["","","","","","","","","","","","","","",""]
["","","","","","","","","","","","","","",""]
["","","","","","","","","","","","","","",""]
["","","","","","","","","","","","","","",""]
["","","","","","","","","","","","","","",""]
["","","","","","","","","","","","","","",""]
["","","","","","","","","","","","","","",""]
["","","","","","","","","","","","","","",""]
["","","","","","","","","","","","","","",""]
["","","","","","","","","","","","","","",""]
["","","","","","","","","","","","","","",""]
["","","","","","","","","","","","","","",""]
["","","","","","","","","","","","","","",""]
["","","","","","","","","","","","","","",""]
["","","","","","","","","","","","","","",""]
["","","","","","","","","","","","","","",""]
["","","","","","","","","","","","","","",""]
["","","","","","","","","","","","","","",""]
["","","","","","","","","","","","","","",""]
["","","","","","","","","","","","","","",""]
["","","","","","","","","","","","","","",""]
["","","","","","","","","","","","","","",""]
["","","","","","","","","","","","","","",""]
["","","","","","","","","","","","","","",""]
["","","","","","","","","","","","","","",""]
["","","","","","","","","","","","","","",""]
["","","","","","","","","","","","","","",""]
["","","","","","","","","","","","","","",""]
["","","","","","","","","","","","","","",""]
["","","","","","","","","","","","","","",""]
["","","","","","","","","","","","","","",""]
["","","","","","","","","","","","","","",""]
["","","","","","","","","","","","","","",""]
["","","","","","","","","","","","","","",""]
["","","","","","","","","","","","","","",""]
["","","","","","","","","","","","","","",""]
["","","","","","","","","","","","","","",""]
["","","","","","","","","","","","","","",""]
["","","","","","","","","","","","","","",""]
["","","","","","","","","","","","","","",""]
["","","","","","","","","","","","","","",""]
["","","","","","","","","","","","","","",""]
["","","","","","","","","","","","","","",""]
["","","","","","","","","","","","","","",""]
["","","","","","","","","","","","","","",""]
["","","","","","","","","","","","","","",""]
["","","","","","","","","","","","","","",""]
["","","","","","","","","","","","","","",""]
["","","","","","","","","","","","","","",""]
["","","","","","","","","","","","","","",""]
["","","","","","","","","","","","","","",""]
["","","","","","","","","","","","","","",""]
["","","","","","","","","","","","","","",""]
["","","","","","","","","","","","","","",""]
["","","","","","","","","","","","","","",""]
["","","","","","","","","","","","","","",""]
["","","","","","","","","","","","","","",""]
["","","","","","","","","","","","","","",""]
["","","","","","","","","","","","","","",""]
["","","","","","","","","","","","","","",""]
["","","","","","","","","","","","","","",""]
["","","","","","","","","","","","","","",""]
["","","","","","","","","","","","","","",""]
["","","","","","","","","","","","","","",""]
["","","","","","","","","","","","","","",""]
["","","","","","","","","","","","","","",""]
["","","","","","","","","","","","","","",""]
["","","","","","","","","","","","","","",""]
["","","","","","","","","","","","","","",""]
["","","","","","","","","","","","","","",""]
["","","","","","","","","","","","","","",""]
["","","","","","","","","","","","","","",""]
["","","","","","","","","","","","","","",""]
["","","","","","","","","","","","","","",""]
["","","","","","","","","","","","","","",""]
["","","","","","","","","","","","","","",""]
["","","","","","","","","","","","","","",""]
["","","","","","","","","","","","","","",""]
["","","","","","","","","","","","","","",""]
["","","","","","","","","","","","","","",""]
["","","","","","","","","","","","","","",""]
["","","","","","","","","","","","","","",""]
["","","","","","","","","","","","","","",""]
["","","","","","","","","","","","","","",""]
["","","","","","","","","","","","","","",""]
["","","","","","","","","","","","","","",""]
["","","","","","","","","","","","","","",""]
["","","","","","","","","","","","","","",""]
["","","","","","","","","","","","","","",""]
["","","","","","","","","","","","","","",""]
["","","","","","","","","","","","","","",""]
["","","","","","","","","","","","","","",""]
["","","","","","","","","","","","","","",""]
["","","","","","","","","","","","","","",""]
["","","","","","","","","","","","","","",""]
["","","","","","","","","","","","","","",""]
["","","","","","","","","","","","","","",""]
["","","","","","","","","","","","","","",""]
["","","","","","","","","","","","","","",""]
["","","","","","","","","","","","","","",""]
["","","","","","","","","","","","","","",""]
["","","","","","","","","","","","","","",""]
["","","","","","","","","","","","","","",""]
["","","","","","","","","","","","","","",""]
["","","","","","","","","","","","","","",""]
["","","","","","","","","","","","","","",""]
["","","","","","","","","","","","","","",""]
["","","","","","","","","","","","","","",""]
["","","","","","","","","","","","","","",""]
["","","","","","","","","","","","","","",""]
["","","","","","","","","","","","","","",""]
["","","","","","","","","","","","","","",""]
["","","","","","","","","","","","","","",""]
["","","","","","","","","","","","","","",""]
["","","","","","","","","","","","","","",""]
["","","","","","","","","","","","","","",""]
["","","","","","","","","","","","","","",""]
["","","","","","","","","","","","","","",""]
["","","","","","","","","","","","","","",""]
["","","","","","","","","","","","","","",""]
["","","","","","","","","","","","","","",""]
["","","","","","","","","","","","","","",""]
["","","","","","","","","","","","","","",""]
["","","","","","","","","","","","","","",""]
["","","","","","","","","","","","","","",""]
["","","","","","","","","","","","","","",""]
["","","","","","","","","","","","","","",""]
["","","","","","","","","","","","","","",""]
["","","","","","","","","","","","","","",""]
["","","","","","","","","","","","","","",""]
["","","","","","","","","","","","","","",""]
["","","","","","","","","","","","","","",""]
["","","","","","","","","","","","","","",""]
["","","","","","","","","","","","","","",""]
["","","","","","","","","","","","","","",""]
["","","","","","","","","","","","","","",""]
["","","","","","","","","","","","","","",""]
["","","","","","","","","","","","","","",""]
["","","","","","","","","","","","","","",""]
["","","","","","","","","","","","","","",""]
["","","","","","","","","","","","","","",""]
["","","","","","","","","","","","","","",""]
["","","","","","","","","","","","","","",""]
["","","","","","","","","","","","","","",""]
["","","","","","","","","","","","","","",""]
["","","","","","","","","","","","","","",""]
["","","","","","","","","","","","","","",""]
["","","","","","","","","","","","","","",""]
["","","","","","","","","","","","","","",""]
["","","","","","","","","","","","","","",""]
["","","","","","","","","","","","","","",""]
["","","","","","","","","","","","","","",""]
["","","","","","","","","","","","","","",""]
["","","","","","","","","","","","","","",""]
["","","","","","","","","","","","","","",""]
["","","","","","","","","","","","","","",""]
["","","","","","","","","","","","","","",""]
["","","","","","","","","","","","","","",""]
["","","","","","","","","","","","","","",""]
["","","","","","","","","","","","","","",""]
["","","","","","","","","","","","","","",""]
["","","","","","","","","","","","","","",""]
["","","","","","","","","","","","","","",""]
["","","","","","","","","","","","","","",""]
["","","","","","","","","","","","","","",""]
["","","","","","","","","","","","","","",""]
["","","","","","","","","","","","","","",""]
["","","","","","","","","","","","","","",""]
["","","","","","","","","","","","","","",""]
["","","","","","","","","","","","","","",""]
["","","","","","","","","","","","","","",""]
["","","","","","","","","","","","","","",""]
["","","","","","","","","","","","","","",""]
["","","","","","","","","","","","","","",""]
["","","","","","","","","","","","","","",""]
["","","","","","","","","","","","","","",""]
["","","","","","","","","","","","","","",""]
["","","","","","","","","","","","","","",""]
["","","","","","","","","","","","","","",""]
["","","","","","","","","","","","","","",""]
["","","","","","","","","","","","","","",""]
["","","","","","","","","","","","","","",""]
["","","","","","","","","","","","","","",""]
["","","","","","","","","","","","","","",""]
["","","","","","","","","","","","","","",""]
["","","","","","","","","","","","","","",""]
["","","","","","","","","","","","","","",""]
["","","","","","","","","","","","","","",""]
["","","","","","","","","","","","","","",""]
["","","","","","","","","","","","","","",""]
["","","","","","","","","","","","","","",""]
["","","","","","","","","","","","","","",""]
["","","","","","","","","","","","","","",""]
["","","","","","","","","","","","","","",""]
["","","","","","","","","","","","","","",""]
["","","","","","","","","","","","","","",""]
["","","","","","","","","","","","","","",""]
["","","","","","","","","","","","","","",""]
["","","","","","","","","","","","","","",""]
["","","","","","","","","","","","","","",""]
["","","","","","","","","","","","","","",""]
["","","","","","","","","","","","","","",""]
["","","","","","","","","","","","","","",""]
["","","","","","","","","","","","","","",""]
["","","","","","","","","","","","","","",""]
["","","","","","","","","","","","","","",""]
["","","","","","","","","","","","","","",""]
["","","","","","","","","","","","","","",""]
["","","","","","","","","","","","","","",""]
["","","","","","","","","","","","","","",""]
["","","","","","","","","","","","","","",""]
["","","","","","","","","","","","","","",""]
["","","","","","","","","","","","","","",""]
["","","","","","","","","","","","","","",""]
["","","","","","","","","","","","","","",""]
["","","","","","","","","","","","","","",""]
["","","","","","","","","","","","","","",""]
["","","","","","","","","","","","","","",""]
["","","","","","","","","","","","","","",""]
["","","","","","","","","","","","","","",""]
["","","","","","","","","","","","","","",""]
["","","","","","","","","","","","","","",""]
["","","","","","","","","","","","","","",""]
["","","","","","","","","","","","","","",""]
["","","","","","","","","","","","","","",""]
["","","","","","","","","","","","","","",""]
["","","","","","","","","","","","","","",""]
["","","","","","","","","","","","","","",""]
["","","","","","","","","","","","","","",""]
["","","","","","","","","","","","","","",""]
["","","","","","","","","","","","","","",""]
["","","","","","","","","","","","","","",""]
["","","","","","","","","","","","","","",""]
["","","","","","","","","","","","","","",""]
["","","","","","","","","","","","","","",""]
["","","","","","","","","","","","","","",""]
["","","","","","","","","","","","","","",""]
["","","","","","","","","","","","","","",""]
["","","","","","","","","","","","","","",""]
["","","","","","","","","","","","","","",""]
["","","","","","","","","","","","","","",""]
["","","","","","","","","","","","","","",""]
["","","","","","","","","","","","","","",""]
["","","","","","","","","","","","","","",""]
["","","","","","","","","","","","","","",""]
["","","","","","","","","","","","","","",""]
["","","","","","","","","","","","","","",""]
["","","","","","","","","","","","","","",""]
["","","","","","","","","","","","","","",""]
["","","","","","","","","","","","","","",""]
["","","","","","","","","","","","","","",""]
["","","","","","","","","","","","","","",""]
["","","","","","","","","","","","","","",""]
["","","","","","","","","","","","","","",""]
["","","","","","","","","","","","","","",""]
["","","","","","","","","","","","","","",""]
["","","","","","","","","","","","","","",""]
["","","","","","","","","","","","","","",""]
["","","","","","","","","","","","","","",""]
["","","","","","","","","","","","","","",""]
["","","","","","","","","","","","","","",""]
["","","","","","","","","","","","","","",""]
["","","","","","","","","","","","","","",""]
["","","","","","","","","","","","","","",""]
["","","","","","","","","","","","","","",""]
["","","","","","","","","","","","","","",""]
["","","","","","","","","","","","","","",""]
["","","","","","","","","","","","","","",""]
["","","","","","","","","","","","","","",""]
["","","","","","","","","","","","","","",""]
["","","","","","","","","","","","","","",""]
["","","","","","","","","","","","","","",""]
["","","","","","","","","","","","","","",""]
["","","","","","","","","","","","","","",""]
["","","","","","","","","","","","","","",""]
["","","","","","","","","","","","","","",""]
["","","","","","","","","","","","","","",""]
["","","","","","","","","","","","","","",""]
["","","","","","","","","","","","","","",""]
["","","","","","","","","","","","","","",""]
["","","","","","","","","","","","","","",""]
["","","","","","","","","","","","","","",""]
["","","","","","","","","","","","","","",""]
["","","","","","","","","","","","","","",""]
["","","","","","","","","","","","","","",""]
["","","","","","","","","","","","","","",""]
["","","","","","","","","","","","","","",""]
["","","","","","","","","","","","","","",""]
["","","","","","","","","","","","","","",""]
["","","","","","","","","","","","","","",""]
["","","","","","","","","","","","","","",""]
["","","","","","","","","","","","","","",""]
["","","","","","","","","","","","","","",""]
["","","","","","","","","","","","","","",""]
["","","","","","","","","","","","","","",""]
["","","","","","","","","","","","","","",""]
["","","","","","","","","","","","","","",""]
["","","","","","","","","","","","","","",""]
["","","","","","","","","","","","","","",""]
["","","","","","","","","","","","","","",""]
["","","","","","","","","","","","","","",""]
["","","","","","","","","","","","","","",""]
["","","","","","","","","","","","","","",""]
["","","","","","","","","","","","","","",""]
["","","","","","","","","","","","","","",""]
["","","","","","","","","","","","","","",""]
["","","","","","","","","","","","","","",""]
["","","","","","","","","","","","","","",""]
["","","","","","","","","","","","","","",""]
["","","","","","","","","","","","","","",""]
["","","","","","","","","","","","","","",""]
["","","","","","","","","","","","","","",""]
["","","","","","","","","","","","","","",""]
["","","","","","","","","","","","","","",""]
["","","","","","","","","","","","","","",""]
["","","","","","","","","","","","","","",""]
["","","","","","","","","","","","","","",""]
["","","","","","","","","","","","","","",""]
["","","","","","","","","","","","","","",""]
["","","","","","","","","","","","","","",""]
["","","","","","","","","","","","","","",""]
["","","","","","","","","","","","","","",""]
["","","","","","","","","","","","","","",""]
["","","","","","","","","","","","","","",""]
["","","","","","","","","","","","","","",""]
["","","","","","","","","","","","","","",""]
["","","","","","","","","","","","","","",""]
["","","","","","","","","","","","","","",""]
["","","","","","","","","","","","","","",""]
["","","","","","","","","","","","","","",""]
["","","","","","","","","","","","","","",""]
["","","","","","","","","","","","","","",""]
["","","","","","","","","","","","","","",""]
["","","","","","","","","","","","","","",""]
["","","","","","","","","","","","","","",""]
["","","","","","","","","","","","","","",""]
["","","","","","","","","","","","","","",""]
["","","","","","","","","","","","","","",""]
["","","","","","","","","","","","","","",""]
["","","","","","","","","","","","","","",""]
["","","","","","","","","","","","","","",""]
["","","","","","","","","","","","","","",""]
["","","","","","","","","","","","","","",""]
["","","","","","","","","","","","","","",""]
["","","","","","","","","","","","","","",""]
["","","","","","","","","","","","","","",""]
["","","","","","","","","","","","","","",""]
["","","","","","","","","","","","","","",""]
["","","","","","","","","","","","","","",""]
["","","","","","","","","","","","","","",""]
["","","","","","","","","","","","","","",""]
["","","","","","","","","","","","","","",""]
["","","","","","","","","","","","","","",""]
["","","","","","","","","","","","","","",""]
["","","","","","","","","","","","","","",""]
["","","","","","","","","","","","","","",""]
["","","","","","","","","","","","","","",""]
["","","","","","","","","","","","","","",""]
["","","","","","","","","","","","","","",""]
["","","","","","","","","","","","","","",""]
["","","","","","","","","","","","","","",""]
["","","","","","","","","","","","","","",""]
["","","","","","","","","","","","","","",""]
["","","","","","","","","","","","","","",""]
["","","","","","","","","","","","","","",""]
["","","","","","","","","","","","","","",""]
["","","","","","","","","","","","","","",""]
["","","","","","","","","","","","","","",""]
["","","","","","","","","","","","","","",""]
["","","","","","","","","","","","","","",""]
["","","","","","","","","","","","","","",""]
["","","","","","","","","","","","","","",""]
["","","","","","","","","","","","","","",""]
["","","","","","","","","","","","","","",""]
["","","","","","","","","","","","","","",""]
["","","","","","","","","","","","","","",""]
["","","","","","","","","","","","","","",""]
["","","","","","","","","","","","","","",""]
["","","","","","","","","","","","","","",""]
["","","","","","","","","","","","","","",""]
["","","","","","","","","","","","","","",""]
["","","","","","","","","","","","","","",""]
["","","","","","","","","","","","","","",""]
["","","","","","","","","","","","","","",""]
["","","","","","","","","","","","","","",""]
["","","","","","","","","","","","","","",""]
["","","","","","","","","","","","","","",""]
["","","","","","","","","","","","","","",""]
["","","","","","","","","","","","","","",""]
["","","","","","","","","","","","","","",""]
["","","","","","","","","","","","","","",""]
["","","","","","","","","","","","","","",""]
["","","","","","","","","","","","","","",""]
["","","","","","","","","","","","","","",""]
["","","","","","","","","","","","","","",""]
["","","","","","","","","","","","","","",""]
["","","","","","","","","","","","","","",""]
["","","","","","","","","","","","","","",""]
["","","","","","","","","","","","","","",""]
["","","","","","","","","","","","","","",""]
["","","","","","","","","","","","","","",""]
["","","","","","","","","","","","","","",""]
["","","","","","","","","","","","","","",""]
["","","","","","","","","","","","","","",""]
["","","","","","","","","","","","","","",""]
["","","","","","","","","","","","","","",""]
["","","","","","","","","","","","","","",""]
["","","","","","","","","","","","","","",""]
["","","","","","","","","","","","","","",""]
["","","","","","","","","","","","","","",""]
["","","","","","","","","","","","","","",""]
["","","","","","","","","","","","","","",""]
["","","","","","","","","","","","","","",""]
["","","","","","","","","","","","","","",""]
["","","","","","","","","","","","","","",""]
["","","","","","","","","","","","","","",""]
["","","","","","","","","","","","","","",""]
["","","","","","","","","","","","","","",""]
["","","","","","","","","","","","","","",""]
["","","","","","","","","","","","","","",""]
["","","","","","","","","","","","","","",""]
["","","","","","","","","","","","","","",""]
["","","","","","","","","","","","","","",""]
["","","","","","","","","","","","","","",""]
["","","","","","","","","","","","","","",""]
["","","","","","","","","","","","","","",""]
["","","","","","","","","","","","","","",""]
["","","","","","","","","","","","","","",""]
["","","","","","","","","","","","","","",""]
["","","","","","","","","","","","","","",""]
["","","","","","","","","","","","","","",""]
["","","","","","","","","","","","","","",""]
["","","","","","","","","","","","","","",""]
["","","","","","","","","","","","","","",""]
["","","","","","","","","","","","","","",""]
["","","","","","","","","","","","","","",""]
["","","","","","","","","","","","","","",""]
["","","","","","","","","","","","","","",""]
["","","","","","","","","","","","","","",""]
["","","","","","","","","","","","","","",""]
["","","","","","","","","","","","","","",""]
["","","","","","","","","","","","","","",""]
["","","","","","","","","","","","","","",""]
["","","","","","","","","","","","","","",""]
["","","","","","","","","","","","","","",""]
["","","","","","","","","","","","","","",""]
["","","","","","","","","","","","","","",""]
["","","","","","","","","","","","","","",""]
["","","","","","","","","","","","","","",""]
["","","","","","","","","","","","","","",""]
["","","","","","","","","","","","","","",""]
["","","","","","","","","","","","","","",""]
["","","","","","","","","","","","","","",""]
["","","","","","","","","","","","","","",""]
["","","","","","","","","","","","","","",""]
["","","","","","","","","","","","","","",""]
["","","","","","","","","","","","","","",""]
["","","","","","","","","","","","","","",""]
["","","","","","","","","","","","","","",""]
["","","","","","","","","","","","","","",""]
["","","","","","","","","","","","","","",""]
["","","","","","","","","","","","","","",""]
["","","","","","","","","","","","","","",""]
["","","","","","","","","","","","","","",""]
["","","","","","","","","","","","","","",""]
["","","","","","","","","","","","","","",""]
["","","","","","","","","","","","","","",""]
["","","","","","","","","","","","","","",""]
["","","","","","","","","","","","","","",""]
["","","","","","","","","","","","","","",""]
["","","","","","","","","","","","","","",""]
["","","","","","","","","","","","","","",""]
["","","","","","","","","","","","","","",""]
["","","","","","","","","","","","","","",""]
["","","","","","","","","","","","","","",""]
["","","","","","","","","","","","","","",""]
["","","","","","","","","","","","","","",""]
["","","","","","","","","","","","","","",""]
["","","","","","","","","","","","","","",""]
["","","","","","","","","","","","","","",""]
["","","","","","","","","","","","","","",""]
["","","","","","","","","","","","","","",""]
["","","","","","","","","","","","","","",""]
["","","","","","","","","","","","","","",""]
["","","","","","","","","","","","","","",""]
["","","","","","","","","","","","","","",""]
["","","","","","","","","","","","","","",""]
["","","","","","","","","","","","","","",""]
["","","","","","","","","","","","","","",""]
["","","","","","","","","","","","","","",""]
["","","","","","","","","","","","","","",""]
["","","","","","","","","","","","","","",""]
["","","","","","","","","","","","","","",""]
["","","","","","","","","","","","","","",""]
["","","","","","","","","","","","","","",""]
["","","","","","","","","","","","","","",""]
["","","","","","","","","","","","","","",""]
["","","","","","","","","","","","","","",""]
["","","","","","","","","","","","","","",""]
["","","","","","","","","","","","","","",""]
["","","","","","","","","","","","","","",""]
["","","","","","","","","","","","","","",""]
["","","","","","","","","","","","","","",""]
["","","","","","","","","","","","","","",""]
["","","","","","","","","","","","","","",""]
["","","","","","","","","","","","","","",""]
["","","","","","","","","","","","","","",""]
["","","","","","","","","","","","","","",""]
["","","","","","","","","","","","","","",""]
["","","","","","","","","","","","","","",""]
["","","","","","","","","","","","","","",""]
["","","","","","","","","","","","","","",""]
["","","","","","","","","","","","","","",""]
["","","","","","","","","","","","","","",""]
["","","","","","","","","","","","","","",""]
["","","","","","","","","","","","","","",""]
["","","","","","","","","","","","","","",""]
["","","","","","","","","","","","","","",""]
["","","","","","","","","","","","","","",""]
["","","","","","","","","","","","","","",""]
["","","","","","","","","","","","","","",""]
["","","","","","","","","","","","","","",""]
["","","","","","","","","","","","","","",""]
["","","","","","","","","","","","","","",""]
["","","","","","","","","","","","","","",""]
["","","","","","","","","","","","","","",""]
["","","","","","","","","","","","","","",""]
["","","","","","","","","","","","","","",""]
["","","","","","","","","","","","","","",""]
["","","","","","","","","","","","","","",""]
["","","","","","","","","","","","","","",""]
["","","","","","","","","","","","","","",""]
["","","","","","","","","","","","","","",""]
["","","","","","","","","","","","","","",""]
["","","","","","","","","","","","","","",""]
["","","","","","","","","","","","","","",""]
["","","","","","","","","","","","","","",""]
["","","","","","","","","","","","","","",""]
["","","","","","","","","","","","","","",""]
["","","","","","","","","","","","","","",""]
["","","","","","","","","","","","","","",""]
["","","","","","","","","","","","","","",""]
["","","","","","","","","","","","","","",""]
["","","","","","","","","","","","","","",""]
["","","","","","","","","","","","","","",""]
["","","","","","","","","","","","","","",""]
["","","","","","","","","","","","","","",""]
["","","","","","","","","","","","","","",""]
["","","","","","","","","","","","","","",""]
["","","","","","","","","","","","","","",""]
["","","","","","","","","","","","","","",""]
["","","","","","","","","","","","","","",""]
["","","","","","","","","","","","","","",""]
["","","","","","","","","","","","","","",""]
["","","","","","","","","","","","","","",""]
["","","","","","","","","","","","","","",""]
["","","","","","","","","","","","","","",""]
["","","","","","","","","","","","","","",""]
["","","","","","","","","","","","","","",""]
["","","","","","","","","","","","","","",""]
["","","","","","","","","","","","","","",""]
["","","","","","","","","","","","","","",""]
["","","","","","","","","","","","","","",""]
["","","","","","","","","","","","","","",""]
["","","","","","","","","","","","","","",""]
["","","","","","","","","","","","","","",""]
["","","","","","","","","","","","","","",""]
["","","","","","","","","","","","","","",""]
["","","","","","","","","","","","","","",""]
["","","","","","","","","","","","","","",""]
["","","","","","","","","","","","","","",""]
["","","","","","","","","","","","","","",""]
["","","","","","","","","","","","","","",""]
["","","","","","","","","","","","","","",""]
["","","","","","","","","","","","","","",""]
["","","","","","","","","","","","","","",""]
["","","","","","","","","","","","","","",""]
["","","","","","","","","","","","","","",""]
["","","","","","","","","","","","","","",""]
["","","","","","","","","","","","","","",""]
["","","","","","","","","","","","","","",""]
["","","","","","","","","","","","","","",""]
["","","","","","","","","","","","","","",""]
["","","","","","","","","","","","","","",""]
["","","","","","","","","","","","","","",""]
["","","","","","","","","","","","","","",""]
["","","","","","","","","","","","","","",""]
["","","","","","","","","","","","","","",""]
["","","","","","","","","","","","","","",""]
["","","","","","","","","","","","","","",""]
["","","","","","","","","","","","","","",""]
["","","","","","","","","","","","","","",""]
["","","","","","","","","","","","","","",""]
["","","","","","","","","","","","","","",""]
["","","","","","","","","","","","","","",""]
["","","","","","","","","","","","","","",""]
["","","","","","","","","","","","","","",""]
["","","","","","","","","","","","","","",""]
["","","","","","","","","","","","","","",""]
["","","","","","","","","","","","","","",""]
["","","","","","","","","","","","","","",""]
["","","","","","","","","","","","","","",""]
["","","","","","","","","","","","","","",""]
["","","","","","","","","","","","","","",""]
["","","","","","","","","","","","","","",""]
["","","","","","","","","","","","","","",""]
["","","","","","","","","","","","","","",""]
["","","","","","","","","","","","","","",""]
["","","","","","","","","","","","","","",""]
["","","","","","","","","","","","","","",""]
["","","","","","","","","","","","","","",""]
["","","","","","","","","","","","","","",""]
["","","","","","","","","","","","","","",""]
["","","","","","","","","","","","","","",""]
["","","","","","","","","","","","","","",""]
["","","","","","","","","","","","","","",""]
["","","","","","","","","","","","","","",""]
["","","","","","","","","","","","","","",""]
["","","","","","","","","","","","","","",""]
["","","","","","","","","","","","","","",""]
["","","","","","","","","","","","","","",""]
["","","","","","","","","","","","","","",""]
["","","","","","","","","","","","","","",""]
["","","","","","","","","","","","","","",""]
["","","","","","","","","","","","","","",""]
["","","","","","","","","","","","","","",""]
["","","","","","","","","","","","","","",""]
["","","","","","","","","","","","","","",""]
["","","","","","","","","","","","","","",""]
["","","","","","","","","","","","","","",""]
["","","","","","","","","","","","","","",""]
["","","","","","","","","","","","","","",""]
["","","","","","","","","","","","","","",""]
["","","","","","","","","","","","","","",""]
["","","","","","","","","","","","","","",""]
["","","","","","","","","","","","","","",""]
["","","","","","","","","","","","","","",""]
["","","","","","","","","","","","","","",""]
["","","","","","","","","","","","","","",""]
["","","","","","","","","","","","","","",""]
["","","","","","","","","","","","","","",""]
["","","","","","","","","","","","","","",""]
["","","","","","","","","","","","","","",""]
["","","","","","","","","","","","","","",""]
["","","","","","","","","","","","","","",""]
["","","","","","","","","","","","","","",""]
["","","","","","","","","","","","","","",""]
["","","","","","","","","","","","","","",""]
["","","","","","","","","","","","","","",""]
["","","","","","","","","","","","","","",""]
["","","","","","","","","","","","","","",""]
["","","","","","","","","","","","","","",""]
["","","","","","","","","","","","","","",""]
["","","","","","","","","","","","","","",""]
["","","","","","","","","","","","","","",""]
["","","","","","","","","","","","","","",""]
["","","","","","","","","","","","","","",""]
["","","","","","","","","","","","","","",""]
["","","","","","","","","","","","","","",""]
["","","","","","","","","","","","","","",""]
["","","","","","","","","","","","","","",""]
["","","","","","","","","","","","","","",""]
["","","","","","","","","","","","","","",""]
["","","","","","","","","","","","","","",""]
["","","","","","","","","","","","","","",""]
["","","","","","","","","","","","","","",""]
["","","","","","","","","","","","","","",""]
["","","","","","","","","","","","","","",""]
["","","","","","","","","","","","","","",""]
["","","","","","","","","","","","","","",""]
["","","","","","","","","","","","","","",""]
["","","","","","","","","","","","","","",""]
["","","","","","","","","","","","","","",""]
["","","","","","","","","","","","","","",""]
["","","","","","","","","","","","","","",""]
["","","","","","","","","","","","","","",""]
["","","","","","","","","","","","","","",""]
["","","","","","","","","","","","","","",""]
["","","","","","","","","","","","","","",""]
["","","","","","","","","","","","","","",""]
["","","","","","","","","","","","","","",""]
["","","","","","","","","","","","","","",""]
["","","","","","","","","","","","","","",""]
["","","","","","","","","","","","","","",""]
["","","","","","","","","","","","","","",""]
["","","","","","","","","","","","","","",""]
["","","","","","","","","","","","","","",""]
["","","","","","","","","","","","","","",""]
["","","","","","","","","","","","","","",""]
["","","","","","","","","","","","","","",""]
["","","","","","","","","","","","","","",""]
["","","","","","","","","","","","","","",""]
["","","","","","","","","","","","","","",""]
["","","","","","","","","","","","","","",""]
["","","","","","","","","","","","","","",""]
["","","","","","","","","","","","","","",""]
["","","","","","","","","","","","","","",""]
["","","","","","","","","","","","","","",""]
["","","","","","","","","","","","","","",""]
["","","","","","","","","","","","","","",""]
["","","","","","","","","","","","","","",""]
["","","","","","","","","","","","","","",""]
["","","","","","","","","","","","","","",""]
["","","","","","","","","","","","","","",""]
["","","","","","","","","","","","","","",""]
["","","","","","","","","","","","","","",""]
["","","","","","","","","","","","","","",""]
["","","","","","","","","","","","","","",""]
["","","","","","","","","","","","","","",""]
["","","","","","","","","","","","","","",""]
["","","","","","","","","","","","","","",""]
["","","","","","","","","","","","","","",""]
["","","","","","","","","","","","","","",""]
["","","","","","","","","","","","","","",""]
["","","","","","","","","","","","","","",""]
["","","","","","","","","","","","","","",""]
["","","","","","","","","","","","","","",""]
["","","","","","","","","","","","","","",""]
["","","","","","","","","","","","","","",""]
["","","","","","","","","","","","","","",""]
["","","","","","","","","","","","","","",""]
["","","","","","","","","","","","","","",""]
["","","","","","","","","","","","","","",""]
["","","","","","","","","","","","","","",""]
["","","","","","","","","","","","","","",""]
["","","","","","","","","","","","","","",""]
["","","","","","","","","","","","","","",""]
["","","","","","","","","","","","","","",""]
["","","","","","","","","","","","","","",""]
["","","","","","","","","","","","","","",""]
["","","","","","","","","","","","","","",""]
["","","","","","","","","","","","","","",""]
["","","","","","","","","","","","","","",""]
["","","","","","","","","","","","","","",""]
["","","","","","","","","","","","","","",""]
["","","","","","","","","","","","","","",""]
["","","","","","","","","","","","","","",""]
["","","","","","","","","","","","","","",""]
["","","","","","","","","","","","","","",""]
["","","","","","","","","","","","","","",""]
["","","","","","","","","","","","","","",""]
["","","","","","","","","","","","","","",""]
["","","","","","","","","","","","","","",""]
["","","","","","","","","","","","","","",""]
["","","","","","","","","","","","","","",""]
["","","","","","","","","","","","","","",""]
["","","","","","","","","","","","","","",""]
["","","","","","","","","","","","","","",""]
["","","","","","","","","","","","","","",""]
["","","","","","","","","","","","","","",""]
["","","","","","","","","","","","","","",""]
["","","","","","","","","","","","","","",""]
["","","","","","","","","","","","","","",""]
["","","","","","","","","","","","","","",""]
["","","","","","","","","","","","","","",""]
["","","","","","","","","","","","","","",""]
["","","","","","","","","","","","","","",""]
["","","","","","","","","","","","","","",""]
["","","","","","","","","","","","","","",""]
["","","","","","","","","","","","","","",""]
["","","","","","","","","","","","","","",""]
["","","","","","","","","","","","","","",""]
["","","","","","","","","","","","","","",""]
["","","","","","","","","","","","","","",""]
["","","","","","","","","","","","","","",""]
["","","","","","","","","","","","","","",""]
["","","","","","","","","","","","","","",""]
["","","","","","","","","","","","","","",""]
["","","","","","","","","","","","","","",""]
["","","","","","","","","","","","","","",""]
["","","","","","","","","","","","","","",""]
["","","","","","","","","","","","","","",""]
["","","","","","","","","","","","","","",""]
["","","","","","","","","","","","","","",""]
["","","","","","","","","","","","","","",""]
["","","","","","","","","","","","","","",""]
["","","","","","","","","","","","","","",""]
["","","","","","","","","","","","","","",""]
["","","","","","","","","","","","","","",""]
["","","","","","","","","","","","","","",""]
["","","","","","","","","","","","","","",""]
["","","","","","","","","","","","","","",""]
["","","","","","","","","","","","","","",""]
["","","","","","","","","","","","","","",""]
["","","","","","","","","","","","","","",""]
["","","","","","","","","","","","","","",""]
["","","","","","","","","","","","","","",""]
["","","","","","","","","","","","","","",""]
["","","","","","","","","","","","","","",""]
["","","","","","","","","","","","","","",""]
["","","","","","","","","","","","","","",""]
["","","","","","","","","","","","","","",""]
["","","","","","","","","","","","","","",""]
["","","","","","","","","","","","","","",""]
["","","","","","","","","","","","","","",""]
["","","","","","","","","","","","","","",""]
["","","","","","","","","","","","","","",""]
["","","","","","","","","","","","","","",""]
["","","","","","","","","","","","","","",""]
["","","","","","","","","","","","","","",""]
["","","","","","","","","","","","","","",""]
["","","","","","","","","","","","","","",""]
["","","","","","","","","","","","","","",""]
["","","","","","","","","","","","","","",""]
["","","","","","","","","","","","","","",""]
["","","","","","","","","","","","","","",""]
["","","","","","","","","","","","","","",""]
["","","","","","","","","","","","","","",""]
["","","","","","","","","","","","","","",""]
["","","","","","","","","","","","","","",""]
["","","","","","","","","","","","","","",""]
["","","","","","","","","","","","","","",""]
["","","","","","","","","","","","","","",""]
["","","","","","","","","","","","","","",""]
["","","","","","","","","","","","","","",""]
["","","","","","","","","","","","","","",""]
["","","","","","","","","","","","","","",""]
["","","","","","","","","","","","","","",""]
["","","","","","","","","","","","","","",""]
["","","","","","","","","","","","","","",""]
["","","","","","","","","","","","","","",""]
["","","","","","","","","","","","","","",""]
["","","","","","","","","","","","","","",""]
["","","","","","","","","","","","","","",""]
["","","","","","","","","","","","","","",""]
["","","","","","","","","","","","","","",""]
["","","","","","","","","","","","","","",""]
["","","","","","","","","","","","","","",""]
["","","","","","","","","","","","","","",""]
["","","","","","","","","","","","","","",""]
["","","","","","","","","","","","","","",""]
["","","","","","","","","","","","","","",""]
["","","","","","","","","","","","","","",""]
["","","","","","","","","","","","","","",""]
["","","","","","","","","","","","","","",""]
["","","","","","","","","","","","","","",""]
["","","","","","","","","","","","","","",""]
["","","","","","","","","","","","","","",""]
["","","","","","","","","","","","","","",""]
["","","","","","","","","","","","","","",""]
["","","","","","","","","","","","","","",""]
["","","","","","","","","","","","","","",""]
["","","","","","","","","","","","","","",""]
["","","","","","","","","","","","","","",""]
["","","","","","","","","","","","","","",""]
["","","","","","","","","","","","","","",""]
["","","","","","","","","","","","","","",""]
["","","","","","","","","","","","","","",""]
["","","","","","","","","","","","","","",""]
["","","","","","","","","","","","","","",""]
["","","","","","","","","","","","","","",""]
["","","","","","","","","","","","","","",""]
["","","","","","","","","","","","","","",""]
["","","","","","","","","","","","","","",""]
["","","","","","","","","","","","","","",""]
["","","","","","","","","","","","","","",""]
["","","","","","","","","","","","","","",""]
["","","","","","","","","","","","","","",""]
["","","","","","","","","","","","","","",""]
["","","","","","","","","","","","","","",""]
["","","","","","","","","","","","","","",""]
["","","","","","","","","","","","","","",""]
["","","","","","","","","","","","","","",""]
["","","","","","","","","","","","","","",""]
["","","","","","","","","","","","","","",""]
["","","","","","","","","","","","","","",""]
["","","","","","","","","","","","","","",""]
["","","","","","","","","","","","","","",""]
["","","","","","","","","","","","","","",""]
["","","","","","","","","","","","","","",""]
["","","","","","","","","","","","","","",""]
["","","","","","","","","","","","","","",""]
["","","","","","","","","","","","","","",""]
["","","","","","","","","","","","","","",""]
["","","","","","","","","","","","","","",""]
["","","","","","","","","","","","","","",""]
["","","","","","","","","","","","","","",""]
["","","","","","","","","","","","","","",""]
["","","","","","","","","","","","","","",""]
["","","","","","","","","","","","","","",""]
["","","","","","","","","","","","","","",""]
["","","","","","","","","","","","","","",""]
["","","","","","","","","","","","","","",""]
["","","","","","","","","","","","","","",""]
["","","","","","","","","","","","","","",""]
["","","","","","","","","","","","","","",""]
["","","","","","","","","","","","","","",""]
["","","","","","","","","","","","","","",""]
["","","","","","","","","","","","","","",""]
["","","","","","","","","","","","","","",""]
["","","","","","","","","","","","","","",""]
["","","","","","","","","","","","","","",""]
["","","","","","","","","","","","","","",""]
["","","","","","","","","","","","","","",""]
["","","","","","","","","","","","","","",""]
["","","","","","","","","","","","","","",""]
["","","","","","","","","","","","","","",""]
["","","","","","","","","","","","","","",""]
["","","","","","","","","","","","","","",""]
["","","","","","","","","","","","","","",""]
["","","","","","","","","","","","","","",""]
["","","","","","","","","","","","","","",""]
["","","","","","","","","","","","","","",""]
["","","","","","","","","","","","","","",""]
["","","","","","","","","","","","","","",""]
["","","","","","","","","","","","","","",""]
["","","","","","","","","","","","","","",""]
["","","","","","","","","","","","","","",""]
["","","","","","","","","","","","","","",""]
["","","","","","","","","","","","","","",""]
["","","","","","","","","","","","","","",""]
["","","","","","","","","","","","","","",""]
["","","","","","","","","","","","","","",""]
["","","","","","","","","","","","","","",""]
["","","","","","","","","","","","","","",""]
["","","","","","","","","","","","","","",""]
["","","","","","","","","","","","","","",""]
["","","","","","","","","","","","","","",""]
["","","","","","","","","","","","","","",""]
["","","","","","","","","","","","","","",""]
["","","","","","","","","","","","","","",""]
["","","","","","","","","","","","","","",""]
["","","","","","","","","","","","","","",""]
["","","","","","","","","","","","","","",""]
["","","","","","","","","","","","","","",""]
["","","","","","","","","","","","","","",""]
["","","","","","","","","","","","","","",""]
["","","","","","","","","","","","","","",""]
["","","","","","","","","","","","","","",""]
["","","","","","","","","","","","","","",""]
["","","","","","","","","","","","","","",""]
["","","","","","","","","","","","","","",""]
["","","","","","","","","","","","","","",""]
["","","","","","","","","","","","","","",""]
["","","","","","","","","","","","","","",""]
["","","","","","","","","","","","","","",""]
["","","","","","","","","","","","","","",""]
["","","","","","","","","","","","","","",""]
["","","","","","","","","","","","","","",""]
["","","","","","","","","","","","","","",""]
["","","","","","","","","","","","","","",""]
["","","","","","","","","","","","","","",""]
["","","","","","","","","","","","","","",""]
["","","","","","","","","","","","","","",""]
["","","","","","","","","","","","","","",""]
["","","","","","","","","","","","","","",""]
["","","","","","","","","","","","","","",""]
["","","","","","","","","","","","","","",""]
["","","","","","","","","","","","","","",""]
["","","","","","","","","","","","","","",""]
["","","","","","","","","","","","","","",""]
["","","","","","","","","","","","","","",""]
["","","","","","","","","","","","","","",""]
["","","","","","","","","","","","","","",""]
["","","","","","","","","","","","","","",""]
["","","","","","","","","","","","","","",""]
["","","","","","","","","","","","","","",""]
["","","","","","","","","","","","","","",""]
["","","","","","","","","","","","","","",""]
["","","","","","","","","","","","","","",""]
["","","","","","","","","","","","","","",""]
["","","","","","","","","","","","","","",""]
["","","","","","","","","","","","","","",""]
["","","","","","","","","","","","","","",""]
["","","","","","","","","","","","","","",""]
["","","","","","","","","","","","","","",""]
["","","","","","","","","","","","","","",""]
["","","","","","","","","","","","","","",""]
["","","","","","","","","","","","","","",""]
["","","","","","","","","","","","","","",""]
["","","","","","","","","","","","","","",""]
["","","","","","","","","","","","","","",""]
["","","","","","","","","","","","","","",""]
["","","","","","","","","","","","","","",""]
["","","","","","","","","","","","","","",""]
["","","","","","","","","","","","","","",""]
["","","","","","","","","","","","","","",""]
["","","","","","","","","","","","","","",""]
["","","","","","","","","","","","","","",""]
["","","","","","","","","","","","","","",""]
["","","","","","","","","","","","","","",""]
["","","","","","","","","","","","","","",""]
["","","","","","","","","","","","","","",""]
["","","","","","","","","","","","","","",""]
["","","","","","","","","","","","","","",""]
["","","","","","","","","","","","","","",""]
["","","","","","","","","","","","","","",""]
["","","","","","","","","","","","","","",""]
["","","","","","","","","","","","","","",""]
["","","","","","","","","","","","","","",""]
["","","","","","","","","","","","","","",""]
["","","","","","","","","","","","","","",""]
["","","","","","","","","","","","","","",""]
["","","","","","","","","","","","","","",""]
["","","","","","","","","","","","","","",""]
["","","","","","","","","","","","","","",""]
["","","","","","","","","","","","","","",""]
["","","","","","","","","","","","","","",""]
["","","","","","","","","","","","","","",""]
["","","","","","","","","","","","","","",""]
["","","","","","","","","","","","","","",""]
["","","","","","","","","","","","","","",""]
["","","","","","","","","","","","","","",""]
["","","","","","","","","","","","","","",""]
["","","","","","","","","","","","","","",""]
["","","","","","","","","","","","","","",""]
["","","","","","","","","","","","","","",""]
["","","","","","","","","","","","","","",""]
["","","","","","","","","","","","","","",""]
["","","","","","","","","","","","","","",""]
["","","","","","","","","","","","","","",""]
["","","","","","","","","","","","","","",""]
["","","","","","","","","","","","","","",""]
["","","","","","","","","","","","","","",""]
["","","","","","","","","","","","","","",""]
["","","","","","","","","","","","","","",""]
["","","","","","","","","","","","","","",""]
["","","","","","","","","","","","","","",""]
["","","","","","","","","","","","","","",""]
["","","","","","","","","","","","","","",""]
["","","","","","","","","","","","","","",""]
["","","","","","","","","","","","","","",""]
["","","","","","","","","","","","","","",""]
["","","","","","","","","","","","","","",""]
["","","","","","","","","","","","","","",""]
["","","","","","","","","","","","","","",""]
["","","","","","","","","","","","","","",""]
["","","","","","","","","","","","","","",""]
["","","","","","","","","","","","","","",""]
["","","","","","","","","","","","","","",""]
["","","","","","","","","","","","","","",""]
["","","","","","","","","","","","","","",""]
["","","","","","","","","","","","","","",""]
["","","","","","","","","","","","","","",""]
["","","","","","","","","","","","","","",""]
["","","","","","","","","","","","","","",""]
["","","","","","","","","","","","","","",""]
["","","","","","","","","","","","","","",""]
["","","","","","","","","","","","","","",""]
["","","","","","","","","","","","","","",""]
["","","","","","","","","","","","","","",""]
["","","","","","","","","","","","","","",""]
["","","","","","","","","","","","","","",""]
["","","","","","","","","","","","","","",""]
["","","","","","","","","","","","","","",""]
["","","","","","","","","","","","","","",""]
["","","","","","","","","","","","","","",""]
["","","","","","","","","","","","","","",""]
["","","","","","","","","","","","","","",""]
["","","","","","","","","","","","","","",""]
["","","","","","","","","","","","","","",""]
["","","","","","","","","","","","","","",""]
["","","","","","","","","","","","","","",""]
["","","","","","","","","","","","","","",""]
["","","","","","","","","","","","","","",""]
["","","","","","","","","","","","","","",""]
["","","","","","","","","","","","","","",""]
["","","","","","","","","","","","","","",""]
["","","","","","","","","","","","","","",""]
["","","","","","","","","","","","","","",""]
["","","","","","","","","","","","","","",""]
["","","","","","","","","","","","","","",""]
["","","","","","","","","","","","","","",""]
["","","","","","","","","","","","","","",""]
["","","","","","","","","","","","","","",""]
["","","","","","","","","","","","","","",""]
["","","","","","","","","","","","","","",""]
["","","","","","","","","","","","","","",""]
["","","","","","","","","","","","","","",""]
["","","","","","","","","","","","","","",""]
["","","","","","","","","","","","","","",""]
["","","","","","","","","","","","","","",""]
["","","","","","","","","","","","","","",""]
["","","","","","","","","","","","","","",""]
["","","","","","","","","","","","","","",""]
["","","","","","","","","","","","","","",""]
["","","","","","","","","","","","","","",""]
["","","","","","","","","","","","","","",""]
["","","","","","","","","","","","","","",""]
["","","","","","","","","","","","","","",""]
["","","","","","","","","","","","","","",""]
["","","","","","","","","","","","","","",""]
["","","","","","","","","","","","","","",""]
["","","","","","","","","","","","","","",""]
["","","","","","","","","","","","","","",""]
["","","","","","","","","","","","","","",""]
["","","","","","","","","","","","","","",""]
["","","","","","","","","","","","","","",""]
["","","","","","","","","","","","","","",""]
["","","","","","","","","","","","","","",""]
["","","","","","","","","","","","","","",""]
["","","","","","","","","","","","","","",""]
["","","","","","","","","","","","","","",""]
["","","","","","","","","","","","","","",""]
["","","","","","","","","","","","","","",""]
["","","","","","","","","","","","","","",""]
["","","","","","","","","","","","","","",""]
["","","","","","","","","","","","","","",""]
["","","","","","","","","","","","","","",""]
["","","","","","","","","","","","","","",""]
["","","","","","","","","","","","","","",""]
["","","","","","","","","","","","","","",""]
["","","","","","","","","","","","","","",""]
["","","","","","","","","","","","","","",""]
["","","","","","","","","","","","","","",""]
["","","","","","","","","","","","","","",""]
["","","","","","","","","","","","","","",""]
["","","","","","","","","","","","","","",""]
["","","","","","","","","","","","","","",""]
["","","","","","","","","","","","","","",""]
["","","","","","","","","","","","","","",""]
["","","","","","","","","","","","","","",""]
["","","","","","","","","","","","","","",""]
["","","","","","","","","","","","","","",""]
["","","","","","","","","","","","","","",""]
["","","","","","","","","","","","","","",""]
["","","","","","","","","","","","","","",""]
["","","","","","","","","","","","","","",""]
["","","","","","","","","","","","","","",""]
["","","","","","","","","","","","","","",""]
["","","","","","","","","","","","","","",""]
["","","","","","","","","","","","","","",""]
["","","","","","","","","","","","","","",""]
["","","","","","","","","","","","","","",""]
["","","","","","","","","","","","","","",""]
["","","","","","","","","","","","","","",""]
["","","","","","","","","","","","","","",""]
["","","","","","","","","","","","","","",""]
["","","","","","","","","","","","","","",""]
["","","","","","","","","","","","","","",""]
["","","","","","","","","","","","","","",""]
["","","","","","","","","","","","","","",""]
["","","","","","","","","","","","","","",""]
["","","","","","","","","","","","","","",""]
["","","","","","","","","","","","","","",""]
["","","","","","","","","","","","","","",""]
["","","","","","","","","","","","","","",""]
["","","","","","","","","","","","","","",""]
["","","","","","","","","","","","","","",""]
["","","","","","","","","","","","","","",""]
["","","","","","","","","","","","","","",""]
["","","","","","","","","","","","","","",""]
["","","","","","","","","","","","","","",""]
["","","","","","","","","","","","","","",""]
["","","","","","","","","","","","","","",""]
["","","","","","","","","","","","","","",""]
["","","","","","","","","","","","","","",""]
["","","","","","","","","","","","","","",""]
["","","","","","","","","","","","","","",""]
["","","","","","","","","","","","","","",""]
["","","","","","","","","","","","","","",""]
["","","","","","","","","","","","","","",""]
["","","","","","","","","","","","","","",""]
["","","","","","","","","","","","","","",""]
["","","","","","","","","","","","","","",""]
["","","","","","","","","","","","","","",""]
["","","","","","","","","","","","","","",""]
["","","","","","","","","","","","","","",""]
["","","","","","","","","","","","","","",""]
["","","","","","","","","","","","","","",""]
["","","","","","","","","","","","","","",""]
["","","","","","","","","","","","","","",""]
["","","","","","","","","","","","","","",""]
["","","","","","","","","","","","","","",""]
["","","","","","","","","","","","","","",""]
["","","","","","","","","","","","","","",""]
["","","","","","","","","","","","","","",""]
["","","","","","","","","","","","","","",""]
["","","","","","","","","","","","","","",""]
["","","","","","","","","","","","","","",""]
["","","","","","","","","","","","","","",""]
["","","","","","","","","","","","","","",""]
["","","","","","","","","","","","","","",""]
["","","","","","","","","","","","","","",""]
["","","","","","","","","","","","","","",""]
["","","","","","","","","","","","","","",""]
["","","","","","","","","","","","","","",""]
["","","","","","","","","","","","","","",""]
["","","","","","","","","","","","","","",""]
["","","","","","","","","","","","","","",""]
["","","","","","","","","","","","","","",""]
["","","","","","","","","","","","","","",""]
["","","","","","","","","","","","","","",""]
["","","","","","","","","","","","","","",""]
["","","","","","","","","","","","","","",""]
["","","","","","","","","","","","","","",""]
["","","","","","","","","","","","","","",""]
["","","","","","","","","","","","","","",""]
["","","","","","","","","","","","","","",""]
["","","","","","","","","","","","","","",""]
["","","","","","","","","","","","","","",""]
["","","","","","","","","","","","","","",""]
["","","","","","","","","","","","","","",""]
["","","","","","","","","","","","","","",""]
["","","","","","","","","","","","","","",""]
["","","","","","","","","","","","","","",""]
["","","","","","","","","","","","","","",""]
["","","","","","","","","","","","","","",""]
["","","","","","","","","","","","","","",""]
["","","","","","","","","","","","","","",""]
["","","","","","","","","","","","","","",""]
["","","","","","","","","","","","","","",""]
["","","","","","","","","","","","","","",""]
["","","","","","","","","","","","","","",""]
["","","","","","","","","","","","","","",""]
["","","","","","","","","","","","","","",""]
["","","","","","","","","","","","","","",""]
["","","","","","","","","","","","","","",""]
["","","","","","","","","","","","","","",""]
["","","","","","","","","","","","","","",""]
["","","","","","","","","","","","","","",""]
["","","","","","","","","","","","","","",""]
["","","","","","","","","","","","","","",""]
["","","","","","","","","","","","","","",""]
["","","","","","","","","","","","","","",""]
["","","","","","","","","","","","","","",""]
["","","","","","","","","","","","","","",""]
["","","","","","","","","","","","","","",""]
["","","","","","","","","","","","","","",""]
["","","","","","","","","","","","","","",""]
["","","","","","","","","","","","","","",""]
["","","","","","","","","","","","","","",""]
["","","","","","","","","","","","","","",""]
["","","","","","","","","","","","","","",""]
["","","","","","","","","","","","","","",""]
["","","","","","","","","","","","","","",""]
["","","","","","","","","","","","","","",""]
["","","","","","","","","","","","","","",""]
["","","","","","","","","","","","","","",""]
["","","","","","","","","","","","","","",""]
["","","","","","","","","","","","","","",""]
["","","","","","","","","","","","","","",""]
["","","","","","","","","","","","","","",""]
["","","","","","","","","","","","","","",""]
["","","","","","","","","","","","","","",""]
["","","","","","","","","","","","","","",""]
["","","","","","","","","","","","","","",""]
["","","","","","","","","","","","","","",""]
["","","","","","","","","","","","","","",""]
["","","","","","","","","","","","","","",""]
["","","","","","","","","","","","","","",""]
["","","","","","","","","","","","","","",""]
["","","","","","","","","","","","","","",""]
["","","","","","","","","","","","","","",""]
["","","","","","","","","","","","","","",""]
["","","","","","","","","","","","","","",""]
["","","","","","","","","","","","","","",""]
["","","","","","","","","","","","","","",""]
["","","","","","","","","","","","","","",""]
["","","","","","","","","","","","","","",""]
["","","","","","","","","","","","","","",""]
["","","","","","","","","","","","","","",""]
["","","","","","","","","","","","","","",""]
["","","","","","","","","","","","","","",""]
["","","","","","","","","","","","","","",""]
["","","","","","","","","","","","","","",""]
["","","","","","","","","","","","","","",""]
["","","","","","","","","","","","","","",""]
["","","","","","","","","","","","","","",""]
["","","","","","","","","","","","","","",""]
["","","","","","","","","","","","","","",""]
["","","","","","","","","","","","","","",""]
["","","","","","","","","","","","","","",""]
["","","","","","","","","","","","","","",""]
["","","","","","","","","","","","","","",""]
["","","","","","","","","","","","","","",""]
["","","","","","","","","","","","","","",""]
["","","","","","","","","","","","","","",""]
["","","","","","","","","","","","","","",""]
["","","","","","","","","","","","","","",""]
["","","","","","","","","","","","","","",""]
["","","","","","","","","","","","","","",""]
["","","","","","","","","","","","","","",""]
["","","","","","","","","","","","","","",""]
["","","","","","","","","","","","","","",""]
["","","","","","","","","","","","","","",""]
["","","","","","","","","","","","","","",""]
["","","","","","","","","","","","","","",""]
["","","","","","","","","","","","","","",""]
["","","","","","","","","","","","","","",""]
["","","","","","","","","","","","","","",""]
["","","","","","","","","","","","","","",""]
["","","","","","","","","","","","","","",""]
["","","","","","","","","","","","","","",""]
["","","","","","","","","","","","","","",""]
["","","","","","","","","","","","","","",""]
["","","","","","","","","","","","","","",""]
["","","","","","","","","","","","","","",""]
["","","","","","","","","","","","","","",""]
["","","","","","","","","","","","","","",""]
["","","","","","","","","","","","","","",""]
["","","","","","","","","","","","","","",""]
["","","","","","","","","","","","","","",""]
["","","","","","","","","","","","","","",""]
["","","","","","","","","","","","","","",""]
["","","","","","","","","","","","","","",""]
["","","","","","","","","","","","","","",""]
["","","","","","","","","","","","","","",""]
["","","","","","","","","","","","","","",""]
["","","","","","","","","","","","","","",""]
["","","","","","","","","","","","","","",""]
["","","","","","","","","","","","","","",""]
["","","","","","","","","","","","","","",""]
["","","","","","","","","","","","","","",""]
["","","","","","","","","","","","","","",""]
["","","","","","","","","","","","","","",""]
["","","","","","","","","","","","","","",""]
["","","","","","","","","","","","","","",""]
["","","","","","","","","","","","","","",""]
["","","","","","","","","","","","","","",""]
["","","","","","","","","","","","","","",""]
["","","","","","","","","","","","","","",""]
["","","","","","","","","","","","","","",""]
["","","","","","","","","","","","","","",""]
["","","","","","","","","","","","","","",""]
["","","","","","","","","","","","","","",""]
["","","","","","","","","","","","","","",""]
["","","","","","","","","","","","","","",""]
["","","","","","","","","","","","","","",""]
["","","","","","","","","","","","","","",""]
["","","","","","","","","","","","","","",""]
["","","","","","","","","","","","","","",""]
["","","","","","","","","","","","","","",""]
["","","","","","","","","","","","","","",""]
["","","","","","","","","","","","","","",""]
["","","","","","","","","","","","","","",""]
["","","","","","","","","","","","","","",""]
["","","","","","","","","","","","","","",""]
["","","","","","","","","","","","","","",""]
["","","","","","","","","","","","","","",""]
["","","","","","","","","","","","","","",""]
["","","","","","","","","","","","","","",""]
["","","","","","","","","","","","","","",""]
["","","","","","","","","","","","","","",""]
["","","","","","","","","","","","","","",""]
["","","","","","","","","","","","","","",""]
["","","","","","","","","","","","","","",""]
["","","","","","","","","","","","","","",""]
["","","","","","","","","","","","","","",""]
["","","","","","","","","","","","","","",""]
["","","","","","","","","","","","","","",""]
["","","","","","","","","","","","","","",""]
["","","","","","","","","","","","","","",""]
["","","","","","","","","","","","","","",""]
["","","","","","","","","","","","","","",""]
["","","","","","","","","","","","","","",""]
["","","","","","","","","","","","","","",""]
["","","","","","","","","","","","","","",""]
["","","","","","","","","","","","","","",""]
["","","","","","","","","","","","","","",""]
["","","","","","","","","","","","","","",""]
["","","","","","","","","","","","","","",""]
["","","","","","","","","","","","","","",""]
["","","","","","","","","","","","","","",""]
["","","","","","","","","","","","","","",""]
["","","","","","","","","","","","","","",""]
["","","","","","","","","","","","","","",""]
["","","","","","","","","","","","","","",""]
["","","","","","","","","","","","","","",""]
["","","","","","","","","","","","","","",""]
["","","","","","","","","","","","","","",""]
["","","","","","","","","","","","","","",""]
["","","","","","","","","","","","","","",""]
["","","","","","","","","","","","","","",""]
["","","","","","","","","","","","","","",""]
["","","","","","","","","","","","","","",""]
["","","","","","","","","","","","","","",""]
["","","","","","","","","","","","","","",""]
["","","","","","","","","","","","","","",""]
["","","","","","","","","","","","","","",""]
["","","","","","","","","","","","","","",""]
["","","","","","","","","","","","","","",""]
["","","","","","","","","","","","","","",""]
["","","","","","","","","","","","","","",""]
["","","","","","","","","","","","","","",""]
["","","","","","","","","","","","","","",""]
["","","","","","","","","","","","","","",""]
["","","","","","","","","","","","","","",""]
["","","","","","","","","","","","","","",""]
["","","","","","","","","","","","","","",""]
["","","","","","","","","","","","","","",""]
["","","","","","","","","","","","","","",""]
["","","","","","","","","","","","","","",""]
["","","","","","","","","","","","","","",""]
["","","","","","","","","","","","","","",""]
["","","","","","","","","","","","","","",""]
["","","","","","","","","","","","","","",""]
["","","","","","","","","","","","","","",""]
["","","","","","","","","","","","","","",""]
["","","","","","","","","","","","","","",""]
["","","","","","","","","","","","","","",""]
["","","","","","","","","","","","","","",""]
["","","","","","","","","","","","","","",""]
["","","","","","","","","","","","","","",""]
["","","","","","","","","","","","","","",""]
["","","","","","","","","","","","","","",""]
["","","","","","","","","","","","","","",""]
["","","","","","","","","","","","","","",""]
["","","","","","","","","","","","","","",""]
["","","","","","","","","","","","","","",""]
["","","","","","","","","","","","","","",""]
["","","","","","","","","","","","","","",""]
["","","","","","","","","","","","","","",""]
["","","","","","","","","","","","","","",""]
["","","","","","","","","","","","","","",""]
["","","","","","","","","","","","","","",""]
["","","","","","","","","","","","","","",""]
["","","","","","","","","","","","","","",""]
["","","","","","","","","","","","","","",""]
["","","","","","","","","","","","","","",""]
["","","","","","","","","","","","","","",""]
["","","","","","","","","","","","","","",""]
["","","","","","","","","","","","","","",""]
["","","","","","","","","","","","","","",""]
["","","","","","","","","","","","","","",""]
["","","","","","","","","","","","","","",""]
["","","","","","","","","","","","","","",""]
["","","","","","","","","","","","","","",""]
["","","","","","","","","","","","","","",""]
["","","","","","","","","","","","","","",""]
["","","","","","","","","","","","","","",""]
["","","","","","","","","","","","","","",""]
["","","","","","","","","","","","","","",""]
["","","","","","","","","","","","","","",""]
["","","","","","","","","","","","","","",""]
["","","","","","","","","","","","","","",""]
["","","","","","","","","","","","","","",""]
["","","","","","","","","","","","","","",""]
["","","","","","","","","","","","","","",""]
["","","","","","","","","","","","","","",""]
["","","","","","","","","","","","","","",""]
["","","","","","","","","","","","","","",""]
["","","","","","","","","","","","","","",""]
["","","","","","","","","","","","","","",""]
["","","","","","","","","","","","","","",""]
["","","","","","","","","","","","","","",""]
["","","","","","","","","","","","","","",""]
["","","","","","","","","","","","","","",""]
["","","","","","","","","","","","","","",""]
["","","","","","","","","","","","","","",""]
["","","","","","","","","","","","","","",""]
["","","","","","","","","","","","","","",""]
["","","","","","","","","","","","","","",""]
["","","","","","","","","","","","","","",""]
["","","","","","","","","","","","","","",""]
["","","","","","","","","","","","","","",""]
["","","","","","","","","","","","","","",""]
["","","","","","","","","","","","","","",""]
["","","","","","","","","","","","","","",""]
["","","","","","","","","","","","","","",""]
["","","","","","","","","","","","","","",""]
["","","","","","","","","","","","","","",""]
["","","","","","","","","","","","","","",""]
["","","","","","","","","","","","","","",""]
["","","","","","","","","","","","","","",""]
["","","","","","","","","","","","","","",""]
["","","","","","","","","","","","","","",""]
["","","","","","","","","","","","","","",""]
["","","","","","","","","","","","","","",""]
["","","","","","","","","","","","","","",""]
["","","","","","","","","","","","","","",""]
["","","","","","","","","","","","","","",""]
["","","","","","","","","","","","","","",""]
["","","","","","","","","","","","","","",""]
["","","","","","","","","","","","","","",""]
["","","","","","","","","","","","","","",""]
["","","","","","","","","","","","","","",""]
["","","","","","","","","","","","","","",""]
["","","","","","","","","","","","","","",""]
["","","","","","","","","","","","","","",""]
["","","","","","","","","","","","","","",""]
["","","","","","","","","","","","","","",""]
["","","","","","","","","","","","","","",""]
["","","","","","","","","","","","","","",""]
["","","","","","","","","","","","","","",""]
["","","","","","","","","","","","","","",""]
["","","","","","","","","","","","","","",""]
["","","","","","","","","","","","","","",""]
["","","","","","","","","","","","","","",""]
["","","","","","","","","","","","","","",""]
["","","","","","","","","","","","","","",""]
["","","","","","","","","","","","","","",""]
["","","","","","","","","","","","","","",""]
["","","","","","","","","","","","","","",""]
["","","","","","","","","","","","","","",""]
["","","","","","","","","","","","","","",""]
["","","","","","","","","","","","","","",""]
["","","","","","","","","","","","","","",""]
["","","","","","","","","","","","","","",""]
["","","","","","","","","","","","","","",""]
["","","","","","","","","","","","","","",""]
["","","","","","","","","","","","","","",""]
["","","","","","","","","","","","","","",""]
["","","","","","","","","","","","","","",""]
["","","","","","","","","","","","","","",""]
["","","","","","","","","","","","","","",""]
["","","","","","","","","","","","","","",""]
["","","","","","","","","","","","","","",""]
["","","","","","","","","","","","","","",""]
["","","","","","","","","","","","","","",""]
["","","","","","","","","","","","","","",""]
["","","","","","","","","","","","","","",""]
["","","","","","","","","","","","","","",""]
["","","","","","","","","","","","","","",""]
["","","","","","","","","","","","","","",""]
["","","","","","","","","","","","","","",""]
["","","","","","","","","","","","","","",""]
["","","","","","","","","","","","","","",""]
["","","","","","","","","","","","","","",""]
["","","","","","","","","","","","","","",""]
["","","","","","","","","","","","","","",""]
["","","","","","","","","","","","","","",""]
["","","","","","","","","","","","","","",""]
["","","","","","","","","","","","","","",""]
["","","","","","","","","","","","","","",""]
["","","","","","","","","","","","","","",""]
["","","","","","","","","","","","","","",""]
["","","","","","","","","","","","","","",""]
["","","","","","","","","","","","","","",""]
["","","","","","","","","","","","","","",""]
["","","","","","","","","","","","","","",""]
["","","","","","","","","","","","","","",""]
["","","","","","","","","","","","","","",""]
["","","","","","","","","","","","","","",""]
["","","","","","","","","","","","","","",""]
["","","","","","","","","","","","","","",""]
["","","","","","","","","","","","","","",""]
["","","","","","","","","","","","","","",""]
["","","","","","","","","","","","","","",""]
["","","","","","","","","","","","","","",""]
["","","","","","","","","","","","","","",""]
["","","","","","","","","","","","","","",""]
["","","","","","","","","","","","","","",""]
["","","","","","","","","","","","","","",""]
["","","","","","","","","","","","","","",""]
["","","","","","","","","","","","","","",""]
["","","","","","","","","","","","","","",""]
["","","","","","","","","","","","","","",""]
["","","","","","","","","","","","","","",""]
["","","","","","","","","","","","","","",""]
["","","","","","","","","","","","","","",""]
["","","","","","","","","","","","","","",""]
["","","","","","","","","","","","","","",""]
["","","","","","","","","","","","","","",""]
["","","","","","","","","","","","","","",""]
["","","","","","","","","","","","","","",""]
["","","","","","","","","","","","","","",""]
["","","","","","","","","","","","","","",""]
["","","","","","","","","","","","","","",""]
["","","","","","","","","","","","","","",""]
["","","","","","","","","","","","","","",""]
["","","","","","","","","","","","","","",""]
["","","","","","","","","","","","","","",""]
["","","","","","","","","","","","","","",""]
["","","","","","","","","","","","","","",""]
["","","","","","","","","","","","","","",""]
["","","","","","","","","","","","","","",""]
["","","","","","","","","","","","","","",""]
["","","","","","","","","","","","","","",""]
["","","","","","","","","","","","","","",""]
["","","","","","","","","","","","","","",""]
["","","","","","","","","","","","","","",""]
["","","","","","","","","","","","","","",""]
["","","","","","","","","","","","","","",""]
["","","","","","","","","","","","","","",""]
["","","","","","","","","","","","","","",""]
["","","","","","","","","","","","","","",""]
["","","","","","","","","","","","","","",""]
["","","","","","","","","","","","","","",""]
["","","","","","","","","","","","","","",""]
["","","","","","","","","","","","","","",""]
["","","","","","","","","","","","","","",""]
["","","","","","","","","","","","","","",""]
["","","","","","","","","","","","","","",""]
["","","","","","","","","","","","","","",""]
["","","","","","","","","","","","","","",""]
["","","","","","","","","","","","","","",""]
["","","","","","","","","","","","","","",""]
["","","","","","","","","","","","","","",""]
["","","","","","","","","","","","","","",""]
["","","","","","","","","","","","","","",""]
["","","","","","","","","","","","","","",""]
["","","","","","","","","","","","","","",""]
["","","","","","","","","","","","","","",""]
["","","","","","","","","","","","","","",""]
["","","","","","","","","","","","","","",""]
["","","","","","","","","","","","","","",""]
["","","","","","","","","","","","","","",""]
["","","","","","","","","","","","","","",""]
["","","","","","","","","","","","","","",""]
["","","","","","","","","","","","","","",""]
["","","","","","","","","","","","","","",""]
["","","","","","","","","","","","","","",""]
["","","","","","","","","","","","","","",""]
["","","","","","","","","","","","","","",""]
["","","","","","","","","","","","","","",""]
["","","","","","","","","","","","","","",""]
["","","","","","","","","","","","","","",""]
["","","","","","","","","","","","","","",""]
["","","","","","","","","","","","","","",""]
["","","","","","","","","","","","","","",""]
["","","","","","","","","","","","","","",""]
["","","","","","","","","","","","","","",""]
["","","","","","","","","","","","","","",""]
["","","","","","","","","","","","","","",""]
["","","","","","","","","","","","","","",""]
["","","","","","","","","","","","","","",""]
["","","","","","","","","","","","","","",""]
["","","","","","","","","","","","","","",""]
["","","","","","","","","","","","","","",""]
["","","","","","","","","","","","","","",""]
["","","","","","","","","","","","","","",""]
["","","","","","","","","","","","","","",""]
["","","","","","","","","","","","","","",""]
["","","","","","","","","","","","","","",""]
["","","","","","","","","","","","","","",""]
["","","","","","","","","","","","","","",""]
["","","","","","","","","","","","","","",""]
["","","","","","","","","","","","","","",""]
["","","","","","","","","","","","","","",""]
["","","","","","","","","","","","","","",""]
["","","","","","","","","","","","","","",""]
["","","","","","","","","","","","","","",""]
["","","","","","","","","","","","","","",""]
["","","","","","","","","","","","","","",""]
["","","","","","","","","","","","","","",""]
["","","","","","","","","","","","","","",""]
["","","","","","","","","","","","","","",""]
["","","","","","","","","","","","","","",""]
["","","","","","","","","","","","","","",""]
["","","","","","","","","","","","","","",""]
["","","","","","","","","","","","","","",""]
["","","","","","","","","","","","","","",""]
["","","","","","","","","","","","","","",""]
["","","","","","","","","","","","","","",""]
["","","","","","","","","","","","","","",""]
["","","","","","","","","","","","","","",""]
["","","","","","","","","","","","","","",""]
["","","","","","","","","","","","","","",""]
["","","","","","","","","","","","","","",""]
["","","","","","","","","","","","","","",""]
["","","","","","","","","","","","","","",""]
["","","","","","","","","","","","","","",""]
["","","","","","","","","","","","","","",""]
["","","","","","","","","","","","","","",""]
["","","","","","","","","","","","","","",""]
["","","","","","","","","","","","","","",""]
["","","","","","","","","","","","","","",""]
["","","","","","","","","","","","","","",""]
["","","","","","","","","","","","","","",""]
["","","","","","","","","","","","","","",""]
["","","","","","","","","","","","","","",""]
["","","","","","","","","","","","","","",""]
["","","","","","","","","","","","","","",""]
["","","","","","","","","","","","","","",""]
["","","","","","","","","","","","","","",""]
["","","","","","","","","","","","","","",""]
["","","","","","","","","","","","","","",""]
["","","","","","","","","","","","","","",""]
["","","","","","","","","","","","","","",""]
["","","","","","","","","","","","","","",""]
["","","","","","","","","","","","","","",""]
["","","","","","","","","","","","","","",""]
["","","","","","","","","","","","","","",""]
["","","","","","","","","","","","","","",""]
["","","","","","","","","","","","","","",""]
["","","","","","","","","","","","","","",""]
["","","","","","","","","","","","","","",""]
["","","","","","","","","","","","","","",""]
["","","","","","","","","","","","","","",""]
["","","","","","","","","","","","","","",""]
["","","","","","","","","","","","","","",""]
["","","","","","","","","","","","","","",""]
["","","","","","","","","","","","","","",""]
["","","","","","","","","","","","","","",""]
["","","","","","","","","","","","","","",""]
["","","","","","","","","","","","","","",""]
["","","","","","","","","","","","","","",""]
["","","","","","","","","","","","","","",""]
["","","","","","","","","","","","","","",""]
["","","","","","","","","","","","","","",""]
["","","","","","","","","","","","","","",""]
["","","","","","","","","","","","","","",""]
["","","","","","","","","","","","","","",""]
["","","","","","","","","","","","","","",""]
["","","","","","","","","","","","","","",""]
["","","","","","","","","","","","","","",""]
["","","","","","","","","","","","","","",""]
["","","","","","","","","","","","","","",""]
["","","","","","","","","","","","","","",""]
["","","","","","","","","","","","","","",""]
["","","","","","","","","","","","","","",""]
["","","","","","","","","","","","","","",""]
["","","","","","","","","","","","","","",""]
["","","","","","","","","","","","","","",""]
["","","","","","","","","","","","","","",""]
["","","","","","","","","","","","","","",""]
["","","","","","","","","","","","","","",""]
["","","","","","","","","","","","","","",""]
["","","","","","","","","","","","","","",""]
["","","","","","","","","","","","","","",""]
["","","","","","","","","","","","","","",""]
["","","","","","","","","","","","","","",""]
["","","","","","","","","","","","","","",""]
["","","","","","","","","","","","","","",""]
["","","","","","","","","","","","","","",""]
["","","","","","","","","","","","","","",""]
["","","","","","","","","","","","","","",""]
["","","","","","","","","","","","","","",""]
["","","","","","","","","","","","","","",""]
["","","","","","","","","","","","","","",""]
["","","","","","","","","","","","","","",""]
["","","","","","","","","","","","","","",""]
["","","","","","","","","","","","","","",""]
["","","","","","","","","","","","","","",""]
["","","","","","","","","","","","","","",""]
["","","","","","","","","","","","","","",""]
["","","","","","","","","","","","","","",""]
["","","","","","","","","","","","","","",""]
["","","","","","","","","","","","","","",""]
["","","","","","","","","","","","","","",""]
["","","","","","","","","","","","","","",""]
["","","","","","","","","","","","","","",""]
["","","","","","","","","","","","","","",""]
["","","","","","","","","","","","","","",""]
["","","","","","","","","","","","","","",""]
["","","","","","","","","","","","","","",""]
["","","","","","","","","","","","","","",""]
["","","","","","","","","","","","","","",""]
["","","","","","","","","","","","","","",""]
["","","","","","","","","","","","","","",""]
["","","","","","","","","","","","","","",""]
["","","","","","","","","","","","","","",""]
["","","","","","","","","","","","","","",""]
["","","","","","","","","","","","","","",""]
["","","","","","","","","","","","","","",""]
["","","","","","","","","","","","","","",""]
["","","","","","","","","","","","","","",""]
["","","","","","","","","","","","","","",""]
["","","","","","","","","","","","","","",""]
["","","","","","","","","","","","","","",""]
["","","","","","","","","","","","","","",""]
["","","","","","","","","","","","","","",""]
["","","","","","","","","","","","","","",""]
["","","","","","","","","","","","","","",""]
["","","","","","","","","","","","","","",""]
["","","","","","","","","","","","","","",""]
["","","","","","","","","","","","","","",""]
["","","","","","","","","","","","","","",""]
["","","","","","","","","","","","","","",""]
["","","","","","","","","","","","","","",""]
["","","","","","","","","","","","","","",""]
["","","","","","","","","","","","","","",""]
["","","","","","","","","","","","","","",""]
["","","","","","","","","","","","","","",""]
["","","","","","","","","","","","","","",""]
["","","","","","","","","","","","","","",""]
["","","","","","","","","","","","","","",""]
["","","","","","","","","","","","","","",""]
["","","","","","","","","","","","","","",""]
["","","","","","","","","","","","","","",""]
["","","","","","","","","","","","","","",""]
["","","","","","","","","","","","","","",""]
["","","","","","","","","","","","","","",""]
["","","","","","","","","","","","","","",""]
["","","","","","","","","","","","","","",""]
["","","","","","","","","","","","","","",""]
["","","","","","","","","","","","","","",""]
["","","","","","","","","","","","","","",""]
["","","","","","","","","","","","","","",""]
["","","","","","","","","","","","","","",""]
["","","","","","","","","","","","","","",""]
["","","","","","","","","","","","","","",""]
["","","","","","","","","","","","","","",""]
["","","","","","","","","","","","","","",""]
["","","","","","","","","","","","","","",""]
["","","","","","","","","","","","","","",""]
["","","","","","","","","","","","","","",""]
["","","","","","","","","","","","","","",""]
["","","","","","","","","","","","","","",""]
["","","","","","","","","","","","","","",""]
["","","","","","","","","","","","","","",""]
["","","","","","","","","","","","","","",""]
["","","","","","","","","","","","","","",""]
["","","","","","","","","","","","","","",""]
["","","","","","","","","","","","","","",""]
["","","","","","","","","","","","","","",""]
["","","","","","","","","","","","","","",""]
["","","","","","","","","","","","","","",""]
["","","","","","","","","","","","","","",""]
["","","","","","","","","","","","","","",""]
["","","","","","","","","","","","","","",""]
["","","","","","","","","","","","","","",""]
["","","","","","","","","","","","","","",""]
["","","","","","","","","","","","","","",""]
["","","","","","","","","","","","","","",""]
["","","","","","","","","","","","","","",""]
["","","","","","","","","","","","","","",""]
["","","","","","","","","","","","","","",""]
["","","","","","","","","","","","","","",""]
["","","","","","","","","","","","","","",""]
["","","","","","","","","","","","","","",""]
["","","","","","","","","","","","","","",""]
["","","","","","","","","","","","","","",""]
["","","","","","","","","","","","","","",""]
["","","","","","","","","","","","","","",""]
["","","","","","","","","","","","","","",""]
["","","","","","","","","","","","","","",""]
["","","","","","","","","","","","","","",""]
["","","","","","","","","","","","","","",""]
["","","","","","","","","","","","","","",""]
["","","","","","","","","","","","","","",""]
["","","","","","","","","","","","","","",""]
["","","","","","","","","","","","","","",""]
["","","","","","","","","","","","","","",""]
["","","","","","","","","","","","","","",""]
["","","","","","","","","","","","","","",""]
["","","","","","","","","","","","","","",""]
["","","","","","","","","","","","","","",""]
["","","","","","","","","","","","","","",""]
["","","","","","","","","","","","","","",""]
["","","","","","","","","","","","","","",""]
["","","","","","","","","","","","","","",""]
["","","","","","","","","","","","","","",""]
["","","","","","","","","","","","","","",""]
["","","","","","","","","","","","","","",""]
["","","","","","","","","","","","","","",""]
["","","","","","","","","","","","","","",""]
["","","","","","","","","","","","","","",""]
["","","","","","","","","","","","","","",""]
["","","","","","","","","","","","","","",""]
["","","","","","","","","","","","","","",""]
["","","","","","","","","","","","","","",""]
["","","","","","","","","","","","","","",""]
["","","","","","","","","","","","","","",""]
["","","","","","","","","","","","","","",""]
["","","","","","","","","","","","","","",""]
["","","","","","","","","","","","","","",""]
["","","","","","","","","","","","","","",""]
["","","","","","","","","","","","","","",""]
["","","","","","","","","","","","","","",""]
["","","","","","","","","","","","","","",""]
["","","","","","","","","","","","","","",""]
["","","","","","","","","","","","","","",""]
["","","","","","","","","","","","","","",""]
["","","","","","","","","","","","","","",""]
["","","","","","","","","","","","","","",""]
["","","","","","","","","","","","","","",""]
["","","","","","","","","","","","","","",""]
["","","","","","","","","","","","","","",""]
["","","","","","","","","","","","","","",""]
["","","","","","","","","","","","","","",""]
["","","","","","","","","","","","","","",""]
["","","","","","","","","","","","","","",""]
["","","","","","","","","","","","","","",""]
["","","","","","","","","","","","","","",""]
["","","","","","","","","","","","","","",""]
["","","","","","","","","","","","","","",""]
["","","","","","","","","","","","","","",""]
["","","","","","","","","","","","","","",""]
["","","","","","","","","","","","","","",""]
["","","","","","","","","","","","","","",""]
["","","","","","","","","","","","","","",""]
["","","","","","","","","","","","","","",""]
["","","","","","","","","","","","","","",""]
["","","","","","","","","","","","","","",""]
["","","","","","","","","","","","","","",""]
["","","","","","","","","","","","","","",""]
["","","","","","","","","","","","","","",""]
["","","","","","","","","","","","","","",""]
["","","","","","","","","","","","","","",""]
["","","","","","","","","","","","","","",""]
["","","","","","","","","","","","","","",""]
["","","","","","","","","","","","","","",""]
["","","","","","","","","","","","","","",""]
["","","","","","","","","","","","","","",""]
["","","","","","","","","","","","","","",""]
["","","","","","","","","","","","","","",""]
["","","","","","","","","","","","","","",""]
["","","","","","","","","","","","","","",""]
["","","","","","","","","","","","","","",""]
["","","","","","","","","","","","","","",""]
["","","","","","","","","","","","","","",""]
["","","","","","","","","","","","","","",""]
["","","","","","","","","","","","","","",""]
["","","","","","","","","","","","","","",""]
["","","","","","","","","","","","","","",""]
["","","","","","","","","","","","","","",""]
["","","","","","","","","","","","","","",""]
["","","","","","","","","","","","","","",""]
["","","","","","","","","","","","","","",""]
["","","","","","","","","","","","","","",""]
["","","","","","","","","","","","","","",""]
["","","","","","","","","","","","","","",""]
["","","","","","","","","","","","","","",""]
["","","","","","","","","","","","","","",""]
["","","","","","","","","","","","","","",""]
["","","","","","","","","","","","","","",""]
["","","","","","","","","","","","","","",""]
["","","","","","","","","","","","","","",""]
["","","","","","","","","","","","","","",""]
["","","","","","","","","","","","","","",""]
["","","","","","","","","","","","","","",""]
["","","","","","","","","","","","","","",""]
["","","","","","","","","","","","","","",""]
["","","","","","","","","","","","","","",""]
["","","","","","","","","","","","","","",""]
["","","","","","","","","","","","","","",""]
["","","","","","","","","","","","","","",""]
["","","","","","","","","","","","","","",""]
["","","","","","","","","","","","","","",""]
["","","","","","","","","","","","","","",""]
["","","","","","","","","","","","","","",""]
["","","","","","","","","","","","","","",""]
["","","","","","","","","","","","","","",""]
["","","","","","","","","","","","","","",""]
["","","","","","","","","","","","","","",""]
["","","","","","","","","","","","","","",""]
["","","","","","","","","","","","","","",""]
["","","","","","","","","","","","","","",""]
["","","","","","","","","","","","","","",""]
["","","","","","","","","","","","","","",""]
["","","","","","","","","","","","","","",""]
["","","","","","","","","","","","","","",""]
["","","","","","","","","","","","","","",""]
["","","","","","","","","","","","","","",""]
["","","","","","","","","","","","","","",""]
["","","","","","","","","","","","","","",""]
["","","","","","","","","","","","","","",""]
["","","","","","","","","","","","","","",""]
["","","","","","","","","","","","","","",""]
["","","","","","","","","","","","","","",""]
["","","","","","","","","","","","","","",""]
["","","","","","","","","","","","","","",""]
["","","","","","","","","","","","","","",""]
["","","","","","","","","","","","","","",""]
["","","","","","","","","","","","","","",""]
["","","","","","","","","","","","","","",""]
["","","","","","","","","","","","","","",""]
["","","","","","","","","","","","","","",""]
["","","","","","","","","","","","","","",""]
["","","","","","","","","","","","","","",""]
["","","","","","","","","","","","","","",""]
["","","","","","","","","","","","","","",""]
["","","","","","","","","","","","","","",""]
["","","","","","","","","","","","","","",""]
["","","","","","","","","","","","","","",""]
["","","","","","","","","","","","","","",""]
["","","","","","","","","","","","","","",""]
["","","","","","","","","","","","","","",""]
["","","","","","","","","","","","","","",""]
["","","","","","","","","","","","","","",""]
["","","","","","","","","","","","","","",""]
["","","","","","","","","","","","","","",""]
["","","","","","","","","","","","","","",""]
["","","","","","","","","","","","","","",""]
["","","","","","","","","","","","","","",""]
["","","","","","","","","","","","","","",""]
["","","","","","","","","","","","","","",""]
["","","","","","","","","","","","","","",""]
["","","","","","","","","","","","","","",""]
["","","","","","","","","","","","","","",""]
["","","","","","","","","","","","","","",""]
["","","","","","","","","","","","","","",""]
["","","","","","","","","","","","","","",""]
["","","","","","","","","","","","","","",""]
["","","","","","","","","","","","","","",""]
["","","","","","","","","","","","","","",""]
["","","","","","","","","","","","","","",""]
["","","","","","","","","","","","","","",""]
["","","","","","","","","","","","","","",""]
["","","","","","","","","","","","","","",""]
["","","","","","","","","","","","","","",""]
["","","","","","","","","","","","","","",""]
["","","","","","","","","","","","","","",""]
["","","","","","","","","","","","","","",""]
["","","","","","","","","","","","","","",""]
["","","","","","","","","","","","","","",""]
["","","","","","","","","","","","","","",""]
["","","","","","","","","","","","","","",""]
["","","","","","","","","","","","","","",""]
["","","","","","","","","","","","","","",""]
["","","","","","","","","","","","","","",""]
["","","","","","","","","","","","","","",""]
["","","","","","","","","","","","","","",""]
["","","","","","","","","","","","","","",""]
["","","","","","","","","","","","","","",""]
["","","","","","","","","","","","","","",""]
["","","","","","","","","","","","","","",""]
["","","","","","","","","","","","","","",""]
["","","","","","","","","","","","","","",""]
["","","","","","","","","","","","","","",""]
["","","","","","","","","","","","","","",""]
["","","","","","","","","","","","","","",""]
["","","","","","","","","","","","","","",""]
["","","","","","","","","","","","","","",""]
["","","","","","","","","","","","","","",""]
["","","","","","","","","","","","","","",""]
["","","","","","","","","","","","","","",""]
["","","","","","","","","","","","","","",""]
["","","","","","","","","","","","","","",""]
["","","","","","","","","","","","","","",""]
["","","","","","","","","","","","","","",""]
["","","","","","","","","","","","","","",""]
["","","","","","","","","","","","","","",""]
["","","","","","","","","","","","","","",""]
["","","","","","","","","","","","","","",""]
["","","","","","","","","","","","","","",""]
["","","","","","","","","","","","","","",""]
["","","","","","","","","","","","","","",""]
["","","","","","","","","","","","","","",""]
["","","","","","","","","","","","","","",""]
["","","","","","","","","","","","","","",""]
["","","","","","","","","","","","","","",""]
["","","","","","","","","","","","","","",""]
["","","","","","","","","","","","","","",""]
["","","","","","","","","","","","","","",""]
["","","","","","","","","","","","","","",""]
["","","","","","","","","","","","","","",""]
["","","","","","","","","","","","","","",""]
["","","","","","","","","","","","","","",""]
["","","","","","","","","","","","","","",""]
["","","","","","","","","","","","","","",""]
["","","","","","","","","","","","","","",""]
["","","","","","","","","","","","","","",""]
["","","","","","","","","","","","","","",""]
["","","","","","","","","","","","","","",""]
["","","","","","","","","","","","","","",""]
["","","","","","","","","","","","","","",""]
["","","","","","","","","","","","","","",""]
["","","","","","","","","","","","","","",""]
["","","","","","","","","","","","","","",""]
["","","","","","","","","","","","","","",""]
["","","","","","","","","","","","","","",""]
["","","","","","","","","","","","","","",""]
["","","","","","","","","","","","","","",""]
["","","","","","","","","","","","","","",""]
["","","","","","","","","","","","","","",""]
["","","","","","","","","","","","","","",""]
["","","","","","","","","","","","","","",""]
["","","","","","","","","","","","","","",""]
["","","","","","","","","","","","","","",""]
["","","","","","","","","","","","","","",""]
["","","","","","","","","","","","","","",""]
["","","","","","","","","","","","","","",""]
["","","","","","","","","","","","","","",""]
["","","","","","","","","","","","","","",""]
["","","","","","","","","","","","","","",""]
["","","","","","","","","","","","","","",""]
["","","","","","","","","","","","","","",""]
["","","","","","","","","","","","","","",""]
["","","","","","","","","","","","","","",""]
["","","","","","","","","","","","","","",""]
["","","","","","","","","","","","","","",""]
["","","","","","","","","","","","","","",""]
["","","","","","","","","","","","","","",""]
["","","","","","","","","","","","","","",""]
["","","","","","","","","","","","","","",""]
["","","","","","","","","","","","","","",""]
["","","","","","","","","","","","","","",""]
["","","","","","","","","","","","","","",""]
["","","","","","","","","","","","","","",""]
["","","","","","","","","","","","","","",""]
["","","","","","","","","","","","","","",""]
["","","","","","","","","","","","","","",""]
["","","","","","","","","","","","","","",""]
["","","","","","","","","","","","","","",""]
["","","","","","","","","","","","","","",""]
["","","","","","","","","","","","","","",""]
["","","","","","","","","","","","","","",""]
["","","","","","","","","","","","","","",""]
["","","","","","","","","","","","","","",""]
["","","","","","","","","","","","","","",""]
["","","","","","","","","","","","","","",""]
["","","","","","","","","","","","","","",""]
["","","","","","","","","","","","","","",""]
["","","","","","","","","","","","","","",""]
["","","","","","","","","","","","","","",""]
["","","","","","","","","","","","","","",""]
["","","","","","","","","","","","","","",""]
["","","","","","","","","","","","","","",""]
["","","","","","","","","","","","","","",""]
["","","","","","","","","","","","","","",""]
["","","","","","","","","","","","","","",""]
["","","","","","","","","","","","","","",""]
["","","","","","","","","","","","","","",""]
["","","","","","","","","","","","","","",""]
["","","","","","","","","","","","","","",""]
["","","","","","","","","","","","","","",""]
["","","","","","","","","","","","","","",""]
["","","","","","","","","","","","","","",""]
["","","","","","","","","","","","","","",""]
["","","","","","","","","","","","","","",""]
["","","","","","","","","","","","","","",""]
["","","","","","","","","","","","","","",""]
["","","","","","","","","","","","","","",""]
["","","","","","","","","","","","","","",""]
["","","","","","","","","","","","","","",""]
["","","","","","","","","","","","","","",""]
["","","","","","","","","","","","","","",""]
["","","","","","","","","","","","","","",""]
["","","","","","","","","","","","","","",""]
["","","","","","","","","","","","","","",""]
["","","","","","","","","","","","","","",""]
["","","","","","","","","","","","","","",""]
["","","","","","","","","","","","","","",""]
["","","","","","","","","","","","","","",""]
["","","","","","","","","","","","","","",""]
["","","","","","","","","","","","","","",""]
["","","","","","","","","","","","","","",""]
["","","","","","","","","","","","","","",""]
["","","","","","","","","","","","","","",""]
["","","","","","","","","","","","","","",""]
["","","","","","","","","","","","","","",""]
["","","","","","","","","","","","","","",""]
["","","","","","","","","","","","","","",""]
["","","","","","","","","","","","","","",""]
["","","","","","","","","","","","","","",""]
["","","","","","","","","","","","","","",""]
["","","","","","","","","","","","","","",""]
["","","","","","","","","","","","","","",""]
["","","","","","","","","","","","","","",""]
["","","","","","","","","","","","","","",""]
["","","","","","","","","","","","","","",""]
["","","","","","","","","","","","","","",""]
["","","","","","","","","","","","","","",""]
["","","","","","","","","","","","","","",""]
["","","","","","","","","","","","","","",""]
["","","","","","","","","","","","","","",""]
["","","","","","","","","","","","","","",""]
["","","","","","","","","","","","","","",""]
["","","","","","","","","","","","","","",""]
["","","","","","","","","","","","","","",""]
["","","","","","","","","","","","","","",""]
["","","","","","","","","","","","","","",""]
["","","","","","","","","","","","","","",""]
["","","","","","","","","","","","","","",""]
["","","","","","","","","","","","","","",""]
["","","","","","","","","","","","","","",""]
["","","","","","","","","","","","","","",""]
["","","","","","","","","","","","","","",""]
["","","","","","","","","","","","","","",""]
["","","","","","","","","","","","","","",""]
["","","","","","","","","","","","","","",""]
["","","","","","","","","","","","","","",""]
["","","","","","","","","","","","","","",""]
["","","","","","","","","","","","","","",""]
["","","","","","","","","","","","","","",""]
["","","","","","","","","","","","","","",""]
["","","","","","","","","","","","","","",""]
["","","","","","","","","","","","","","",""]
["","","","","","","","","","","","","","",""]
["","","","","","","","","","","","","","",""]
["","","","","","","","","","","","","","",""]
["","","","","","","","","","","","","","",""]
["","","","","","","","","","","","","","",""]
["","","","","","","","","","","","","","",""]
["","","","","","","","","","","","","","",""]
["","","","","","","","","","","","","","",""]
["","","","","","","","","","","","","","",""]
["","","","","","","","","","","","","","",""]
["","","","","","","","","","","","","","",""]
["","","","","","","","","","","","","","",""]
["","","","","","","","","","","","","","",""]
["","","","","","","","","","","","","","",""]
["","","","","","","","","","","","","","",""]
["","","","","","","","","","","","","","",""]
["","","","","","","","","","","","","","",""]
["","","","","","","","","","","","","","",""]
["","","","","","","","","","","","","","",""]
["","","","","","","","","","","","","","",""]
["","","","","","","","","","","","","","",""]
["","","","","","","","","","","","","","",""]
["","","","","","","","","","","","","","",""]
["","","","","","","","","","","","","","",""]
["","","","","","","","","","","","","","",""]
["","","","","","","","","","","","","","",""]
["","","","","","","","","","","","","","",""]
["","","","","","","","","","","","","","",""]
["","","","","","","","","","","","","","",""]
["","","","","","","","","","","","","","",""]
["","","","","","","","","","","","","","",""]
["","","","","","","","","","","","","","",""]
["","","","","","","","","","","","","","",""]
["","","","","","","","","","","","","","",""]
["","","","","","","","","","","","","","",""]
["","","","","","","","","","","","","","",""]
["","","","","","","","","","","","","","",""]
["","","","","","","","","","","","","","",""]
["","","","","","","","","","","","","","",""]
["","","","","","","","","","","","","","",""]
["","","","","","","","","","","","","","",""]
["","","","","","","","","","","","","","",""]
["","","","","","","","","","","","","","",""]
["","","","","","","","","","","","","","",""]
["","","","","","","","","","","","","","",""]
["","","","","","","","","","","","","","",""]
["","","","","","","","","","","","","","",""]
["","","","","","","","","","","","","","",""]
["","","","","","","","","","","","","","",""]
["","","","","","","","","","","","","","",""]
["","","","","","","","","","","","","","",""]
["","","","","","","","","","","","","","",""]
["","","","","","","","","","","","","","",""]
["","","","","","","","","","","","","","",""]
["","","","","","","","","","","","","","",""]
["","","","","","","","","","","","","","",""]
["","","","","","","","","","","","","","",""]
["","","","","","","","","","","","","","",""]
["","","","","","","","","","","","","","",""]
["","","","","","","","","","","","","","",""]
["","","","","","","","","","","","","","",""]
["","","","","","","","","","","","","","",""]
["","","","","","","","","","","","","","",""]
["","","","","","","","","","","","","","",""]
["","","","","","","","","","","","","","",""]
["","","","","","","","","","","","","","",""]
["","","","","","","","","","","","","","",""]
["","","","","","","","","","","","","","",""]
["","","","","","","","","","","","","","",""]
["","","","","","","","","","","","","","",""]
["","","","","","","","","","","","","","",""]
["","","","","","","","","","","","","","",""]
["","","","","","","","","","","","","","",""]
["","","","","","","","","","","","","","",""]
["","","","","","","","","","","","","","",""]
["","","","","","","","","","","","","","",""]
["","","","","","","","","","","","","","",""]
["","","","","","","","","","","","","","",""]
["","","","","","","","","","","","","","",""]
["","","","","","","","","","","","","","",""]
["","","","","","","","","","","","","","",""]
["","","","","","","","","","","","","","",""]
["","","","","","","","","","","","","","",""]
["","","","","","","","","","","","","","",""]
["","","","","","","","","","","","","","",""]
["","","","","","","","","","","","","","",""]
["","","","","","","","","","","","","","",""]
["","","","","","","","","","","","","","",""]
["","","","","","","","","","","","","","",""]
["","","","","","","","","","","","","","",""]
["","","","","","","","","","","","","","",""]
["","","","","","","","","","","","","","",""]
["","","","","","","","","","","","","","",""]
["","","","","","","","","","","","","","",""]
["","","","","","","","","","","","","","",""]
["","","","","","","","","","","","","","",""]
["","","","","","","","","","","","","","",""]
["","","","","","","","","","","","","","",""]
["","","","","","","","","","","","","","",""]
["","","","","","","","","","","","","","",""]
["","","","","","","","","","","","","","",""]
["","","","","","","","","","","","","","",""]
["","","","","","","","","","","","","","",""]
["","","","","","","","","","","","","","",""]
["","","","","","","","","","","","","","",""]
["","","","","","","","","","","","","","",""]
["","","","","","","","","","","","","","",""]
["","","","","","","","","","","","","","",""]
["","","","","","","","","","","","","","",""]
["","","","","","","","","","","","","","",""]
["","","","","","","","","","","","","","",""]
["","","","","","","","","","","","","","",""]
["","","","","","","","","","","","","","",""]
["","","","","","","","","","","","","","",""]
["","","","","","","","","","","","","","",""]
["","","","","","","","","","","","","","",""]
["","","","","","","","","","","","","","",""]
["","","","","","","","","","","","","","",""]
["","","","","","","","","","","","","","",""]
["","","","","","","","","","","","","","",""]
["","","","","","","","","","","","","","",""]
["","","","","","","","","","","","","","",""]
["","","","","","","","","","","","","","",""]
["","","","","","","","","","","","","","",""]
["","","","","","","","","","","","","","",""]
["","","","","","","","","","","","","","",""]
["","","","","","","","","","","","","","",""]
["","","","","","","","","","","","","","",""]
["","","","","","","","","","","","","","",""]
["","","","","","","","","","","","","","",""]
["","","","","","","","","","","","","","",""]
["","","","","","","","","","","","","","",""]
["","","","","","","","","","","","","","",""]
["","","","","","","","","","","","","","",""]
["","","","","","","","","","","","","","",""]
["","","","","","","","","","","","","","",""]
["","","","","","","","","","","","","","",""]
["","","","","","","","","","","","","","",""]
["","","","","","","","","","","","","","",""]
["","","","","","","","","","","","","","",""]
["","","","","","","","","","","","","","",""]
["","","","","","","","","","","","","","",""]
["","","","","","","","","","","","","","",""]
["","","","","","","","","","","","","","",""]
["","","","","","","","","","","","","","",""]
["","","","","","","","","","","","","","",""]
["","","","","","","","","","","","","","",""]
["","","","","","","","","","","","","","",""]
["","","","","","","","","","","","","","",""]
["","","","","","","","","","","","","","",""]
["","","","","","","","","","","","","","",""]
["","","","","","","","","","","","","","",""]
["","","","","","","","","","","","","","",""]
["","","","","","","","","","","","","","",""]
["","","","","","","","","","","","","","",""]
["","","","","","","","","","","","","","",""]
["","","","","","","","","","","","","","",""]
["","","","","","","","","","","","","","",""]
["","","","","","","","","","","","","","",""]
["","","","","","","","","","","","","","",""]
["","","","","","","","","","","","","","",""]
["","","","","","","","","","","","","","",""]
["","","","","","","","","","","","","","",""]
["","","","","","","","","","","","","","",""]
["","","","","","","","","","","","","","",""]
["","","","","","","","","","","","","","",""]
["","","","","","","","","","","","","","",""]
["","","","","","","","","","","","","","",""]
["","","","","","","","","","","","","","",""]
["","","","","","","","","","","","","","",""]
["","","","","","","","","","","","","","",""]
["","","","","","","","","","","","","","",""]
["","","","","","","","","","","","","","",""]
["","","","","","","","","","","","","","",""]
["","","","","","","","","","","","","","",""]
["","","","","","","","","","","","","","",""]
["","","","","","","","","","","","","","",""]
["","","","","","","","","","","","","","",""]
["","","","","","","","","","","","","","",""]
["","","","","","","","","","","","","","",""]
["","","","","","","","","","","","","","",""]
["","","","","","","","","","","","","","",""]
["","","","","","","","","","","","","","",""]
["","","","","","","","","","","","","","",""]
["","","","","","","","","","","","","","",""]
["","","","","","","","","","","","","","",""]
["","","","","","","","","","","","","","",""]
["","","","","","","","","","","","","","",""]
["","","","","","","","","","","","","","",""]
["","","","","","","","","","","","","","",""]
["","","","","","","","","","","","","","",""]
["","","","","","","","","","","","","","",""]
["","","","","","","","","","","","","","",""]
["","","","","","","","","","","","","","",""]
["","","","","","","","","","","","","","",""]
["","","","","","","","","","","","","","",""]
["","","","","","","","","","","","","","",""]
["","","","","","","","","","","","","","",""]
["","","","","","","","","","","","","","",""]
["","","","","","","","","","","","","","",""]
["","","","","","","","","","","","","","",""]
["","","","","","","","","","","","","","",""]
["","","","","","","","","","","","","","",""]
["","","","","","","","","","","","","","",""]
["","","","","","","","","","","","","","",""]
["","","","","","","","","","","","","","",""]
["","","","","","","","","","","","","","",""]
["","","","","","","","","","","","","","",""]
["","","","","","","","","","","","","","",""]
["","","","","","","","","","","","","","",""]
["","","","","","","","","","","","","","",""]
["","","","","","","","","","","","","","",""]
["","","","","","","","","","","","","","",""]
["","","","","","","","","","","","","","",""]
["","","","","","","","","","","","","","",""]
["","","","","","","","","","","","","","",""]
["","","","","","","","","","","","","","",""]
["","","","","","","","","","","","","","",""]
["","","","","","","","","","","","","","",""]
["","","","","","","","","","","","","","",""]
["","","","","","","","","","","","","","",""]
["","","","","","","","","","","","","","",""]
["","","","","","","","","","","","","","",""]
["","","","","","","","","","","","","","",""]
["","","","","","","","","","","","","","",""]
["","","","","","","","","","","","","","",""]
["","","","","","","","","","","","","","",""]
["","","","","","","","","","","","","","",""]
["","","","","","","","","","","","","","",""]
["","","","","","","","","","","","","","",""]
["","","","","","","","","","","","","","",""]
["","","","","","","","","","","","","","",""]
["","","","","","","","","","","","","","",""]
["","","","","","","","","","","","","","",""]
["","","","","","","","","","","","","","",""]
["","","","","","","","","","","","","","",""]
["","","","","","","","","","","","","","",""]
["","","","","","","","","","","","","","",""]
["","","","","","","","","","","","","","",""]
["","","","","","","","","","","","","","",""]
["","","","","","","","","","","","","","",""]
["","","","","","","","","","","","","","",""]
["","","","","","","","","","","","","","",""]
["","","","","","","","","","","","","","",""]
["","","","","","","","","","","","","","",""]
["","","","","","","","","","","","","","",""]
["","","","","","","","","","","","","","",""]
["","","","","","","","","","","","","","",""]
["","","","","","","","","","","","","","",""]
["","","","","","","","","","","","","","",""]
["","","","","","","","","","","","","","",""]
["","","","","","","","","","","","","","",""]
["","","","","","","","","","","","","","",""]
["","","","","","","","","","","","","","",""]
["","","","","","","","","","","","","","",""]
["","","","","","","","","","","","","","",""]
["","","","","","","","","","","","","","",""]
["","","","","","","","","","","","","","",""]
["","","","","","","","","","","","","","",""]
["","","","","","","","","","","","","","",""]
["","","","","","","","","","","","","","",""]
["","","","","","","","","","","","","","",""]
["","","","","","","","","","","","","","",""]
["","","","","","","","","","","","","","",""]
["","","","","","","","","","","","","","",""]
["","","","","","","","","","","","","","",""]
["","","","","","","","","","","","","","",""]
["","","","","","","","","","","","","","",""]
["","","","","","","","","","","","","","",""]
["","","","","","","","","","","","","","",""]
["","","","","","","","","","","","","","",""]
["","","","","","","","","","","","","","",""]
["","","","","","","","","","","","","","",""]
["","","","","","","","","","","","","","",""]
["","","","","","","","","","","","","","",""]
["","","","","","","","","","","","","","",""]
["","","","","","","","","","","","","","",""]
["","","","","","","","","","","","","","",""]
["","","","","","","","","","","","","","",""]
["","","","","","","","","","","","","","",""]
["","","","","","","","","","","","","","",""]
["","","","","","","","","","","","","","",""]
["","","","","","","","","","","","","","",""]
["","","","","","","","","","","","","","",""]
["","","","","","","","","","","","","","",""]
["","","","","","","","","","","","","","",""]
["","","","","","","","","","","","","","",""]
["","","","","","","","","","","","","","",""]
["","","","","","","","","","","","","","",""]
["","","","","","","","","","","","","","",""]
["","","","","","","","","","","","","","",""]
["","","","","","","","","","","","","","",""]
["","","","","","","","","","","","","","",""]
["","","","","","","","","","","","","","",""]
["","","","","","","","","","","","","","",""]
["","","","","","","","","","","","","","",""]
["","","","","","","","","","","","","","",""]
["","","","","","","","","","","","","","",""]
["","","","","","","","","","","","","","",""]
["","","","","","","","","","","","","","",""]
["","","","","","","","","","","","","","",""]
["","","","","","","","","","","","","","",""]
["","","","","","","","","","","","","","",""]
["","","","","","","","","","","","","","",""]
["","","","","","","","","","","","","","",""]
["","","","","","","","","","","","","","",""]
["","","","","","","","","","","","","","",""]
["","","","","","","","","","","","","","",""]
["","","","","","","","","","","","","","",""]
["","","","","","","","","","","","","","",""]
["","","","","","","","","","","","","","",""]
["","","","","","","","","","","","","","",""]
["","","","","","","","","","","","","","",""]
["","","","","","","","","","","","","","",""]
["","","","","","","","","","","","","","",""]
["","","","","","","","","","","","","","",""]
["","","","","","","","","","","","","","",""]
["","","","","","","","","","","","","","",""]
["","","","","","","","","","","","","","",""]
["","","","","","","","","","","","","","",""]
["","","","","","","","","","","","","","",""]
["","","","","","","","","","","","","","",""]
["","","","","","","","","","","","","","",""]
["","","","","","","","","","","","","","",""]
["","","","","","","","","","","","","","",""]
["","","","","","","","","","","","","","",""]
["","","","","","","","","","","","","","",""]
["","","","","","","","","","","","","","",""]
["","","","","","","","","","","","","","",""]
["","","","","","","","","","","","","","",""]
["","","","","","","","","","","","","","",""]
["","","","","","","","","","","","","","",""]
["","","","","","","","","","","","","","",""]
["","","","","","","","","","","","","","",""]
["","","","","","","","","","","","","","",""]
["","","","","","","","","","","","","","",""]
["","","","","","","","","","","","","","",""]
["","","","","","","","","","","","","","",""]
["","","","","","","","","","","","","","",""]
["","","","","","","","","","","","","","",""]
["","","","","","","","","","","","","","",""]
["","","","","","","","","","","","","","",""]
["","","","","","","","","","","","","","",""]
["","","","","","","","","","","","","","",""]
["","","","","","","","","","","","","","",""]
["","","","","","","","","","","","","","",""]
["","","","","","","","","","","","","","",""]
["","","","","","","","","","","","","","",""]
["","","","","","","","","","","","","","",""]
["","","","","","","","","","","","","","",""]
["","","","","","","","","","","","","","",""]
["","","","","","","","","","","","","","",""]
["","","","","","","","","","","","","","",""]
["","","","","","","","","","","","","","",""]
["","","","","","","","","","","","","","",""]
["","","","","","","","","","","","","","",""]
["","","","","","","","","","","","","","",""]
["","","","","","","","","","","","","","",""]
["","","","","","","","","","","","","","",""]
["","","","","","","","","","","","","","",""]
["","","","","","","","","","","","","","",""]
["","","","","","","","","","","","","","",""]
["","","","","","","","","","","","","","",""]
["","","","","","","","","","","","","","",""]
["","","","","","","","","","","","","","",""]
["","","","","","","","","","","","","","",""]
["","","","","","","","","","","","","","",""]
["","","","","","","","","","","","","","",""]
["","","","","","","","","","","","","","",""]
["","","","","","","","","","","","","","",""]
["","","","","","","","","","","","","","",""]
["","","","","","","","","","","","","","",""]
["","","","","","","","","","","","","","",""]
["","","","","","","","","","","","","","",""]
["","","","","","","","","","","","","","",""]
["","","","","","","","","","","","","","",""]
["","","","","","","","","","","","","","",""]
["","","","","","","","","","","","","","",""]
["","","","","","","","","","","","","","",""]
["","","","","","","","","","","","","","",""]
["","","","","","","","","","","","","","",""]
["","","","","","","","","","","","","","",""]
["","","","","","","","","","","","","","",""]
["","","","","","","","","","","","","","",""]
["","","","","","","","","","","","","","",""]
["","","","","","","","","","","","","","",""]
["","","","","","","","","","","","","","",""]
["","","","","","","","","","","","","","",""]
["","","","","","","","","","","","","","",""]
["","","","","","","","","","","","","","",""]
["","","","","","","","","","","","","","",""]
["","","","","","","","","","","","","","",""]
["","","","","","","","","","","","","","",""]
["","","","","","","","","","","","","","",""]
["","","","","","","","","","","","","","",""]
["","","","","","","","","","","","","","",""]
["","","","","","","","","","","","","","",""]
["","","","","","","","","","","","","","",""]
["","","","","","","","","","","","","","",""]
["","","","","","","","","","","","","","",""]
["","","","","","","","","","","","","","",""]
["","","","","","","","","","","","","","",""]
["","","","","","","","","","","","","","",""]
["","","","","","","","","","","","","","",""]
["","","","","","","","","","","","","","",""]
["","","","","","","","","","","","","","",""]
["","","","","","","","","","","","","","",""]
["","","","","","","","","","","","","","",""]
["","","","","","","","","","","","","","",""]
["","","","","","","","","","","","","","",""]
["","","","","","","","","","","","","","",""]
["","","","","","","","","","","","","","",""]
["","","","","","","","","","","","","","",""]
["","","","","","","","","","","","","","",""]
["","","","","","","","","","","","","","",""]
["","","","","","","","","","","","","","",""]
["","","","","","","","","","","","","","",""]
["","","","","","","","","","","","","","",""]
["","","","","","","","","","","","","","",""]
["","","","","","","","","","","","","","",""]
["","","","","","","","","","","","","","",""]
["","","","","","","","","","","","","","",""]
["","","","","","","","","","","","","","",""]
["","","","","","","","","","","","","","",""]
["","","","","","","","","","","","","","",""]
["","","","","","","","","","","","","","",""]
["","","","","","","","","","","","","","",""]
["","","","","","","","","","","","","","",""]
["","","","","","","","","","","","","","",""]
["","","","","","","","","","","","","","",""]
["","","","","","","","","","","","","","",""]
["","","","","","","","","","","","","","",""]
["","","","","","","","","","","","","","",""]
["","","","","","","","","","","","","","",""]
["","","","","","","","","","","","","","",""]
["","","","","","","","","","","","","","",""]
["","","","","","","","","","","","","","",""]
["","","","","","","","","","","","","","",""]
["","","","","","","","","","","","","","",""]
["","","","","","","","","","","","","","",""]
["","","","","","","","","","","","","","",""]
["","","","","","","","","","","","","","",""]
["","","","","","","","","","","","","","",""]
["","","","","","","","","","","","","","",""]
["","","","","","","","","","","","","","",""]
["","","","","","","","","","","","","","",""]
["","","","","","","","","","","","","","",""]
["","","","","","","","","","","","","","",""]
["","","","","","","","","","","","","","",""]
["","","","","","","","","","","","","","",""]
["","","","","","","","","","","","","","",""]
["","","","","","","","","","","","","","",""]
["","","","","","","","","","","","","","",""]
["","","","","","","","","","","","","","",""]
["","","","","","","","","","","","","","",""]
["","","","","","","","","","","","","","",""]
["","","","","","","","","","","","","","",""]
["","","","","","","","","","","","","","",""]
["","","","","","","","","","","","","","",""]
["","","","","","","","","","","","","","",""]
["","","","","","","","","","","","","","",""]
["","","","","","","","","","","","","","",""]
["","","","","","","","","","","","","","",""]
["","","","","","","","","","","","","","",""]
["","","","","","","","","","","","","","",""]
["","","","","","","","","","","","","","",""]
["","","","","","","","","","","","","","",""]
["","","","","","","","","","","","","","",""]
["","","","","","","","","","","","","","",""]
["","","","","","","","","","","","","","",""]
["","","","","","","","","","","","","","",""]
["","","","","","","","","","","","","","",""]
["","","","","","","","","","","","","","",""]
["","","","","","","","","","","","","","",""]
["","","","","","","","","","","","","","",""]
["","","","","","","","","","","","","","",""]
["","","","","","","","","","","","","","",""]
["","","","","","","","","","","","","","",""]
["","","","","","","","","","","","","","",""]
["","","","","","","","","","","","","","",""]
["","","","","","","","","","","","","","",""]
["","","","","","","","","","","","","","",""]
["","","","","","","","","","","","","","",""]
["","","","","","","","","","","","","","",""]
["","","","","","","","","","","","","","",""]
["","","","","","","","","","","","","","",""]
["","","","","","","","","","","","","","",""]
["","","","","","","","","","","","","","",""]
["","","","","","","","","","","","","","",""]
["","","","","","","","","","","","","","",""]
["","","","","","","","","","","","","","",""]
["","","","","","","","","","","","","","",""]
["","","","","","","","","","","","","","",""]
["","","","","","","","","","","","","","",""]
["","","","","","","","","","","","","","",""]
["","","","","","","","","","","","","","",""]
["","","","","","","","","","","","","","",""]
["","","","","","","","","","","","","","",""]
["","","","","","","","","","","","","","",""]
["","","","","","","","","","","","","","",""]
["","","","","","","","","","","","","","",""]
["","","","","","","","","","","","","","",""]
["","","","","","","","","","","","","","",""]
["","","","","","","","","","","","","","",""]
["","","","","","","","","","","","","","",""]
["","","","","","","","","","","","","","",""]
["","","","","","","","","","","","","","",""]
["","","","","","","","","","","","","","",""]
["","","","","","","","","","","","","","",""]
["","","","","","","","","","","","","","",""]
["","","","","","","","","","","","","","",""]
["","","","","","","","","","","","","","",""]
["","","","","","","","","","","","","","",""]
["","","","","","","","","","","","","","",""]
["","","","","","","","","","","","","","",""]
["","","","","","","","","","","","","","",""]
["","","","","","","","","","","","","","",""]
["","","","","","","","","","","","","","",""]
["","","","","","","","","","","","","","",""]
["","","","","","","","","","","","","","",""]
["","","","","","","","","","","","","","",""]
["","","","","","","","","","","","","","",""]
["","","","","","","","","","","","","","",""]
["","","","","","","","","","","","","","",""]
["","","","","","","","","","","","","","",""]
["","","","","","","","","","","","","","",""]
["","","","","","","","","","","","","","",""]
["","","","","","","","","","","","","","",""]
["","","","","","","","","","","","","","",""]
["","","","","","","","","","","","","","",""]
["","","","","","","","","","","","","","",""]
["","","","","","","","","","","","","","",""]
["","","","","","","","","","","","","","",""]
["","","","","","","","","","","","","","",""]
["","","","","","","","","","","","","","",""]
["","","","","","","","","","","","","","",""]
["","","","","","","","","","","","","","",""]
["","","","","","","","","","","","","","",""]
["","","","","","","","","","","","","","",""]
["","","","","","","","","","","","","","",""]
["","","","","","","","","","","","","","",""]
["","","","","","","","","","","","","","",""]
["","","","","","","","","","","","","","",""]
["","","","","","","","","","","","","","",""]
["","","","","","","","","","","","","","",""]
["","","","","","","","","","","","","","",""]
["","","","","","","","","","","","","","",""]
["","","","","","","","","","","","","","",""]
["","","","","","","","","","","","","","",""]
["","","","","","","","","","","","","","",""]
["","","","","","","","","","","","","","",""]
["","","","","","","","","","","","","","",""]
["","","","","","","","","","","","","","",""]
["","","","","","","","","","","","","","",""]
["","","","","","","","","","","","","","",""]
["","","","","","","","","","","","","","",""]
["","","","","","","","","","","","","","",""]
["","","","","","","","","","","","","","",""]
["","","","","","","","","","","","","","",""]
["","","","","","","","","","","","","","",""]
["","","","","","","","","","","","","","",""]
["","","","","","","","","","","","","","",""]
["","","","","","","","","","","","","","",""]
["","","","","","","","","","","","","","",""]
["","","","","","","","","","","","","","",""]
["","","","","","","","","","","","","","",""]
["","","","","","","","","","","","","","",""]
["","","","","","","","","","","","","","",""]
["","","","","","","","","","","","","","",""]
["","","","","","","","","","","","","","",""]
["","","","","","","","","","","","","","",""]
["","","","","","","","","","","","","","",""]
["","","","","","","","","","","","","","",""]
["","","","","","","","","","","","","","",""]
["","","","","","","","","","","","","","",""]
["","","","","","","","","","","","","","",""]
["","","","","","","","","","","","","","",""]
["","","","","","","","","","","","","","",""]
["","","","","","","","","","","","","","",""]
["","","","","","","","","","","","","","",""]
["","","","","","","","","","","","","","",""]
["","","","","","","","","","","","","","",""]
["","","","","","","","","","","","","","",""]
["","","","","","","","","","","","","","",""]
["","","","","","","","","","","","","","",""]
["","","","","","","","","","","","","","",""]
["","","","","","","","","","","","","","",""]
["","","","","","","","","","","","","","",""]
["","","","","","","","","","","","","","",""]
["","","","","","","","","","","","","","",""]
["","","","","","","","","","","","","","",""]
["","","","","","","","","","","","","","",""]
["","","","","","","","","","","","","","",""]
["","","","","","","","","","","","","","",""]
["","","","","","","","","","","","","","",""]
["","","","","","","","","","","","","","",""]
["","","","","","","","","","","","","","",""]
["","","","","","","","","","","","","","",""]
["","","","","","","","","","","","","","",""]
["","","","","","","","","","","","","","",""]
["","","","","","","","","","","","","","",""]
["","","","","","","","","","","","","","",""]
["","","","","","","","","","","","","","",""]
["","","","","","","","","","","","","","",""]
["","","","","","","","","","","","","","",""]
["","","","","","","","","","","","","","",""]
["","","","","","","","","","","","","","",""]
["","","","","","","","","","","","","","",""]
["","","","","","","","","","","","","","",""]
["","","","","","","","","","","","","","",""]
["","","","","","","","","","","","","","",""]
["","","","","","","","","","","","","","",""]
["","","","","","","","","","","","","","",""]
["","","","","","","","","","","","","","",""]
["","","","","","","","","","","","","","",""]
["","","","","","","","","","","","","","",""]
["","","","","","","","","","","","","","",""]
["","","","","","","","","","","","","","",""]
["","","","","","","","","","","","","","",""]
["","","","","","","","","","","","","","",""]
["","","","","","","","","","","","","","",""]
["","","","","","","","","","","","","","",""]
["","","","","","","","","","","","","","",""]
["","","","","","","","","","","","","","",""]
["","","","","","","","","","","","","","",""]
["","","","","","","","","","","","","","",""]
["","","","","","","","","","","","","","",""]
["","","","","","","","","","","","","","",""]
["","","","","","","","","","","","","","",""]
["","","","","","","","","","","","","","",""]
["","","","","","","","","","","","","","",""]
["","","","","","","","","","","","","","",""]
["","","","","","","","","","","","","","",""]
["","","","","","","","","","","","","","",""]
["","","","","","","","","","","","","","",""]
["","","","","","","","","","","","","","",""]
["","","","","","","","","","","","","","",""]
["","","","","","","","","","","","","","",""]
["","","","","","","","","","","","","","",""]
["","","","","","","","","","","","","","",""]
["","","","","","","","","","","","","","",""]
["","","","","","","","","","","","","","",""]
["","","","","","","","","","","","","","",""]
["","","","","","","","","","","","","","",""]
["","","","","","","","","","","","","","",""]
["","","","","","","","","","","","","","",""]
["","","","","","","","","","","","","","",""]
["","","","","","","","","","","","","","",""]
["","","","","","","","","","","","","","",""]
["","","","","","","","","","","","","","",""]
["","","","","","","","","","","","","","",""]
["","","","","","","","","","","","","","",""]
["","","","","","","","","","","","","","",""]
["","","","","","","","","","","","","","",""]
["","","","","","","","","","","","","","",""]
["","","","","","","","","","","","","","",""]
["","","","","","","","","","","","","","",""]
["","","","","","","","","","","","","","",""]
["","","","","","","","","","","","","","",""]
["","","","","","","","","","","","","","",""]
["","","","","","","","","","","","","","",""]
["","","","","","","","","","","","","","",""]
["","","","","","","","","","","","","","",""]
["","","","","","","","","","","","","","",""]
["","","","","","","","","","","","","","",""]
["","","","","","","","","","","","","","",""]
["","","","","","","","","","","","","","",""]
["","","","","","","","","","","","","","",""]
["","","","","","","","","","","","","","",""]
["","","","","","","","","","","","","","",""]
["","","","","","","","","","","","","","",""]
["","","","","","","","","","","","","","",""]
["","","","","","","","","","","","","","",""]
["","","","","","","","","","","","","","",""]
["","","","","","","","","","","","","","",""]
["","","","","","","","","","","","","","",""]
["","","","","","","","","","","","","","",""]
["","","","","","","","","","","","","","",""]
["","","","","","","","","","","","","","",""]
["","","","","","","","","","","","","","",""]
["","","","","","","","","","","","","","",""]
["","","","","","","","","","","","","","",""]
["","","","","","","","","","","","","","",""]
["","","","","","","","","","","","","","",""]
["","","","","","","","","","","","","","",""]
["","","","","","","","","","","","","","",""]
["","","","","","","","","","","","","","",""]
["","","","","","","","","","","","","","",""]
["","","","","","","","","","","","","","",""]
["","","","","","","","","","","","","","",""]
["","","","","","","","","","","","","","",""]
["","","","","","","","","","","","","","",""]
["","","","","","","","","","","","","","",""]
["","","","","","","","","","","","","","",""]
["","","","","","","","","","","","","","",""]
["","","","","","","","","","","","","","",""]
["","","","","","","","","","","","","","",""]
["","","","","","","","","","","","","","",""]
["","","","","","","","","","","","","","",""]
["","","","","","","","","","","","","","",""]
["","","","","","","","","","","","","","",""]
["","","","","","","","","","","","","","",""]
["","","","","","","","","","","","","","",""]
["","","","","","","","","","","","","","",""]
["","","","","","","","","","","","","","",""]
["","","","","","","","","","","","","","",""]
["","","","","","","","","","","","","","",""]
["","","","","","","","","","","","","","",""]
["","","","","","","","","","","","","","",""]
["","","","","","","","","","","","","","",""]
["","","","","","","","","","","","","","",""]
["","","","","","","","","","","","","","",""]
["","","","","","","","","","","","","","",""]
["","","","","","","","","","","","","","",""]
["","","","","","","","","","","","","","",""]
["","","","","","","","","","","","","","",""]
["","","","","","","","","","","","","","",""]
["","","","","","","","","","","","","","",""]
["","","","","","","","","","","","","","",""]
["","","","","","","","","","","","","","",""]
["","","","","","","","","","","","","","",""]
["","","","","","","","","","","","","","",""]
["","","","","","","","","","","","","","",""]
["","","","","","","","","","","","","","",""]
["","","","","","","","","","","","","","",""]
["","","","","","","","","","","","","","",""]
["","","","","","","","","","","","","","",""]
["","","","","","","","","","","","","","",""]
["","","","","","","","","","","","","","",""]
["","","","","","","","","","","","","","",""]
["","","","","","","","","","","","","","",""]
["","","","","","","","","","","","","","",""]
["","","","","","","","","","","","","","",""]
["","","","","","","","","","","","","","",""]
["","","","","","","","","","","","","","",""]
["","","","","","","","","","","","","","",""]
["","","","","","","","","","","","","","",""]
["","","","","","","","","","","","","","",""]
["","","","","","","","","","","","","","",""]
["","","","","","","","","","","","","","",""]
["","","","","","","","","","","","","","",""]
["","","","","","","","","","","","","","",""]
["","","","","","","","","","","","","","",""]
["","","","","","","","","","","","","","",""]
["","","","","","","","","","","","","","",""]
["","","","","","","","","","","","","","",""]
["","","","","","","","","","","","","","",""]
["","","","","","","","","","","","","","",""]
["","","","","","","","","","","","","","",""]
["","","","","","","","","","","","","","",""]
["","","","","","","","","","","","","","",""]
["","","","","","","","","","","","","","",""]
["","","","","","","","","","","","","","",""]
["","","","","","","","","","","","","","",""]
["","","","","","","","","","","","","","",""]
["","","","","","","","","","","","","","",""]
["","","","","","","","","","","","","","",""]
["","","","","","","","","","","","","","",""]
["","","","","","","","","","","","","","",""]
["","","","","","","","","","","","","","",""]
["","","","","","","","","","","","","","",""]
["","","","","","","","","","","","","","",""]
["","","","","","","","","","","","","","",""]
["","","","","","","","","","","","","","",""]
["","","","","","","","","","","","","","",""]
["","","","","","","","","","","","","","",""]
["","","","","","","","","","","","","","",""]
["","","","","","","","","","","","","","",""]
["","","","","","","","","","","","","","",""]
["","","","","","","","","","","","","","",""]
["","","","","","","","","","","","","","",""]
["","","","","","","","","","","","","","",""]
["","","","","","","","","","","","","","",""]
["","","","","","","","","","","","","","",""]
["","","","","","","","","","","","","","",""]
["","","","","","","","","","","","","","",""]
["","","","","","","","","","","","","","",""]
["","","","","","","","","","","","","","",""]
["","","","","","","","","","","","","","",""]
["","","","","","","","","","","","","","",""]
["","","","","","","","","","","","","","",""]
["","","","","","","","","","","","","","",""]
["","","","","","","","","","","","","","",""]
["","","","","","","","","","","","","","",""]
["","","","","","","","","","","","","","",""]
["","","","","","","","","","","","","","",""]
["","","","","","","","","","","","","","",""]
["","","","","","","","","","","","","","",""]
["","","","","","","","","","","","","","",""]
["","","","","","","","","","","","","","",""]
["","","","","","","","","","","","","","",""]
["","","","","","","","","","","","","","",""]
["","","","","","","","","","","","","","",""]
["","","","","","","","","","","","","","",""]
["","","","","","","","","","","","","","",""]
["","","","","","","","","","","","","","",""]
["","","","","","","","","","","","","","",""]
["","","","","","","","","","","","","","",""]
["","","","","","","","","","","","","","",""]
["","","","","","","","","","","","","","",""]
["","","","","","","","","","","","","","",""]
["","","","","","","","","","","","","","",""]
["","","","","","","","","","","","","","",""]
["","","","","","","","","","","","","","",""]
["","","","","","","","","","","","","","",""]
["","","","","","","","","","","","","","",""]
["","","","","","","","","","","","","","",""]
["","","","","","","","","","","","","","",""]
["","","","","","","","","","","","","","",""]
["","","","","","","","","","","","","","",""]
["","","","","","","","","","","","","","",""]
["","","","","","","","","","","","","","",""]
["","","","","","","","","","","","","","",""]
["","","","","","","","","","","","","","",""]
["","","","","","","","","","","","","","",""]
["","","","","","","","","","","","","","",""]
["","","","","","","","","","","","","","",""]
["","","","","","","","","","","","","","",""]
["","","","","","","","","","","","","","",""]
["","","","","","","","","","","","","","",""]
["","","","","","","","","","","","","","",""]
["","","","","","","","","","","","","","",""]
["","","","","","","","","","","","","","",""]
["","","","","","","","","","","","","","",""]
["","","","","","","","","","","","","","",""]
["","","","","","","","","","","","","","",""]
["","","","","","","","","","","","","","",""]
["","","","","","","","","","","","","","",""]
["","","","","","","","","","","","","","",""]
["","","","","","","","","","","","","","",""]
["","","","","","","","","","","","","","",""]
["","","","","","","","","","","","","","",""]
["","","","","","","","","","","","","","",""]
["","","","","","","","","","","","","","",""]
["","","","","","","","","","","","","","",""]
["","","","","","","","","","","","","","",""]
["","","","","","","","","","","","","","",""]
["","","","","","","","","","","","","","",""]
["","","","","","","","","","","","","","",""]
["","","","","","","","","","","","","","",""]
["","","","","","","","","","","","","","",""]
["","","","","","","","","","","","","","",""]
["","","","","","","","","","","","","","",""]
["","","","","","","","","","","","","","",""]
["","","","","","","","","","","","","","",""]
["","","","","","","","","","","","","","",""]
["","","","","","","","","","","","","","",""]
["","","","","","","","","","","","","","",""]
["","","","","","","","","","","","","","",""]
["","","","","","","","","","","","","","",""]
["","","","","","","","","","","","","","",""]
["","","","","","","","","","","","","","",""]
["","","","","","","","","","","","","","",""]
["","","","","","","","","","","","","","",""]
["","","","","","","","","","","","","","",""]
["","","","","","","","","","","","","","",""]
["","","","","","","","","","","","","","",""]
["","","","","","","","","","","","","","",""]
["","","","","","","","","","","","","","",""]
["","","","","","","","","","","","","","",""]
["","","","","","","","","","","","","","",""]
["","","","","","","","","","","","","","",""]
["","","","","","","","","","","","","","",""]
["","","","","","","","","","","","","","",""]
["","","","","","","","","","","","","","",""]
["","","","","","","","","","","","","","",""]
["","","","","","","","","","","","","","",""]
["","","","","","","","","","","","","","",""]
["","","","","","","","","","","","","","",""]
["","","","","","","","","","","","","","",""]
["","","","","","","","","","","","","","",""]
["","","","","","","","","","","","","","",""]
["","","","","","","","","","","","","","",""]
["","","","","","","","","","","","","","",""]
["","","","","","","","","","","","","","",""]
["","","","","","","","","","","","","","",""]
["","","","","","","","","","","","","","",""]
["","","","","","","","","","","","","","",""]
["","","","","","","","","","","","","","",""]
["","","","","","","","","","","","","","",""]
["","","","","","","","","","","","","","",""]
["","","","","","","","","","","","","","",""]
["","","","","","","","","","","","","","",""]
["","","","","","","","","","","","","","",""]
["","","","","","","","","","","","","","",""]
["","","","","","","","","","","","","","",""]
["","","","","","","","","","","","","","",""]
["","","","","","","","","","","","","","",""]
["","","","","","","","","","","","","","",""]
["","","","","","","","","","","","","","",""]
["","","","","","","","","","","","","","",""]
["","","","","","","","","","","","","","",""]
["","","","","","","","","","","","","","",""]
["","","","","","","","","","","","","","",""]
["","","","","","","","","","","","","","",""]
["","","","","","","","","","","","","","",""]
["","","","","","","","","","","","","","",""]
["","","","","","","","","","","","","","",""]
["","","","","","","","","","","","","","",""]
["","","","","","","","","","","","","","",""]
["","","","","","","","","","","","","","",""]
["","","","","","","","","","","","","","",""]
["","","","","","","","","","","","","","",""]
["","","","","","","","","","","","","","",""]
["","","","","","","","","","","","","","",""]
["","","","","","","","","","","","","","",""]
["","","","","","","","","","","","","","",""]
["","","","","","","","","","","","","","",""]
["","","","","","","","","","","","","","",""]
["","","","","","","","","","","","","","",""]
["","","","","","","","","","","","","","",""]
["","","","","","","","","","","","","","",""]
["","","","","","","","","","","","","","",""]
["","","","","","","","","","","","","","",""]
["","","","","","","","","","","","","","",""]
["","","","","","","","","","","","","","",""]
["","","","","","","","","","","","","","",""]
["","","","","","","","","","","","","","",""]
["","","","","","","","","","","","","","",""]
["","","","","","","","","","","","","","",""]
["","","","","","","","","","","","","","",""]
["","","","","","","","","","","","","","",""]
["","","","","","","","","","","","","","",""]
["","","","","","","","","","","","","","",""]
["","","","","","","","","","","","","","",""]
["","","","","","","","","","","","","","",""]
["","","","","","","","","","","","","","",""]
["","","","","","","","","","","","","","",""]
["","","","","","","","","","","","","","",""]
["","","","","","","","","","","","","","",""]
["","","","","","","","","","","","","","",""]
["","","","","","","","","","","","","","",""]
["","","","","","","","","","","","","","",""]
["","","","","","","","","","","","","","",""]
["","","","","","","","","","","","","","",""]
["","","","","","","","","","","","","","",""]
["","","","","","","","","","","","","","",""]
["","","","","","","","","","","","","","",""]
["","","","","","","","","","","","","","",""]
["","","","","","","","","","","","","","",""]
["","","","","","","","","","","","","","",""]
["","","","","","","","","","","","","","",""]
["","","","","","","","","","","","","","",""]
["","","","","","","","","","","","","","",""]
["","","","","","","","","","","","","","",""]
["","","","","","","","","","","","","","",""]
["","","","","","","","","","","","","","",""]
["","","","","","","","","","","","","","",""]
["","","","","","","","","","","","","","",""]
["","","","","","","","","","","","","","",""]
["","","","","","","","","","","","","","",""]
["","","","","","","","","","","","","","",""]
["","","","","","","","","","","","","","",""]
["","","","","","","","","","","","","","",""]
["","","","","","","","","","","","","","",""]
["","","","","","","","","","","","","","",""]
["","","","","","","","","","","","","","",""]
["","","","","","","","","","","","","","",""]
["","","","","","","","","","","","","","",""]
["","","","","","","","","","","","","","",""]
["","","","","","","","","","","","","","",""]
["","","","","","","","","","","","","","",""]
["","","","","","","","","","","","","","",""]
["","","","","","","","","","","","","","",""]
["","","","","","","","","","","","","","",""]
["","","","","","","","","","","","","","",""]
["","","","","","","","","","","","","","",""]
["","","","","","","","","","","","","","",""]
["","","","","","","","","","","","","","",""]
["","","","","","","","","","","","","","",""]
["","","","","","","","","","","","","","",""]
["","","","","","","","","","","","","","",""]
["","","","","","","","","","","","","","",""]
["","","","","","","","","","","","","","",""]
["","","","","","","","","","","","","","",""]
["","","","","","","","","","","","","","",""]
["","","","","","","","","","","","","","",""]
["","","","","","","","","","","","","","",""]
["","","","","","","","","","","","","","",""]
["","","","","","","","","","","","","","",""]
["","","","","","","","","","","","","","",""]
["","","","","","","","","","","","","","",""]
["","","","","","","","","","","","","","",""]
["","","","","","","","","","","","","","",""]
["","","","","","","","","","","","","","",""]
["","","","","","","","","","","","","","",""]
["","","","","","","","","","","","","","",""]
["","","","","","","","","","","","","","",""]
["","","","","","","","","","","","","","",""]
["","","","","","","","","","","","","","",""]
["","","","","","","","","","","","","","",""]
["","","","","","","","","","","","","","",""]
["","","","","","","","","","","","","","",""]
["","","","","","","","","","","","","","",""]
["","","","","","","","","","","","","","",""]
["","","","","","","","","","","","","","",""]
["","","","","","","","","","","","","","",""]
["","","","","","","","","","","","","","",""]
["","","","","","","","","","","","","","",""]
["","","","","","","","","","","","","","",""]
["","","","","","","","","","","","","","",""]
["","","","","","","","","","","","","","",""]
["","","","","","","","","","","","","","",""]
["","","","","","","","","","","","","","",""]
["","","","","","","","","","","","","","",""]
["","","","","","","","","","","","","","",""]
["","","","","","","","","","","","","","",""]
["","","","","","","","","","","","","","",""]
["","","","","","","","","","","","","","",""]
["","","","","","","","","","","","","","",""]
["","","","","","","","","","","","","","",""]
["","","","","","","","","","","","","","",""]
["","","","","","","","","","","","","","",""]
["","","","","","","","","","","","","","",""]
["","","","","","","","","","","","","","",""]
["","","","","","","","","","","","","","",""]
["","","","","","","","","","","","","","",""]
["","","","","","","","","","","","","","",""]
["","","","","","","","","","","","","","",""]
["","","","","","","","","","","","","","",""]
["","","","","","","","","","","","","","",""]
["","","","","","","","","","","","","","",""]
["","","","","","","","","","","","","","",""]
["","","","","","","","","","","","","","",""]
["","","","","","","","","","","","","","",""]
["","","","","","","","","","","","","","",""]
["","","","","","","","","","","","","","",""]
["","","","","","","","","","","","","","",""]
["","","","","","","","","","","","","","",""]
["","","","","","","","","","","","","","",""]
["","","","","","","","","","","","","","",""]
["","","","","","","","","","","","","","",""]
["","","","","","","","","","","","","","",""]
["","","","","","","","","","","","","","",""]
["","","","","","","","","","","","","","",""]
["","","","","","","","","","","","","","",""]
["","","","","","","","","","","","","","",""]
["","","","","","","","","","","","","","",""]
["","","","","","","","","","","","","","",""]
["","","","","","","","","","","","","","",""]
["","","","","","","","","","","","","","",""]
["","","","","","","","","","","","","","",""]
["","","","","","","","","","","","","","",""]
["","","","","","","","","","","","","","",""]
["","","","","","","","","","","","","","",""]
["","","","","","","","","","","","","","",""]
["","","","","","","","","","","","","","",""]
["","","","","","","","","","","","","","",""]
["","","","","","","","","","","","","","",""]
["","","","","","","","","","","","","","",""]
["","","","","","","","","","","","","","",""]
["","","","","","","","","","","","","","",""]
["","","","","","","","","","","","","","",""]
["","","","","","","","","","","","","","",""]
["","","","","","","","","","","","","","",""]
["","","","","","","","","","","","","","",""]
["","","","","","","","","","","","","","",""]
["","","","","","","","","","","","","","",""]
["","","","","","","","","","","","","","",""]
["","","","","","","","","","","","","","",""]
["","","","","","","","","","","","","","",""]
["","","","","","","","","","","","","","",""]
["","","","","","","","","","","","","","",""]
["","","","","","","","","","","","","","",""]
["","","","","","","","","","","","","","",""]
["","","","","","","","","","","","","","",""]
["","","","","","","","","","","","","","",""]
["","","","","","","","","","","","","","",""]
["","","","","","","","","","","","","","",""]
["","","","","","","","","","","","","","",""]
["","","","","","","","","","","","","","",""]
["","","","","","","","","","","","","","",""]
["","","","","","","","","","","","","","",""]
["","","","","","","","","","","","","","",""]
["","","","","","","","","","","","","","",""]
["","","","","","","","","","","","","","",""]
["","","","","","","","","","","","","","",""]
["","","","","","","","","","","","","","",""]
["","","","","","","","","","","","","","",""]
["","","","","","","","","","","","","","",""]
["","","","","","","","","","","","","","",""]
["","","","","","","","","","","","","","",""]
["","","","","","","","","","","","","","",""]
["","","","","","","","","","","","","","",""]
["","","","","","","","","","","","","","",""]
["","","","","","","","","","","","","","",""]
["","","","","","","","","","","","","","",""]
["","","","","","","","","","","","","","",""]
["","","","","","","","","","","","","","",""]
["","","","","","","","","","","","","","",""]
["","","","","","","","","","","","","","",""]
["","","","","","","","","","","","","","",""]
["","","","","","","","","","","","","","",""]
["","","","","","","","","","","","","","",""]
["","","","","","","","","","","","","","",""]
["","","","","","","","","","","","","","",""]
["","","","","","","","","","","","","","",""]
["","","","","","","","","","","","","","",""]
["","","","","","","","","","","","","","",""]
["","","","","","","","","","","","","","",""]
["","","","","","","","","","","","","","",""]
["","","","","","","","","","","","","","",""]
["","","","","","","","","","","","","","",""]
["","","","","","","","","","","","","","",""]
["","","","","","","","","","","","","","",""]
["","","","","","","","","","","","","","",""]
["","","","","","","","","","","","","","",""]
["","","","","","","","","","","","","","",""]
["","","","","","","","","","","","","","",""]
["","","","","","","","","","","","","","",""]
["","","","","","","","","","","","","","",""]
["","","","","","","","","","","","","","",""]
["","","","","","","","","","","","","","",""]
["","","","","","","","","","","","","","",""]
["","","","","","","","","","","","","","",""]
["","","","","","","","","","","","","","",""]
["","","","","","","","","","","","","","",""]
["","","","","","","","","","","","","","",""]
["","","","","","","","","","","","","","",""]
["","","","","","","","","","","","","","",""]
["","","","","","","","","","","","","","",""]
["","","","","","","","","","","","","","",""]
["","","","","","","","","","","","","","",""]
["","","","","","","","","","","","","","",""]
["","","","","","","","","","","","","","",""]
["","","","","","","","","","","","","","",""]
["","","","","","","","","","","","","","",""]
["","","","","","","","","","","","","","",""]
["","","","","","","","","","","","","","",""]
["","","","","","","","","","","","","","",""]
["","","","","","","","","","","","","","",""]
["","","","","","","","","","","","","","",""]
["","","","","","","","","","","","","","",""]
["","","","","","","","","","","","","","",""]
["","","","","","","","","","","","","","",""]
["","","","","","","","","","","","","","",""]
["","","","","","","","","","","","","","",""]
["","","","","","","","","","","","","","",""]
["","","","","","","","","","","","","","",""]
["","","","","","","","","","","","","","",""]
["","","","","","","","","","","","","","",""]
["","","","","","","","","","","","","","",""]
["","","","","","","","","","","","","","",""]
["","","","","","","","","","","","","","",""]
["","","","","","","","","","","","","","",""]
["","","","","","","","","","","","","","",""]
["","","","","","","","","","","","","","",""]
["","","","","","","","","","","","","","",""]
["","","","","","","","","","","","","","",""]
["","","","","","","","","","","","","","",""]
["","","","","","","","","","","","","","",""]
["","","","","","","","","","","","","","",""]
["","","","","","","","","","","","","","",""]
["","","","","","","","","","","","","","",""]
["","","","","","","","","","","","","","",""]
["","","","","","","","","","","","","","",""]
["","","","","","","","","","","","","","",""]
["","","","","","","","","","","","","","",""]
["","","","","","","","","","","","","","",""]
["","","","","","","","","","","","","","",""]
["","","","","","","","","","","","","","",""]
["","","","","","","","","","","","","","",""]
["","","","","","","","","","","","","","",""]
["","","","","","","","","","","","","","",""]
["","","","","","","","","","","","","","",""]
["","","","","","","","","","","","","","",""]
["","","","","","","","","","","","","","",""]
["","","","","","","","","","","","","","",""]
["","","","","","","","","","","","","","",""]
["","","","","","","","","","","","","","",""]
["","","","","","","","","","","","","","",""]
["","","","","","","","","","","","","","",""]
["","","","","","","","","","","","","","",""]
["","","","","","","","","","","","","","",""]
["","","","","","","","","","","","","","",""]
["","","","","","","","","","","","","","",""]
["","","","","","","","","","","","","","",""]
["","","","","","","","","","","","","","",""]
["","","","","","","","","","","","","","",""]
["","","","","","","","","","","","","","",""]
["","","","","","","","","","","","","","",""]
["","","","","","","","","","","","","","",""]
["","","","","","","","","","","","","","",""]
["","","","","","","","","","","","","","",""]
["","","","","","","","","","","","","","",""]
["","","","","","","","","","","","","","",""]
["","","","","","","","","","","","","","",""]
["","","","","","","","","","","","","","",""]
["","","","","","","","","","","","","","",""]
["","","","","","","","","","","","","","",""]
["","","","","","","","","","","","","","",""]
["","","","","","","","","","","","","","",""]
["","","","","","","","","","","","","","",""]
["","","","","","","","","","","","","","",""]
["","","","","","","","","","","","","","",""]
["","","","","","","","","","","","","","",""]
["","","","","","","","","","","","","","",""]
["","","","","","","","","","","","","","",""]
["","","","","","","","","","","","","","",""]
["","","","","","","","","","","","","","",""]
["","","","","","","","","","","","","","",""]
["","","","","","","","","","","","","","",""]
["","","","","","","","","","","","","","",""]
["","","","","","","","","","","","","","",""]
["","","","","","","","","","","","","","",""]
["","","","","","","","","","","","","","",""]
["","","","","","","","","","","","","","",""]
["","","","","","","","","","","","","","",""]
["","","","","","","","","","","","","","",""]
["","","","","","","","","","","","","","",""]
["","","","","","","","","","","","","","",""]
["","","","","","","","","","","","","","",""]
["","","","","","","","","","","","","","",""]
["","","","","","","","","","","","","","",""]
["","","","","","","","","","","","","","",""]
["","","","","","","","","","","","","","",""]
["","","","","","","","","","","","","","",""]
["","","","","","","","","","","","","","",""]
["","","","","","","","","","","","","","",""]
["","","","","","","","","","","","","","",""]
["","","","","","","","","","","","","","",""]
["","","","","","","","","","","","","","",""]
["","","","","","","","","","","","","","",""]
["","","","","","","","","","","","","","",""]
["","","","","","","","","","","","","","",""]
["","","","","","","","","","","","","","",""]
["","","","","","","","","","","","","","",""]
["","","","","","","","","","","","","","",""]
["","","","","","","","","","","","","","",""]
["","","","","","","","","","","","","","",""]
["","","","","","","","","","","","","","",""]
["","","","","","","","","","","","","","",""]
["","","","","","","","","","","","","","",""]
["","","","","","","","","","","","","","",""]
["","","","","","","","","","","","","","",""]
["","","","","","","","","","","","","","",""]
["","","","","","","","","","","","","","",""]
["","","","","","","","","","","","","","",""]
["","","","","","","","","","","","","","",""]
["","","","","","","","","","","","","","",""]
["","","","","","","","","","","","","","",""]
["","","","","","","","","","","","","","",""]
["","","","","","","","","","","","","","",""]
["","","","","","","","","","","","","","",""]
["","","","","","","","","","","","","","",""]
["","","","","","","","","","","","","","",""]
["","","","","","","","","","","","","","",""]
["","","","","","","","","","","","","","",""]
["","","","","","","","","","","","","","",""]
["","","","","","","","","","","","","","",""]
["","","","","","","","","","","","","","",""]
["","","","","","","","","","","","","","",""]
["","","","","","","","","","","","","","",""]
["","","","","","","","","","","","","","",""]
["","","","","","","","","","","","","","",""]
["","","","","","","","","","","","","","",""]
["","","","","","","","","","","","","","",""]
["","","","","","","","","","","","","","",""]
["","","","","","","","","","","","","","",""]
["","","","","","","","","","","","","","",""]
["","","","","","","","","","","","","","",""]
["","","","","","","","","","","","","","",""]
["","","","","","","","","","","","","","",""]
["","","","","","","","","","","","","","",""]
["","","","","","","","","","","","","","",""]
["","","","","","","","","","","","","","",""]
["","","","","","","","","","","","","","",""]
["","","","","","","","","","","","","","",""]
["","","","","","","","","","","","","","",""]
["","","","","","","","","","","","","","",""]
["","","","","","","","","","","","","","",""]
["","","","","","","","","","","","","","",""]
["","","","","","","","","","","","","","",""]
["","","","","","","","","","","","","","",""]
["","","","","","","","","","","","","","",""]
["","","","","","","","","","","","","","",""]
["","","","","","","","","","","","","","",""]
["","","","","","","","","","","","","","",""]
["","","","","","","","","","","","","","",""]
["","","","","","","","","","","","","","",""]
["","","","","","","","","","","","","","",""]
["","","","","","","","","","","","","","",""]
["","","","","","","","","","","","","","",""]
["","","","","","","","","","","","","","",""]
["","","","","","","","","","","","","","",""]
["","","","","","","","","","","","","","",""]
["","","","","","","","","","","","","","",""]
["","","","","","","","","","","","","","",""]
["","","","","","","","","","","","","","",""]
["","","","","","","","","","","","","","",""]
["","","","","","","","","","","","","","",""]
["","","","","","","","","","","","","","",""]
["","","","","","","","","","","","","","",""]
["","","","","","","","","","","","","","",""]
["","","","","","","","","","","","","","",""]
["","","","","","","","","","","","","","",""]
["","","","","","","","","","","","","","",""]
["","","","","","","","","","","","","","",""]
["","","","","","","","","","","","","","",""]
["","","","","","","","","","","","","","",""]
["","","","","","","","","","","","","","",""]
["","","","","","","","","","","","","","",""]
["","","","","","","","","","","","","","",""]
["","","","","","","","","","","","","","",""]
["","","","","","","","","","","","","","",""]
["","","","","","","","","","","","","","",""]
["","","","","","","","","","","","","","",""]
["","","","","","","","","","","","","","",""]
["","","","","","","","","","","","","","",""]
["","","","","","","","","","","","","","",""]
["","","","","","","","","","","","","","",""]
["","","","","","","","","","","","","","",""]
["","","","","","","","","","","","","","",""]
["","","","","","","","","","","","","","",""]
["","","","","","","","","","","","","","",""]
["","","","","","","","","","","","","","",""]
["","","","","","","","","","","","","","",""]
["","","","","","","","","","","","","","",""]
["","","","","","","","","","","","","","",""]
["","","","","","","","","","","","","","",""]
["","","","","","","","","","","","","","",""]
["","","","","","","","","","","","","","",""]
["","","","","","","","","","","","","","",""]
["","","","","","","","","","","","","","",""]
["","","","","","","","","","","","","","",""]
["","","","","","","","","","","","","","",""]
["","","","","","","","","","","","","","",""]
["","","","","","","","","","","","","","",""]
["","","","","","","","","","","","","","",""]
["","","","","","","","","","","","","","",""]
["","","","","","","","","","","","","","",""]
["","","","","","","","","","","","","","",""]
["","","","","","","","","","","","","","",""]
["","","","","","","","","","","","","","",""]
["","","","","","","","","","","","","","",""]
["","","","","","","","","","","","","","",""]
["","","","","","","","","","","","","","",""]
["","","","","","","","","","","","","","",""]
["","","","","","","","","","","","","","",""]
["","","","","","","","","","","","","","",""]
["","","","","","","","","","","","","","",""]
["","","","","","","","","","","","","","",""]
["","","","","","","","","","","","","","",""]
["","","","","","","","","","","","","","",""]
["","","","","","","","","","","","","","",""]
["","","","","","","","","","","","","","",""]
["","","","","","","","","","","","","","",""]
["","","","","","","","","","","","","","",""]
["","","","","","","","","","","","","","",""]
["","","","","","","","","","","","","","",""]
["","","","","","","","","","","","","","",""]
["","","","","","","","","","","","","","",""]
["","","","","","","","","","","","","","",""]
["","","","","","","","","","","","","","",""]
["","","","","","","","","","","","","","",""]
["","","","","","","","","","","","","","",""]
["","","","","","","","","","","","","","",""]
["","","","","","","","","","","","","","",""]
["","","","","","","","","","","","","","",""]
["","","","","","","","","","","","","","",""]
["","","","","","","","","","","","","","",""]
["","","","","","","","","","","","","","",""]
["","","","","","","","","","","","","","",""]
["","","","","","","","","","","","","","",""]
["","","","","","","","","","","","","","",""]
["","","","","","","","","","","","","","",""]
["","","","","","","","","","","","","","",""]
["","","","","","","","","","","","","","",""]
["","","","","","","","","","","","","","",""]
["","","","","","","","","","","","","","",""]
["","","","","","","","","","","","","","",""]
["","","","","","","","","","","","","","",""]
["","","","","","","","","","","","","","",""]
["","","","","","","","","","","","","","",""]
["","","","","","","","","","","","","","",""]
["","","","","","","","","","","","","","",""]
["","","","","","","","","","","","","","",""]
["","","","","","","","","","","","","","",""]
["","","","","","","","","","","","","","",""]
["","","","","","","","","","","","","","",""]
["","","","","","","","","","","","","","",""]
["","","","","","","","","","","","","","",""]
["","","","","","","","","","","","","","",""]
["","","","","","","","","","","","","","",""]
["","","","","","","","","","","","","","",""]
["","","","","","","","","","","","","","",""]
["","","","","","","","","","","","","","",""]
["","","","","","","","","","","","","","",""]
["","","","","","","","","","","","","","",""]
["","","","","","","","","","","","","","",""]
["","","","","","","","","","","","","","",""]
["","","","","","","","","","","","","","",""]
["","","","","","","","","","","","","","",""]
["","","","","","","","","","","","","","",""]
["","","","","","","","","","","","","","",""]
["","","","","","","","","","","","","","",""]
["","","","","","","","","","","","","","",""]
["","","","","","","","","","","","","","",""]
["","","","","","","","","","","","","","",""]
["","","","","","","","","","","","","","",""]
["","","","","","","","","","","","","","",""]
["","","","","","","","","","","","","","",""]
["","","","","","","","","","","","","","",""]
["","","","","","","","","","","","","","",""]
["","","","","","","","","","","","","","",""]
["","","","","","","","","","","","","","",""]
["","","","","","","","","","","","","","",""]
["","","","","","","","","","","","","","",""]
["","","","","","","","","","","","","","",""]
["","","","","","","","","","","","","","",""]
["","","","","","","","","","","","","","",""]
["","","","","","","","","","","","","","",""]
["","","","","","","","","","","","","","",""]
["","","","","","","","","","","","","","",""]
["","","","","","","","","","","","","","",""]
["","","","","","","","","","","","","","",""]
["","","","","","","","","","","","","","",""]
["","","","","","","","","","","","","","",""]
["","","","","","","","","","","","","","",""]
["","","","","","","","","","","","","","",""]
["","","","","","","","","","","","","","",""]
["","","","","","","","","","","","","","",""]
["","","","","","","","","","","","","","",""]
["","","","","","","","","","","","","","",""]
["","","","","","","","","","","","","","",""]
["","","","","","","","","","","","","","",""]
["","","","","","","","","","","","","","",""]
["","","","","","","","","","","","","","",""]
["","","","","","","","","","","","","","",""]
["","","","","","","","","","","","","","",""]
["","","","","","","","","","","","","","",""]
["","","","","","","","","","","","","","",""]
["","","","","","","","","","","","","","",""]
["","","","","","","","","","","","","","",""]
["","","","","","","","","","","","","","",""]
["","","","","","","","","","","","","","",""]
["","","","","","","","","","","","","","",""]
["","","","","","","","","","","","","","",""]
["","","","","","","","","","","","","","",""]
["","","","","","","","","","","","","","",""]
["","","","","","","","","","","","","","",""]
["","","","","","","","","","","","","","",""]
["","","","","","","","","","","","","","",""]
["","","","","","","","","","","","","","",""]
["","","","","","","","","","","","","","",""]
["","","","","","","","","","","","","","",""]
["","","","","","","","","","","","","","",""]
["","","","","","","","","","","","","","",""]
["","","","","","","","","","","","","","",""]
["","","","","","","","","","","","","","",""]
["","","","","","","","","","","","","","",""]
["","","","","","","","","","","","","","",""]
["","","","","","","","","","","","","","",""]
["","","","","","","","","","","","","","",""]
["","","","","","","","","","","","","","",""]
["","","","","","","","","","","","","","",""]
["","","","","","","","","","","","","","",""]
["","","","","","","","","","","","","","",""]
["","","","","","","","","","","","","","",""]
["","","","","","","","","","","","","","",""]
["","","","","","","","","","","","","","",""]
["","","","","","","","","","","","","","",""]
["","","","","","","","","","","","","","",""]
["","","","","","","","","","","","","","",""]
["","","","","","","","","","","","","","",""]
["","","","","","","","","","","","","","",""]
["","","","","","","","","","","","","","",""]
["","","","","","","","","","","","","","",""]
["","","","","","","","","","","","","","",""]
["","","","","","","","","","","","","","",""]
["","","","","","","","","","","","","","",""]
["","","","","","","","","","","","","","",""]
["","","","","","","","","","","","","","",""]
["","","","","","","","","","","","","","",""]
["","","","","","","","","","","","","","",""]
["","","","","","","","","","","","","","",""]
["","","","","","","","","","","","","","",""]
["","","","","","","","","","","","","","",""]
["","","","","","","","","","","","","","",""]
["","","","","","","","","","","","","","",""]
["","","","","","","","","","","","","","",""]
["","","","","","","","","","","","","","",""]
["","","","","","","","","","","","","","",""]
["","","","","","","","","","","","","","",""]
["","","","","","","","","","","","","","",""]
["","","","","","","","","","","","","","",""]
["","","","","","","","","","","","","","",""]
["","","","","","","","","","","","","","",""]
["","","","","","","","","","","","","","",""]
["","","","","","","","","","","","","","",""]
["","","","","","","","","","","","","","",""]
["","","","","","","","","","","","","","",""]
["","","","","","","","","","","","","","",""]
["","","","","","","","","","","","","","",""]
["","","","","","","","","","","","","","",""]
["","","","","","","","","","","","","","",""]
["","","","","","","","","","","","","","",""]
["","","","","","","","","","","","","","",""]
["","","","","","","","","","","","","","",""]
["","","","","","","","","","","","","","",""]
["","","","","","","","","","","","","","",""]
["","","","","","","","","","","","","","",""]
["","","","","","","","","","","","","","",""]
["","","","","","","","","","","","","","",""]
["","","","","","","","","","","","","","",""]
["","","","","","","","","","","","","","",""]
["","","","","","","","","","","","","","",""]
["","","","","","","","","","","","","","",""]
["","","","","","","","","","","","","","",""]
["","","","","","","","","","","","","","",""]
["","","","","","","","","","","","","","",""]
["","","","","","","","","","","","","","",""]
["","","","","","","","","","","","","","",""]
["","","","","","","","","","","","","","",""]
["","","","","","","","","","","","","","",""]
["","","","","","","","","","","","","","",""]
["","","","","","","","","","","","","","",""]
["","","","","","","","","","","","","","",""]
["","","","","","","","","","","","","","",""]
["","","","","","","","","","","","","","",""]
["","","","","","","","","","","","","","",""]
["","","","","","","","","","","","","","",""]
["","","","","","","","","","","","","","",""]
["","","","","","","","","","","","","","",""]
["","","","","","","","","","","","","","",""]
["","","","","","","","","","","","","","",""]
["","","","","","","","","","","","","","",""]
["","","","","","","","","","","","","","",""]
["","","","","","","","","","","","","","",""]
["","","","","","","","","","","","","","",""]
["","","","","","","","","","","","","","",""]
["","","","","","","","","","","","","","",""]
["","","","","","","","","","","","","","",""]
["","","","","","","","","","","","","","",""]
["","","","","","","","","","","","","","",""]
["","","","","","","","","","","","","","",""]
["","","","","","","","","","","","","","",""]
["","","","","","","","","","","","","","",""]
["","","","","","","","","","","","","","",""]
["","","","","","","","","","","","","","",""]
["","","","","","","","","","","","","","",""]
["","","","","","","","","","","","","","",""]
["","","","","","","","","","","","","","",""]
["","","","","","","","","","","","","","",""]
["","","","","","","","","","","","","","",""]
["","","","","","","","","","","","","","",""]
["","","","","","","","","","","","","","",""]
["","","","","","","","","","","","","","",""]
["","","","","","","","","","","","","","",""]
["","","","","","","","","","","","","","",""]
["","","","","","","","","","","","","","",""]
["","","","","","","","","","","","","","",""]
["","","","","","","","","","","","","","",""]
["","","","","","","","","","","","","","",""]
["","","","","","","","","","","","","","",""]
["","","","","","","","","","","","","","",""]
["","","","","","","","","","","","","","",""]
["","","","","","","","","","","","","","",""]
["","","","","","","","","","","","","","",""]
["","","","","","","","","","","","","","",""]
["","","","","","","","","","","","","","",""]
["","","","","","","","","","","","","","",""]
["","","","","","","","","","","","","","",""]
["","","","","","","","","","","","","","",""]
["","","","","","","","","","","","","","",""]
["","","","","","","","","","","","","","",""]
["","","","","","","","","","","","","","",""]
["","","","","","","","","","","","","","",""]
["","","","","","","","","","","","","","",""]
["","","","","","","","","","","","","","",""]
["","","","","","","","","","","","","","",""]
["","","","","","","","","","","","","","",""]
["","","","","","","","","","","","","","",""]
["","","","","","","","","","","","","","",""]
["","","","","","","","","","","","","","",""]
["","","","","","","","","","","","","","",""]
["","","","","","","","","","","","","","",""]
["","","","","","","","","","","","","","",""]
["","","","","","","","","","","","","","",""]
["","","","","","","","","","","","","","",""]
["","","","","","","","","","","","","","",""]
["","","","","","","","","","","","","","",""]
["","","","","","","","","","","","","","",""]
["","","","","","","","","","","","","","",""]
["","","","","","","","","","","","","","",""]
["","","","","","","","","","","","","","",""]
["","","","","","","","","","","","","","",""]
["","","","","","","","","","","","","","",""]
["","","","","","","","","","","","","","",""]
["","","","","","","","","","","","","","",""]
["","","","","","","","","","","","","","",""]
["","","","","","","","","","","","","","",""]
["","","","","","","","","","","","","","",""]
["","","","","","","","","","","","","","",""]
["","","","","","","","","","","","","","",""]
["","","","","","","","","","","","","","",""]
["","","","","","","","","","","","","","",""]
["","","","","","","","","","","","","","",""]
["","","","","","","","","","","","","","",""]
["","","","","","","","","","","","","","",""]
["","","","","","","","","","","","","","",""]
["","","","","","","","","","","","","","",""]
["","","","","","","","","","","","","","",""]
["","","","","","","","","","","","","","",""]
["","","","","","","","","","","","","","",""]
["","","","","","","","","","","","","","",""]
["","","","","","","","","","","","","","",""]
["","","","","","","","","","","","","","",""]
["","","","","","","","","","","","","","",""]
["","","","","","","","","","","","","","",""]
["","","","","","","","","","","","","","",""]
["","","","","","","","","","","","","","",""]
["","","","","","","","","","","","","","",""]
["","","","","","","","","","","","","","",""]
["","","","","","","","","","","","","","",""]
["","","","","","","","","","","","","","",""]
["","","","","","","","","","","","","","",""]
["","","","","","","","","","","","","","",""]
["","","","","","","","","","","","","","",""]
["","","","","","","","","","","","","","",""]
["","","","","","","","","","","","","","",""]
["","","","","","","","","","","","","","",""]
["","","","","","","","","","","","","","",""]
["","","","","","","","","","","","","","",""]
["","","","","","","","","","","","","","",""]
["","","","","","","","","","","","","","",""]
["","","","","","","","","","","","","","",""]
["","","","","","","","","","","","","","",""]
["","","","","","","","","","","","","","",""]
["","","","","","","","","","","","","","",""]
["","","","","","","","","","","","","","",""]
["","","","","","","","","","","","","","",""]
["","","","","","","","","","","","","","",""]
["","","","","","","","","","","","","","",""]
["","","","","","","","","","","","","","",""]
["","","","","","","","","","","","","","",""]
["","","","","","","","","","","","","","",""]
["","","","","","","","","","","","","","",""]
["","","","","","","","","","","","","","",""]
["","","","","","","","","","","","","","",""]
["","","","","","","","","","","","","","",""]
["","","","","","","","","","","","","","",""]
["","","","","","","","","","","","","","",""]
["","","","","","","","","","","","","","",""]
["","","","","","","","","","","","","","",""]
["","","","","","","","","","","","","","",""]
["","","","","","","","","","","","","","",""]
["","","","","","","","","","","","","","",""]
["","","","","","","","","","","","","","",""]
["","","","","","","","","","","","","","",""]
["","","","","","","","","","","","","","",""]
["","","","","","","","","","","","","","",""]
["","","","","","","","","","","","","","",""]
["","","","","","","","","","","","","","",""]
["","","","","","","","","","","","","","",""]
["","","","","","","","","","","","","","",""]
["","","","","","","","","","","","","","",""]
["","","","","","","","","","","","","","",""]
["","","","","","","","","","","","","","",""]
["","","","","","","","","","","","","","",""]
["","","","","","","","","","","","","","",""]
["","","","","","","","","","","","","","",""]
["","","","","","","","","","","","","","",""]
["","","","","","","","","","","","","","",""]
["","","","","","","","","","","","","","",""]
["","","","","","","","","","","","","","",""]
["","","","","","","","","","","","","","",""]
["","","","","","","","","","","","","","",""]
["","","","","","","","","","","","","","",""]
["","","","","","","","","","","","","","",""]
["","","","","","","","","","","","","","",""]
["","","","","","","","","","","","","","",""]
["","","","","","","","","","","","","","",""]
["","","","","","","","","","","","","","",""]
["","","","","","","","","","","","","","",""]
["","","","","","","","","","","","","","",""]
["","","","","","","","","","","","","","",""]
["","","","","","","","","","","","","","",""]
["","","","","","","","","","","","","","",""]
["","","","","","","","","","","","","","",""]
["","","","","","","","","","","","","","",""]
["","","","","","","","","","","","","","",""]
["","","","","","","","","","","","","","",""]
["","","","","","","","","","","","","","",""]
["","","","","","","","","","","","","","",""]
["","","","","","","","","","","","","","",""]
["","","","","","","","","","","","","","",""]
["","","","","","","","","","","","","","",""]
["","","","","","","","","","","","","","",""]
["","","","","","","","","","","","","","",""]
["","","","","","","","","","","","","","",""]
["","","","","","","","","","","","","","",""]
["","","","","","","","","","","","","","",""]
["","","","","","","","","","","","","","",""]
["","","","","","","","","","","","","","",""]
["","","","","","","","","","","","","","",""]
["","","","","","","","","","","","","","",""]
["","","","","","","","","","","","","","",""]
["","","","","","","","","","","","","","",""]
["","","","","","","","","","","","","","",""]
["","","","","","","","","","","","","","",""]
["","","","","","","","","","","","","","",""]
["","","","","","","","","","","","","","",""]
["","","","","","","","","","","","","","",""]
["","","","","","","","","","","","","","",""]
["","","","","","","","","","","","","","",""]
["","","","","","","","","","","","","","",""]
["","","","","","","","","","","","","","",""]
["","","","","","","","","","","","","","",""]
["","","","","","","","","","","","","","",""]
["","","","","","","","","","","","","","",""]
["","","","","","","","","","","","","","",""]
["","","","","","","","","","","","","","",""]
["","","","","","","","","","","","","","",""]
["","","","","","","","","","","","","","",""]
["","","","","","","","","","","","","","",""]
["","","","","","","","","","","","","","",""]
["","","","","","","","","","","","","","",""]
["","","","","","","","","","","","","","",""]
["","","","","","","","","","","","","","",""]
["","","","","","","","","","","","","","",""]
["","","","","","","","","","","","","","",""]
["","","","","","","","","","","","","","",""]
["","","","","","","","","","","","","","",""]
["","","","","","","","","","","","","","",""]
["","","","","","","","","","","","","","",""]
["","","","","","","","","","","","","","",""]
["","","","","","","","","","","","","","",""]
["","","","","","","","","","","","","","",""]
["","","","","","","","","","","","","","",""]
["","","","","","","","","","","","","","",""]
["","","","","","","","","","","","","","",""]
["","","","","","","","","","","","","","",""]
["","","","","","","","","","","","","","",""]
["","","","","","","","","","","","","","",""]
["","","","","","","","","","","","","","",""]
["","","","","","","","","","","","","","",""]
["","","","","","","","","","","","","","",""]
["","","","","","","","","","","","","","",""]
["","","","","","","","","","","","","","",""]
["","","","","","","","","","","","","","",""]
["","","","","","","","","","","","","","",""]
["","","","","","","","","","","","","","",""]
["","","","","","","","","","","","","","",""]
["","","","","","","","","","","","","","",""]
["","","","","","","","","","","","","","",""]
["","","","","","","","","","","","","","",""]
["","","","","","","","","","","","","","",""]
["","","","","","","","","","","","","","",""]
["","","","","","","","","","","","","","",""]
["","","","","","","","","","","","","","",""]
["","","","","","","","","","","","","","",""]
["","","","","","","","","","","","","","",""]
["","","","","","","","","","","","","","",""]
["","","","","","","","","","","","","","",""]
["","","","","","","","","","","","","","",""]
["","","","","","","","","","","","","","",""]
["","","","","","","","","","","","","","",""]
["","","","","","","","","","","","","","",""]
["","","","","","","","","","","","","","",""]
["","","","","","","","","","","","","","",""]
["","","","","","","","","","","","","","",""]
["","","","","","","","","","","","","","",""]
["","","","","","","","","","","","","","",""]
["","","","","","","","","","","","","","",""]
["","","","","","","","","","","","","","",""]
["","","","","","","","","","","","","","",""]
["","","","","","","","","","","","","","",""]
["","","","","","","","","","","","","","",""]
["","","","","","","","","","","","","","",""]
["","","","","","","","","","","","","","",""]
["","","","","","","","","","","","","","",""]
["","","","","","","","","","","","","","",""]
["","","","","","","","","","","","","","",""]
["","","","","","","","","","","","","","",""]
["","","","","","","","","","","","","","",""]
["","","","","","","","","","","","","","",""]
["","","","","","","","","","","","","","",""]
["","","","","","","","","","","","","","",""]
["","","","","","","","","","","","","","",""]
["","","","","","","","","","","","","","",""]
["","","","","","","","","","","","","","",""]
["","","","","","","","","","","","","","",""]
["","","","","","","","","","","","","","",""]
["","","","","","","","","","","","","","",""]
["","","","","","","","","","","","","","",""]
["","","","","","","","","","","","","","",""]
["","","","","","","","","","","","","","",""]
["","","","","","","","","","","","","","",""]
["","","","","","","","","","","","","","",""]
["","","","","","","","","","","","","","",""]
["","","","","","","","","","","","","","",""]
["","","","","","","","","","","","","","",""]
["","","","","","","","","","","","","","",""]
["","","","","","","","","","","","","","",""]
["","","","","","","","","","","","","","",""]
["","","","","","","","","","","","","","",""]
["","","","","","","","","","","","","","",""]
["","","","","","","","","","","","","","",""]
["","","","","","","","","","","","","","",""]
["","","","","","","","","","","","","","",""]
["","","","","","","","","","","","","","",""]
["","","","","","","","","","","","","","",""]
["","","","","","","","","","","","","","",""]
["","","","","","","","","","","","","","",""]
["","","","","","","","","","","","","","",""]
["","","","","","","","","","","","","","",""]
["","","","","","","","","","","","","","",""]
["","","","","","","","","","","","","","",""]
["","","","","","","","","","","","","","",""]
["","","","","","","","","","","","","","",""]
["","","","","","","","","","","","","","",""]
["","","","","","","","","","","","","","",""]
["","","","","","","","","","","","","","",""]
["","","","","","","","","","","","","","",""]
["","","","","","","","","","","","","","",""]
["","","","","","","","","","","","","","",""]
["","","","","","","","","","","","","","",""]
["","","","","","","","","","","","","","",""]
["","","","","","","","","","","","","","",""]
["","","","","","","","","","","","","","",""]
["","","","","","","","","","","","","","",""]
["","","","","","","","","","","","","","",""]
["","","","","","","","","","","","","","",""]
["","","","","","","","","","","","","","",""]
["","","","","","","","","","","","","","",""]
["","","","","","","","","","","","","","",""]
["","","","","","","","","","","","","","",""]
["","","","","","","","","","","","","","",""]
["","","","","","","","","","","","","","",""]
["","","","","","","","","","","","","","",""]
["","","","","","","","","","","","","","",""]
["","","","","","","","","","","","","","",""]
["","","","","","","","","","","","","","",""]
["","","","","","","","","","","","","","",""]
["","","","","","","","","","","","","","",""]
["","","","","","","","","","","","","","",""]
["","","","","","","","","","","","","","",""]
["","","","","","","","","","","","","","",""]
["","","","","","","","","","","","","","",""]
["","","","","","","","","","","","","","",""]
["","","","","","","","","","","","","","",""]
["","","","","","","","","","","","","","",""]
["","","","","","","","","","","","","","",""]
["","","","","","","","","","","","","","",""]
["","","","","","","","","","","","","","",""]
["","","","","","","","","","","","","","",""]
["","","","","","","","","","","","","","",""]
["","","","","","","","","","","","","","",""]
["","","","","","","","","","","","","","",""]
["","","","","","","","","","","","","","",""]
["","","","","","","","","","","","","","",""]
["","","","","","","","","","","","","","",""]
["","","","","","","","","","","","","","",""]
["","","","","","","","","","","","","","",""]
["","","","","","","","","","","","","","",""]
["","","","","","","","","","","","","","",""]
["","","","","","","","","","","","","","",""]
["","","","","","","","","","","","","","",""]
["","","","","","","","","","","","","","",""]
["","","","","","","","","","","","","","",""]
["","","","","","","","","","","","","","",""]
["","","","","","","","","","","","","","",""]
["","","","","","","","","","","","","","",""]
["","","","","","","","","","","","","","",""]
["","","","","","","","","","","","","","",""]
["","","","","","","","","","","","","","",""]
["","","","","","","","","","","","","","",""]
["","","","","","","","","","","","","","",""]
["","","","","","","","","","","","","","",""]
["","","","","","","","","","","","","","",""]
["","","","","","","","","","","","","","",""]
["","","","","","","","","","","","","","",""]
["","","","","","","","","","","","","","",""]
["","","","","","","","","","","","","","",""]
["","","","","","","","","","","","","","",""]
["","","","","","","","","","","","","","",""]
["","","","","","","","","","","","","","",""]
["","","","","","","","","","","","","","",""]
["","","","","","","","","","","","","","",""]
["","","","","","","","","","","","","","",""]
["","","","","","","","","","","","","","",""]
["","","","","","","","","","","","","","",""]
["","","","","","","","","","","","","","",""]
["","","","","","","","","","","","","","",""]
["","","","","","","","","","","","","","",""]
["","","","","","","","","","","","","","",""]
["","","","","","","","","","","","","","",""]
["","","","","","","","","","","","","","",""]
["","","","","","","","","","","","","","",""]
["","","","","","","","","","","","","","",""]
["","","","","","","","","","","","","","",""]
["","","","","","","","","","","","","","",""]
["","","","","","","","","","","","","","",""]
["","","","","","","","","","","","","","",""]
["","","","","","","","","","","","","","",""]
["","","","","","","","","","","","","","",""]
["","","","","","","","","","","","","","",""]
["","","","","","","","","","","","","","",""]
["","","","","","","","","","","","","","",""]
["","","","","","","","","","","","","","",""]
["","","","","","","","","","","","","","",""]
["","","","","","","","","","","","","","",""]
["","","","","","","","","","","","","","",""]
["","","","","","","","","","","","","","",""]
["","","","","","","","","","","","","","",""]
["","","","","","","","","","","","","","",""]
["","","","","","","","","","","","","","",""]
["","","","","","","","","","","","","","",""]
["","","","","","","","","","","","","","",""]
["","","","","","","","","","","","","","",""]
["","","","","","","","","","","","","","",""]
["","","","","","","","","","","","","","",""]
["","","","","","","","","","","","","","",""]
["","","","","","","","","","","","","","",""]
["","","","","","","","","","","","","","",""]
["","","","","","","","","","","","","","",""]
["","","","","","","","","","","","","","",""]
["","","","","","","","","","","","","","",""]
["","","","","","","","","","","","","","",""]
["","","","","","","","","","","","","","",""]
["","","","","","","","","","","","","","",""]
["","","","","","","","","","","","","","",""]
["","","","","","","","","","","","","","",""]
["","","","","","","","","","","","","","",""]
["","","","","","","","","","","","","","",""]
["","","","","","","","","","","","","","",""]
["","","","","","","","","","","","","","",""]
["","","","","","","","","","","","","","",""]
["","","","","","","","","","","","","","",""]
["","","","","","","","","","","","","","",""]
["","","","","","","","","","","","","","",""]
["","","","","","","","","","","","","","",""]
["","","","","","","","","","","","","","",""]
["","","","","","","","","","","","","","",""]
["","","","","","","","","","","","","","",""]
["","","","","","","","","","","","","","",""]
["","","","","","","","","","","","","","",""]
["","","","","","","","","","","","","","",""]
["","","","","","","","","","","","","","",""]
["","","","","","","","","","","","","","",""]
["","","","","","","","","","","","","","",""]
["","","","","","","","","","","","","","",""]
["","","","","","","","","","","","","","",""]
["","","","","","","","","","","","","","",""]
["","","","","","","","","","","","","","",""]
["","","","","","","","","","","","","","",""]
["","","","","","","","","","","","","","",""]
["","","","","","","","","","","","","","",""]
["","","","","","","","","","","","","","",""]
["","","","","","","","","","","","","","",""]
["","","","","","","","","","","","","","",""]
["","","","","","","","","","","","","","",""]
["","","","","","","","","","","","","","",""]
["","","","","","","","","","","","","","",""]
["","","","","","","","","","","","","","",""]
["","","","","","","","","","","","","","",""]
["","","","","","","","","","","","","","",""]
["","","","","","","","","","","","","","",""]
["","","","","","","","","","","","","","",""]
["","","","","","","","","","","","","","",""]
["","","","","","","","","","","","","","",""]
["","","","","","","","","","","","","","",""]
["","","","","","","","","","","","","","",""]
["","","","","","","","","","","","","","",""]
["","","","","","","","","","","","","","",""]
["","","","","","","","","","","","","","",""]
["","","","","","","","","","","","","","",""]
["","","","","","","","","","","","","","",""]
["","","","","","","","","","","","","","",""]
["","","","","","","","","","","","","","",""]
["","","","","","","","","","","","","","",""]
["","","","","","","","","","","","","","",""]
["","","","","","","","","","","","","","",""]
["","","","","","","","","","","","","","",""]
["","","","","","","","","","","","","","",""]
["","","","","","","","","","","","","","",""]
["","","","","","","","","","","","","","",""]
["","","","","","","","","","","","","","",""]
["","","","","","","","","","","","","","",""]
["","","","","","","","","","","","","","",""]
["","","","","","","","","","","","","","",""]
["","","","","","","","","","","","","","",""]
["","","","","","","","","","","","","","",""]
["","","","","","","","","","","","","","",""]
["","","","","","","","","","","","","","",""]
["","","","","","","","","","","","","","",""]
["","","","","","","","","","","","","","",""]
["","","","","","","","","","","","","","",""]
["","","","","","","","","","","","","","",""]
["","","","","","","","","","","","","","",""]
["","","","","","","","","","","","","","",""]
["","","","","","","","","","","","","","",""]
["","","","","","","","","","","","","","",""]
["","","","","","","","","","","","","","",""]
["","","","","","","","","","","","","","",""]
["","","","","","","","","","","","","","",""]
["","","","","","","","","","","","","","",""]
["","","","","","","","","","","","","","",""]
["","","","","","","","","","","","","","",""]
["","","","","","","","","","","","","","",""]
["","","","","","","","","","","","","","",""]
["","","","","","","","","","","","","","",""]
["","","","","","","","","","","","","","",""]
["","","","","","","","","","","","","","",""]
["","","","","","","","","","","","","","",""]
["","","","","","","","","","","","","","",""]
["","","","","","","","","","","","","","",""]
["","","","","","","","","","","","","","",""]
["","","","","","","","","","","","","","",""]
["","","","","","","","","","","","","","",""]
["","","","","","","","","","","","","","",""]
["","","","","","","","","","","","","","",""]
["","","","","","","","","","","","","","",""]
["","","","","","","","","","","","","","",""]
["","","","","","","","","","","","","","",""]
["","","","","","","","","","","","","","",""]
["","","","","","","","","","","","","","",""]
["","","","","","","","","","","","","","",""]
["","","","","","","","","","","","","","",""]
["","","","","","","","","","","","","","",""]
["","","","","","","","","","","","","","",""]
["","","","","","","","","","","","","","",""]
["","","","","","","","","","","","","","",""]
["","","","","","","","","","","","","","",""]
["","","","","","","","","","","","","","",""]
["","","","","","","","","","","","","","",""]
["","","","","","","","","","","","","","",""]
["","","","","","","","","","","","","","",""]
["","","","","","","","","","","","","","",""]
["","","","","","","","","","","","","","",""]
["","","","","","","","","","","","","","",""]
["","","","","","","","","","","","","","",""]

{"sheet":"Generate HL3","index":6,"n_rows":4,"n_cols":20,"rows_kept":4,"cut":false,"hidden":false,"merged":[]}
["Local Authority Code","HL1 Application Reference Number","Unique HL3 Reference Number","Date temporary accommodation offered","LA ordinary dwelling","Housing association / RSL dwelling","Hostel - local authority owned","Hostel - RSL","Hostel - other","Bed and breakfast","Women's refuge","Private sector lease","Other placed by authority","No temporary accommodation offered","Did they take it up ?","Date of entry","Is it unsuitable ?","Date of exit","Was it in breach of the order ?"]
["1",2,3,4,5.0999999999999996,5.2,5.3,5.4,5.5,5.6,5.7,5.8,5.9,"5.10",6,7,8,9,10,11]
["LACODE","APPREF","HL3APPREF","OFFRDATE","TYPE1","TYPE2","TYPE3","TYPE4","TYPE5","TYPE6","TYPE7","TYPE8","TYPE9","NOTOFFRD","TAKEUP","ENTRYDATE","UNSUITABLE","EXITDATE","BREACH","UPRN"]
[{"$f":"VLOOKUP('ENTER DATA HERE'!$B$1,'Lookup Lists'!$A$2:$B$33,2,FALSE)","v":330},"aaaa",{"$f":"IF('ENTER DATA HERE'!$A9<>\"\",'ENTER DATA HERE'!$O9,\"\")","v":""},{"$f":"IF(ISNUMBER('ENTER DATA HERE'!$E9),'ENTER DATA HERE'!$E9,\"\")","v":""},2,0,0,0,0,0,0,0,0,0,1,"2015-10-05",null,"2015-11-05",null,"8EB54AD0 4EEF7B0F 1270893C 5044AA7D 66AD3474"]

{"sheet":"Lookup Lists","index":7,"n_rows":12509,"n_cols":19,"rows_kept":12509,"cut":false,"hidden":false,"merged":[]}
["Local Authority","LACODE","Children","Accommodation",null,"Take Up","Date List","Unsuitable","Breach",null,null,null,null,null,null,"Supported","Emergency","Landlord","HB Type"]
["Aberdeen City",100,"Yes","LA ordinary dwelling","Offered and Refused","Yes","2015-04-01","Yes","Yes",null,"Bed and breakfast",6,"Offered and Accepted",2,null,"Yes","Yes","LA","Not Specified Accommodation"]
["Aberdeenshire",110,"No","Housing association / RSL dwelling","Offered and Accepted","No",{"$f":"G2+1","v":"2015-04-02"},"No","No",null,"Hostel - local authority owned",3,"Offered and Refused",1,null,"No","No","RSL","Specified – Supported Exempt Accommodation"]
["Angus",120,null,"Hostel - local authority owned","Not offered",null,{"$f":"G3+1","v":"2015-04-03"},null,null,null,"Hostel - other",5,null,null,null,null,null,"Vol Org","Specified – Managed"]
["Argyll & Bute",130,null,"Hostel - RSL",null,null,"2015-04-04",null,null,null,"Hostel - RSL",4,null,null,null,null,null,"Private","Specified – Hostel"]
["Clackmannanshire",150,null,"Hostel - other",null,null,"2015-04-05",null,null,null,"Housing association / RSL dwelling",2,null,null,null,null,null,null,"Specified –Refuge"]
["Dumfries & Galloway",170,null,"Bed and breakfast",null,null,"2015-04-06",null,null,null,"LA ordinary dwelling",1]
["Dundee City",180,null,"Women's refuge",null,null,"2015-04-07",null,null,null,"No temporary accommodation offered",10]
["East Ayrshire",190,null,"Private sector lease",null,null,"2015-04-08",null,null,null,"Other placed by authority",9]
["East Dunbartonshire",200,null,"Other placed by authority",null,null,"2015-04-09",null,null,null,"Private sector lease",8]
["East Lothian",210,null,"No temporary accommodation offered",null,null,"2015-04-10",null,null,null,"Women's refuge",7]
["East Renfrewshire",220,null,null,null,null,"2015-04-11"]
["Edinburgh",230,null,null,null,null,"2015-04-12"]
["Eilean Siar",235,null,null,null,null,"2015-04-13"]
["Falkirk",240,null,null,null,null,"2015-04-14"]
["Fife",250,null,null,null,null,"2015-04-15"]
["Glasgow City",260,null,null,null,null,"2015-04-16"]
["Highland",270,null,null,null,null,"2015-04-17"]
["Inverclyde",280,null,null,null,null,"2015-04-18"]
["Midlothian",290,null,null,null,null,"2015-04-19"]
["Moray",300,null,null,null,null,"2015-04-20"]
["North Ayrshire",310,null,null,null,null,"2015-04-21"]
["North Lanarkshire",320,null,null,null,null,"2015-04-22"]
["Orkney",330,null,null,null,null,"2015-04-23"]
["Perth & Kinross",340,null,null,null,null,"2015-04-24"]
["Renfrewshire",350,null,null,null,null,"2015-04-25"]
["Scottish Borders",355,null,null,null,null,"2015-04-26"]
["Shetland",360,null,null,null,null,"2015-04-27"]
["South Ayrshire",370,null,null,null,null,"2015-04-28"]
["South Lanarkshire",380,null,null,null,null,"2015-04-29"]
["Stirling",390,null,null,null,null,"2015-04-30"]
["West Dunbartonshire",395,null,null,null,null,"2015-05-01"]
["West Lothian",400,null,null,null,null,"2015-05-02"]
[null,null,null,null,null,null,"2015-05-03"]
[null,null,null,null,null,null,"2015-05-04"]
[null,null,null,null,null,null,"2015-05-05"]
[null,null,null,null,null,null,"2015-05-06"]
[null,null,null,null,null,null,"2015-05-07"]
[null,null,null,null,null,null,"2015-05-08"]
[null,null,null,null,null,null,"2015-05-09"]
[null,null,null,null,null,null,"2015-05-10"]
[null,null,null,null,null,null,"2015-05-11"]
[null,null,null,null,null,null,"2015-05-12"]
[null,null,null,null,null,null,"2015-05-13"]
[null,null,null,null,null,null,"2015-05-14"]
[null,null,null,null,null,null,"2015-05-15"]
[null,null,null,null,null,null,"2015-05-16"]
[null,null,null,null,null,null,"2015-05-17"]
[null,null,null,null,null,null,"2015-05-18"]
[null,null,null,null,null,null,"2015-05-19"]
[null,null,null,null,null,null,"2015-05-20"]
[null,null,null,null,null,null,"2015-05-21"]
[null,null,null,null,null,null,"2015-05-22"]
[null,null,null,null,null,null,"2015-05-23"]
[null,null,null,null,null,null,"2015-05-24"]
[null,null,null,null,null,null,"2015-05-25"]
[null,null,null,null,null,null,"2015-05-26"]
[null,null,null,null,null,null,"2015-05-27"]
[null,null,null,null,null,null,"2015-05-28"]
[null,null,null,null,null,null,"2015-05-29"]
[null,null,null,null,null,null,"2015-05-30"]
[null,null,null,null,null,null,"2015-05-31"]
[null,null,null,null,null,null,"2015-06-01"]
[null,null,null,null,null,null,"2015-06-02"]
[null,null,null,null,null,null,"2015-06-03"]
[null,null,null,null,null,null,"2015-06-04"]
[null,null,null,null,null,null,"2015-06-05"]
[null,null,null,null,null,null,{"$f":"G67+1","v":"2015-06-06"}]
[null,null,null,null,null,null,"2015-06-07"]
[null,null,null,null,null,null,"2015-06-08"]
[null,null,null,null,null,null,"2015-06-09"]
[null,null,null,null,null,null,"2015-06-10"]
[null,null,null,null,null,null,"2015-06-11"]
[null,null,null,null,null,null,"2015-06-12"]
[null,null,null,null,null,null,"2015-06-13"]
[null,null,null,null,null,null,"2015-06-14"]
[null,null,null,null,null,null,"2015-06-15"]
[null,null,null,null,null,null,"2015-06-16"]
[null,null,null,null,null,null,"2015-06-17"]
[null,null,null,null,null,null,"2015-06-18"]
[null,null,null,null,null,null,"2015-06-19"]
[null,null,null,null,null,null,"2015-06-20"]
[null,null,null,null,null,null,"2015-06-21"]
[null,null,null,null,null,null,"2015-06-22"]
[null,null,null,null,null,null,"2015-06-23"]
[null,null,null,null,null,null,"2015-06-24"]
[null,null,null,null,null,null,"2015-06-25"]
[null,null,null,null,null,null,"2015-06-26"]
[null,null,null,null,null,null,"2015-06-27"]
[null,null,null,null,null,null,"2015-06-28"]
[null,null,null,null,null,null,"2015-06-29"]
[null,null,null,null,null,null,"2015-06-30"]
[null,null,null,null,null,null,"2015-07-01"]
[null,null,null,null,null,null,"2015-07-02"]
[null,null,null,null,null,null,"2015-07-03"]
[null,null,null,null,null,null,"2015-07-04"]
[null,null,null,null,null,null,"2015-07-05"]
[null,null,null,null,null,null,"2015-07-06"]
[null,null,null,null,null,null,"2015-07-07"]
[null,null,null,null,null,null,"2015-07-08"]
[null,null,null,null,null,null,"2015-07-09"]
[null,null,null,null,null,null,"2015-07-10"]
[null,null,null,null,null,null,"2015-07-11"]
[null,null,null,null,null,null,"2015-07-12"]
[null,null,null,null,null,null,"2015-07-13"]
[null,null,null,null,null,null,"2015-07-14"]
[null,null,null,null,null,null,"2015-07-15"]
[null,null,null,null,null,null,"2015-07-16"]
[null,null,null,null,null,null,"2015-07-17"]
[null,null,null,null,null,null,"2015-07-18"]
[null,null,null,null,null,null,"2015-07-19"]
[null,null,null,null,null,null,"2015-07-20"]
[null,null,null,null,null,null,"2015-07-21"]
[null,null,null,null,null,null,"2015-07-22"]
[null,null,null,null,null,null,"2015-07-23"]
[null,null,null,null,null,null,"2015-07-24"]
[null,null,null,null,null,null,"2015-07-25"]
[null,null,null,null,null,null,"2015-07-26"]
[null,null,null,null,null,null,"2015-07-27"]
[null,null,null,null,null,null,"2015-07-28"]
[null,null,null,null,null,null,"2015-07-29"]
[null,null,null,null,null,null,"2015-07-30"]
[null,null,null,null,null,null,"2015-07-31"]
[null,null,null,null,null,null,"2015-08-01"]
[null,null,null,null,null,null,"2015-08-02"]
[null,null,null,null,null,null,"2015-08-03"]
[null,null,null,null,null,null,"2015-08-04"]
[null,null,null,null,null,null,"2015-08-05"]
[null,null,null,null,null,null,"2015-08-06"]
[null,null,null,null,null,null,"2015-08-07"]
[null,null,null,null,null,null,"2015-08-08"]
[null,null,null,null,null,null,{"$f":"G131+1","v":"2015-08-09"}]
[null,null,null,null,null,null,"2015-08-10"]
[null,null,null,null,null,null,"2015-08-11"]
[null,null,null,null,null,null,"2015-08-12"]
[null,null,null,null,null,null,"2015-08-13"]
[null,null,null,null,null,null,"2015-08-14"]
[null,null,null,null,null,null,"2015-08-15"]
[null,null,null,null,null,null,"2015-08-16"]
[null,null,null,null,null,null,"2015-08-17"]
[null,null,null,null,null,null,"2015-08-18"]
[null,null,null,null,null,null,"2015-08-19"]
[null,null,null,null,null,null,"2015-08-20"]
[null,null,null,null,null,null,"2015-08-21"]
[null,null,null,null,null,null,"2015-08-22"]
[null,null,null,null,null,null,"2015-08-23"]
[null,null,null,null,null,null,"2015-08-24"]
[null,null,null,null,null,null,"2015-08-25"]
[null,null,null,null,null,null,"2015-08-26"]
[null,null,null,null,null,null,"2015-08-27"]
[null,null,null,null,null,null,"2015-08-28"]
[null,null,null,null,null,null,"2015-08-29"]
[null,null,null,null,null,null,"2015-08-30"]
[null,null,null,null,null,null,"2015-08-31"]
[null,null,null,null,null,null,"2015-09-01"]
[null,null,null,null,null,null,"2015-09-02"]
[null,null,null,null,null,null,"2015-09-03"]
[null,null,null,null,null,null,"2015-09-04"]
[null,null,null,null,null,null,"2015-09-05"]
[null,null,null,null,null,null,"2015-09-06"]
[null,null,null,null,null,null,"2015-09-07"]
[null,null,null,null,null,null,"2015-09-08"]
[null,null,null,null,null,null,"2015-09-09"]
[null,null,null,null,null,null,"2015-09-10"]
[null,null,null,null,null,null,"2015-09-11"]
[null,null,null,null,null,null,"2015-09-12"]
[null,null,null,null,null,null,"2015-09-13"]
[null,null,null,null,null,null,"2015-09-14"]
[null,null,null,null,null,null,"2015-09-15"]
[null,null,null,null,null,null,"2015-09-16"]
[null,null,null,null,null,null,"2015-09-17"]
[null,null,null,null,null,null,"2015-09-18"]
[null,null,null,null,null,null,"2015-09-19"]
[null,null,null,null,null,null,"2015-09-20"]
[null,null,null,null,null,null,"2015-09-21"]
[null,null,null,null,null,null,"2015-09-22"]
[null,null,null,null,null,null,"2015-09-23"]
[null,null,null,null,null,null,"2015-09-24"]
[null,null,null,null,null,null,"2015-09-25"]
[null,null,null,null,null,null,"2015-09-26"]
[null,null,null,null,null,null,"2015-09-27"]
[null,null,null,null,null,null,"2015-09-28"]
[null,null,null,null,null,null,"2015-09-29"]
[null,null,null,null,null,null,"2015-09-30"]
[null,null,null,null,null,null,"2015-10-01"]
[null,null,null,null,null,null,"2015-10-02"]
[null,null,null,null,null,null,"2015-10-03"]
[null,null,null,null,null,null,"2015-10-04"]
[null,null,null,null,null,null,"2015-10-05"]
[null,null,null,null,null,null,"2015-10-06"]
[null,null,null,null,null,null,"2015-10-07"]
[null,null,null,null,null,null,"2015-10-08"]
[null,null,null,null,null,null,"2015-10-09"]
[null,null,null,null,null,null,"2015-10-10"]
[null,null,null,null,null,null,"2015-10-11"]
[null,null,null,null,null,null,{"$f":"G195+1","v":"2015-10-12"}]
[null,null,null,null,null,null,"2015-10-13"]
[null,null,null,null,null,null,"2015-10-14"]
[null,null,null,null,null,null,"2015-10-15"]
[null,null,null,null,null,null,"2015-10-16"]
[null,null,null,null,null,null,"2015-10-17"]
[null,null,null,null,null,null,"2015-10-18"]
[null,null,null,null,null,null,"2015-10-19"]
[null,null,null,null,null,null,"2015-10-20"]
[null,null,null,null,null,null,"2015-10-21"]
[null,null,null,null,null,null,"2015-10-22"]
[null,null,null,null,null,null,"2015-10-23"]
[null,null,null,null,null,null,"2015-10-24"]
[null,null,null,null,null,null,"2015-10-25"]
[null,null,null,null,null,null,"2015-10-26"]
[null,null,null,null,null,null,"2015-10-27"]
[null,null,null,null,null,null,"2015-10-28"]
[null,null,null,null,null,null,"2015-10-29"]
[null,null,null,null,null,null,"2015-10-30"]
[null,null,null,null,null,null,"2015-10-31"]
[null,null,null,null,null,null,"2015-11-01"]
[null,null,null,null,null,null,"2015-11-02"]
[null,null,null,null,null,null,"2015-11-03"]
[null,null,null,null,null,null,"2015-11-04"]
[null,null,null,null,null,null,"2015-11-05"]
[null,null,null,null,null,null,"2015-11-06"]
[null,null,null,null,null,null,"2015-11-07"]
[null,null,null,null,null,null,"2015-11-08"]
[null,null,null,null,null,null,"2015-11-09"]
[null,null,null,null,null,null,"2015-11-10"]
[null,null,null,null,null,null,"2015-11-11"]
[null,null,null,null,null,null,"2015-11-12"]
[null,null,null,null,null,null,"2015-11-13"]
[null,null,null,null,null,null,"2015-11-14"]
[null,null,null,null,null,null,"2015-11-15"]
[null,null,null,null,null,null,"2015-11-16"]
[null,null,null,null,null,null,"2015-11-17"]
[null,null,null,null,null,null,"2015-11-18"]
[null,null,null,null,null,null,"2015-11-19"]
[null,null,null,null,null,null,"2015-11-20"]
[null,null,null,null,null,null,"2015-11-21"]
[null,null,null,null,null,null,"2015-11-22"]
[null,null,null,null,null,null,"2015-11-23"]
[null,null,null,null,null,null,"2015-11-24"]
[null,null,null,null,null,null,"2015-11-25"]
[null,null,null,null,null,null,"2015-11-26"]
[null,null,null,null,null,null,"2015-11-27"]
[null,null,null,null,null,null,"2015-11-28"]
[null,null,null,null,null,null,"2015-11-29"]
[null,null,null,null,null,null,"2015-11-30"]
[null,null,null,null,null,null,"2015-12-01"]
[null,null,null,null,null,null,"2015-12-02"]
[null,null,null,null,null,null,"2015-12-03"]
[null,null,null,null,null,null,"2015-12-04"]
[null,null,null,null,null,null,"2015-12-05"]
[null,null,null,null,null,null,"2015-12-06"]
[null,null,null,null,null,null,"2015-12-07"]
[null,null,null,null,null,null,"2015-12-08"]
[null,null,null,null,null,null,"2015-12-09"]
[null,null,null,null,null,null,"2015-12-10"]
[null,null,null,null,null,null,"2015-12-11"]
[null,null,null,null,null,null,"2015-12-12"]
[null,null,null,null,null,null,"2015-12-13"]
[null,null,null,null,null,null,"2015-12-14"]
[null,null,null,null,null,null,{"$f":"G259+1","v":"2015-12-15"}]
[null,null,null,null,null,null,"2015-12-16"]
[null,null,null,null,null,null,"2015-12-17"]
[null,null,null,null,null,null,"2015-12-18"]
[null,null,null,null,null,null,"2015-12-19"]
[null,null,null,null,null,null,"2015-12-20"]
[null,null,null,null,null,null,"2015-12-21"]
[null,null,null,null,null,null,"2015-12-22"]
[null,null,null,null,null,null,"2015-12-23"]
[null,null,null,null,null,null,"2015-12-24"]
[null,null,null,null,null,null,"2015-12-25"]
[null,null,null,null,null,null,"2015-12-26"]
[null,null,null,null,null,null,"2015-12-27"]
[null,null,null,null,null,null,"2015-12-28"]
[null,null,null,null,null,null,"2015-12-29"]
[null,null,null,null,null,null,"2015-12-30"]
[null,null,null,null,null,null,"2015-12-31"]
[null,null,null,null,null,null,"2016-01-01"]
[null,null,null,null,null,null,"2016-01-02"]
[null,null,null,null,null,null,"2016-01-03"]
[null,null,null,null,null,null,"2016-01-04"]
[null,null,null,null,null,null,"2016-01-05"]
[null,null,null,null,null,null,"2016-01-06"]
[null,null,null,null,null,null,"2016-01-07"]
[null,null,null,null,null,null,"2016-01-08"]
[null,null,null,null,null,null,"2016-01-09"]
[null,null,null,null,null,null,"2016-01-10"]
[null,null,null,null,null,null,"2016-01-11"]
[null,null,null,null,null,null,"2016-01-12"]
[null,null,null,null,null,null,"2016-01-13"]
[null,null,null,null,null,null,"2016-01-14"]
[null,null,null,null,null,null,"2016-01-15"]
[null,null,null,null,null,null,"2016-01-16"]
[null,null,null,null,null,null,"2016-01-17"]
[null,null,null,null,null,null,"2016-01-18"]
[null,null,null,null,null,null,"2016-01-19"]
[null,null,null,null,null,null,"2016-01-20"]
[null,null,null,null,null,null,"2016-01-21"]
[null,null,null,null,null,null,"2016-01-22"]
[null,null,null,null,null,null,"2016-01-23"]
[null,null,null,null,null,null,"2016-01-24"]
[null,null,null,null,null,null,"2016-01-25"]
[null,null,null,null,null,null,"2016-01-26"]
[null,null,null,null,null,null,"2016-01-27"]
[null,null,null,null,null,null,"2016-01-28"]
[null,null,null,null,null,null,"2016-01-29"]
[null,null,null,null,null,null,"2016-01-30"]
[null,null,null,null,null,null,"2016-01-31"]
[null,null,null,null,null,null,"2016-02-01"]
[null,null,null,null,null,null,"2016-02-02"]
[null,null,null,null,null,null,"2016-02-03"]
[null,null,null,null,null,null,"2016-02-04"]
[null,null,null,null,null,null,"2016-02-05"]
[null,null,null,null,null,null,"2016-02-06"]
[null,null,null,null,null,null,"2016-02-07"]
[null,null,null,null,null,null,"2016-02-08"]
[null,null,null,null,null,null,"2016-02-09"]
[null,null,null,null,null,null,"2016-02-10"]
[null,null,null,null,null,null,"2016-02-11"]
[null,null,null,null,null,null,"2016-02-12"]
[null,null,null,null,null,null,"2016-02-13"]
[null,null,null,null,null,null,"2016-02-14"]
[null,null,null,null,null,null,"2016-02-15"]
[null,null,null,null,null,null,"2016-02-16"]
[null,null,null,null,null,null,{"$f":"G323+1","v":"2016-02-17"}]
[null,null,null,null,null,null,"2016-02-18"]
[null,null,null,null,null,null,"2016-02-19"]
[null,null,null,null,null,null,"2016-02-20"]
[null,null,null,null,null,null,"2016-02-21"]
[null,null,null,null,null,null,"2016-02-22"]
[null,null,null,null,null,null,"2016-02-23"]
[null,null,null,null,null,null,"2016-02-24"]
[null,null,null,null,null,null,"2016-02-25"]
[null,null,null,null,null,null,"2016-02-26"]
[null,null,null,null,null,null,"2016-02-27"]
[null,null,null,null,null,null,"2016-02-28"]
[null,null,null,null,null,null,"2016-02-29"]
[null,null,null,null,null,null,"2016-03-01"]
[null,null,null,null,null,null,"2016-03-02"]
[null,null,null,null,null,null,"2016-03-03"]
[null,null,null,null,null,null,"2016-03-04"]
[null,null,null,null,null,null,"2016-03-05"]
[null,null,null,null,null,null,"2016-03-06"]
[null,null,null,null,null,null,"2016-03-07"]
[null,null,null,null,null,null,"2016-03-08"]
[null,null,null,null,null,null,"2016-03-09"]
[null,null,null,null,null,null,"2016-03-10"]
[null,null,null,null,null,null,"2016-03-11"]
[null,null,null,null,null,null,"2016-03-12"]
[null,null,null,null,null,null,"2016-03-13"]
[null,null,null,null,null,null,"2016-03-14"]
[null,null,null,null,null,null,"2016-03-15"]
[null,null,null,null,null,null,"2016-03-16"]
[null,null,null,null,null,null,"2016-03-17"]
[null,null,null,null,null,null,"2016-03-18"]
[null,null,null,null,null,null,"2016-03-19"]
[null,null,null,null,null,null,"2016-03-20"]
[null,null,null,null,null,null,"2016-03-21"]
[null,null,null,null,null,null,"2016-03-22"]
[null,null,null,null,null,null,"2016-03-23"]
[null,null,null,null,null,null,"2016-03-24"]
[null,null,null,null,null,null,"2016-03-25"]
[null,null,null,null,null,null,"2016-03-26"]
[null,null,null,null,null,null,"2016-03-27"]
[null,null,null,null,null,null,"2016-03-28"]
[null,null,null,null,null,null,"2016-03-29"]
[null,null,null,null,null,null,"2016-03-30"]
[null,null,null,null,null,null,"2016-03-31"]
[null,null,null,null,null,null,"2016-04-01"]
[null,null,null,null,null,null,"2016-04-02"]
[null,null,null,null,null,null,"2016-04-03"]
[null,null,null,null,null,null,"2016-04-04"]
[null,null,null,null,null,null,"2016-04-05"]
[null,null,null,null,null,null,"2016-04-06"]
[null,null,null,null,null,null,"2016-04-07"]
[null,null,null,null,null,null,"2016-04-08"]
[null,null,null,null,null,null,"2016-04-09"]
[null,null,null,null,null,null,"2016-04-10"]
[null,null,null,null,null,null,"2016-04-11"]
[null,null,null,null,null,null,"2016-04-12"]
[null,null,null,null,null,null,"2016-04-13"]
[null,null,null,null,null,null,"2016-04-14"]
[null,null,null,null,null,null,"2016-04-15"]
[null,null,null,null,null,null,"2016-04-16"]
[null,null,null,null,null,null,"2016-04-17"]
[null,null,null,null,null,null,"2016-04-18"]
[null,null,null,null,null,null,"2016-04-19"]
[null,null,null,null,null,null,"2016-04-20"]
[null,null,null,null,null,null,{"$f":"G387+1","v":"2016-04-21"}]
[null,null,null,null,null,null,"2016-04-22"]
[null,null,null,null,null,null,"2016-04-23"]
[null,null,null,null,null,null,"2016-04-24"]
[null,null,null,null,null,null,"2016-04-25"]
[null,null,null,null,null,null,"2016-04-26"]
[null,null,null,null,null,null,"2016-04-27"]
[null,null,null,null,null,null,"2016-04-28"]
[null,null,null,null,null,null,"2016-04-29"]
[null,null,null,null,null,null,"2016-04-30"]
[null,null,null,null,null,null,"2016-05-01"]
[null,null,null,null,null,null,"2016-05-02"]
[null,null,null,null,null,null,"2016-05-03"]
[null,null,null,null,null,null,"2016-05-04"]
[null,null,null,null,null,null,"2016-05-05"]
[null,null,null,null,null,null,"2016-05-06"]
[null,null,null,null,null,null,"2016-05-07"]
[null,null,null,null,null,null,"2016-05-08"]
[null,null,null,null,null,null,"2016-05-09"]
[null,null,null,null,null,null,"2016-05-10"]
[null,null,null,null,null,null,"2016-05-11"]
[null,null,null,null,null,null,"2016-05-12"]
[null,null,null,null,null,null,"2016-05-13"]
[null,null,null,null,null,null,"2016-05-14"]
[null,null,null,null,null,null,"2016-05-15"]
[null,null,null,null,null,null,"2016-05-16"]
[null,null,null,null,null,null,"2016-05-17"]
[null,null,null,null,null,null,"2016-05-18"]
[null,null,null,null,null,null,"2016-05-19"]
[null,null,null,null,null,null,"2016-05-20"]
[null,null,null,null,null,null,"2016-05-21"]
[null,null,null,null,null,null,"2016-05-22"]
[null,null,null,null,null,null,"2016-05-23"]
[null,null,null,null,null,null,"2016-05-24"]
[null,null,null,null,null,null,"2016-05-25"]
[null,null,null,null,null,null,"2016-05-26"]
[null,null,null,null,null,null,"2016-05-27"]
[null,null,null,null,null,null,"2016-05-28"]
[null,null,null,null,null,null,"2016-05-29"]
[null,null,null,null,null,null,"2016-05-30"]
[null,null,null,null,null,null,"2016-05-31"]
[null,null,null,null,null,null,"2016-06-01"]
[null,null,null,null,null,null,"2016-06-02"]
[null,null,null,null,null,null,"2016-06-03"]
[null,null,null,null,null,null,"2016-06-04"]
[null,null,null,null,null,null,"2016-06-05"]
[null,null,null,null,null,null,"2016-06-06"]
[null,null,null,null,null,null,"2016-06-07"]
[null,null,null,null,null,null,"2016-06-08"]
[null,null,null,null,null,null,"2016-06-09"]
[null,null,null,null,null,null,"2016-06-10"]
[null,null,null,null,null,null,"2016-06-11"]
[null,null,null,null,null,null,"2016-06-12"]
[null,null,null,null,null,null,"2016-06-13"]
[null,null,null,null,null,null,"2016-06-14"]
[null,null,null,null,null,null,"2016-06-15"]
[null,null,null,null,null,null,"2016-06-16"]
[null,null,null,null,null,null,"2016-06-17"]
[null,null,null,null,null,null,"2016-06-18"]
[null,null,null,null,null,null,"2016-06-19"]
[null,null,null,null,null,null,"2016-06-20"]
[null,null,null,null,null,null,"2016-06-21"]
[null,null,null,null,null,null,"2016-06-22"]
[null,null,null,null,null,null,"2016-06-23"]
[null,null,null,null,null,null,{"$f":"G451+1","v":"2016-06-24"}]
[null,null,null,null,null,null,"2016-06-25"]
[null,null,null,null,null,null,"2016-06-26"]
[null,null,null,null,null,null,"2016-06-27"]
[null,null,null,null,null,null,"2016-06-28"]
[null,null,null,null,null,null,"2016-06-29"]
[null,null,null,null,null,null,"2016-06-30"]
[null,null,null,null,null,null,"2016-07-01"]
[null,null,null,null,null,null,"2016-07-02"]
[null,null,null,null,null,null,"2016-07-03"]
[null,null,null,null,null,null,"2016-07-04"]
[null,null,null,null,null,null,"2016-07-05"]
[null,null,null,null,null,null,"2016-07-06"]
[null,null,null,null,null,null,"2016-07-07"]
[null,null,null,null,null,null,"2016-07-08"]
[null,null,null,null,null,null,"2016-07-09"]
[null,null,null,null,null,null,"2016-07-10"]
[null,null,null,null,null,null,"2016-07-11"]
[null,null,null,null,null,null,"2016-07-12"]
[null,null,null,null,null,null,"2016-07-13"]
[null,null,null,null,null,null,"2016-07-14"]
[null,null,null,null,null,null,"2016-07-15"]
[null,null,null,null,null,null,"2016-07-16"]
[null,null,null,null,null,null,"2016-07-17"]
[null,null,null,null,null,null,"2016-07-18"]
[null,null,null,null,null,null,"2016-07-19"]
[null,null,null,null,null,null,"2016-07-20"]
[null,null,null,null,null,null,"2016-07-21"]
[null,null,null,null,null,null,"2016-07-22"]
[null,null,null,null,null,null,"2016-07-23"]
[null,null,null,null,null,null,"2016-07-24"]
[null,null,null,null,null,null,"2016-07-25"]
[null,null,null,null,null,null,"2016-07-26"]
[null,null,null,null,null,null,"2016-07-27"]
[null,null,null,null,null,null,"2016-07-28"]
[null,null,null,null,null,null,"2016-07-29"]
[null,null,null,null,null,null,"2016-07-30"]
[null,null,null,null,null,null,"2016-07-31"]
[null,null,null,null,null,null,"2016-08-01"]
[null,null,null,null,null,null,"2016-08-02"]
[null,null,null,null,null,null,"2016-08-03"]
[null,null,null,null,null,null,"2016-08-04"]
[null,null,null,null,null,null,"2016-08-05"]
[null,null,null,null,null,null,"2016-08-06"]
[null,null,null,null,null,null,"2016-08-07"]
[null,null,null,null,null,null,"2016-08-08"]
[null,null,null,null,null,null,"2016-08-09"]
[null,null,null,null,null,null,"2016-08-10"]
[null,null,null,null,null,null,"2016-08-11"]
[null,null,null,null,null,null,"2016-08-12"]
[null,null,null,null,null,null,"2016-08-13"]
[null,null,null,null,null,null,"2016-08-14"]
[null,null,null,null,null,null,"2016-08-15"]
[null,null,null,null,null,null,"2016-08-16"]
[null,null,null,null,null,null,"2016-08-17"]
[null,null,null,null,null,null,"2016-08-18"]
[null,null,null,null,null,null,"2016-08-19"]
[null,null,null,null,null,null,"2016-08-20"]
[null,null,null,null,null,null,"2016-08-21"]
[null,null,null,null,null,null,"2016-08-22"]
[null,null,null,null,null,null,"2016-08-23"]
[null,null,null,null,null,null,"2016-08-24"]
[null,null,null,null,null,null,"2016-08-25"]
[null,null,null,null,null,null,"2016-08-26"]
[null,null,null,null,null,null,{"$f":"G515+1","v":"2016-08-27"}]
[null,null,null,null,null,null,"2016-08-28"]
[null,null,null,null,null,null,"2016-08-29"]
[null,null,null,null,null,null,"2016-08-30"]
[null,null,null,null,null,null,"2016-08-31"]
[null,null,null,null,null,null,"2016-09-01"]
[null,null,null,null,null,null,"2016-09-02"]
[null,null,null,null,null,null,"2016-09-03"]
[null,null,null,null,null,null,"2016-09-04"]
[null,null,null,null,null,null,"2016-09-05"]
[null,null,null,null,null,null,"2016-09-06"]
[null,null,null,null,null,null,"2016-09-07"]
[null,null,null,null,null,null,"2016-09-08"]
[null,null,null,null,null,null,"2016-09-09"]
[null,null,null,null,null,null,"2016-09-10"]
[null,null,null,null,null,null,"2016-09-11"]
[null,null,null,null,null,null,"2016-09-12"]
[null,null,null,null,null,null,"2016-09-13"]
[null,null,null,null,null,null,"2016-09-14"]
[null,null,null,null,null,null,"2016-09-15"]
[null,null,null,null,null,null,"2016-09-16"]
[null,null,null,null,null,null,"2016-09-17"]
[null,null,null,null,null,null,"2016-09-18"]
[null,null,null,null,null,null,"2016-09-19"]
[null,null,null,null,null,null,"2016-09-20"]
[null,null,null,null,null,null,"2016-09-21"]
[null,null,null,null,null,null,"2016-09-22"]
[null,null,null,null,null,null,"2016-09-23"]
[null,null,null,null,null,null,"2016-09-24"]
[null,null,null,null,null,null,"2016-09-25"]
[null,null,null,null,null,null,"2016-09-26"]
[null,null,null,null,null,null,"2016-09-27"]
[null,null,null,null,null,null,"2016-09-28"]
[null,null,null,null,null,null,"2016-09-29"]
[null,null,null,null,null,null,"2016-09-30"]
[null,null,null,null,null,null,"2016-10-01"]
[null,null,null,null,null,null,"2016-10-02"]
[null,null,null,null,null,null,"2016-10-03"]
[null,null,null,null,null,null,"2016-10-04"]
[null,null,null,null,null,null,"2016-10-05"]
[null,null,null,null,null,null,"2016-10-06"]
[null,null,null,null,null,null,"2016-10-07"]
[null,null,null,null,null,null,"2016-10-08"]
[null,null,null,null,null,null,"2016-10-09"]
[null,null,null,null,null,null,"2016-10-10"]
[null,null,null,null,null,null,"2016-10-11"]
[null,null,null,null,null,null,"2016-10-12"]
[null,null,null,null,null,null,"2016-10-13"]
[null,null,null,null,null,null,"2016-10-14"]
[null,null,null,null,null,null,"2016-10-15"]
[null,null,null,null,null,null,"2016-10-16"]
[null,null,null,null,null,null,"2016-10-17"]
[null,null,null,null,null,null,"2016-10-18"]
[null,null,null,null,null,null,"2016-10-19"]
[null,null,null,null,null,null,"2016-10-20"]
[null,null,null,null,null,null,"2016-10-21"]
[null,null,null,null,null,null,"2016-10-22"]
[null,null,null,null,null,null,"2016-10-23"]
[null,null,null,null,null,null,"2016-10-24"]
[null,null,null,null,null,null,"2016-10-25"]
[null,null,null,null,null,null,"2016-10-26"]
[null,null,null,null,null,null,"2016-10-27"]
[null,null,null,null,null,null,"2016-10-28"]
[null,null,null,null,null,null,"2016-10-29"]
[null,null,null,null,null,null,{"$f":"G579+1","v":"2016-10-30"}]
[null,null,null,null,null,null,"2016-10-31"]
[null,null,null,null,null,null,"2016-11-01"]
[null,null,null,null,null,null,"2016-11-02"]
[null,null,null,null,null,null,"2016-11-03"]
[null,null,null,null,null,null,"2016-11-04"]
[null,null,null,null,null,null,"2016-11-05"]
[null,null,null,null,null,null,"2016-11-06"]
[null,null,null,null,null,null,"2016-11-07"]
[null,null,null,null,null,null,"2016-11-08"]
[null,null,null,null,null,null,"2016-11-09"]
[null,null,null,null,null,null,"2016-11-10"]
[null,null,null,null,null,null,"2016-11-11"]
[null,null,null,null,null,null,"2016-11-12"]
[null,null,null,null,null,null,"2016-11-13"]
[null,null,null,null,null,null,"2016-11-14"]
[null,null,null,null,null,null,"2016-11-15"]
[null,null,null,null,null,null,"2016-11-16"]
[null,null,null,null,null,null,"2016-11-17"]
[null,null,null,null,null,null,"2016-11-18"]
[null,null,null,null,null,null,"2016-11-19"]
[null,null,null,null,null,null,"2016-11-20"]
[null,null,null,null,null,null,"2016-11-21"]
[null,null,null,null,null,null,"2016-11-22"]
[null,null,null,null,null,null,"2016-11-23"]
[null,null,null,null,null,null,"2016-11-24"]
[null,null,null,null,null,null,"2016-11-25"]
[null,null,null,null,null,null,"2016-11-26"]
[null,null,null,null,null,null,"2016-11-27"]
[null,null,null,null,null,null,"2016-11-28"]
[null,null,null,null,null,null,"2016-11-29"]
[null,null,null,null,null,null,"2016-11-30"]
[null,null,null,null,null,null,"2016-12-01"]
[null,null,null,null,null,null,"2016-12-02"]
[null,null,null,null,null,null,"2016-12-03"]
[null,null,null,null,null,null,"2016-12-04"]
[null,null,null,null,null,null,"2016-12-05"]
[null,null,null,null,null,null,"2016-12-06"]
[null,null,null,null,null,null,"2016-12-07"]
[null,null,null,null,null,null,"2016-12-08"]
[null,null,null,null,null,null,"2016-12-09"]
[null,null,null,null,null,null,"2016-12-10"]
[null,null,null,null,null,null,"2016-12-11"]
[null,null,null,null,null,null,"2016-12-12"]
[null,null,null,null,null,null,"2016-12-13"]
[null,null,null,null,null,null,"2016-12-14"]
[null,null,null,null,null,null,"2016-12-15"]
[null,null,null,null,null,null,"2016-12-16"]
[null,null,null,null,null,null,"2016-12-17"]
[null,null,null,null,null,null,"2016-12-18"]
[null,null,null,null,null,null,"2016-12-19"]
[null,null,null,null,null,null,"2016-12-20"]
[null,null,null,null,null,null,"2016-12-21"]
[null,null,null,null,null,null,"2016-12-22"]
[null,null,null,null,null,null,"2016-12-23"]
[null,null,null,null,null,null,"2016-12-24"]
[null,null,null,null,null,null,"2016-12-25"]
[null,null,null,null,null,null,"2016-12-26"]
[null,null,null,null,null,null,"2016-12-27"]
[null,null,null,null,null,null,"2016-12-28"]
[null,null,null,null,null,null,"2016-12-29"]
[null,null,null,null,null,null,"2016-12-30"]
[null,null,null,null,null,null,"2016-12-31"]
[null,null,null,null,null,null,"2017-01-01"]
[null,null,null,null,null,null,{"$f":"G643+1","v":"2017-01-02"}]
[null,null,null,null,null,null,"2017-01-03"]
[null,null,null,null,null,null,"2017-01-04"]
[null,null,null,null,null,null,"2017-01-05"]
[null,null,null,null,null,null,"2017-01-06"]
[null,null,null,null,null,null,"2017-01-07"]
[null,null,null,null,null,null,"2017-01-08"]
[null,null,null,null,null,null,"2017-01-09"]
[null,null,null,null,null,null,"2017-01-10"]
[null,null,null,null,null,null,"2017-01-11"]
[null,null,null,null,null,null,"2017-01-12"]
[null,null,null,null,null,null,"2017-01-13"]
[null,null,null,null,null,null,"2017-01-14"]
[null,null,null,null,null,null,"2017-01-15"]
[null,null,null,null,null,null,"2017-01-16"]
[null,null,null,null,null,null,"2017-01-17"]
[null,null,null,null,null,null,"2017-01-18"]
[null,null,null,null,null,null,"2017-01-19"]
[null,null,null,null,null,null,"2017-01-20"]
[null,null,null,null,null,null,"2017-01-21"]
[null,null,null,null,null,null,"2017-01-22"]
[null,null,null,null,null,null,"2017-01-23"]
[null,null,null,null,null,null,"2017-01-24"]
[null,null,null,null,null,null,"2017-01-25"]
[null,null,null,null,null,null,"2017-01-26"]
[null,null,null,null,null,null,"2017-01-27"]
[null,null,null,null,null,null,"2017-01-28"]
[null,null,null,null,null,null,"2017-01-29"]
[null,null,null,null,null,null,"2017-01-30"]
[null,null,null,null,null,null,"2017-01-31"]
[null,null,null,null,null,null,"2017-02-01"]
[null,null,null,null,null,null,"2017-02-02"]
[null,null,null,null,null,null,"2017-02-03"]
[null,null,null,null,null,null,"2017-02-04"]
[null,null,null,null,null,null,"2017-02-05"]
[null,null,null,null,null,null,"2017-02-06"]
[null,null,null,null,null,null,"2017-02-07"]
[null,null,null,null,null,null,"2017-02-08"]
[null,null,null,null,null,null,"2017-02-09"]
[null,null,null,null,null,null,"2017-02-10"]
[null,null,null,null,null,null,"2017-02-11"]
[null,null,null,null,null,null,"2017-02-12"]
[null,null,null,null,null,null,"2017-02-13"]
[null,null,null,null,null,null,"2017-02-14"]
[null,null,null,null,null,null,"2017-02-15"]
[null,null,null,null,null,null,"2017-02-16"]
[null,null,null,null,null,null,"2017-02-17"]
[null,null,null,null,null,null,"2017-02-18"]
[null,null,null,null,null,null,"2017-02-19"]
[null,null,null,null,null,null,"2017-02-20"]
[null,null,null,null,null,null,"2017-02-21"]
[null,null,null,null,null,null,"2017-02-22"]
[null,null,null,null,null,null,"2017-02-23"]
[null,null,null,null,null,null,"2017-02-24"]
[null,null,null,null,null,null,"2017-02-25"]
[null,null,null,null,null,null,"2017-02-26"]
[null,null,null,null,null,null,"2017-02-27"]
[null,null,null,null,null,null,"2017-02-28"]
[null,null,null,null,null,null,"2017-03-01"]
[null,null,null,null,null,null,"2017-03-02"]
[null,null,null,null,null,null,"2017-03-03"]
[null,null,null,null,null,null,"2017-03-04"]
[null,null,null,null,null,null,"2017-03-05"]
[null,null,null,null,null,null,"2017-03-06"]
[null,null,null,null,null,null,{"$f":"G707+1","v":"2017-03-07"}]
[null,null,null,null,null,null,"2017-03-08"]
[null,null,null,null,null,null,"2017-03-09"]
[null,null,null,null,null,null,"2017-03-10"]
[null,null,null,null,null,null,"2017-03-11"]
[null,null,null,null,null,null,"2017-03-12"]
[null,null,null,null,null,null,"2017-03-13"]
[null,null,null,null,null,null,"2017-03-14"]
[null,null,null,null,null,null,"2017-03-15"]
[null,null,null,null,null,null,"2017-03-16"]
[null,null,null,null,null,null,"2017-03-17"]
[null,null,null,null,null,null,"2017-03-18"]
[null,null,null,null,null,null,"2017-03-19"]
[null,null,null,null,null,null,"2017-03-20"]
[null,null,null,null,null,null,"2017-03-21"]
[null,null,null,null,null,null,"2017-03-22"]
[null,null,null,null,null,null,"2017-03-23"]
[null,null,null,null,null,null,"2017-03-24"]
[null,null,null,null,null,null,"2017-03-25"]
[null,null,null,null,null,null,"2017-03-26"]
[null,null,null,null,null,null,"2017-03-27"]
[null,null,null,null,null,null,"2017-03-28"]
[null,null,null,null,null,null,"2017-03-29"]
[null,null,null,null,null,null,"2017-03-30"]
[null,null,null,null,null,null,"2017-03-31"]
[null,null,null,null,null,null,"2017-04-01"]
[null,null,null,null,null,null,"2017-04-02"]
[null,null,null,null,null,null,"2017-04-03"]
[null,null,null,null,null,null,"2017-04-04"]
[null,null,null,null,null,null,"2017-04-05"]
[null,null,null,null,null,null,"2017-04-06"]
[null,null,null,null,null,null,"2017-04-07"]
[null,null,null,null,null,null,"2017-04-08"]
[null,null,null,null,null,null,"2017-04-09"]
[null,null,null,null,null,null,"2017-04-10"]
[null,null,null,null,null,null,"2017-04-11"]
[null,null,null,null,null,null,"2017-04-12"]
[null,null,null,null,null,null,"2017-04-13"]
[null,null,null,null,null,null,"2017-04-14"]
[null,null,null,null,null,null,"2017-04-15"]
[null,null,null,null,null,null,"2017-04-16"]
[null,null,null,null,null,null,"2017-04-17"]
[null,null,null,null,null,null,"2017-04-18"]
[null,null,null,null,null,null,"2017-04-19"]
[null,null,null,null,null,null,"2017-04-20"]
[null,null,null,null,null,null,"2017-04-21"]
[null,null,null,null,null,null,"2017-04-22"]
[null,null,null,null,null,null,"2017-04-23"]
[null,null,null,null,null,null,"2017-04-24"]
[null,null,null,null,null,null,"2017-04-25"]
[null,null,null,null,null,null,"2017-04-26"]
[null,null,null,null,null,null,"2017-04-27"]
[null,null,null,null,null,null,"2017-04-28"]
[null,null,null,null,null,null,"2017-04-29"]
[null,null,null,null,null,null,"2017-04-30"]
[null,null,null,null,null,null,"2017-05-01"]
[null,null,null,null,null,null,"2017-05-02"]
[null,null,null,null,null,null,"2017-05-03"]
[null,null,null,null,null,null,"2017-05-04"]
[null,null,null,null,null,null,"2017-05-05"]
[null,null,null,null,null,null,"2017-05-06"]
[null,null,null,null,null,null,"2017-05-07"]
[null,null,null,null,null,null,"2017-05-08"]
[null,null,null,null,null,null,"2017-05-09"]
[null,null,null,null,null,null,{"$f":"G771+1","v":"2017-05-10"}]
[null,null,null,null,null,null,"2017-05-11"]
[null,null,null,null,null,null,"2017-05-12"]
[null,null,null,null,null,null,"2017-05-13"]
[null,null,null,null,null,null,"2017-05-14"]
[null,null,null,null,null,null,"2017-05-15"]
[null,null,null,null,null,null,"2017-05-16"]
[null,null,null,null,null,null,"2017-05-17"]
[null,null,null,null,null,null,"2017-05-18"]
[null,null,null,null,null,null,"2017-05-19"]
[null,null,null,null,null,null,"2017-05-20"]
[null,null,null,null,null,null,"2017-05-21"]
[null,null,null,null,null,null,"2017-05-22"]
[null,null,null,null,null,null,"2017-05-23"]
[null,null,null,null,null,null,"2017-05-24"]
[null,null,null,null,null,null,"2017-05-25"]
[null,null,null,null,null,null,"2017-05-26"]
[null,null,null,null,null,null,"2017-05-27"]
[null,null,null,null,null,null,"2017-05-28"]
[null,null,null,null,null,null,"2017-05-29"]
[null,null,null,null,null,null,"2017-05-30"]
[null,null,null,null,null,null,"2017-05-31"]
[null,null,null,null,null,null,"2017-06-01"]
[null,null,null,null,null,null,"2017-06-02"]
[null,null,null,null,null,null,"2017-06-03"]
[null,null,null,null,null,null,"2017-06-04"]
[null,null,null,null,null,null,"2017-06-05"]
[null,null,null,null,null,null,"2017-06-06"]
[null,null,null,null,null,null,"2017-06-07"]
[null,null,null,null,null,null,"2017-06-08"]
[null,null,null,null,null,null,"2017-06-09"]
[null,null,null,null,null,null,"2017-06-10"]
[null,null,null,null,null,null,"2017-06-11"]
[null,null,null,null,null,null,"2017-06-12"]
[null,null,null,null,null,null,"2017-06-13"]
[null,null,null,null,null,null,"2017-06-14"]
[null,null,null,null,null,null,"2017-06-15"]
[null,null,null,null,null,null,"2017-06-16"]
[null,null,null,null,null,null,"2017-06-17"]
[null,null,null,null,null,null,"2017-06-18"]
[null,null,null,null,null,null,"2017-06-19"]
[null,null,null,null,null,null,"2017-06-20"]
[null,null,null,null,null,null,"2017-06-21"]
[null,null,null,null,null,null,"2017-06-22"]
[null,null,null,null,null,null,"2017-06-23"]
[null,null,null,null,null,null,"2017-06-24"]
[null,null,null,null,null,null,"2017-06-25"]
[null,null,null,null,null,null,"2017-06-26"]
[null,null,null,null,null,null,"2017-06-27"]
[null,null,null,null,null,null,"2017-06-28"]
[null,null,null,null,null,null,"2017-06-29"]
[null,null,null,null,null,null,"2017-06-30"]
[null,null,null,null,null,null,"2017-07-01"]
[null,null,null,null,null,null,"2017-07-02"]
[null,null,null,null,null,null,"2017-07-03"]
[null,null,null,null,null,null,"2017-07-04"]
[null,null,null,null,null,null,"2017-07-05"]
[null,null,null,null,null,null,"2017-07-06"]
[null,null,null,null,null,null,"2017-07-07"]
[null,null,null,null,null,null,"2017-07-08"]
[null,null,null,null,null,null,"2017-07-09"]
[null,null,null,null,null,null,"2017-07-10"]
[null,null,null,null,null,null,"2017-07-11"]
[null,null,null,null,null,null,"2017-07-12"]
[null,null,null,null,null,null,{"$f":"G835+1","v":"2017-07-13"}]
[null,null,null,null,null,null,"2017-07-14"]
[null,null,null,null,null,null,"2017-07-15"]
[null,null,null,null,null,null,"2017-07-16"]
[null,null,null,null,null,null,"2017-07-17"]
[null,null,null,null,null,null,"2017-07-18"]
[null,null,null,null,null,null,"2017-07-19"]
[null,null,null,null,null,null,"2017-07-20"]
[null,null,null,null,null,null,"2017-07-21"]
[null,null,null,null,null,null,"2017-07-22"]
[null,null,null,null,null,null,"2017-07-23"]
[null,null,null,null,null,null,"2017-07-24"]
[null,null,null,null,null,null,"2017-07-25"]
[null,null,null,null,null,null,"2017-07-26"]
[null,null,null,null,null,null,"2017-07-27"]
[null,null,null,null,null,null,"2017-07-28"]
[null,null,null,null,null,null,"2017-07-29"]
[null,null,null,null,null,null,"2017-07-30"]
[null,null,null,null,null,null,"2017-07-31"]
[null,null,null,null,null,null,"2017-08-01"]
[null,null,null,null,null,null,"2017-08-02"]
[null,null,null,null,null,null,"2017-08-03"]
[null,null,null,null,null,null,"2017-08-04"]
[null,null,null,null,null,null,"2017-08-05"]
[null,null,null,null,null,null,"2017-08-06"]
[null,null,null,null,null,null,"2017-08-07"]
[null,null,null,null,null,null,"2017-08-08"]
[null,null,null,null,null,null,"2017-08-09"]
[null,null,null,null,null,null,"2017-08-10"]
[null,null,null,null,null,null,"2017-08-11"]
[null,null,null,null,null,null,"2017-08-12"]
[null,null,null,null,null,null,"2017-08-13"]
[null,null,null,null,null,null,"2017-08-14"]
[null,null,null,null,null,null,"2017-08-15"]
[null,null,null,null,null,null,"2017-08-16"]
[null,null,null,null,null,null,"2017-08-17"]
[null,null,null,null,null,null,"2017-08-18"]
[null,null,null,null,null,null,"2017-08-19"]
[null,null,null,null,null,null,"2017-08-20"]
[null,null,null,null,null,null,"2017-08-21"]
[null,null,null,null,null,null,"2017-08-22"]
[null,null,null,null,null,null,"2017-08-23"]
[null,null,null,null,null,null,"2017-08-24"]
[null,null,null,null,null,null,"2017-08-25"]
[null,null,null,null,null,null,"2017-08-26"]
[null,null,null,null,null,null,"2017-08-27"]
[null,null,null,null,null,null,"2017-08-28"]
[null,null,null,null,null,null,"2017-08-29"]
[null,null,null,null,null,null,"2017-08-30"]
[null,null,null,null,null,null,"2017-08-31"]
[null,null,null,null,null,null,"2017-09-01"]
[null,null,null,null,null,null,"2017-09-02"]
[null,null,null,null,null,null,"2017-09-03"]
[null,null,null,null,null,null,"2017-09-04"]
[null,null,null,null,null,null,"2017-09-05"]
[null,null,null,null,null,null,"2017-09-06"]
[null,null,null,null,null,null,"2017-09-07"]
[null,null,null,null,null,null,"2017-09-08"]
[null,null,null,null,null,null,"2017-09-09"]
[null,null,null,null,null,null,"2017-09-10"]
[null,null,null,null,null,null,"2017-09-11"]
[null,null,null,null,null,null,"2017-09-12"]
[null,null,null,null,null,null,"2017-09-13"]
[null,null,null,null,null,null,"2017-09-14"]
[null,null,null,null,null,null,{"$f":"G899+1","v":"2017-09-15"}]
[null,null,null,null,null,null,"2017-09-16"]
[null,null,null,null,null,null,"2017-09-17"]
[null,null,null,null,null,null,"2017-09-18"]
[null,null,null,null,null,null,"2017-09-19"]
[null,null,null,null,null,null,"2017-09-20"]
[null,null,null,null,null,null,"2017-09-21"]
[null,null,null,null,null,null,"2017-09-22"]
[null,null,null,null,null,null,"2017-09-23"]
[null,null,null,null,null,null,"2017-09-24"]
[null,null,null,null,null,null,"2017-09-25"]
[null,null,null,null,null,null,"2017-09-26"]
[null,null,null,null,null,null,"2017-09-27"]
[null,null,null,null,null,null,"2017-09-28"]
[null,null,null,null,null,null,"2017-09-29"]
[null,null,null,null,null,null,"2017-09-30"]
[null,null,null,null,null,null,"2017-10-01"]
[null,null,null,null,null,null,"2017-10-02"]
[null,null,null,null,null,null,"2017-10-03"]
[null,null,null,null,null,null,"2017-10-04"]
[null,null,null,null,null,null,"2017-10-05"]
[null,null,null,null,null,null,"2017-10-06"]
[null,null,null,null,null,null,"2017-10-07"]
[null,null,null,null,null,null,"2017-10-08"]
[null,null,null,null,null,null,"2017-10-09"]
[null,null,null,null,null,null,"2017-10-10"]
[null,null,null,null,null,null,"2017-10-11"]
[null,null,null,null,null,null,"2017-10-12"]
[null,null,null,null,null,null,"2017-10-13"]
[null,null,null,null,null,null,"2017-10-14"]
[null,null,null,null,null,null,"2017-10-15"]
[null,null,null,null,null,null,"2017-10-16"]
[null,null,null,null,null,null,"2017-10-17"]
[null,null,null,null,null,null,"2017-10-18"]
[null,null,null,null,null,null,"2017-10-19"]
[null,null,null,null,null,null,"2017-10-20"]
[null,null,null,null,null,null,"2017-10-21"]
[null,null,null,null,null,null,"2017-10-22"]
[null,null,null,null,null,null,"2017-10-23"]
[null,null,null,null,null,null,"2017-10-24"]
[null,null,null,null,null,null,"2017-10-25"]
[null,null,null,null,null,null,"2017-10-26"]
[null,null,null,null,null,null,"2017-10-27"]
[null,null,null,null,null,null,"2017-10-28"]
[null,null,null,null,null,null,"2017-10-29"]
[null,null,null,null,null,null,"2017-10-30"]
[null,null,null,null,null,null,"2017-10-31"]
[null,null,null,null,null,null,"2017-11-01"]
[null,null,null,null,null,null,"2017-11-02"]
[null,null,null,null,null,null,"2017-11-03"]
[null,null,null,null,null,null,"2017-11-04"]
[null,null,null,null,null,null,"2017-11-05"]
[null,null,null,null,null,null,"2017-11-06"]
[null,null,null,null,null,null,"2017-11-07"]
[null,null,null,null,null,null,"2017-11-08"]
[null,null,null,null,null,null,"2017-11-09"]
[null,null,null,null,null,null,"2017-11-10"]
[null,null,null,null,null,null,"2017-11-11"]
[null,null,null,null,null,null,"2017-11-12"]
[null,null,null,null,null,null,"2017-11-13"]
[null,null,null,null,null,null,"2017-11-14"]
[null,null,null,null,null,null,"2017-11-15"]
[null,null,null,null,null,null,"2017-11-16"]
[null,null,null,null,null,null,"2017-11-17"]
[null,null,null,null,null,null,{"$f":"G963+1","v":"2017-11-18"}]
[null,null,null,null,null,null,"2017-11-19"]
[null,null,null,null,null,null,"2017-11-20"]
[null,null,null,null,null,null,"2017-11-21"]
[null,null,null,null,null,null,"2017-11-22"]
[null,null,null,null,null,null,"2017-11-23"]
[null,null,null,null,null,null,"2017-11-24"]
[null,null,null,null,null,null,"2017-11-25"]
[null,null,null,null,null,null,"2017-11-26"]
[null,null,null,null,null,null,"2017-11-27"]
[null,null,null,null,null,null,"2017-11-28"]
[null,null,null,null,null,null,"2017-11-29"]
[null,null,null,null,null,null,"2017-11-30"]
[null,null,null,null,null,null,"2017-12-01"]
[null,null,null,null,null,null,"2017-12-02"]
[null,null,null,null,null,null,"2017-12-03"]
[null,null,null,null,null,null,"2017-12-04"]
[null,null,null,null,null,null,"2017-12-05"]
[null,null,null,null,null,null,"2017-12-06"]
[null,null,null,null,null,null,"2017-12-07"]
[null,null,null,null,null,null,"2017-12-08"]
[null,null,null,null,null,null,"2017-12-09"]
[null,null,null,null,null,null,"2017-12-10"]
[null,null,null,null,null,null,"2017-12-11"]
[null,null,null,null,null,null,"2017-12-12"]
[null,null,null,null,null,null,"2017-12-13"]
[null,null,null,null,null,null,"2017-12-14"]
[null,null,null,null,null,null,"2017-12-15"]
[null,null,null,null,null,null,"2017-12-16"]
[null,null,null,null,null,null,"2017-12-17"]
[null,null,null,null,null,null,"2017-12-18"]
[null,null,null,null,null,null,"2017-12-19"]
[null,null,null,null,null,null,"2017-12-20"]
[null,null,null,null,null,null,"2017-12-21"]
[null,null,null,null,null,null,"2017-12-22"]
[null,null,null,null,null,null,"2017-12-23"]
[null,null,null,null,null,null,"2017-12-24"]
[null,null,null,null,null,null,"2017-12-25"]
[null,null,null,null,null,null,"2017-12-26"]
[null,null,null,null,null,null,"2017-12-27"]
[null,null,null,null,null,null,"2017-12-28"]
[null,null,null,null,null,null,"2017-12-29"]
[null,null,null,null,null,null,"2017-12-30"]
[null,null,null,null,null,null,"2017-12-31"]
[null,null,null,null,null,null,"2018-01-01"]
[null,null,null,null,null,null,"2018-01-02"]
[null,null,null,null,null,null,"2018-01-03"]
[null,null,null,null,null,null,"2018-01-04"]
[null,null,null,null,null,null,"2018-01-05"]
[null,null,null,null,null,null,"2018-01-06"]
[null,null,null,null,null,null,"2018-01-07"]
[null,null,null,null,null,null,"2018-01-08"]
[null,null,null,null,null,null,"2018-01-09"]
[null,null,null,null,null,null,"2018-01-10"]
[null,null,null,null,null,null,"2018-01-11"]
[null,null,null,null,null,null,"2018-01-12"]
[null,null,null,null,null,null,"2018-01-13"]
[null,null,null,null,null,null,"2018-01-14"]
[null,null,null,null,null,null,"2018-01-15"]
[null,null,null,null,null,null,"2018-01-16"]
[null,null,null,null,null,null,"2018-01-17"]
[null,null,null,null,null,null,"2018-01-18"]
[null,null,null,null,null,null,"2018-01-19"]
[null,null,null,null,null,null,"2018-01-20"]
[null,null,null,null,null,null,{"$f":"G1027+1","v":"2018-01-21"}]
[null,null,null,null,null,null,"2018-01-22"]
[null,null,null,null,null,null,"2018-01-23"]
[null,null,null,null,null,null,"2018-01-24"]
[null,null,null,null,null,null,"2018-01-25"]
[null,null,null,null,null,null,"2018-01-26"]
[null,null,null,null,null,null,"2018-01-27"]
[null,null,null,null,null,null,"2018-01-28"]
[null,null,null,null,null,null,"2018-01-29"]
[null,null,null,null,null,null,"2018-01-30"]
[null,null,null,null,null,null,"2018-01-31"]
[null,null,null,null,null,null,"2018-02-01"]
[null,null,null,null,null,null,"2018-02-02"]
[null,null,null,null,null,null,"2018-02-03"]
[null,null,null,null,null,null,"2018-02-04"]
[null,null,null,null,null,null,"2018-02-05"]
[null,null,null,null,null,null,"2018-02-06"]
[null,null,null,null,null,null,"2018-02-07"]
[null,null,null,null,null,null,"2018-02-08"]
[null,null,null,null,null,null,"2018-02-09"]
[null,null,null,null,null,null,"2018-02-10"]
[null,null,null,null,null,null,"2018-02-11"]
[null,null,null,null,null,null,"2018-02-12"]
[null,null,null,null,null,null,"2018-02-13"]
[null,null,null,null,null,null,"2018-02-14"]
[null,null,null,null,null,null,"2018-02-15"]
[null,null,null,null,null,null,"2018-02-16"]
[null,null,null,null,null,null,"2018-02-17"]
[null,null,null,null,null,null,"2018-02-18"]
[null,null,null,null,null,null,"2018-02-19"]
[null,null,null,null,null,null,"2018-02-20"]
[null,null,null,null,null,null,"2018-02-21"]
[null,null,null,null,null,null,"2018-02-22"]
[null,null,null,null,null,null,"2018-02-23"]
[null,null,null,null,null,null,"2018-02-24"]
[null,null,null,null,null,null,"2018-02-25"]
[null,null,null,null,null,null,"2018-02-26"]
[null,null,null,null,null,null,"2018-02-27"]
[null,null,null,null,null,null,"2018-02-28"]
[null,null,null,null,null,null,"2018-03-01"]
[null,null,null,null,null,null,"2018-03-02"]
[null,null,null,null,null,null,"2018-03-03"]
[null,null,null,null,null,null,"2018-03-04"]
[null,null,null,null,null,null,"2018-03-05"]
[null,null,null,null,null,null,"2018-03-06"]
[null,null,null,null,null,null,"2018-03-07"]
[null,null,null,null,null,null,"2018-03-08"]
[null,null,null,null,null,null,"2018-03-09"]
[null,null,null,null,null,null,"2018-03-10"]
[null,null,null,null,null,null,"2018-03-11"]
[null,null,null,null,null,null,"2018-03-12"]
[null,null,null,null,null,null,"2018-03-13"]
[null,null,null,null,null,null,"2018-03-14"]
[null,null,null,null,null,null,"2018-03-15"]
[null,null,null,null,null,null,"2018-03-16"]
[null,null,null,null,null,null,"2018-03-17"]
[null,null,null,null,null,null,"2018-03-18"]
[null,null,null,null,null,null,"2018-03-19"]
[null,null,null,null,null,null,"2018-03-20"]
[null,null,null,null,null,null,"2018-03-21"]
[null,null,null,null,null,null,"2018-03-22"]
[null,null,null,null,null,null,"2018-03-23"]
[null,null,null,null,null,null,"2018-03-24"]
[null,null,null,null,null,null,"2018-03-25"]
[null,null,null,null,null,null,{"$f":"G1091+1","v":"2018-03-26"}]
[null,null,null,null,null,null,"2018-03-27"]
[null,null,null,null,null,null,"2018-03-28"]
[null,null,null,null,null,null,"2018-03-29"]
[null,null,null,null,null,null,"2018-03-30"]
[null,null,null,null,null,null,"2018-03-31"]
[null,null,null,null,null,null,"2018-04-01"]
[null,null,null,null,null,null,"2018-04-02"]
[null,null,null,null,null,null,"2018-04-03"]
[null,null,null,null,null,null,"2018-04-04"]
[null,null,null,null,null,null,"2018-04-05"]
[null,null,null,null,null,null,"2018-04-06"]
[null,null,null,null,null,null,"2018-04-07"]
[null,null,null,null,null,null,"2018-04-08"]
[null,null,null,null,null,null,"2018-04-09"]
[null,null,null,null,null,null,"2018-04-10"]
[null,null,null,null,null,null,"2018-04-11"]
[null,null,null,null,null,null,"2018-04-12"]
[null,null,null,null,null,null,"2018-04-13"]
[null,null,null,null,null,null,"2018-04-14"]
[null,null,null,null,null,null,"2018-04-15"]
[null,null,null,null,null,null,"2018-04-16"]
[null,null,null,null,null,null,"2018-04-17"]
[null,null,null,null,null,null,"2018-04-18"]
[null,null,null,null,null,null,"2018-04-19"]
[null,null,null,null,null,null,"2018-04-20"]
[null,null,null,null,null,null,"2018-04-21"]
[null,null,null,null,null,null,"2018-04-22"]
[null,null,null,null,null,null,"2018-04-23"]
[null,null,null,null,null,null,"2018-04-24"]
[null,null,null,null,null,null,"2018-04-25"]
[null,null,null,null,null,null,"2018-04-26"]
[null,null,null,null,null,null,"2018-04-27"]
[null,null,null,null,null,null,"2018-04-28"]
[null,null,null,null,null,null,"2018-04-29"]
[null,null,null,null,null,null,"2018-04-30"]
[null,null,null,null,null,null,"2018-05-01"]
[null,null,null,null,null,null,"2018-05-02"]
[null,null,null,null,null,null,"2018-05-03"]
[null,null,null,null,null,null,"2018-05-04"]
[null,null,null,null,null,null,"2018-05-05"]
[null,null,null,null,null,null,"2018-05-06"]
[null,null,null,null,null,null,"2018-05-07"]
[null,null,null,null,null,null,"2018-05-08"]
[null,null,null,null,null,null,"2018-05-09"]
[null,null,null,null,null,null,"2018-05-10"]
[null,null,null,null,null,null,"2018-05-11"]
[null,null,null,null,null,null,"2018-05-12"]
[null,null,null,null,null,null,"2018-05-13"]
[null,null,null,null,null,null,"2018-05-14"]
[null,null,null,null,null,null,"2018-05-15"]
[null,null,null,null,null,null,"2018-05-16"]
[null,null,null,null,null,null,"2018-05-17"]
[null,null,null,null,null,null,"2018-05-18"]
[null,null,null,null,null,null,"2018-05-19"]
[null,null,null,null,null,null,"2018-05-20"]
[null,null,null,null,null,null,"2018-05-21"]
[null,null,null,null,null,null,"2018-05-22"]
[null,null,null,null,null,null,"2018-05-23"]
[null,null,null,null,null,null,"2018-05-24"]
[null,null,null,null,null,null,"2018-05-25"]
[null,null,null,null,null,null,"2018-05-26"]
[null,null,null,null,null,null,"2018-05-27"]
[null,null,null,null,null,null,"2018-05-28"]
[null,null,null,null,null,null,{"$f":"G1155+1","v":"2018-05-29"}]
[null,null,null,null,null,null,"2018-05-30"]
[null,null,null,null,null,null,"2018-05-31"]
[null,null,null,null,null,null,"2018-06-01"]
[null,null,null,null,null,null,"2018-06-02"]
[null,null,null,null,null,null,"2018-06-03"]
[null,null,null,null,null,null,"2018-06-04"]
[null,null,null,null,null,null,"2018-06-05"]
[null,null,null,null,null,null,"2018-06-06"]
[null,null,null,null,null,null,"2018-06-07"]
[null,null,null,null,null,null,"2018-06-08"]
[null,null,null,null,null,null,"2018-06-09"]
[null,null,null,null,null,null,"2018-06-10"]
[null,null,null,null,null,null,"2018-06-11"]
[null,null,null,null,null,null,"2018-06-12"]
[null,null,null,null,null,null,"2018-06-13"]
[null,null,null,null,null,null,"2018-06-14"]
[null,null,null,null,null,null,"2018-06-15"]
[null,null,null,null,null,null,"2018-06-16"]
[null,null,null,null,null,null,"2018-06-17"]
[null,null,null,null,null,null,"2018-06-18"]
[null,null,null,null,null,null,"2018-06-19"]
[null,null,null,null,null,null,"2018-06-20"]
[null,null,null,null,null,null,"2018-06-21"]
[null,null,null,null,null,null,"2018-06-22"]
[null,null,null,null,null,null,"2018-06-23"]
[null,null,null,null,null,null,"2018-06-24"]
[null,null,null,null,null,null,"2018-06-25"]
[null,null,null,null,null,null,"2018-06-26"]
[null,null,null,null,null,null,"2018-06-27"]
[null,null,null,null,null,null,"2018-06-28"]
[null,null,null,null,null,null,"2018-06-29"]
[null,null,null,null,null,null,"2018-06-30"]
[null,null,null,null,null,null,"2018-07-01"]
[null,null,null,null,null,null,"2018-07-02"]
[null,null,null,null,null,null,"2018-07-03"]
[null,null,null,null,null,null,"2018-07-04"]
[null,null,null,null,null,null,"2018-07-05"]
[null,null,null,null,null,null,"2018-07-06"]
[null,null,null,null,null,null,"2018-07-07"]
[null,null,null,null,null,null,"2018-07-08"]
[null,null,null,null,null,null,"2018-07-09"]
[null,null,null,null,null,null,"2018-07-10"]
[null,null,null,null,null,null,"2018-07-11"]
[null,null,null,null,null,null,"2018-07-12"]
[null,null,null,null,null,null,"2018-07-13"]
[null,null,null,null,null,null,"2018-07-14"]
[null,null,null,null,null,null,"2018-07-15"]
[null,null,null,null,null,null,"2018-07-16"]
[null,null,null,null,null,null,"2018-07-17"]
[null,null,null,null,null,null,"2018-07-18"]
[null,null,null,null,null,null,"2018-07-19"]
[null,null,null,null,null,null,"2018-07-20"]
[null,null,null,null,null,null,"2018-07-21"]
[null,null,null,null,null,null,"2018-07-22"]
[null,null,null,null,null,null,"2018-07-23"]
[null,null,null,null,null,null,"2018-07-24"]
[null,null,null,null,null,null,"2018-07-25"]
[null,null,null,null,null,null,"2018-07-26"]
[null,null,null,null,null,null,"2018-07-27"]
[null,null,null,null,null,null,"2018-07-28"]
[null,null,null,null,null,null,"2018-07-29"]
[null,null,null,null,null,null,"2018-07-30"]
[null,null,null,null,null,null,"2018-07-31"]
[null,null,null,null,null,null,{"$f":"G1219+1","v":"2018-08-01"}]
[null,null,null,null,null,null,"2018-08-02"]
[null,null,null,null,null,null,"2018-08-03"]
[null,null,null,null,null,null,"2018-08-04"]
[null,null,null,null,null,null,"2018-08-05"]
[null,null,null,null,null,null,"2018-08-06"]
[null,null,null,null,null,null,"2018-08-07"]
[null,null,null,null,null,null,"2018-08-08"]
[null,null,null,null,null,null,"2018-08-09"]
[null,null,null,null,null,null,"2018-08-10"]
[null,null,null,null,null,null,"2018-08-11"]
[null,null,null,null,null,null,"2018-08-12"]
[null,null,null,null,null,null,"2018-08-13"]
[null,null,null,null,null,null,"2018-08-14"]
[null,null,null,null,null,null,"2018-08-15"]
[null,null,null,null,null,null,"2018-08-16"]
[null,null,null,null,null,null,"2018-08-17"]
[null,null,null,null,null,null,"2018-08-18"]
[null,null,null,null,null,null,"2018-08-19"]
[null,null,null,null,null,null,"2018-08-20"]
[null,null,null,null,null,null,"2018-08-21"]
[null,null,null,null,null,null,"2018-08-22"]
[null,null,null,null,null,null,"2018-08-23"]
[null,null,null,null,null,null,"2018-08-24"]
[null,null,null,null,null,null,"2018-08-25"]
[null,null,null,null,null,null,"2018-08-26"]
[null,null,null,null,null,null,"2018-08-27"]
[null,null,null,null,null,null,"2018-08-28"]
[null,null,null,null,null,null,"2018-08-29"]
[null,null,null,null,null,null,"2018-08-30"]
[null,null,null,null,null,null,"2018-08-31"]
[null,null,null,null,null,null,"2018-09-01"]
[null,null,null,null,null,null,"2018-09-02"]
[null,null,null,null,null,null,"2018-09-03"]
[null,null,null,null,null,null,"2018-09-04"]
[null,null,null,null,null,null,"2018-09-05"]
[null,null,null,null,null,null,"2018-09-06"]
[null,null,null,null,null,null,"2018-09-07"]
[null,null,null,null,null,null,"2018-09-08"]
[null,null,null,null,null,null,"2018-09-09"]
[null,null,null,null,null,null,"2018-09-10"]
[null,null,null,null,null,null,"2018-09-11"]
[null,null,null,null,null,null,"2018-09-12"]
[null,null,null,null,null,null,"2018-09-13"]
[null,null,null,null,null,null,"2018-09-14"]
[null,null,null,null,null,null,"2018-09-15"]
[null,null,null,null,null,null,"2018-09-16"]
[null,null,null,null,null,null,"2018-09-17"]
[null,null,null,null,null,null,"2018-09-18"]
[null,null,null,null,null,null,"2018-09-19"]
[null,null,null,null,null,null,"2018-09-20"]
[null,null,null,null,null,null,"2018-09-21"]
[null,null,null,null,null,null,"2018-09-22"]
[null,null,null,null,null,null,"2018-09-23"]
[null,null,null,null,null,null,"2018-09-24"]
[null,null,null,null,null,null,"2018-09-25"]
[null,null,null,null,null,null,"2018-09-26"]
[null,null,null,null,null,null,"2018-09-27"]
[null,null,null,null,null,null,"2018-09-28"]
[null,null,null,null,null,null,"2018-09-29"]
[null,null,null,null,null,null,"2018-09-30"]
[null,null,null,null,null,null,"2018-10-01"]
[null,null,null,null,null,null,"2018-10-02"]
[null,null,null,null,null,null,"2018-10-03"]
[null,null,null,null,null,null,{"$f":"G1283+1","v":"2018-10-04"}]
[null,null,null,null,null,null,"2018-10-05"]
[null,null,null,null,null,null,"2018-10-06"]
[null,null,null,null,null,null,"2018-10-07"]
[null,null,null,null,null,null,"2018-10-08"]
[null,null,null,null,null,null,"2018-10-09"]
[null,null,null,null,null,null,"2018-10-10"]
[null,null,null,null,null,null,"2018-10-11"]
[null,null,null,null,null,null,"2018-10-12"]
[null,null,null,null,null,null,"2018-10-13"]
[null,null,null,null,null,null,"2018-10-14"]
[null,null,null,null,null,null,"2018-10-15"]
[null,null,null,null,null,null,"2018-10-16"]
[null,null,null,null,null,null,"2018-10-17"]
[null,null,null,null,null,null,"2018-10-18"]
[null,null,null,null,null,null,"2018-10-19"]
[null,null,null,null,null,null,"2018-10-20"]
[null,null,null,null,null,null,"2018-10-21"]
[null,null,null,null,null,null,"2018-10-22"]
[null,null,null,null,null,null,"2018-10-23"]
[null,null,null,null,null,null,"2018-10-24"]
[null,null,null,null,null,null,"2018-10-25"]
[null,null,null,null,null,null,"2018-10-26"]
[null,null,null,null,null,null,"2018-10-27"]
[null,null,null,null,null,null,"2018-10-28"]
[null,null,null,null,null,null,"2018-10-29"]
[null,null,null,null,null,null,"2018-10-30"]
[null,null,null,null,null,null,"2018-10-31"]
[null,null,null,null,null,null,"2018-11-01"]
[null,null,null,null,null,null,"2018-11-02"]
[null,null,null,null,null,null,"2018-11-03"]
[null,null,null,null,null,null,"2018-11-04"]
[null,null,null,null,null,null,"2018-11-05"]
[null,null,null,null,null,null,"2018-11-06"]
[null,null,null,null,null,null,"2018-11-07"]
[null,null,null,null,null,null,"2018-11-08"]
[null,null,null,null,null,null,"2018-11-09"]
[null,null,null,null,null,null,"2018-11-10"]
[null,null,null,null,null,null,"2018-11-11"]
[null,null,null,null,null,null,"2018-11-12"]
[null,null,null,null,null,null,"2018-11-13"]
[null,null,null,null,null,null,"2018-11-14"]
[null,null,null,null,null,null,"2018-11-15"]
[null,null,null,null,null,null,"2018-11-16"]
[null,null,null,null,null,null,"2018-11-17"]
[null,null,null,null,null,null,"2018-11-18"]
[null,null,null,null,null,null,"2018-11-19"]
[null,null,null,null,null,null,"2018-11-20"]
[null,null,null,null,null,null,"2018-11-21"]
[null,null,null,null,null,null,"2018-11-22"]
[null,null,null,null,null,null,"2018-11-23"]
[null,null,null,null,null,null,"2018-11-24"]
[null,null,null,null,null,null,"2018-11-25"]
[null,null,null,null,null,null,"2018-11-26"]
[null,null,null,null,null,null,"2018-11-27"]
[null,null,null,null,null,null,"2018-11-28"]
[null,null,null,null,null,null,"2018-11-29"]
[null,null,null,null,null,null,"2018-11-30"]
[null,null,null,null,null,null,"2018-12-01"]
[null,null,null,null,null,null,"2018-12-02"]
[null,null,null,null,null,null,"2018-12-03"]
[null,null,null,null,null,null,"2018-12-04"]
[null,null,null,null,null,null,"2018-12-05"]
[null,null,null,null,null,null,"2018-12-06"]
[null,null,null,null,null,null,{"$f":"G1347+1","v":"2018-12-07"}]
[null,null,null,null,null,null,"2018-12-08"]
[null,null,null,null,null,null,"2018-12-09"]
[null,null,null,null,null,null,"2018-12-10"]
[null,null,null,null,null,null,"2018-12-11"]
[null,null,null,null,null,null,"2018-12-12"]
[null,null,null,null,null,null,"2018-12-13"]
[null,null,null,null,null,null,"2018-12-14"]
[null,null,null,null,null,null,"2018-12-15"]
[null,null,null,null,null,null,"2018-12-16"]
[null,null,null,null,null,null,"2018-12-17"]
[null,null,null,null,null,null,"2018-12-18"]
[null,null,null,null,null,null,"2018-12-19"]
[null,null,null,null,null,null,"2018-12-20"]
[null,null,null,null,null,null,"2018-12-21"]
[null,null,null,null,null,null,"2018-12-22"]
[null,null,null,null,null,null,"2018-12-23"]
[null,null,null,null,null,null,"2018-12-24"]
[null,null,null,null,null,null,"2018-12-25"]
[null,null,null,null,null,null,"2018-12-26"]
[null,null,null,null,null,null,"2018-12-27"]
[null,null,null,null,null,null,"2018-12-28"]
[null,null,null,null,null,null,"2018-12-29"]
[null,null,null,null,null,null,"2018-12-30"]
[null,null,null,null,null,null,"2018-12-31"]
[null,null,null,null,null,null,"2019-01-01"]
[null,null,null,null,null,null,"2019-01-02"]
[null,null,null,null,null,null,"2019-01-03"]
[null,null,null,null,null,null,"2019-01-04"]
[null,null,null,null,null,null,"2019-01-05"]
[null,null,null,null,null,null,"2019-01-06"]
[null,null,null,null,null,null,"2019-01-07"]
[null,null,null,null,null,null,"2019-01-08"]
[null,null,null,null,null,null,"2019-01-09"]
[null,null,null,null,null,null,"2019-01-10"]
[null,null,null,null,null,null,"2019-01-11"]
[null,null,null,null,null,null,"2019-01-12"]
[null,null,null,null,null,null,"2019-01-13"]
[null,null,null,null,null,null,"2019-01-14"]
[null,null,null,null,null,null,"2019-01-15"]
[null,null,null,null,null,null,"2019-01-16"]
[null,null,null,null,null,null,"2019-01-17"]
[null,null,null,null,null,null,"2019-01-18"]
[null,null,null,null,null,null,"2019-01-19"]
[null,null,null,null,null,null,"2019-01-20"]
[null,null,null,null,null,null,"2019-01-21"]
[null,null,null,null,null,null,"2019-01-22"]
[null,null,null,null,null,null,"2019-01-23"]
[null,null,null,null,null,null,"2019-01-24"]
[null,null,null,null,null,null,"2019-01-25"]
[null,null,null,null,null,null,"2019-01-26"]
[null,null,null,null,null,null,"2019-01-27"]
[null,null,null,null,null,null,"2019-01-28"]
[null,null,null,null,null,null,"2019-01-29"]
[null,null,null,null,null,null,"2019-01-30"]
[null,null,null,null,null,null,"2019-01-31"]
[null,null,null,null,null,null,"2019-02-01"]
[null,null,null,null,null,null,"2019-02-02"]
[null,null,null,null,null,null,"2019-02-03"]
[null,null,null,null,null,null,"2019-02-04"]
[null,null,null,null,null,null,"2019-02-05"]
[null,null,null,null,null,null,"2019-02-06"]
[null,null,null,null,null,null,"2019-02-07"]
[null,null,null,null,null,null,"2019-02-08"]
[null,null,null,null,null,null,{"$f":"G1411+1","v":"2019-02-09"}]
[null,null,null,null,null,null,"2019-02-10"]
[null,null,null,null,null,null,"2019-02-11"]
[null,null,null,null,null,null,"2019-02-12"]
[null,null,null,null,null,null,"2019-02-13"]
[null,null,null,null,null,null,"2019-02-14"]
[null,null,null,null,null,null,"2019-02-15"]
[null,null,null,null,null,null,"2019-02-16"]
[null,null,null,null,null,null,"2019-02-17"]
[null,null,null,null,null,null,"2019-02-18"]
[null,null,null,null,null,null,"2019-02-19"]
[null,null,null,null,null,null,"2019-02-20"]
[null,null,null,null,null,null,"2019-02-21"]
[null,null,null,null,null,null,"2019-02-22"]
[null,null,null,null,null,null,"2019-02-23"]
[null,null,null,null,null,null,"2019-02-24"]
[null,null,null,null,null,null,"2019-02-25"]
[null,null,null,null,null,null,"2019-02-26"]
[null,null,null,null,null,null,"2019-02-27"]
[null,null,null,null,null,null,"2019-02-28"]
[null,null,null,null,null,null,"2019-03-01"]
[null,null,null,null,null,null,"2019-03-02"]
[null,null,null,null,null,null,"2019-03-03"]
[null,null,null,null,null,null,"2019-03-04"]
[null,null,null,null,null,null,"2019-03-05"]
[null,null,null,null,null,null,"2019-03-06"]
[null,null,null,null,null,null,"2019-03-07"]
[null,null,null,null,null,null,"2019-03-08"]
[null,null,null,null,null,null,"2019-03-09"]
[null,null,null,null,null,null,"2019-03-10"]
[null,null,null,null,null,null,"2019-03-11"]
[null,null,null,null,null,null,"2019-03-12"]
[null,null,null,null,null,null,"2019-03-13"]
[null,null,null,null,null,null,"2019-03-14"]
[null,null,null,null,null,null,"2019-03-15"]
[null,null,null,null,null,null,"2019-03-16"]
[null,null,null,null,null,null,"2019-03-17"]
[null,null,null,null,null,null,"2019-03-18"]
[null,null,null,null,null,null,"2019-03-19"]
[null,null,null,null,null,null,"2019-03-20"]
[null,null,null,null,null,null,"2019-03-21"]
[null,null,null,null,null,null,"2019-03-22"]
[null,null,null,null,null,null,"2019-03-23"]
[null,null,null,null,null,null,"2019-03-24"]
[null,null,null,null,null,null,"2019-03-25"]
[null,null,null,null,null,null,"2019-03-26"]
[null,null,null,null,null,null,"2019-03-27"]
[null,null,null,null,null,null,"2019-03-28"]
[null,null,null,null,null,null,"2019-03-29"]
[null,null,null,null,null,null,"2019-03-30"]
[null,null,null,null,null,null,"2019-03-31"]
[null,null,null,null,null,null,"2019-04-01"]
[null,null,null,null,null,null,"2019-04-02"]
[null,null,null,null,null,null,"2019-04-03"]
[null,null,null,null,null,null,"2019-04-04"]
[null,null,null,null,null,null,"2019-04-05"]
[null,null,null,null,null,null,"2019-04-06"]
[null,null,null,null,null,null,"2019-04-07"]
[null,null,null,null,null,null,"2019-04-08"]
[null,null,null,null,null,null,"2019-04-09"]
[null,null,null,null,null,null,"2019-04-10"]
[null,null,null,null,null,null,"2019-04-11"]
[null,null,null,null,null,null,"2019-04-12"]
[null,null,null,null,null,null,"2019-04-13"]
[null,null,null,null,null,null,{"$f":"G1475+1","v":"2019-04-14"}]
[null,null,null,null,null,null,"2019-04-15"]
[null,null,null,null,null,null,"2019-04-16"]
[null,null,null,null,null,null,"2019-04-17"]
[null,null,null,null,null,null,"2019-04-18"]
[null,null,null,null,null,null,"2019-04-19"]
[null,null,null,null,null,null,"2019-04-20"]
[null,null,null,null,null,null,"2019-04-21"]
[null,null,null,null,null,null,"2019-04-22"]
[null,null,null,null,null,null,"2019-04-23"]
[null,null,null,null,null,null,"2019-04-24"]
[null,null,null,null,null,null,"2019-04-25"]
[null,null,null,null,null,null,"2019-04-26"]
[null,null,null,null,null,null,"2019-04-27"]
[null,null,null,null,null,null,"2019-04-28"]
[null,null,null,null,null,null,"2019-04-29"]
[null,null,null,null,null,null,"2019-04-30"]
[null,null,null,null,null,null,"2019-05-01"]
[null,null,null,null,null,null,"2019-05-02"]
[null,null,null,null,null,null,"2019-05-03"]
[null,null,null,null,null,null,"2019-05-04"]
[null,null,null,null,null,null,"2019-05-05"]
[null,null,null,null,null,null,"2019-05-06"]
[null,null,null,null,null,null,"2019-05-07"]
[null,null,null,null,null,null,"2019-05-08"]
[null,null,null,null,null,null,"2019-05-09"]
[null,null,null,null,null,null,"2019-05-10"]
[null,null,null,null,null,null,"2019-05-11"]
[null,null,null,null,null,null,"2019-05-12"]
[null,null,null,null,null,null,"2019-05-13"]
[null,null,null,null,null,null,"2019-05-14"]
[null,null,null,null,null,null,"2019-05-15"]
[null,null,null,null,null,null,"2019-05-16"]
[null,null,null,null,null,null,"2019-05-17"]
[null,null,null,null,null,null,"2019-05-18"]
[null,null,null,null,null,null,"2019-05-19"]
[null,null,null,null,null,null,"2019-05-20"]
[null,null,null,null,null,null,"2019-05-21"]
[null,null,null,null,null,null,"2019-05-22"]
[null,null,null,null,null,null,"2019-05-23"]
[null,null,null,null,null,null,"2019-05-24"]
[null,null,null,null,null,null,"2019-05-25"]
[null,null,null,null,null,null,"2019-05-26"]
[null,null,null,null,null,null,"2019-05-27"]
[null,null,null,null,null,null,"2019-05-28"]
[null,null,null,null,null,null,"2019-05-29"]
[null,null,null,null,null,null,"2019-05-30"]
[null,null,null,null,null,null,"2019-05-31"]
[null,null,null,null,null,null,"2019-06-01"]
[null,null,null,null,null,null,"2019-06-02"]
[null,null,null,null,null,null,"2019-06-03"]
[null,null,null,null,null,null,"2019-06-04"]
[null,null,null,null,null,null,"2019-06-05"]
[null,null,null,null,null,null,"2019-06-06"]
[null,null,null,null,null,null,"2019-06-07"]
[null,null,null,null,null,null,"2019-06-08"]
[null,null,null,null,null,null,"2019-06-09"]
[null,null,null,null,null,null,"2019-06-10"]
[null,null,null,null,null,null,"2019-06-11"]
[null,null,null,null,null,null,"2019-06-12"]
[null,null,null,null,null,null,"2019-06-13"]
[null,null,null,null,null,null,"2019-06-14"]
[null,null,null,null,null,null,"2019-06-15"]
[null,null,null,null,null,null,"2019-06-16"]
[null,null,null,null,null,null,{"$f":"G1539+1","v":"2019-06-17"}]
[null,null,null,null,null,null,"2019-06-18"]
[null,null,null,null,null,null,"2019-06-19"]
[null,null,null,null,null,null,"2019-06-20"]
[null,null,null,null,null,null,"2019-06-21"]
[null,null,null,null,null,null,"2019-06-22"]
[null,null,null,null,null,null,"2019-06-23"]
[null,null,null,null,null,null,"2019-06-24"]
[null,null,null,null,null,null,"2019-06-25"]
[null,null,null,null,null,null,"2019-06-26"]
[null,null,null,null,null,null,"2019-06-27"]
[null,null,null,null,null,null,"2019-06-28"]
[null,null,null,null,null,null,"2019-06-29"]
[null,null,null,null,null,null,"2019-06-30"]
[null,null,null,null,null,null,"2019-07-01"]
[null,null,null,null,null,null,"2019-07-02"]
[null,null,null,null,null,null,"2019-07-03"]
[null,null,null,null,null,null,"2019-07-04"]
[null,null,null,null,null,null,"2019-07-05"]
[null,null,null,null,null,null,"2019-07-06"]
[null,null,null,null,null,null,"2019-07-07"]
[null,null,null,null,null,null,"2019-07-08"]
[null,null,null,null,null,null,"2019-07-09"]
[null,null,null,null,null,null,"2019-07-10"]
[null,null,null,null,null,null,"2019-07-11"]
[null,null,null,null,null,null,"2019-07-12"]
[null,null,null,null,null,null,"2019-07-13"]
[null,null,null,null,null,null,"2019-07-14"]
[null,null,null,null,null,null,"2019-07-15"]
[null,null,null,null,null,null,"2019-07-16"]
[null,null,null,null,null,null,"2019-07-17"]
[null,null,null,null,null,null,"2019-07-18"]
[null,null,null,null,null,null,"2019-07-19"]
[null,null,null,null,null,null,"2019-07-20"]
[null,null,null,null,null,null,"2019-07-21"]
[null,null,null,null,null,null,"2019-07-22"]
[null,null,null,null,null,null,"2019-07-23"]
[null,null,null,null,null,null,"2019-07-24"]
[null,null,null,null,null,null,"2019-07-25"]
[null,null,null,null,null,null,"2019-07-26"]
[null,null,null,null,null,null,"2019-07-27"]
[null,null,null,null,null,null,"2019-07-28"]
[null,null,null,null,null,null,"2019-07-29"]
[null,null,null,null,null,null,"2019-07-30"]
[null,null,null,null,null,null,"2019-07-31"]
[null,null,null,null,null,null,"2019-08-01"]
[null,null,null,null,null,null,"2019-08-02"]
[null,null,null,null,null,null,"2019-08-03"]
[null,null,null,null,null,null,"2019-08-04"]
[null,null,null,null,null,null,"2019-08-05"]
[null,null,null,null,null,null,"2019-08-06"]
[null,null,null,null,null,null,"2019-08-07"]
[null,null,null,null,null,null,"2019-08-08"]
[null,null,null,null,null,null,"2019-08-09"]
[null,null,null,null,null,null,"2019-08-10"]
[null,null,null,null,null,null,"2019-08-11"]
[null,null,null,null,null,null,"2019-08-12"]
[null,null,null,null,null,null,"2019-08-13"]
[null,null,null,null,null,null,"2019-08-14"]
[null,null,null,null,null,null,"2019-08-15"]
[null,null,null,null,null,null,"2019-08-16"]
[null,null,null,null,null,null,"2019-08-17"]
[null,null,null,null,null,null,"2019-08-18"]
[null,null,null,null,null,null,"2019-08-19"]
[null,null,null,null,null,null,{"$f":"G1603+1","v":"2019-08-20"}]
[null,null,null,null,null,null,"2019-08-21"]
[null,null,null,null,null,null,"2019-08-22"]
[null,null,null,null,null,null,"2019-08-23"]
[null,null,null,null,null,null,"2019-08-24"]
[null,null,null,null,null,null,"2019-08-25"]
[null,null,null,null,null,null,"2019-08-26"]
[null,null,null,null,null,null,"2019-08-27"]
[null,null,null,null,null,null,"2019-08-28"]
[null,null,null,null,null,null,"2019-08-29"]
[null,null,null,null,null,null,"2019-08-30"]
[null,null,null,null,null,null,"2019-08-31"]
[null,null,null,null,null,null,"2019-09-01"]
[null,null,null,null,null,null,"2019-09-02"]
[null,null,null,null,null,null,"2019-09-03"]
[null,null,null,null,null,null,"2019-09-04"]
[null,null,null,null,null,null,"2019-09-05"]
[null,null,null,null,null,null,"2019-09-06"]
[null,null,null,null,null,null,"2019-09-07"]
[null,null,null,null,null,null,"2019-09-08"]
[null,null,null,null,null,null,"2019-09-09"]
[null,null,null,null,null,null,"2019-09-10"]
[null,null,null,null,null,null,"2019-09-11"]
[null,null,null,null,null,null,"2019-09-12"]
[null,null,null,null,null,null,"2019-09-13"]
[null,null,null,null,null,null,"2019-09-14"]
[null,null,null,null,null,null,"2019-09-15"]
[null,null,null,null,null,null,"2019-09-16"]
[null,null,null,null,null,null,"2019-09-17"]
[null,null,null,null,null,null,"2019-09-18"]
[null,null,null,null,null,null,"2019-09-19"]
[null,null,null,null,null,null,"2019-09-20"]
[null,null,null,null,null,null,"2019-09-21"]
[null,null,null,null,null,null,"2019-09-22"]
[null,null,null,null,null,null,"2019-09-23"]
[null,null,null,null,null,null,"2019-09-24"]
[null,null,null,null,null,null,"2019-09-25"]
[null,null,null,null,null,null,"2019-09-26"]
[null,null,null,null,null,null,"2019-09-27"]
[null,null,null,null,null,null,"2019-09-28"]
[null,null,null,null,null,null,"2019-09-29"]
[null,null,null,null,null,null,"2019-09-30"]
[null,null,null,null,null,null,"2019-10-01"]
[null,null,null,null,null,null,"2019-10-02"]
[null,null,null,null,null,null,"2019-10-03"]
[null,null,null,null,null,null,"2019-10-04"]
[null,null,null,null,null,null,"2019-10-05"]
[null,null,null,null,null,null,"2019-10-06"]
[null,null,null,null,null,null,"2019-10-07"]
[null,null,null,null,null,null,"2019-10-08"]
[null,null,null,null,null,null,"2019-10-09"]
[null,null,null,null,null,null,"2019-10-10"]
[null,null,null,null,null,null,"2019-10-11"]
[null,null,null,null,null,null,"2019-10-12"]
[null,null,null,null,null,null,"2019-10-13"]
[null,null,null,null,null,null,"2019-10-14"]
[null,null,null,null,null,null,"2019-10-15"]
[null,null,null,null,null,null,"2019-10-16"]
[null,null,null,null,null,null,"2019-10-17"]
[null,null,null,null,null,null,"2019-10-18"]
[null,null,null,null,null,null,"2019-10-19"]
[null,null,null,null,null,null,"2019-10-20"]
[null,null,null,null,null,null,"2019-10-21"]
[null,null,null,null,null,null,"2019-10-22"]
[null,null,null,null,null,null,{"$f":"G1667+1","v":"2019-10-23"}]
[null,null,null,null,null,null,"2019-10-24"]
[null,null,null,null,null,null,"2019-10-25"]
[null,null,null,null,null,null,"2019-10-26"]
[null,null,null,null,null,null,"2019-10-27"]
[null,null,null,null,null,null,"2019-10-28"]
[null,null,null,null,null,null,"2019-10-29"]
[null,null,null,null,null,null,"2019-10-30"]
[null,null,null,null,null,null,"2019-10-31"]
[null,null,null,null,null,null,"2019-11-01"]
[null,null,null,null,null,null,"2019-11-02"]
[null,null,null,null,null,null,"2019-11-03"]
[null,null,null,null,null,null,"2019-11-04"]
[null,null,null,null,null,null,"2019-11-05"]
[null,null,null,null,null,null,"2019-11-06"]
[null,null,null,null,null,null,"2019-11-07"]
[null,null,null,null,null,null,"2019-11-08"]
[null,null,null,null,null,null,"2019-11-09"]
[null,null,null,null,null,null,"2019-11-10"]
[null,null,null,null,null,null,"2019-11-11"]
[null,null,null,null,null,null,"2019-11-12"]
[null,null,null,null,null,null,"2019-11-13"]
[null,null,null,null,null,null,"2019-11-14"]
[null,null,null,null,null,null,"2019-11-15"]
[null,null,null,null,null,null,"2019-11-16"]
[null,null,null,null,null,null,"2019-11-17"]
[null,null,null,null,null,null,"2019-11-18"]
[null,null,null,null,null,null,"2019-11-19"]
[null,null,null,null,null,null,"2019-11-20"]
[null,null,null,null,null,null,"2019-11-21"]
[null,null,null,null,null,null,"2019-11-22"]
[null,null,null,null,null,null,"2019-11-23"]
[null,null,null,null,null,null,"2019-11-24"]
[null,null,null,null,null,null,"2019-11-25"]
[null,null,null,null,null,null,"2019-11-26"]
[null,null,null,null,null,null,"2019-11-27"]
[null,null,null,null,null,null,"2019-11-28"]
[null,null,null,null,null,null,"2019-11-29"]
[null,null,null,null,null,null,"2019-11-30"]
[null,null,null,null,null,null,"2019-12-01"]
[null,null,null,null,null,null,"2019-12-02"]
[null,null,null,null,null,null,"2019-12-03"]
[null,null,null,null,null,null,"2019-12-04"]
[null,null,null,null,null,null,"2019-12-05"]
[null,null,null,null,null,null,"2019-12-06"]
[null,null,null,null,null,null,"2019-12-07"]
[null,null,null,null,null,null,"2019-12-08"]
[null,null,null,null,null,null,"2019-12-09"]
[null,null,null,null,null,null,"2019-12-10"]
[null,null,null,null,null,null,"2019-12-11"]
[null,null,null,null,null,null,"2019-12-12"]
[null,null,null,null,null,null,"2019-12-13"]
[null,null,null,null,null,null,"2019-12-14"]
[null,null,null,null,null,null,"2019-12-15"]
[null,null,null,null,null,null,"2019-12-16"]
[null,null,null,null,null,null,"2019-12-17"]
[null,null,null,null,null,null,"2019-12-18"]
[null,null,null,null,null,null,"2019-12-19"]
[null,null,null,null,null,null,"2019-12-20"]
[null,null,null,null,null,null,"2019-12-21"]
[null,null,null,null,null,null,"2019-12-22"]
[null,null,null,null,null,null,"2019-12-23"]
[null,null,null,null,null,null,"2019-12-24"]
[null,null,null,null,null,null,"2019-12-25"]
[null,null,null,null,null,null,{"$f":"G1731+1","v":"2019-12-26"}]
[null,null,null,null,null,null,"2019-12-27"]
[null,null,null,null,null,null,"2019-12-28"]
[null,null,null,null,null,null,"2019-12-29"]
[null,null,null,null,null,null,"2019-12-30"]
[null,null,null,null,null,null,"2019-12-31"]
[null,null,null,null,null,null,"2020-01-01"]
[null,null,null,null,null,null,"2020-01-02"]
[null,null,null,null,null,null,"2020-01-03"]
[null,null,null,null,null,null,"2020-01-04"]
[null,null,null,null,null,null,"2020-01-05"]
[null,null,null,null,null,null,"2020-01-06"]
[null,null,null,null,null,null,"2020-01-07"]
[null,null,null,null,null,null,"2020-01-08"]
[null,null,null,null,null,null,"2020-01-09"]
[null,null,null,null,null,null,"2020-01-10"]
[null,null,null,null,null,null,"2020-01-11"]
[null,null,null,null,null,null,"2020-01-12"]
[null,null,null,null,null,null,"2020-01-13"]
[null,null,null,null,null,null,"2020-01-14"]
[null,null,null,null,null,null,"2020-01-15"]
[null,null,null,null,null,null,"2020-01-16"]
[null,null,null,null,null,null,"2020-01-17"]
[null,null,null,null,null,null,"2020-01-18"]
[null,null,null,null,null,null,"2020-01-19"]
[null,null,null,null,null,null,"2020-01-20"]
[null,null,null,null,null,null,"2020-01-21"]
[null,null,null,null,null,null,"2020-01-22"]
[null,null,null,null,null,null,"2020-01-23"]
[null,null,null,null,null,null,"2020-01-24"]
[null,null,null,null,null,null,"2020-01-25"]
[null,null,null,null,null,null,"2020-01-26"]
[null,null,null,null,null,null,"2020-01-27"]
[null,null,null,null,null,null,"2020-01-28"]
[null,null,null,null,null,null,"2020-01-29"]
[null,null,null,null,null,null,"2020-01-30"]
[null,null,null,null,null,null,"2020-01-31"]
[null,null,null,null,null,null,"2020-02-01"]
[null,null,null,null,null,null,"2020-02-02"]
[null,null,null,null,null,null,"2020-02-03"]
[null,null,null,null,null,null,"2020-02-04"]
[null,null,null,null,null,null,"2020-02-05"]
[null,null,null,null,null,null,"2020-02-06"]
[null,null,null,null,null,null,"2020-02-07"]
[null,null,null,null,null,null,"2020-02-08"]
[null,null,null,null,null,null,"2020-02-09"]
[null,null,null,null,null,null,"2020-02-10"]
[null,null,null,null,null,null,"2020-02-11"]
[null,null,null,null,null,null,"2020-02-12"]
[null,null,null,null,null,null,"2020-02-13"]
[null,null,null,null,null,null,"2020-02-14"]
[null,null,null,null,null,null,"2020-02-15"]
[null,null,null,null,null,null,"2020-02-16"]
[null,null,null,null,null,null,"2020-02-17"]
[null,null,null,null,null,null,"2020-02-18"]
[null,null,null,null,null,null,"2020-02-19"]
[null,null,null,null,null,null,"2020-02-20"]
[null,null,null,null,null,null,"2020-02-21"]
[null,null,null,null,null,null,"2020-02-22"]
[null,null,null,null,null,null,"2020-02-23"]
[null,null,null,null,null,null,"2020-02-24"]
[null,null,null,null,null,null,"2020-02-25"]
[null,null,null,null,null,null,"2020-02-26"]
[null,null,null,null,null,null,"2020-02-27"]
[null,null,null,null,null,null,{"$f":"G1795+1","v":"2020-02-28"}]
[null,null,null,null,null,null,"2020-02-29"]
[null,null,null,null,null,null,"2020-03-01"]
[null,null,null,null,null,null,"2020-03-02"]
[null,null,null,null,null,null,"2020-03-03"]
[null,null,null,null,null,null,"2020-03-04"]
[null,null,null,null,null,null,"2020-03-05"]
[null,null,null,null,null,null,"2020-03-06"]
[null,null,null,null,null,null,"2020-03-07"]
[null,null,null,null,null,null,"2020-03-08"]
[null,null,null,null,null,null,"2020-03-09"]
[null,null,null,null,null,null,"2020-03-10"]
[null,null,null,null,null,null,"2020-03-11"]
[null,null,null,null,null,null,"2020-03-12"]
[null,null,null,null,null,null,"2020-03-13"]
[null,null,null,null,null,null,"2020-03-14"]
[null,null,null,null,null,null,"2020-03-15"]
[null,null,null,null,null,null,"2020-03-16"]
[null,null,null,null,null,null,"2020-03-17"]
[null,null,null,null,null,null,"2020-03-18"]
[null,null,null,null,null,null,"2020-03-19"]
[null,null,null,null,null,null,"2020-03-20"]
[null,null,null,null,null,null,"2020-03-21"]
[null,null,null,null,null,null,"2020-03-22"]
[null,null,null,null,null,null,"2020-03-23"]
[null,null,null,null,null,null,"2020-03-24"]
[null,null,null,null,null,null,"2020-03-25"]
[null,null,null,null,null,null,"2020-03-26"]
[null,null,null,null,null,null,"2020-03-27"]
[null,null,null,null,null,null,"2020-03-28"]
[null,null,null,null,null,null,"2020-03-29"]
[null,null,null,null,null,null,"2020-03-30"]
[null,null,null,null,null,null,"2020-03-31"]
[null,null,null,null,null,null,"2020-04-01"]
[null,null,null,null,null,null,"2020-04-02"]
[null,null,null,null,null,null,"2020-04-03"]
[null,null,null,null,null,null,"2020-04-04"]
[null,null,null,null,null,null,"2020-04-05"]
[null,null,null,null,null,null,"2020-04-06"]
[null,null,null,null,null,null,"2020-04-07"]
[null,null,null,null,null,null,"2020-04-08"]
[null,null,null,null,null,null,"2020-04-09"]
[null,null,null,null,null,null,"2020-04-10"]
[null,null,null,null,null,null,"2020-04-11"]
[null,null,null,null,null,null,"2020-04-12"]
[null,null,null,null,null,null,"2020-04-13"]
[null,null,null,null,null,null,"2020-04-14"]
[null,null,null,null,null,null,"2020-04-15"]
[null,null,null,null,null,null,"2020-04-16"]
[null,null,null,null,null,null,"2020-04-17"]
[null,null,null,null,null,null,"2020-04-18"]
[null,null,null,null,null,null,"2020-04-19"]
[null,null,null,null,null,null,"2020-04-20"]
[null,null,null,null,null,null,"2020-04-21"]
[null,null,null,null,null,null,"2020-04-22"]
[null,null,null,null,null,null,"2020-04-23"]
[null,null,null,null,null,null,"2020-04-24"]
[null,null,null,null,null,null,"2020-04-25"]
[null,null,null,null,null,null,"2020-04-26"]
[null,null,null,null,null,null,"2020-04-27"]
[null,null,null,null,null,null,"2020-04-28"]
[null,null,null,null,null,null,"2020-04-29"]
[null,null,null,null,null,null,"2020-04-30"]
[null,null,null,null,null,null,"2020-05-01"]
[null,null,null,null,null,null,{"$f":"G1859+1","v":"2020-05-02"}]
[null,null,null,null,null,null,"2020-05-03"]
[null,null,null,null,null,null,"2020-05-04"]
[null,null,null,null,null,null,"2020-05-05"]
[null,null,null,null,null,null,"2020-05-06"]
[null,null,null,null,null,null,"2020-05-07"]
[null,null,null,null,null,null,"2020-05-08"]
[null,null,null,null,null,null,"2020-05-09"]
[null,null,null,null,null,null,"2020-05-10"]
[null,null,null,null,null,null,"2020-05-11"]
[null,null,null,null,null,null,"2020-05-12"]
[null,null,null,null,null,null,"2020-05-13"]
[null,null,null,null,null,null,"2020-05-14"]
[null,null,null,null,null,null,"2020-05-15"]
[null,null,null,null,null,null,"2020-05-16"]
[null,null,null,null,null,null,"2020-05-17"]
[null,null,null,null,null,null,"2020-05-18"]
[null,null,null,null,null,null,"2020-05-19"]
[null,null,null,null,null,null,"2020-05-20"]
[null,null,null,null,null,null,"2020-05-21"]
[null,null,null,null,null,null,"2020-05-22"]
[null,null,null,null,null,null,"2020-05-23"]
[null,null,null,null,null,null,"2020-05-24"]
[null,null,null,null,null,null,"2020-05-25"]
[null,null,null,null,null,null,"2020-05-26"]
[null,null,null,null,null,null,"2020-05-27"]
[null,null,null,null,null,null,"2020-05-28"]
[null,null,null,null,null,null,"2020-05-29"]
[null,null,null,null,null,null,"2020-05-30"]
[null,null,null,null,null,null,"2020-05-31"]
[null,null,null,null,null,null,"2020-06-01"]
[null,null,null,null,null,null,"2020-06-02"]
[null,null,null,null,null,null,"2020-06-03"]
[null,null,null,null,null,null,"2020-06-04"]
[null,null,null,null,null,null,"2020-06-05"]
[null,null,null,null,null,null,"2020-06-06"]
[null,null,null,null,null,null,"2020-06-07"]
[null,null,null,null,null,null,"2020-06-08"]
[null,null,null,null,null,null,"2020-06-09"]
[null,null,null,null,null,null,"2020-06-10"]
[null,null,null,null,null,null,"2020-06-11"]
[null,null,null,null,null,null,"2020-06-12"]
[null,null,null,null,null,null,"2020-06-13"]
[null,null,null,null,null,null,"2020-06-14"]
[null,null,null,null,null,null,"2020-06-15"]
[null,null,null,null,null,null,"2020-06-16"]
[null,null,null,null,null,null,"2020-06-17"]
[null,null,null,null,null,null,"2020-06-18"]
[null,null,null,null,null,null,"2020-06-19"]
[null,null,null,null,null,null,"2020-06-20"]
[null,null,null,null,null,null,"2020-06-21"]
[null,null,null,null,null,null,"2020-06-22"]
[null,null,null,null,null,null,"2020-06-23"]
[null,null,null,null,null,null,"2020-06-24"]
[null,null,null,null,null,null,"2020-06-25"]
[null,null,null,null,null,null,"2020-06-26"]
[null,null,null,null,null,null,"2020-06-27"]
[null,null,null,null,null,null,"2020-06-28"]
[null,null,null,null,null,null,"2020-06-29"]
[null,null,null,null,null,null,"2020-06-30"]
[null,null,null,null,null,null,"2020-07-01"]
[null,null,null,null,null,null,"2020-07-02"]
[null,null,null,null,null,null,"2020-07-03"]
[null,null,null,null,null,null,"2020-07-04"]
[null,null,null,null,null,null,{"$f":"G1923+1","v":"2020-07-05"}]
[null,null,null,null,null,null,"2020-07-06"]
[null,null,null,null,null,null,"2020-07-07"]
[null,null,null,null,null,null,"2020-07-08"]
[null,null,null,null,null,null,"2020-07-09"]
[null,null,null,null,null,null,"2020-07-10"]
[null,null,null,null,null,null,"2020-07-11"]
[null,null,null,null,null,null,"2020-07-12"]
[null,null,null,null,null,null,"2020-07-13"]
[null,null,null,null,null,null,"2020-07-14"]
[null,null,null,null,null,null,"2020-07-15"]
[null,null,null,null,null,null,"2020-07-16"]
[null,null,null,null,null,null,"2020-07-17"]
[null,null,null,null,null,null,"2020-07-18"]
[null,null,null,null,null,null,"2020-07-19"]
[null,null,null,null,null,null,"2020-07-20"]
[null,null,null,null,null,null,"2020-07-21"]
[null,null,null,null,null,null,"2020-07-22"]
[null,null,null,null,null,null,"2020-07-23"]
[null,null,null,null,null,null,"2020-07-24"]
[null,null,null,null,null,null,"2020-07-25"]
[null,null,null,null,null,null,"2020-07-26"]
[null,null,null,null,null,null,"2020-07-27"]
[null,null,null,null,null,null,"2020-07-28"]
[null,null,null,null,null,null,"2020-07-29"]
[null,null,null,null,null,null,"2020-07-30"]
[null,null,null,null,null,null,"2020-07-31"]
[null,null,null,null,null,null,"2020-08-01"]
[null,null,null,null,null,null,"2020-08-02"]
[null,null,null,null,null,null,"2020-08-03"]
[null,null,null,null,null,null,"2020-08-04"]
[null,null,null,null,null,null,"2020-08-05"]
[null,null,null,null,null,null,"2020-08-06"]
[null,null,null,null,null,null,"2020-08-07"]
[null,null,null,null,null,null,"2020-08-08"]
[null,null,null,null,null,null,"2020-08-09"]
[null,null,null,null,null,null,"2020-08-10"]
[null,null,null,null,null,null,"2020-08-11"]
[null,null,null,null,null,null,"2020-08-12"]
[null,null,null,null,null,null,"2020-08-13"]
[null,null,null,null,null,null,"2020-08-14"]
[null,null,null,null,null,null,"2020-08-15"]
[null,null,null,null,null,null,"2020-08-16"]
[null,null,null,null,null,null,"2020-08-17"]
[null,null,null,null,null,null,"2020-08-18"]
[null,null,null,null,null,null,"2020-08-19"]
[null,null,null,null,null,null,"2020-08-20"]
[null,null,null,null,null,null,"2020-08-21"]
[null,null,null,null,null,null,"2020-08-22"]
[null,null,null,null,null,null,"2020-08-23"]
[null,null,null,null,null,null,"2020-08-24"]
[null,null,null,null,null,null,"2020-08-25"]
[null,null,null,null,null,null,"2020-08-26"]
[null,null,null,null,null,null,"2020-08-27"]
[null,null,null,null,null,null,"2020-08-28"]
[null,null,null,null,null,null,"2020-08-29"]
[null,null,null,null,null,null,"2020-08-30"]
[null,null,null,null,null,null,"2020-08-31"]
[null,null,null,null,null,null,"2020-09-01"]
[null,null,null,null,null,null,"2020-09-02"]
[null,null,null,null,null,null,"2020-09-03"]
[null,null,null,null,null,null,"2020-09-04"]
[null,null,null,null,null,null,"2020-09-05"]
[null,null,null,null,null,null,"2020-09-06"]
[null,null,null,null,null,null,{"$f":"G1987+1","v":"2020-09-07"}]
[null,null,null,null,null,null,"2020-09-08"]
[null,null,null,null,null,null,"2020-09-09"]
[null,null,null,null,null,null,"2020-09-10"]
[null,null,null,null,null,null,"2020-09-11"]
[null,null,null,null,null,null,"2020-09-12"]
[null,null,null,null,null,null,"2020-09-13"]
[null,null,null,null,null,null,"2020-09-14"]
[null,null,null,null,null,null,"2020-09-15"]
[null,null,null,null,null,null,"2020-09-16"]
[null,null,null,null,null,null,"2020-09-17"]
[null,null,null,null,null,null,"2020-09-18"]
[null,null,null,null,null,null,"2020-09-19"]
[null,null,null,null,null,null,"2020-09-20"]
[null,null,null,null,null,null,"2020-09-21"]
[null,null,null,null,null,null,"2020-09-22"]
[null,null,null,null,null,null,"2020-09-23"]
[null,null,null,null,null,null,"2020-09-24"]
[null,null,null,null,null,null,"2020-09-25"]
[null,null,null,null,null,null,"2020-09-26"]
[null,null,null,null,null,null,"2020-09-27"]
[null,null,null,null,null,null,"2020-09-28"]
[null,null,null,null,null,null,"2020-09-29"]
[null,null,null,null,null,null,"2020-09-30"]
[null,null,null,null,null,null,"2020-10-01"]
[null,null,null,null,null,null,"2020-10-02"]
[null,null,null,null,null,null,"2020-10-03"]
[null,null,null,null,null,null,"2020-10-04"]
[null,null,null,null,null,null,"2020-10-05"]
[null,null,null,null,null,null,"2020-10-06"]
[null,null,null,null,null,null,"2020-10-07"]
[null,null,null,null,null,null,"2020-10-08"]
[null,null,null,null,null,null,"2020-10-09"]
[null,null,null,null,null,null,"2020-10-10"]
[null,null,null,null,null,null,"2020-10-11"]
[null,null,null,null,null,null,"2020-10-12"]
[null,null,null,null,null,null,"2020-10-13"]
[null,null,null,null,null,null,"2020-10-14"]
[null,null,null,null,null,null,"2020-10-15"]
[null,null,null,null,null,null,"2020-10-16"]
[null,null,null,null,null,null,"2020-10-17"]
[null,null,null,null,null,null,"2020-10-18"]
[null,null,null,null,null,null,"2020-10-19"]
[null,null,null,null,null,null,"2020-10-20"]
[null,null,null,null,null,null,"2020-10-21"]
[null,null,null,null,null,null,"2020-10-22"]
[null,null,null,null,null,null,"2020-10-23"]
[null,null,null,null,null,null,"2020-10-24"]
[null,null,null,null,null,null,"2020-10-25"]
[null,null,null,null,null,null,"2020-10-26"]
[null,null,null,null,null,null,"2020-10-27"]
[null,null,null,null,null,null,"2020-10-28"]
[null,null,null,null,null,null,"2020-10-29"]
[null,null,null,null,null,null,"2020-10-30"]
[null,null,null,null,null,null,"2020-10-31"]
[null,null,null,null,null,null,"2020-11-01"]
[null,null,null,null,null,null,"2020-11-02"]
[null,null,null,null,null,null,"2020-11-03"]
[null,null,null,null,null,null,"2020-11-04"]
[null,null,null,null,null,null,"2020-11-05"]
[null,null,null,null,null,null,"2020-11-06"]
[null,null,null,null,null,null,"2020-11-07"]
[null,null,null,null,null,null,"2020-11-08"]
[null,null,null,null,null,null,"2020-11-09"]
[null,null,null,null,null,null,{"$f":"G2051+1","v":"2020-11-10"}]
[null,null,null,null,null,null,"2020-11-11"]
[null,null,null,null,null,null,"2020-11-12"]
[null,null,null,null,null,null,"2020-11-13"]
[null,null,null,null,null,null,"2020-11-14"]
[null,null,null,null,null,null,"2020-11-15"]
[null,null,null,null,null,null,"2020-11-16"]
[null,null,null,null,null,null,"2020-11-17"]
[null,null,null,null,null,null,"2020-11-18"]
[null,null,null,null,null,null,"2020-11-19"]
[null,null,null,null,null,null,"2020-11-20"]
[null,null,null,null,null,null,"2020-11-21"]
[null,null,null,null,null,null,"2020-11-22"]
[null,null,null,null,null,null,"2020-11-23"]
[null,null,null,null,null,null,"2020-11-24"]
[null,null,null,null,null,null,"2020-11-25"]
[null,null,null,null,null,null,"2020-11-26"]
[null,null,null,null,null,null,"2020-11-27"]
[null,null,null,null,null,null,"2020-11-28"]
[null,null,null,null,null,null,"2020-11-29"]
[null,null,null,null,null,null,"2020-11-30"]
[null,null,null,null,null,null,"2020-12-01"]
[null,null,null,null,null,null,"2020-12-02"]
[null,null,null,null,null,null,"2020-12-03"]
[null,null,null,null,null,null,"2020-12-04"]
[null,null,null,null,null,null,"2020-12-05"]
[null,null,null,null,null,null,"2020-12-06"]
[null,null,null,null,null,null,"2020-12-07"]
[null,null,null,null,null,null,"2020-12-08"]
[null,null,null,null,null,null,"2020-12-09"]
[null,null,null,null,null,null,"2020-12-10"]
[null,null,null,null,null,null,"2020-12-11"]
[null,null,null,null,null,null,"2020-12-12"]
[null,null,null,null,null,null,"2020-12-13"]
[null,null,null,null,null,null,"2020-12-14"]
[null,null,null,null,null,null,"2020-12-15"]
[null,null,null,null,null,null,"2020-12-16"]
[null,null,null,null,null,null,"2020-12-17"]
[null,null,null,null,null,null,"2020-12-18"]
[null,null,null,null,null,null,"2020-12-19"]
[null,null,null,null,null,null,"2020-12-20"]
[null,null,null,null,null,null,"2020-12-21"]
[null,null,null,null,null,null,"2020-12-22"]
[null,null,null,null,null,null,"2020-12-23"]
[null,null,null,null,null,null,"2020-12-24"]
[null,null,null,null,null,null,"2020-12-25"]
[null,null,null,null,null,null,"2020-12-26"]
[null,null,null,null,null,null,"2020-12-27"]
[null,null,null,null,null,null,"2020-12-28"]
[null,null,null,null,null,null,"2020-12-29"]
[null,null,null,null,null,null,"2020-12-30"]
[null,null,null,null,null,null,"2020-12-31"]
[null,null,null,null,null,null,"2021-01-01"]
[null,null,null,null,null,null,"2021-01-02"]
[null,null,null,null,null,null,"2021-01-03"]
[null,null,null,null,null,null,"2021-01-04"]
[null,null,null,null,null,null,"2021-01-05"]
[null,null,null,null,null,null,"2021-01-06"]
[null,null,null,null,null,null,"2021-01-07"]
[null,null,null,null,null,null,"2021-01-08"]
[null,null,null,null,null,null,"2021-01-09"]
[null,null,null,null,null,null,"2021-01-10"]
[null,null,null,null,null,null,"2021-01-11"]
[null,null,null,null,null,null,"2021-01-12"]
[null,null,null,null,null,null,{"$f":"G2115+1","v":"2021-01-13"}]
[null,null,null,null,null,null,"2021-01-14"]
[null,null,null,null,null,null,"2021-01-15"]
[null,null,null,null,null,null,"2021-01-16"]
[null,null,null,null,null,null,"2021-01-17"]
[null,null,null,null,null,null,"2021-01-18"]
[null,null,null,null,null,null,"2021-01-19"]
[null,null,null,null,null,null,"2021-01-20"]
[null,null,null,null,null,null,"2021-01-21"]
[null,null,null,null,null,null,"2021-01-22"]
[null,null,null,null,null,null,"2021-01-23"]
[null,null,null,null,null,null,"2021-01-24"]
[null,null,null,null,null,null,"2021-01-25"]
[null,null,null,null,null,null,"2021-01-26"]
[null,null,null,null,null,null,"2021-01-27"]
[null,null,null,null,null,null,"2021-01-28"]
[null,null,null,null,null,null,"2021-01-29"]
[null,null,null,null,null,null,"2021-01-30"]
[null,null,null,null,null,null,"2021-01-31"]
[null,null,null,null,null,null,"2021-02-01"]
[null,null,null,null,null,null,"2021-02-02"]
[null,null,null,null,null,null,"2021-02-03"]
[null,null,null,null,null,null,"2021-02-04"]
[null,null,null,null,null,null,"2021-02-05"]
[null,null,null,null,null,null,"2021-02-06"]
[null,null,null,null,null,null,"2021-02-07"]
[null,null,null,null,null,null,"2021-02-08"]
[null,null,null,null,null,null,"2021-02-09"]
[null,null,null,null,null,null,"2021-02-10"]
[null,null,null,null,null,null,"2021-02-11"]
[null,null,null,null,null,null,"2021-02-12"]
[null,null,null,null,null,null,"2021-02-13"]
[null,null,null,null,null,null,"2021-02-14"]
[null,null,null,null,null,null,"2021-02-15"]
[null,null,null,null,null,null,"2021-02-16"]
[null,null,null,null,null,null,"2021-02-17"]
[null,null,null,null,null,null,"2021-02-18"]
[null,null,null,null,null,null,"2021-02-19"]
[null,null,null,null,null,null,"2021-02-20"]
[null,null,null,null,null,null,"2021-02-21"]
[null,null,null,null,null,null,"2021-02-22"]
[null,null,null,null,null,null,"2021-02-23"]
[null,null,null,null,null,null,"2021-02-24"]
[null,null,null,null,null,null,"2021-02-25"]
[null,null,null,null,null,null,"2021-02-26"]
[null,null,null,null,null,null,"2021-02-27"]
[null,null,null,null,null,null,"2021-02-28"]
[null,null,null,null,null,null,"2021-03-01"]
[null,null,null,null,null,null,"2021-03-02"]
[null,null,null,null,null,null,"2021-03-03"]
[null,null,null,null,null,null,"2021-03-04"]
[null,null,null,null,null,null,"2021-03-05"]
[null,null,null,null,null,null,"2021-03-06"]
[null,null,null,null,null,null,"2021-03-07"]
[null,null,null,null,null,null,"2021-03-08"]
[null,null,null,null,null,null,"2021-03-09"]
[null,null,null,null,null,null,"2021-03-10"]
[null,null,null,null,null,null,"2021-03-11"]
[null,null,null,null,null,null,"2021-03-12"]
[null,null,null,null,null,null,"2021-03-13"]
[null,null,null,null,null,null,"2021-03-14"]
[null,null,null,null,null,null,"2021-03-15"]
[null,null,null,null,null,null,"2021-03-16"]
[null,null,null,null,null,null,"2021-03-17"]
[null,null,null,null,null,null,{"$f":"G2179+1","v":"2021-03-18"}]
[null,null,null,null,null,null,"2021-03-19"]
[null,null,null,null,null,null,"2021-03-20"]
[null,null,null,null,null,null,"2021-03-21"]
[null,null,null,null,null,null,"2021-03-22"]
[null,null,null,null,null,null,"2021-03-23"]
[null,null,null,null,null,null,"2021-03-24"]
[null,null,null,null,null,null,"2021-03-25"]
[null,null,null,null,null,null,"2021-03-26"]
[null,null,null,null,null,null,"2021-03-27"]
[null,null,null,null,null,null,"2021-03-28"]
[null,null,null,null,null,null,"2021-03-29"]
[null,null,null,null,null,null,"2021-03-30"]
[null,null,null,null,null,null,"2021-03-31"]
[null,null,null,null,null,null,"2021-04-01"]
[null,null,null,null,null,null,"2021-04-02"]
[null,null,null,null,null,null,"2021-04-03"]
[null,null,null,null,null,null,"2021-04-04"]
[null,null,null,null,null,null,"2021-04-05"]
[null,null,null,null,null,null,"2021-04-06"]
[null,null,null,null,null,null,"2021-04-07"]
[null,null,null,null,null,null,"2021-04-08"]
[null,null,null,null,null,null,"2021-04-09"]
[null,null,null,null,null,null,"2021-04-10"]
[null,null,null,null,null,null,"2021-04-11"]
[null,null,null,null,null,null,"2021-04-12"]
[null,null,null,null,null,null,"2021-04-13"]
[null,null,null,null,null,null,"2021-04-14"]
[null,null,null,null,null,null,"2021-04-15"]
[null,null,null,null,null,null,"2021-04-16"]
[null,null,null,null,null,null,"2021-04-17"]
[null,null,null,null,null,null,"2021-04-18"]
[null,null,null,null,null,null,"2021-04-19"]
[null,null,null,null,null,null,"2021-04-20"]
[null,null,null,null,null,null,"2021-04-21"]
[null,null,null,null,null,null,"2021-04-22"]
[null,null,null,null,null,null,"2021-04-23"]
[null,null,null,null,null,null,"2021-04-24"]
[null,null,null,null,null,null,"2021-04-25"]
[null,null,null,null,null,null,"2021-04-26"]
[null,null,null,null,null,null,"2021-04-27"]
[null,null,null,null,null,null,"2021-04-28"]
[null,null,null,null,null,null,"2021-04-29"]
[null,null,null,null,null,null,"2021-04-30"]
[null,null,null,null,null,null,"2021-05-01"]
[null,null,null,null,null,null,"2021-05-02"]
[null,null,null,null,null,null,"2021-05-03"]
[null,null,null,null,null,null,"2021-05-04"]
[null,null,null,null,null,null,"2021-05-05"]
[null,null,null,null,null,null,"2021-05-06"]
[null,null,null,null,null,null,"2021-05-07"]
[null,null,null,null,null,null,"2021-05-08"]
[null,null,null,null,null,null,"2021-05-09"]
[null,null,null,null,null,null,"2021-05-10"]
[null,null,null,null,null,null,"2021-05-11"]
[null,null,null,null,null,null,"2021-05-12"]
[null,null,null,null,null,null,"2021-05-13"]
[null,null,null,null,null,null,"2021-05-14"]
[null,null,null,null,null,null,"2021-05-15"]
[null,null,null,null,null,null,"2021-05-16"]
[null,null,null,null,null,null,"2021-05-17"]
[null,null,null,null,null,null,"2021-05-18"]
[null,null,null,null,null,null,"2021-05-19"]
[null,null,null,null,null,null,"2021-05-20"]
[null,null,null,null,null,null,{"$f":"G2243+1","v":"2021-05-21"}]
[null,null,null,null,null,null,"2021-05-22"]
[null,null,null,null,null,null,"2021-05-23"]
[null,null,null,null,null,null,"2021-05-24"]
[null,null,null,null,null,null,"2021-05-25"]
[null,null,null,null,null,null,"2021-05-26"]
[null,null,null,null,null,null,"2021-05-27"]
[null,null,null,null,null,null,"2021-05-28"]
[null,null,null,null,null,null,"2021-05-29"]
[null,null,null,null,null,null,"2021-05-30"]
[null,null,null,null,null,null,"2021-05-31"]
[null,null,null,null,null,null,"2021-06-01"]
[null,null,null,null,null,null,"2021-06-02"]
[null,null,null,null,null,null,"2021-06-03"]
[null,null,null,null,null,null,"2021-06-04"]
[null,null,null,null,null,null,"2021-06-05"]
[null,null,null,null,null,null,"2021-06-06"]
[null,null,null,null,null,null,"2021-06-07"]
[null,null,null,null,null,null,"2021-06-08"]
[null,null,null,null,null,null,"2021-06-09"]
[null,null,null,null,null,null,"2021-06-10"]
[null,null,null,null,null,null,"2021-06-11"]
[null,null,null,null,null,null,"2021-06-12"]
[null,null,null,null,null,null,"2021-06-13"]
[null,null,null,null,null,null,"2021-06-14"]
[null,null,null,null,null,null,"2021-06-15"]
[null,null,null,null,null,null,"2021-06-16"]
[null,null,null,null,null,null,"2021-06-17"]
[null,null,null,null,null,null,"2021-06-18"]
[null,null,null,null,null,null,"2021-06-19"]
[null,null,null,null,null,null,"2021-06-20"]
[null,null,null,null,null,null,"2021-06-21"]
[null,null,null,null,null,null,"2021-06-22"]
[null,null,null,null,null,null,"2021-06-23"]
[null,null,null,null,null,null,"2021-06-24"]
[null,null,null,null,null,null,"2021-06-25"]
[null,null,null,null,null,null,"2021-06-26"]
[null,null,null,null,null,null,"2021-06-27"]
[null,null,null,null,null,null,"2021-06-28"]
[null,null,null,null,null,null,"2021-06-29"]
[null,null,null,null,null,null,"2021-06-30"]
[null,null,null,null,null,null,"2021-07-01"]
[null,null,null,null,null,null,"2021-07-02"]
[null,null,null,null,null,null,"2021-07-03"]
[null,null,null,null,null,null,"2021-07-04"]
[null,null,null,null,null,null,"2021-07-05"]
[null,null,null,null,null,null,"2021-07-06"]
[null,null,null,null,null,null,"2021-07-07"]
[null,null,null,null,null,null,"2021-07-08"]
[null,null,null,null,null,null,"2021-07-09"]
[null,null,null,null,null,null,"2021-07-10"]
[null,null,null,null,null,null,"2021-07-11"]
[null,null,null,null,null,null,"2021-07-12"]
[null,null,null,null,null,null,"2021-07-13"]
[null,null,null,null,null,null,"2021-07-14"]
[null,null,null,null,null,null,"2021-07-15"]
[null,null,null,null,null,null,"2021-07-16"]
[null,null,null,null,null,null,"2021-07-17"]
[null,null,null,null,null,null,"2021-07-18"]
[null,null,null,null,null,null,"2021-07-19"]
[null,null,null,null,null,null,"2021-07-20"]
[null,null,null,null,null,null,"2021-07-21"]
[null,null,null,null,null,null,"2021-07-22"]
[null,null,null,null,null,null,"2021-07-23"]
[null,null,null,null,null,null,{"$f":"G2307+1","v":"2021-07-24"}]
[null,null,null,null,null,null,"2021-07-25"]
[null,null,null,null,null,null,"2021-07-26"]
[null,null,null,null,null,null,"2021-07-27"]
[null,null,null,null,null,null,"2021-07-28"]
[null,null,null,null,null,null,"2021-07-29"]
[null,null,null,null,null,null,"2021-07-30"]
[null,null,null,null,null,null,"2021-07-31"]
[null,null,null,null,null,null,"2021-08-01"]
[null,null,null,null,null,null,"2021-08-02"]
[null,null,null,null,null,null,"2021-08-03"]
[null,null,null,null,null,null,"2021-08-04"]
[null,null,null,null,null,null,"2021-08-05"]
[null,null,null,null,null,null,"2021-08-06"]
[null,null,null,null,null,null,"2021-08-07"]
[null,null,null,null,null,null,"2021-08-08"]
[null,null,null,null,null,null,"2021-08-09"]
[null,null,null,null,null,null,"2021-08-10"]
[null,null,null,null,null,null,"2021-08-11"]
[null,null,null,null,null,null,"2021-08-12"]
[null,null,null,null,null,null,"2021-08-13"]
[null,null,null,null,null,null,"2021-08-14"]
[null,null,null,null,null,null,"2021-08-15"]
[null,null,null,null,null,null,"2021-08-16"]
[null,null,null,null,null,null,"2021-08-17"]
[null,null,null,null,null,null,"2021-08-18"]
[null,null,null,null,null,null,"2021-08-19"]
[null,null,null,null,null,null,"2021-08-20"]
[null,null,null,null,null,null,"2021-08-21"]
[null,null,null,null,null,null,"2021-08-22"]
[null,null,null,null,null,null,"2021-08-23"]
[null,null,null,null,null,null,"2021-08-24"]
[null,null,null,null,null,null,"2021-08-25"]
[null,null,null,null,null,null,"2021-08-26"]
[null,null,null,null,null,null,"2021-08-27"]
[null,null,null,null,null,null,"2021-08-28"]
[null,null,null,null,null,null,"2021-08-29"]
[null,null,null,null,null,null,"2021-08-30"]
[null,null,null,null,null,null,"2021-08-31"]
[null,null,null,null,null,null,"2021-09-01"]
[null,null,null,null,null,null,"2021-09-02"]
[null,null,null,null,null,null,"2021-09-03"]
[null,null,null,null,null,null,"2021-09-04"]
[null,null,null,null,null,null,"2021-09-05"]
[null,null,null,null,null,null,"2021-09-06"]
[null,null,null,null,null,null,"2021-09-07"]
[null,null,null,null,null,null,"2021-09-08"]
[null,null,null,null,null,null,"2021-09-09"]
[null,null,null,null,null,null,"2021-09-10"]
[null,null,null,null,null,null,"2021-09-11"]
[null,null,null,null,null,null,"2021-09-12"]
[null,null,null,null,null,null,"2021-09-13"]
[null,null,null,null,null,null,"2021-09-14"]
[null,null,null,null,null,null,"2021-09-15"]
[null,null,null,null,null,null,"2021-09-16"]
[null,null,null,null,null,null,"2021-09-17"]
[null,null,null,null,null,null,"2021-09-18"]
[null,null,null,null,null,null,"2021-09-19"]
[null,null,null,null,null,null,"2021-09-20"]
[null,null,null,null,null,null,"2021-09-21"]
[null,null,null,null,null,null,"2021-09-22"]
[null,null,null,null,null,null,"2021-09-23"]
[null,null,null,null,null,null,"2021-09-24"]
[null,null,null,null,null,null,"2021-09-25"]
[null,null,null,null,null,null,{"$f":"G2371+1","v":"2021-09-26"}]
[null,null,null,null,null,null,"2021-09-27"]
[null,null,null,null,null,null,"2021-09-28"]
[null,null,null,null,null,null,"2021-09-29"]
[null,null,null,null,null,null,"2021-09-30"]
[null,null,null,null,null,null,"2021-10-01"]
[null,null,null,null,null,null,"2021-10-02"]
[null,null,null,null,null,null,"2021-10-03"]
[null,null,null,null,null,null,"2021-10-04"]
[null,null,null,null,null,null,"2021-10-05"]
[null,null,null,null,null,null,"2021-10-06"]
[null,null,null,null,null,null,"2021-10-07"]
[null,null,null,null,null,null,"2021-10-08"]
[null,null,null,null,null,null,"2021-10-09"]
[null,null,null,null,null,null,"2021-10-10"]
[null,null,null,null,null,null,"2021-10-11"]
[null,null,null,null,null,null,"2021-10-12"]
[null,null,null,null,null,null,"2021-10-13"]
[null,null,null,null,null,null,"2021-10-14"]
[null,null,null,null,null,null,"2021-10-15"]
[null,null,null,null,null,null,"2021-10-16"]
[null,null,null,null,null,null,"2021-10-17"]
[null,null,null,null,null,null,"2021-10-18"]
[null,null,null,null,null,null,"2021-10-19"]
[null,null,null,null,null,null,"2021-10-20"]
[null,null,null,null,null,null,"2021-10-21"]
[null,null,null,null,null,null,"2021-10-22"]
[null,null,null,null,null,null,"2021-10-23"]
[null,null,null,null,null,null,"2021-10-24"]
[null,null,null,null,null,null,"2021-10-25"]
[null,null,null,null,null,null,"2021-10-26"]
[null,null,null,null,null,null,"2021-10-27"]
[null,null,null,null,null,null,"2021-10-28"]
[null,null,null,null,null,null,"2021-10-29"]
[null,null,null,null,null,null,"2021-10-30"]
[null,null,null,null,null,null,"2021-10-31"]
[null,null,null,null,null,null,"2021-11-01"]
[null,null,null,null,null,null,"2021-11-02"]
[null,null,null,null,null,null,"2021-11-03"]
[null,null,null,null,null,null,"2021-11-04"]
[null,null,null,null,null,null,"2021-11-05"]
[null,null,null,null,null,null,"2021-11-06"]
[null,null,null,null,null,null,"2021-11-07"]
[null,null,null,null,null,null,"2021-11-08"]
[null,null,null,null,null,null,"2021-11-09"]
[null,null,null,null,null,null,"2021-11-10"]
[null,null,null,null,null,null,"2021-11-11"]
[null,null,null,null,null,null,"2021-11-12"]
[null,null,null,null,null,null,"2021-11-13"]
[null,null,null,null,null,null,"2021-11-14"]
[null,null,null,null,null,null,"2021-11-15"]
[null,null,null,null,null,null,"2021-11-16"]
[null,null,null,null,null,null,"2021-11-17"]
[null,null,null,null,null,null,"2021-11-18"]
[null,null,null,null,null,null,"2021-11-19"]
[null,null,null,null,null,null,"2021-11-20"]
[null,null,null,null,null,null,"2021-11-21"]
[null,null,null,null,null,null,"2021-11-22"]
[null,null,null,null,null,null,"2021-11-23"]
[null,null,null,null,null,null,"2021-11-24"]
[null,null,null,null,null,null,"2021-11-25"]
[null,null,null,null,null,null,"2021-11-26"]
[null,null,null,null,null,null,"2021-11-27"]
[null,null,null,null,null,null,"2021-11-28"]
[null,null,null,null,null,null,{"$f":"G2435+1","v":"2021-11-29"}]
[null,null,null,null,null,null,"2021-11-30"]
[null,null,null,null,null,null,"2021-12-01"]
[null,null,null,null,null,null,"2021-12-02"]
[null,null,null,null,null,null,"2021-12-03"]
[null,null,null,null,null,null,"2021-12-04"]
[null,null,null,null,null,null,"2021-12-05"]
[null,null,null,null,null,null,"2021-12-06"]
[null,null,null,null,null,null,"2021-12-07"]
[null,null,null,null,null,null,"2021-12-08"]
[null,null,null,null,null,null,"2021-12-09"]
[null,null,null,null,null,null,"2021-12-10"]
[null,null,null,null,null,null,"2021-12-11"]
[null,null,null,null,null,null,"2021-12-12"]
[null,null,null,null,null,null,"2021-12-13"]
[null,null,null,null,null,null,"2021-12-14"]
[null,null,null,null,null,null,"2021-12-15"]
[null,null,null,null,null,null,"2021-12-16"]
[null,null,null,null,null,null,"2021-12-17"]
[null,null,null,null,null,null,"2021-12-18"]
[null,null,null,null,null,null,"2021-12-19"]
[null,null,null,null,null,null,"2021-12-20"]
[null,null,null,null,null,null,"2021-12-21"]
[null,null,null,null,null,null,"2021-12-22"]
[null,null,null,null,null,null,"2021-12-23"]
[null,null,null,null,null,null,"2021-12-24"]
[null,null,null,null,null,null,"2021-12-25"]
[null,null,null,null,null,null,"2021-12-26"]
[null,null,null,null,null,null,"2021-12-27"]
[null,null,null,null,null,null,"2021-12-28"]
[null,null,null,null,null,null,"2021-12-29"]
[null,null,null,null,null,null,"2021-12-30"]
[null,null,null,null,null,null,"2021-12-31"]
[null,null,null,null,null,null,"2022-01-01"]
[null,null,null,null,null,null,"2022-01-02"]
[null,null,null,null,null,null,"2022-01-03"]
[null,null,null,null,null,null,"2022-01-04"]
[null,null,null,null,null,null,"2022-01-05"]
[null,null,null,null,null,null,"2022-01-06"]
[null,null,null,null,null,null,"2022-01-07"]
[null,null,null,null,null,null,"2022-01-08"]
[null,null,null,null,null,null,"2022-01-09"]
[null,null,null,null,null,null,"2022-01-10"]
[null,null,null,null,null,null,"2022-01-11"]
[null,null,null,null,null,null,"2022-01-12"]
[null,null,null,null,null,null,"2022-01-13"]
[null,null,null,null,null,null,"2022-01-14"]
[null,null,null,null,null,null,"2022-01-15"]
[null,null,null,null,null,null,"2022-01-16"]
[null,null,null,null,null,null,"2022-01-17"]
[null,null,null,null,null,null,"2022-01-18"]
[null,null,null,null,null,null,"2022-01-19"]
[null,null,null,null,null,null,"2022-01-20"]
[null,null,null,null,null,null,"2022-01-21"]
[null,null,null,null,null,null,"2022-01-22"]
[null,null,null,null,null,null,"2022-01-23"]
[null,null,null,null,null,null,"2022-01-24"]
[null,null,null,null,null,null,"2022-01-25"]
[null,null,null,null,null,null,"2022-01-26"]
[null,null,null,null,null,null,"2022-01-27"]
[null,null,null,null,null,null,"2022-01-28"]
[null,null,null,null,null,null,"2022-01-29"]
[null,null,null,null,null,null,"2022-01-30"]
[null,null,null,null,null,null,"2022-01-31"]
[null,null,null,null,null,null,{"$f":"G2499+1","v":"2022-02-01"}]
[null,null,null,null,null,null,"2022-02-02"]
[null,null,null,null,null,null,"2022-02-03"]
[null,null,null,null,null,null,"2022-02-04"]
[null,null,null,null,null,null,"2022-02-05"]
[null,null,null,null,null,null,"2022-02-06"]
[null,null,null,null,null,null,"2022-02-07"]
[null,null,null,null,null,null,"2022-02-08"]
[null,null,null,null,null,null,"2022-02-09"]
[null,null,null,null,null,null,"2022-02-10"]
[null,null,null,null,null,null,"2022-02-11"]
[null,null,null,null,null,null,"2022-02-12"]
[null,null,null,null,null,null,"2022-02-13"]
[null,null,null,null,null,null,"2022-02-14"]
[null,null,null,null,null,null,"2022-02-15"]
[null,null,null,null,null,null,"2022-02-16"]
[null,null,null,null,null,null,"2022-02-17"]
[null,null,null,null,null,null,"2022-02-18"]
[null,null,null,null,null,null,"2022-02-19"]
[null,null,null,null,null,null,"2022-02-20"]
[null,null,null,null,null,null,"2022-02-21"]
[null,null,null,null,null,null,"2022-02-22"]
[null,null,null,null,null,null,"2022-02-23"]
[null,null,null,null,null,null,"2022-02-24"]
[null,null,null,null,null,null,"2022-02-25"]
[null,null,null,null,null,null,"2022-02-26"]
[null,null,null,null,null,null,"2022-02-27"]
[null,null,null,null,null,null,"2022-02-28"]
[null,null,null,null,null,null,"2022-03-01"]
[null,null,null,null,null,null,"2022-03-02"]
[null,null,null,null,null,null,"2022-03-03"]
[null,null,null,null,null,null,"2022-03-04"]
[null,null,null,null,null,null,"2022-03-05"]
[null,null,null,null,null,null,"2022-03-06"]
[null,null,null,null,null,null,"2022-03-07"]
[null,null,null,null,null,null,"2022-03-08"]
[null,null,null,null,null,null,"2022-03-09"]
[null,null,null,null,null,null,"2022-03-10"]
[null,null,null,null,null,null,"2022-03-11"]
[null,null,null,null,null,null,"2022-03-12"]
[null,null,null,null,null,null,"2022-03-13"]
[null,null,null,null,null,null,"2022-03-14"]
[null,null,null,null,null,null,"2022-03-15"]
[null,null,null,null,null,null,"2022-03-16"]
[null,null,null,null,null,null,"2022-03-17"]
[null,null,null,null,null,null,"2022-03-18"]
[null,null,null,null,null,null,"2022-03-19"]
[null,null,null,null,null,null,"2022-03-20"]
[null,null,null,null,null,null,"2022-03-21"]
[null,null,null,null,null,null,"2022-03-22"]
[null,null,null,null,null,null,"2022-03-23"]
[null,null,null,null,null,null,"2022-03-24"]
[null,null,null,null,null,null,"2022-03-25"]
[null,null,null,null,null,null,"2022-03-26"]
[null,null,null,null,null,null,"2022-03-27"]
[null,null,null,null,null,null,"2022-03-28"]
[null,null,null,null,null,null,"2022-03-29"]
[null,null,null,null,null,null,"2022-03-30"]
[null,null,null,null,null,null,"2022-03-31"]
[null,null,null,null,null,null,"2022-04-01"]
[null,null,null,null,null,null,"2022-04-02"]
[null,null,null,null,null,null,"2022-04-03"]
[null,null,null,null,null,null,"2022-04-04"]
[null,null,null,null,null,null,"2022-04-05"]
[null,null,null,null,null,null,{"$f":"G2563+1","v":"2022-04-06"}]
[null,null,null,null,null,null,"2022-04-07"]
[null,null,null,null,null,null,"2022-04-08"]
[null,null,null,null,null,null,"2022-04-09"]
[null,null,null,null,null,null,"2022-04-10"]
[null,null,null,null,null,null,"2022-04-11"]
[null,null,null,null,null,null,"2022-04-12"]
[null,null,null,null,null,null,"2022-04-13"]
[null,null,null,null,null,null,"2022-04-14"]
[null,null,null,null,null,null,"2022-04-15"]
[null,null,null,null,null,null,"2022-04-16"]
[null,null,null,null,null,null,"2022-04-17"]
[null,null,null,null,null,null,"2022-04-18"]
[null,null,null,null,null,null,"2022-04-19"]
[null,null,null,null,null,null,"2022-04-20"]
[null,null,null,null,null,null,"2022-04-21"]
[null,null,null,null,null,null,"2022-04-22"]
[null,null,null,null,null,null,"2022-04-23"]
[null,null,null,null,null,null,"2022-04-24"]
[null,null,null,null,null,null,"2022-04-25"]
[null,null,null,null,null,null,"2022-04-26"]
[null,null,null,null,null,null,"2022-04-27"]
[null,null,null,null,null,null,"2022-04-28"]
[null,null,null,null,null,null,"2022-04-29"]
[null,null,null,null,null,null,"2022-04-30"]
[null,null,null,null,null,null,"2022-05-01"]
[null,null,null,null,null,null,"2022-05-02"]
[null,null,null,null,null,null,"2022-05-03"]
[null,null,null,null,null,null,"2022-05-04"]
[null,null,null,null,null,null,"2022-05-05"]
[null,null,null,null,null,null,"2022-05-06"]
[null,null,null,null,null,null,"2022-05-07"]
[null,null,null,null,null,null,"2022-05-08"]
[null,null,null,null,null,null,"2022-05-09"]
[null,null,null,null,null,null,"2022-05-10"]
[null,null,null,null,null,null,"2022-05-11"]
[null,null,null,null,null,null,"2022-05-12"]
[null,null,null,null,null,null,"2022-05-13"]
[null,null,null,null,null,null,"2022-05-14"]
[null,null,null,null,null,null,"2022-05-15"]
[null,null,null,null,null,null,"2022-05-16"]
[null,null,null,null,null,null,"2022-05-17"]
[null,null,null,null,null,null,"2022-05-18"]
[null,null,null,null,null,null,"2022-05-19"]
[null,null,null,null,null,null,"2022-05-20"]
[null,null,null,null,null,null,"2022-05-21"]
[null,null,null,null,null,null,"2022-05-22"]
[null,null,null,null,null,null,"2022-05-23"]
[null,null,null,null,null,null,"2022-05-24"]
[null,null,null,null,null,null,"2022-05-25"]
[null,null,null,null,null,null,"2022-05-26"]
[null,null,null,null,null,null,"2022-05-27"]
[null,null,null,null,null,null,"2022-05-28"]
[null,null,null,null,null,null,"2022-05-29"]
[null,null,null,null,null,null,"2022-05-30"]
[null,null,null,null,null,null,"2022-05-31"]
[null,null,null,null,null,null,"2022-06-01"]
[null,null,null,null,null,null,"2022-06-02"]
[null,null,null,null,null,null,"2022-06-03"]
[null,null,null,null,null,null,"2022-06-04"]
[null,null,null,null,null,null,"2022-06-05"]
[null,null,null,null,null,null,"2022-06-06"]
[null,null,null,null,null,null,"2022-06-07"]
[null,null,null,null,null,null,"2022-06-08"]
[null,null,null,null,null,null,{"$f":"G2627+1","v":"2022-06-09"}]
[null,null,null,null,null,null,"2022-06-10"]
[null,null,null,null,null,null,"2022-06-11"]
[null,null,null,null,null,null,"2022-06-12"]
[null,null,null,null,null,null,"2022-06-13"]
[null,null,null,null,null,null,"2022-06-14"]
[null,null,null,null,null,null,"2022-06-15"]
[null,null,null,null,null,null,"2022-06-16"]
[null,null,null,null,null,null,"2022-06-17"]
[null,null,null,null,null,null,"2022-06-18"]
[null,null,null,null,null,null,"2022-06-19"]
[null,null,null,null,null,null,"2022-06-20"]
[null,null,null,null,null,null,"2022-06-21"]
[null,null,null,null,null,null,"2022-06-22"]
[null,null,null,null,null,null,"2022-06-23"]
[null,null,null,null,null,null,"2022-06-24"]
[null,null,null,null,null,null,"2022-06-25"]
[null,null,null,null,null,null,"2022-06-26"]
[null,null,null,null,null,null,"2022-06-27"]
[null,null,null,null,null,null,"2022-06-28"]
[null,null,null,null,null,null,"2022-06-29"]
[null,null,null,null,null,null,"2022-06-30"]
[null,null,null,null,null,null,"2022-07-01"]
[null,null,null,null,null,null,"2022-07-02"]
[null,null,null,null,null,null,"2022-07-03"]
[null,null,null,null,null,null,"2022-07-04"]
[null,null,null,null,null,null,"2022-07-05"]
[null,null,null,null,null,null,"2022-07-06"]
[null,null,null,null,null,null,"2022-07-07"]
[null,null,null,null,null,null,"2022-07-08"]
[null,null,null,null,null,null,"2022-07-09"]
[null,null,null,null,null,null,"2022-07-10"]
[null,null,null,null,null,null,"2022-07-11"]
[null,null,null,null,null,null,"2022-07-12"]
[null,null,null,null,null,null,"2022-07-13"]
[null,null,null,null,null,null,"2022-07-14"]
[null,null,null,null,null,null,"2022-07-15"]
[null,null,null,null,null,null,"2022-07-16"]
[null,null,null,null,null,null,"2022-07-17"]
[null,null,null,null,null,null,"2022-07-18"]
[null,null,null,null,null,null,"2022-07-19"]
[null,null,null,null,null,null,"2022-07-20"]
[null,null,null,null,null,null,"2022-07-21"]
[null,null,null,null,null,null,"2022-07-22"]
[null,null,null,null,null,null,"2022-07-23"]
[null,null,null,null,null,null,"2022-07-24"]
[null,null,null,null,null,null,"2022-07-25"]
[null,null,null,null,null,null,"2022-07-26"]
[null,null,null,null,null,null,"2022-07-27"]
[null,null,null,null,null,null,"2022-07-28"]
[null,null,null,null,null,null,"2022-07-29"]
[null,null,null,null,null,null,"2022-07-30"]
[null,null,null,null,null,null,"2022-07-31"]
[null,null,null,null,null,null,"2022-08-01"]
[null,null,null,null,null,null,"2022-08-02"]
[null,null,null,null,null,null,"2022-08-03"]
[null,null,null,null,null,null,"2022-08-04"]
[null,null,null,null,null,null,"2022-08-05"]
[null,null,null,null,null,null,"2022-08-06"]
[null,null,null,null,null,null,"2022-08-07"]
[null,null,null,null,null,null,"2022-08-08"]
[null,null,null,null,null,null,"2022-08-09"]
[null,null,null,null,null,null,"2022-08-10"]
[null,null,null,null,null,null,"2022-08-11"]
[null,null,null,null,null,null,{"$f":"G2691+1","v":"2022-08-12"}]
[null,null,null,null,null,null,"2022-08-13"]
[null,null,null,null,null,null,"2022-08-14"]
[null,null,null,null,null,null,"2022-08-15"]
[null,null,null,null,null,null,"2022-08-16"]
[null,null,null,null,null,null,"2022-08-17"]
[null,null,null,null,null,null,"2022-08-18"]
[null,null,null,null,null,null,"2022-08-19"]
[null,null,null,null,null,null,"2022-08-20"]
[null,null,null,null,null,null,"2022-08-21"]
[null,null,null,null,null,null,"2022-08-22"]
[null,null,null,null,null,null,"2022-08-23"]
[null,null,null,null,null,null,"2022-08-24"]
[null,null,null,null,null,null,"2022-08-25"]
[null,null,null,null,null,null,"2022-08-26"]
[null,null,null,null,null,null,"2022-08-27"]
[null,null,null,null,null,null,"2022-08-28"]
[null,null,null,null,null,null,"2022-08-29"]
[null,null,null,null,null,null,"2022-08-30"]
[null,null,null,null,null,null,"2022-08-31"]
[null,null,null,null,null,null,"2022-09-01"]
[null,null,null,null,null,null,"2022-09-02"]
[null,null,null,null,null,null,"2022-09-03"]
[null,null,null,null,null,null,"2022-09-04"]
[null,null,null,null,null,null,"2022-09-05"]
[null,null,null,null,null,null,"2022-09-06"]
[null,null,null,null,null,null,"2022-09-07"]
[null,null,null,null,null,null,"2022-09-08"]
[null,null,null,null,null,null,"2022-09-09"]
[null,null,null,null,null,null,"2022-09-10"]
[null,null,null,null,null,null,"2022-09-11"]
[null,null,null,null,null,null,"2022-09-12"]
[null,null,null,null,null,null,"2022-09-13"]
[null,null,null,null,null,null,"2022-09-14"]
[null,null,null,null,null,null,"2022-09-15"]
[null,null,null,null,null,null,"2022-09-16"]
[null,null,null,null,null,null,"2022-09-17"]
[null,null,null,null,null,null,"2022-09-18"]
[null,null,null,null,null,null,"2022-09-19"]
[null,null,null,null,null,null,"2022-09-20"]
[null,null,null,null,null,null,"2022-09-21"]
[null,null,null,null,null,null,"2022-09-22"]
[null,null,null,null,null,null,"2022-09-23"]
[null,null,null,null,null,null,"2022-09-24"]
[null,null,null,null,null,null,"2022-09-25"]
[null,null,null,null,null,null,"2022-09-26"]
[null,null,null,null,null,null,"2022-09-27"]
[null,null,null,null,null,null,"2022-09-28"]
[null,null,null,null,null,null,"2022-09-29"]
[null,null,null,null,null,null,"2022-09-30"]
[null,null,null,null,null,null,"2022-10-01"]
[null,null,null,null,null,null,"2022-10-02"]
[null,null,null,null,null,null,"2022-10-03"]
[null,null,null,null,null,null,"2022-10-04"]
[null,null,null,null,null,null,"2022-10-05"]
[null,null,null,null,null,null,"2022-10-06"]
[null,null,null,null,null,null,"2022-10-07"]
[null,null,null,null,null,null,"2022-10-08"]
[null,null,null,null,null,null,"2022-10-09"]
[null,null,null,null,null,null,"2022-10-10"]
[null,null,null,null,null,null,"2022-10-11"]
[null,null,null,null,null,null,"2022-10-12"]
[null,null,null,null,null,null,"2022-10-13"]
[null,null,null,null,null,null,"2022-10-14"]
[null,null,null,null,null,null,{"$f":"G2755+1","v":"2022-10-15"}]
[null,null,null,null,null,null,"2022-10-16"]
[null,null,null,null,null,null,"2022-10-17"]
[null,null,null,null,null,null,"2022-10-18"]
[null,null,null,null,null,null,"2022-10-19"]
[null,null,null,null,null,null,"2022-10-20"]
[null,null,null,null,null,null,"2022-10-21"]
[null,null,null,null,null,null,"2022-10-22"]
[null,null,null,null,null,null,"2022-10-23"]
[null,null,null,null,null,null,"2022-10-24"]
[null,null,null,null,null,null,"2022-10-25"]
[null,null,null,null,null,null,"2022-10-26"]
[null,null,null,null,null,null,"2022-10-27"]
[null,null,null,null,null,null,"2022-10-28"]
[null,null,null,null,null,null,"2022-10-29"]
[null,null,null,null,null,null,"2022-10-30"]
[null,null,null,null,null,null,"2022-10-31"]
[null,null,null,null,null,null,"2022-11-01"]
[null,null,null,null,null,null,"2022-11-02"]
[null,null,null,null,null,null,"2022-11-03"]
[null,null,null,null,null,null,"2022-11-04"]
[null,null,null,null,null,null,"2022-11-05"]
[null,null,null,null,null,null,"2022-11-06"]
[null,null,null,null,null,null,"2022-11-07"]
[null,null,null,null,null,null,"2022-11-08"]
[null,null,null,null,null,null,"2022-11-09"]
[null,null,null,null,null,null,"2022-11-10"]
[null,null,null,null,null,null,"2022-11-11"]
[null,null,null,null,null,null,"2022-11-12"]
[null,null,null,null,null,null,"2022-11-13"]
[null,null,null,null,null,null,"2022-11-14"]
[null,null,null,null,null,null,"2022-11-15"]
[null,null,null,null,null,null,"2022-11-16"]
[null,null,null,null,null,null,"2022-11-17"]
[null,null,null,null,null,null,"2022-11-18"]
[null,null,null,null,null,null,"2022-11-19"]
[null,null,null,null,null,null,"2022-11-20"]
[null,null,null,null,null,null,"2022-11-21"]
[null,null,null,null,null,null,"2022-11-22"]
[null,null,null,null,null,null,"2022-11-23"]
[null,null,null,null,null,null,"2022-11-24"]
[null,null,null,null,null,null,"2022-11-25"]
[null,null,null,null,null,null,"2022-11-26"]
[null,null,null,null,null,null,"2022-11-27"]
[null,null,null,null,null,null,"2022-11-28"]
[null,null,null,null,null,null,"2022-11-29"]
[null,null,null,null,null,null,"2022-11-30"]
[null,null,null,null,null,null,"2022-12-01"]
[null,null,null,null,null,null,"2022-12-02"]
[null,null,null,null,null,null,"2022-12-03"]
[null,null,null,null,null,null,"2022-12-04"]
[null,null,null,null,null,null,"2022-12-05"]
[null,null,null,null,null,null,"2022-12-06"]
[null,null,null,null,null,null,"2022-12-07"]
[null,null,null,null,null,null,"2022-12-08"]
[null,null,null,null,null,null,"2022-12-09"]
[null,null,null,null,null,null,"2022-12-10"]
[null,null,null,null,null,null,"2022-12-11"]
[null,null,null,null,null,null,"2022-12-12"]
[null,null,null,null,null,null,"2022-12-13"]
[null,null,null,null,null,null,"2022-12-14"]
[null,null,null,null,null,null,"2022-12-15"]
[null,null,null,null,null,null,"2022-12-16"]
[null,null,null,null,null,null,"2022-12-17"]
[null,null,null,null,null,null,{"$f":"G2819+1","v":"2022-12-18"}]
[null,null,null,null,null,null,"2022-12-19"]
[null,null,null,null,null,null,"2022-12-20"]
[null,null,null,null,null,null,"2022-12-21"]
[null,null,null,null,null,null,"2022-12-22"]
[null,null,null,null,null,null,"2022-12-23"]
[null,null,null,null,null,null,"2022-12-24"]
[null,null,null,null,null,null,"2022-12-25"]
[null,null,null,null,null,null,"2022-12-26"]
[null,null,null,null,null,null,"2022-12-27"]
[null,null,null,null,null,null,"2022-12-28"]
[null,null,null,null,null,null,"2022-12-29"]
[null,null,null,null,null,null,"2022-12-30"]
[null,null,null,null,null,null,"2022-12-31"]
[null,null,null,null,null,null,"2023-01-01"]
[null,null,null,null,null,null,"2023-01-02"]
[null,null,null,null,null,null,"2023-01-03"]
[null,null,null,null,null,null,"2023-01-04"]
[null,null,null,null,null,null,"2023-01-05"]
[null,null,null,null,null,null,"2023-01-06"]
[null,null,null,null,null,null,"2023-01-07"]
[null,null,null,null,null,null,"2023-01-08"]
[null,null,null,null,null,null,"2023-01-09"]
[null,null,null,null,null,null,"2023-01-10"]
[null,null,null,null,null,null,"2023-01-11"]
[null,null,null,null,null,null,"2023-01-12"]
[null,null,null,null,null,null,"2023-01-13"]
[null,null,null,null,null,null,"2023-01-14"]
[null,null,null,null,null,null,"2023-01-15"]
[null,null,null,null,null,null,"2023-01-16"]
[null,null,null,null,null,null,"2023-01-17"]
[null,null,null,null,null,null,"2023-01-18"]
[null,null,null,null,null,null,"2023-01-19"]
[null,null,null,null,null,null,"2023-01-20"]
[null,null,null,null,null,null,"2023-01-21"]
[null,null,null,null,null,null,"2023-01-22"]
[null,null,null,null,null,null,"2023-01-23"]
[null,null,null,null,null,null,"2023-01-24"]
[null,null,null,null,null,null,"2023-01-25"]
[null,null,null,null,null,null,"2023-01-26"]
[null,null,null,null,null,null,"2023-01-27"]
[null,null,null,null,null,null,"2023-01-28"]
[null,null,null,null,null,null,"2023-01-29"]
[null,null,null,null,null,null,"2023-01-30"]
[null,null,null,null,null,null,"2023-01-31"]
[null,null,null,null,null,null,"2023-02-01"]
[null,null,null,null,null,null,"2023-02-02"]
[null,null,null,null,null,null,"2023-02-03"]
[null,null,null,null,null,null,"2023-02-04"]
[null,null,null,null,null,null,"2023-02-05"]
[null,null,null,null,null,null,"2023-02-06"]
[null,null,null,null,null,null,"2023-02-07"]
[null,null,null,null,null,null,"2023-02-08"]
[null,null,null,null,null,null,"2023-02-09"]
[null,null,null,null,null,null,"2023-02-10"]
[null,null,null,null,null,null,"2023-02-11"]
[null,null,null,null,null,null,"2023-02-12"]
[null,null,null,null,null,null,"2023-02-13"]
[null,null,null,null,null,null,"2023-02-14"]
[null,null,null,null,null,null,"2023-02-15"]
[null,null,null,null,null,null,"2023-02-16"]
[null,null,null,null,null,null,"2023-02-17"]
[null,null,null,null,null,null,"2023-02-18"]
[null,null,null,null,null,null,"2023-02-19"]
[null,null,null,null,null,null,{"$f":"G2883+1","v":"2023-02-20"}]
[null,null,null,null,null,null,"2023-02-21"]
[null,null,null,null,null,null,"2023-02-22"]
[null,null,null,null,null,null,"2023-02-23"]
[null,null,null,null,null,null,"2023-02-24"]
[null,null,null,null,null,null,"2023-02-25"]
[null,null,null,null,null,null,"2023-02-26"]
[null,null,null,null,null,null,"2023-02-27"]
[null,null,null,null,null,null,"2023-02-28"]
[null,null,null,null,null,null,"2023-03-01"]
[null,null,null,null,null,null,"2023-03-02"]
[null,null,null,null,null,null,"2023-03-03"]
[null,null,null,null,null,null,"2023-03-04"]
[null,null,null,null,null,null,"2023-03-05"]
[null,null,null,null,null,null,"2023-03-06"]
[null,null,null,null,null,null,"2023-03-07"]
[null,null,null,null,null,null,"2023-03-08"]
[null,null,null,null,null,null,"2023-03-09"]
[null,null,null,null,null,null,"2023-03-10"]
[null,null,null,null,null,null,"2023-03-11"]
[null,null,null,null,null,null,"2023-03-12"]
[null,null,null,null,null,null,"2023-03-13"]
[null,null,null,null,null,null,"2023-03-14"]
[null,null,null,null,null,null,"2023-03-15"]
[null,null,null,null,null,null,"2023-03-16"]
[null,null,null,null,null,null,"2023-03-17"]
[null,null,null,null,null,null,"2023-03-18"]
[null,null,null,null,null,null,"2023-03-19"]
[null,null,null,null,null,null,"2023-03-20"]
[null,null,null,null,null,null,"2023-03-21"]
[null,null,null,null,null,null,"2023-03-22"]
[null,null,null,null,null,null,"2023-03-23"]
[null,null,null,null,null,null,"2023-03-24"]
[null,null,null,null,null,null,"2023-03-25"]
[null,null,null,null,null,null,"2023-03-26"]
[null,null,null,null,null,null,"2023-03-27"]
[null,null,null,null,null,null,"2023-03-28"]
[null,null,null,null,null,null,"2023-03-29"]
[null,null,null,null,null,null,"2023-03-30"]
[null,null,null,null,null,null,"2023-03-31"]
[null,null,null,null,null,null,"2023-04-01"]
[null,null,null,null,null,null,"2023-04-02"]
[null,null,null,null,null,null,"2023-04-03"]
[null,null,null,null,null,null,"2023-04-04"]
[null,null,null,null,null,null,"2023-04-05"]
[null,null,null,null,null,null,"2023-04-06"]
[null,null,null,null,null,null,"2023-04-07"]
[null,null,null,null,null,null,"2023-04-08"]
[null,null,null,null,null,null,"2023-04-09"]
[null,null,null,null,null,null,"2023-04-10"]
[null,null,null,null,null,null,"2023-04-11"]
[null,null,null,null,null,null,"2023-04-12"]
[null,null,null,null,null,null,"2023-04-13"]
[null,null,null,null,null,null,"2023-04-14"]
[null,null,null,null,null,null,"2023-04-15"]
[null,null,null,null,null,null,"2023-04-16"]
[null,null,null,null,null,null,"2023-04-17"]
[null,null,null,null,null,null,"2023-04-18"]
[null,null,null,null,null,null,"2023-04-19"]
[null,null,null,null,null,null,"2023-04-20"]
[null,null,null,null,null,null,"2023-04-21"]
[null,null,null,null,null,null,"2023-04-22"]
[null,null,null,null,null,null,"2023-04-23"]
[null,null,null,null,null,null,"2023-04-24"]
[null,null,null,null,null,null,{"$f":"G2947+1","v":"2023-04-25"}]
[null,null,null,null,null,null,"2023-04-26"]
[null,null,null,null,null,null,"2023-04-27"]
[null,null,null,null,null,null,"2023-04-28"]
[null,null,null,null,null,null,"2023-04-29"]
[null,null,null,null,null,null,"2023-04-30"]
[null,null,null,null,null,null,"2023-05-01"]
[null,null,null,null,null,null,"2023-05-02"]
[null,null,null,null,null,null,"2023-05-03"]
[null,null,null,null,null,null,"2023-05-04"]
[null,null,null,null,null,null,"2023-05-05"]
[null,null,null,null,null,null,"2023-05-06"]
[null,null,null,null,null,null,"2023-05-07"]
[null,null,null,null,null,null,"2023-05-08"]
[null,null,null,null,null,null,"2023-05-09"]
[null,null,null,null,null,null,"2023-05-10"]
[null,null,null,null,null,null,"2023-05-11"]
[null,null,null,null,null,null,"2023-05-12"]
[null,null,null,null,null,null,"2023-05-13"]
[null,null,null,null,null,null,"2023-05-14"]
[null,null,null,null,null,null,"2023-05-15"]
[null,null,null,null,null,null,"2023-05-16"]
[null,null,null,null,null,null,"2023-05-17"]
[null,null,null,null,null,null,"2023-05-18"]
[null,null,null,null,null,null,"2023-05-19"]
[null,null,null,null,null,null,"2023-05-20"]
[null,null,null,null,null,null,"2023-05-21"]
[null,null,null,null,null,null,"2023-05-22"]
[null,null,null,null,null,null,"2023-05-23"]
[null,null,null,null,null,null,"2023-05-24"]
[null,null,null,null,null,null,"2023-05-25"]
[null,null,null,null,null,null,"2023-05-26"]
[null,null,null,null,null,null,"2023-05-27"]
[null,null,null,null,null,null,"2023-05-28"]
[null,null,null,null,null,null,"2023-05-29"]
[null,null,null,null,null,null,"2023-05-30"]
[null,null,null,null,null,null,"2023-05-31"]
[null,null,null,null,null,null,"2023-06-01"]
[null,null,null,null,null,null,"2023-06-02"]
[null,null,null,null,null,null,"2023-06-03"]
[null,null,null,null,null,null,"2023-06-04"]
[null,null,null,null,null,null,"2023-06-05"]
[null,null,null,null,null,null,"2023-06-06"]
[null,null,null,null,null,null,"2023-06-07"]
[null,null,null,null,null,null,"2023-06-08"]
[null,null,null,null,null,null,"2023-06-09"]
[null,null,null,null,null,null,"2023-06-10"]
[null,null,null,null,null,null,"2023-06-11"]
[null,null,null,null,null,null,"2023-06-12"]
[null,null,null,null,null,null,"2023-06-13"]
[null,null,null,null,null,null,"2023-06-14"]
[null,null,null,null,null,null,"2023-06-15"]
[null,null,null,null,null,null,"2023-06-16"]
[null,null,null,null,null,null,"2023-06-17"]
[null,null,null,null,null,null,"2023-06-18"]
[null,null,null,null,null,null,"2023-06-19"]
[null,null,null,null,null,null,"2023-06-20"]
[null,null,null,null,null,null,"2023-06-21"]
[null,null,null,null,null,null,"2023-06-22"]
[null,null,null,null,null,null,"2023-06-23"]
[null,null,null,null,null,null,"2023-06-24"]
[null,null,null,null,null,null,"2023-06-25"]
[null,null,null,null,null,null,"2023-06-26"]
[null,null,null,null,null,null,"2023-06-27"]
[null,null,null,null,null,null,{"$f":"G3011+1","v":"2023-06-28"}]
[null,null,null,null,null,null,"2023-06-29"]
[null,null,null,null,null,null,"2023-06-30"]
[null,null,null,null,null,null,"2023-07-01"]
[null,null,null,null,null,null,"2023-07-02"]
[null,null,null,null,null,null,"2023-07-03"]
[null,null,null,null,null,null,"2023-07-04"]
[null,null,null,null,null,null,"2023-07-05"]
[null,null,null,null,null,null,"2023-07-06"]
[null,null,null,null,null,null,"2023-07-07"]
[null,null,null,null,null,null,"2023-07-08"]
[null,null,null,null,null,null,"2023-07-09"]
[null,null,null,null,null,null,"2023-07-10"]
[null,null,null,null,null,null,"2023-07-11"]
[null,null,null,null,null,null,"2023-07-12"]
[null,null,null,null,null,null,"2023-07-13"]
[null,null,null,null,null,null,"2023-07-14"]
[null,null,null,null,null,null,"2023-07-15"]
[null,null,null,null,null,null,"2023-07-16"]
[null,null,null,null,null,null,"2023-07-17"]
[null,null,null,null,null,null,"2023-07-18"]
[null,null,null,null,null,null,"2023-07-19"]
[null,null,null,null,null,null,"2023-07-20"]
[null,null,null,null,null,null,"2023-07-21"]
[null,null,null,null,null,null,"2023-07-22"]
[null,null,null,null,null,null,"2023-07-23"]
[null,null,null,null,null,null,"2023-07-24"]
[null,null,null,null,null,null,"2023-07-25"]
[null,null,null,null,null,null,"2023-07-26"]
[null,null,null,null,null,null,"2023-07-27"]
[null,null,null,null,null,null,"2023-07-28"]
[null,null,null,null,null,null,"2023-07-29"]
[null,null,null,null,null,null,"2023-07-30"]
[null,null,null,null,null,null,"2023-07-31"]
[null,null,null,null,null,null,"2023-08-01"]
[null,null,null,null,null,null,"2023-08-02"]
[null,null,null,null,null,null,"2023-08-03"]
[null,null,null,null,null,null,"2023-08-04"]
[null,null,null,null,null,null,"2023-08-05"]
[null,null,null,null,null,null,"2023-08-06"]
[null,null,null,null,null,null,"2023-08-07"]
[null,null,null,null,null,null,"2023-08-08"]
[null,null,null,null,null,null,"2023-08-09"]
[null,null,null,null,null,null,"2023-08-10"]
[null,null,null,null,null,null,"2023-08-11"]
[null,null,null,null,null,null,"2023-08-12"]
[null,null,null,null,null,null,"2023-08-13"]
[null,null,null,null,null,null,"2023-08-14"]
[null,null,null,null,null,null,"2023-08-15"]
[null,null,null,null,null,null,"2023-08-16"]
[null,null,null,null,null,null,"2023-08-17"]
[null,null,null,null,null,null,"2023-08-18"]
[null,null,null,null,null,null,"2023-08-19"]
[null,null,null,null,null,null,"2023-08-20"]
[null,null,null,null,null,null,"2023-08-21"]
[null,null,null,null,null,null,"2023-08-22"]
[null,null,null,null,null,null,"2023-08-23"]
[null,null,null,null,null,null,"2023-08-24"]
[null,null,null,null,null,null,"2023-08-25"]
[null,null,null,null,null,null,"2023-08-26"]
[null,null,null,null,null,null,"2023-08-27"]
[null,null,null,null,null,null,"2023-08-28"]
[null,null,null,null,null,null,"2023-08-29"]
[null,null,null,null,null,null,"2023-08-30"]
[null,null,null,null,null,null,{"$f":"G3075+1","v":"2023-08-31"}]
[null,null,null,null,null,null,"2023-09-01"]
[null,null,null,null,null,null,"2023-09-02"]
[null,null,null,null,null,null,"2023-09-03"]
[null,null,null,null,null,null,"2023-09-04"]
[null,null,null,null,null,null,"2023-09-05"]
[null,null,null,null,null,null,"2023-09-06"]
[null,null,null,null,null,null,"2023-09-07"]
[null,null,null,null,null,null,"2023-09-08"]
[null,null,null,null,null,null,"2023-09-09"]
[null,null,null,null,null,null,"2023-09-10"]
[null,null,null,null,null,null,"2023-09-11"]
[null,null,null,null,null,null,"2023-09-12"]
[null,null,null,null,null,null,"2023-09-13"]
[null,null,null,null,null,null,"2023-09-14"]
[null,null,null,null,null,null,"2023-09-15"]
[null,null,null,null,null,null,"2023-09-16"]
[null,null,null,null,null,null,"2023-09-17"]
[null,null,null,null,null,null,"2023-09-18"]
[null,null,null,null,null,null,"2023-09-19"]
[null,null,null,null,null,null,"2023-09-20"]
[null,null,null,null,null,null,"2023-09-21"]
[null,null,null,null,null,null,"2023-09-22"]
[null,null,null,null,null,null,"2023-09-23"]
[null,null,null,null,null,null,"2023-09-24"]
[null,null,null,null,null,null,"2023-09-25"]
[null,null,null,null,null,null,"2023-09-26"]
[null,null,null,null,null,null,"2023-09-27"]
[null,null,null,null,null,null,"2023-09-28"]
[null,null,null,null,null,null,"2023-09-29"]
[null,null,null,null,null,null,"2023-09-30"]
[null,null,null,null,null,null,"2023-10-01"]
[null,null,null,null,null,null,"2023-10-02"]
[null,null,null,null,null,null,"2023-10-03"]
[null,null,null,null,null,null,"2023-10-04"]
[null,null,null,null,null,null,"2023-10-05"]
[null,null,null,null,null,null,"2023-10-06"]
[null,null,null,null,null,null,"2023-10-07"]
[null,null,null,null,null,null,"2023-10-08"]
[null,null,null,null,null,null,"2023-10-09"]
[null,null,null,null,null,null,"2023-10-10"]
[null,null,null,null,null,null,"2023-10-11"]
[null,null,null,null,null,null,"2023-10-12"]
[null,null,null,null,null,null,"2023-10-13"]
[null,null,null,null,null,null,"2023-10-14"]
[null,null,null,null,null,null,"2023-10-15"]
[null,null,null,null,null,null,"2023-10-16"]
[null,null,null,null,null,null,"2023-10-17"]
[null,null,null,null,null,null,"2023-10-18"]
[null,null,null,null,null,null,"2023-10-19"]
[null,null,null,null,null,null,"2023-10-20"]
[null,null,null,null,null,null,"2023-10-21"]
[null,null,null,null,null,null,"2023-10-22"]
[null,null,null,null,null,null,"2023-10-23"]
[null,null,null,null,null,null,"2023-10-24"]
[null,null,null,null,null,null,"2023-10-25"]
[null,null,null,null,null,null,"2023-10-26"]
[null,null,null,null,null,null,"2023-10-27"]
[null,null,null,null,null,null,"2023-10-28"]
[null,null,null,null,null,null,"2023-10-29"]
[null,null,null,null,null,null,"2023-10-30"]
[null,null,null,null,null,null,"2023-10-31"]
[null,null,null,null,null,null,"2023-11-01"]
[null,null,null,null,null,null,"2023-11-02"]
[null,null,null,null,null,null,{"$f":"G3139+1","v":"2023-11-03"}]
[null,null,null,null,null,null,"2023-11-04"]
[null,null,null,null,null,null,"2023-11-05"]
[null,null,null,null,null,null,"2023-11-06"]
[null,null,null,null,null,null,"2023-11-07"]
[null,null,null,null,null,null,"2023-11-08"]
[null,null,null,null,null,null,"2023-11-09"]
[null,null,null,null,null,null,"2023-11-10"]
[null,null,null,null,null,null,"2023-11-11"]
[null,null,null,null,null,null,"2023-11-12"]
[null,null,null,null,null,null,"2023-11-13"]
[null,null,null,null,null,null,"2023-11-14"]
[null,null,null,null,null,null,"2023-11-15"]
[null,null,null,null,null,null,"2023-11-16"]
[null,null,null,null,null,null,"2023-11-17"]
[null,null,null,null,null,null,"2023-11-18"]
[null,null,null,null,null,null,"2023-11-19"]
[null,null,null,null,null,null,"2023-11-20"]
[null,null,null,null,null,null,"2023-11-21"]
[null,null,null,null,null,null,"2023-11-22"]
[null,null,null,null,null,null,"2023-11-23"]
[null,null,null,null,null,null,"2023-11-24"]
[null,null,null,null,null,null,"2023-11-25"]
[null,null,null,null,null,null,"2023-11-26"]
[null,null,null,null,null,null,"2023-11-27"]
[null,null,null,null,null,null,"2023-11-28"]
[null,null,null,null,null,null,"2023-11-29"]
[null,null,null,null,null,null,"2023-11-30"]
[null,null,null,null,null,null,"2023-12-01"]
[null,null,null,null,null,null,"2023-12-02"]
[null,null,null,null,null,null,"2023-12-03"]
[null,null,null,null,null,null,"2023-12-04"]
[null,null,null,null,null,null,"2023-12-05"]
[null,null,null,null,null,null,"2023-12-06"]
[null,null,null,null,null,null,"2023-12-07"]
[null,null,null,null,null,null,"2023-12-08"]
[null,null,null,null,null,null,"2023-12-09"]
[null,null,null,null,null,null,"2023-12-10"]
[null,null,null,null,null,null,"2023-12-11"]
[null,null,null,null,null,null,"2023-12-12"]
[null,null,null,null,null,null,"2023-12-13"]
[null,null,null,null,null,null,"2023-12-14"]
[null,null,null,null,null,null,"2023-12-15"]
[null,null,null,null,null,null,"2023-12-16"]
[null,null,null,null,null,null,"2023-12-17"]
[null,null,null,null,null,null,"2023-12-18"]
[null,null,null,null,null,null,"2023-12-19"]
[null,null,null,null,null,null,"2023-12-20"]
[null,null,null,null,null,null,"2023-12-21"]
[null,null,null,null,null,null,"2023-12-22"]
[null,null,null,null,null,null,"2023-12-23"]
[null,null,null,null,null,null,"2023-12-24"]
[null,null,null,null,null,null,"2023-12-25"]
[null,null,null,null,null,null,"2023-12-26"]
[null,null,null,null,null,null,"2023-12-27"]
[null,null,null,null,null,null,"2023-12-28"]
[null,null,null,null,null,null,"2023-12-29"]
[null,null,null,null,null,null,"2023-12-30"]
[null,null,null,null,null,null,"2023-12-31"]
[null,null,null,null,null,null,"2024-01-01"]
[null,null,null,null,null,null,"2024-01-02"]
[null,null,null,null,null,null,"2024-01-03"]
[null,null,null,null,null,null,"2024-01-04"]
[null,null,null,null,null,null,"2024-01-05"]
[null,null,null,null,null,null,{"$f":"G3203+1","v":"2024-01-06"}]
[null,null,null,null,null,null,"2024-01-07"]
[null,null,null,null,null,null,"2024-01-08"]
[null,null,null,null,null,null,"2024-01-09"]
[null,null,null,null,null,null,"2024-01-10"]
[null,null,null,null,null,null,"2024-01-11"]
[null,null,null,null,null,null,"2024-01-12"]
[null,null,null,null,null,null,"2024-01-13"]
[null,null,null,null,null,null,"2024-01-14"]
[null,null,null,null,null,null,"2024-01-15"]
[null,null,null,null,null,null,"2024-01-16"]
[null,null,null,null,null,null,"2024-01-17"]
[null,null,null,null,null,null,"2024-01-18"]
[null,null,null,null,null,null,"2024-01-19"]
[null,null,null,null,null,null,"2024-01-20"]
[null,null,null,null,null,null,"2024-01-21"]
[null,null,null,null,null,null,"2024-01-22"]
[null,null,null,null,null,null,"2024-01-23"]
[null,null,null,null,null,null,"2024-01-24"]
[null,null,null,null,null,null,"2024-01-25"]
[null,null,null,null,null,null,"2024-01-26"]
[null,null,null,null,null,null,"2024-01-27"]
[null,null,null,null,null,null,"2024-01-28"]
[null,null,null,null,null,null,"2024-01-29"]
[null,null,null,null,null,null,"2024-01-30"]
[null,null,null,null,null,null,"2024-01-31"]
[null,null,null,null,null,null,"2024-02-01"]
[null,null,null,null,null,null,"2024-02-02"]
[null,null,null,null,null,null,"2024-02-03"]
[null,null,null,null,null,null,"2024-02-04"]
[null,null,null,null,null,null,"2024-02-05"]
[null,null,null,null,null,null,"2024-02-06"]
[null,null,null,null,null,null,"2024-02-07"]
[null,null,null,null,null,null,"2024-02-08"]
[null,null,null,null,null,null,"2024-02-09"]
[null,null,null,null,null,null,"2024-02-10"]
[null,null,null,null,null,null,"2024-02-11"]
[null,null,null,null,null,null,"2024-02-12"]
[null,null,null,null,null,null,"2024-02-13"]
[null,null,null,null,null,null,"2024-02-14"]
[null,null,null,null,null,null,"2024-02-15"]
[null,null,null,null,null,null,"2024-02-16"]
[null,null,null,null,null,null,"2024-02-17"]
[null,null,null,null,null,null,"2024-02-18"]
[null,null,null,null,null,null,"2024-02-19"]
[null,null,null,null,null,null,"2024-02-20"]
[null,null,null,null,null,null,"2024-02-21"]
[null,null,null,null,null,null,"2024-02-22"]
[null,null,null,null,null,null,"2024-02-23"]
[null,null,null,null,null,null,"2024-02-24"]
[null,null,null,null,null,null,"2024-02-25"]
[null,null,null,null,null,null,"2024-02-26"]
[null,null,null,null,null,null,"2024-02-27"]
[null,null,null,null,null,null,"2024-02-28"]
[null,null,null,null,null,null,"2024-02-29"]
[null,null,null,null,null,null,"2024-03-01"]
[null,null,null,null,null,null,"2024-03-02"]
[null,null,null,null,null,null,"2024-03-03"]
[null,null,null,null,null,null,"2024-03-04"]
[null,null,null,null,null,null,"2024-03-05"]
[null,null,null,null,null,null,"2024-03-06"]
[null,null,null,null,null,null,"2024-03-07"]
[null,null,null,null,null,null,"2024-03-08"]
[null,null,null,null,null,null,"2024-03-09"]
[null,null,null,null,null,null,{"$f":"G3267+1","v":"2024-03-10"}]
[null,null,null,null,null,null,"2024-03-11"]
[null,null,null,null,null,null,"2024-03-12"]
[null,null,null,null,null,null,"2024-03-13"]
[null,null,null,null,null,null,"2024-03-14"]
[null,null,null,null,null,null,"2024-03-15"]
[null,null,null,null,null,null,"2024-03-16"]
[null,null,null,null,null,null,"2024-03-17"]
[null,null,null,null,null,null,"2024-03-18"]
[null,null,null,null,null,null,"2024-03-19"]
[null,null,null,null,null,null,"2024-03-20"]
[null,null,null,null,null,null,"2024-03-21"]
[null,null,null,null,null,null,"2024-03-22"]
[null,null,null,null,null,null,"2024-03-23"]
[null,null,null,null,null,null,"2024-03-24"]
[null,null,null,null,null,null,"2024-03-25"]
[null,null,null,null,null,null,"2024-03-26"]
[null,null,null,null,null,null,"2024-03-27"]
[null,null,null,null,null,null,"2024-03-28"]
[null,null,null,null,null,null,"2024-03-29"]
[null,null,null,null,null,null,"2024-03-30"]
[null,null,null,null,null,null,"2024-03-31"]
[null,null,null,null,null,null,"2024-04-01"]
[null,null,null,null,null,null,"2024-04-02"]
[null,null,null,null,null,null,"2024-04-03"]
[null,null,null,null,null,null,"2024-04-04"]
[null,null,null,null,null,null,"2024-04-05"]
[null,null,null,null,null,null,"2024-04-06"]
[null,null,null,null,null,null,"2024-04-07"]
[null,null,null,null,null,null,"2024-04-08"]
[null,null,null,null,null,null,"2024-04-09"]
[null,null,null,null,null,null,"2024-04-10"]
[null,null,null,null,null,null,"2024-04-11"]
[null,null,null,null,null,null,"2024-04-12"]
[null,null,null,null,null,null,"2024-04-13"]
[null,null,null,null,null,null,"2024-04-14"]
[null,null,null,null,null,null,"2024-04-15"]
[null,null,null,null,null,null,"2024-04-16"]
[null,null,null,null,null,null,"2024-04-17"]
[null,null,null,null,null,null,"2024-04-18"]
[null,null,null,null,null,null,"2024-04-19"]
[null,null,null,null,null,null,"2024-04-20"]
[null,null,null,null,null,null,"2024-04-21"]
[null,null,null,null,null,null,"2024-04-22"]
[null,null,null,null,null,null,"2024-04-23"]
[null,null,null,null,null,null,"2024-04-24"]
[null,null,null,null,null,null,"2024-04-25"]
[null,null,null,null,null,null,"2024-04-26"]
[null,null,null,null,null,null,"2024-04-27"]
[null,null,null,null,null,null,"2024-04-28"]
[null,null,null,null,null,null,"2024-04-29"]
[null,null,null,null,null,null,"2024-04-30"]
[null,null,null,null,null,null,"2024-05-01"]
[null,null,null,null,null,null,"2024-05-02"]
[null,null,null,null,null,null,"2024-05-03"]
[null,null,null,null,null,null,"2024-05-04"]
[null,null,null,null,null,null,"2024-05-05"]
[null,null,null,null,null,null,"2024-05-06"]
[null,null,null,null,null,null,"2024-05-07"]
[null,null,null,null,null,null,"2024-05-08"]
[null,null,null,null,null,null,"2024-05-09"]
[null,null,null,null,null,null,"2024-05-10"]
[null,null,null,null,null,null,"2024-05-11"]
[null,null,null,null,null,null,"2024-05-12"]
[null,null,null,null,null,null,{"$f":"G3331+1","v":"2024-05-13"}]
[null,null,null,null,null,null,"2024-05-14"]
[null,null,null,null,null,null,"2024-05-15"]
[null,null,null,null,null,null,"2024-05-16"]
[null,null,null,null,null,null,"2024-05-17"]
[null,null,null,null,null,null,"2024-05-18"]
[null,null,null,null,null,null,"2024-05-19"]
[null,null,null,null,null,null,"2024-05-20"]
[null,null,null,null,null,null,"2024-05-21"]
[null,null,null,null,null,null,"2024-05-22"]
[null,null,null,null,null,null,"2024-05-23"]
[null,null,null,null,null,null,"2024-05-24"]
[null,null,null,null,null,null,"2024-05-25"]
[null,null,null,null,null,null,"2024-05-26"]
[null,null,null,null,null,null,"2024-05-27"]
[null,null,null,null,null,null,"2024-05-28"]
[null,null,null,null,null,null,"2024-05-29"]
[null,null,null,null,null,null,"2024-05-30"]
[null,null,null,null,null,null,"2024-05-31"]
[null,null,null,null,null,null,"2024-06-01"]
[null,null,null,null,null,null,"2024-06-02"]
[null,null,null,null,null,null,"2024-06-03"]
[null,null,null,null,null,null,"2024-06-04"]
[null,null,null,null,null,null,"2024-06-05"]
[null,null,null,null,null,null,"2024-06-06"]
[null,null,null,null,null,null,"2024-06-07"]
[null,null,null,null,null,null,"2024-06-08"]
[null,null,null,null,null,null,"2024-06-09"]
[null,null,null,null,null,null,"2024-06-10"]
[null,null,null,null,null,null,"2024-06-11"]
[null,null,null,null,null,null,"2024-06-12"]
[null,null,null,null,null,null,"2024-06-13"]
[null,null,null,null,null,null,"2024-06-14"]
[null,null,null,null,null,null,"2024-06-15"]
[null,null,null,null,null,null,"2024-06-16"]
[null,null,null,null,null,null,"2024-06-17"]
[null,null,null,null,null,null,"2024-06-18"]
[null,null,null,null,null,null,"2024-06-19"]
[null,null,null,null,null,null,"2024-06-20"]
[null,null,null,null,null,null,"2024-06-21"]
[null,null,null,null,null,null,"2024-06-22"]
[null,null,null,null,null,null,"2024-06-23"]
[null,null,null,null,null,null,"2024-06-24"]
[null,null,null,null,null,null,"2024-06-25"]
[null,null,null,null,null,null,"2024-06-26"]
[null,null,null,null,null,null,"2024-06-27"]
[null,null,null,null,null,null,"2024-06-28"]
[null,null,null,null,null,null,"2024-06-29"]
[null,null,null,null,null,null,"2024-06-30"]
[null,null,null,null,null,null,"2024-07-01"]
[null,null,null,null,null,null,"2024-07-02"]
[null,null,null,null,null,null,"2024-07-03"]
[null,null,null,null,null,null,"2024-07-04"]
[null,null,null,null,null,null,"2024-07-05"]
[null,null,null,null,null,null,"2024-07-06"]
[null,null,null,null,null,null,"2024-07-07"]
[null,null,null,null,null,null,"2024-07-08"]
[null,null,null,null,null,null,"2024-07-09"]
[null,null,null,null,null,null,"2024-07-10"]
[null,null,null,null,null,null,"2024-07-11"]
[null,null,null,null,null,null,"2024-07-12"]
[null,null,null,null,null,null,"2024-07-13"]
[null,null,null,null,null,null,"2024-07-14"]
[null,null,null,null,null,null,"2024-07-15"]
[null,null,null,null,null,null,{"$f":"G3395+1","v":"2024-07-16"}]
[null,null,null,null,null,null,"2024-07-17"]
[null,null,null,null,null,null,"2024-07-18"]
[null,null,null,null,null,null,"2024-07-19"]
[null,null,null,null,null,null,"2024-07-20"]
[null,null,null,null,null,null,"2024-07-21"]
[null,null,null,null,null,null,"2024-07-22"]
[null,null,null,null,null,null,"2024-07-23"]
[null,null,null,null,null,null,"2024-07-24"]
[null,null,null,null,null,null,"2024-07-25"]
[null,null,null,null,null,null,"2024-07-26"]
[null,null,null,null,null,null,"2024-07-27"]
[null,null,null,null,null,null,"2024-07-28"]
[null,null,null,null,null,null,"2024-07-29"]
[null,null,null,null,null,null,"2024-07-30"]
[null,null,null,null,null,null,"2024-07-31"]
[null,null,null,null,null,null,"2024-08-01"]
[null,null,null,null,null,null,"2024-08-02"]
[null,null,null,null,null,null,"2024-08-03"]
[null,null,null,null,null,null,"2024-08-04"]
[null,null,null,null,null,null,"2024-08-05"]
[null,null,null,null,null,null,"2024-08-06"]
[null,null,null,null,null,null,"2024-08-07"]
[null,null,null,null,null,null,"2024-08-08"]
[null,null,null,null,null,null,"2024-08-09"]
[null,null,null,null,null,null,"2024-08-10"]
[null,null,null,null,null,null,"2024-08-11"]
[null,null,null,null,null,null,"2024-08-12"]
[null,null,null,null,null,null,"2024-08-13"]
[null,null,null,null,null,null,"2024-08-14"]
[null,null,null,null,null,null,"2024-08-15"]
[null,null,null,null,null,null,"2024-08-16"]
[null,null,null,null,null,null,"2024-08-17"]
[null,null,null,null,null,null,"2024-08-18"]
[null,null,null,null,null,null,"2024-08-19"]
[null,null,null,null,null,null,"2024-08-20"]
[null,null,null,null,null,null,"2024-08-21"]
[null,null,null,null,null,null,"2024-08-22"]
[null,null,null,null,null,null,"2024-08-23"]
[null,null,null,null,null,null,"2024-08-24"]
[null,null,null,null,null,null,"2024-08-25"]
[null,null,null,null,null,null,"2024-08-26"]
[null,null,null,null,null,null,"2024-08-27"]
[null,null,null,null,null,null,"2024-08-28"]
[null,null,null,null,null,null,"2024-08-29"]
[null,null,null,null,null,null,"2024-08-30"]
[null,null,null,null,null,null,"2024-08-31"]
[null,null,null,null,null,null,"2024-09-01"]
[null,null,null,null,null,null,"2024-09-02"]
[null,null,null,null,null,null,"2024-09-03"]
[null,null,null,null,null,null,"2024-09-04"]
[null,null,null,null,null,null,"2024-09-05"]
[null,null,null,null,null,null,"2024-09-06"]
[null,null,null,null,null,null,"2024-09-07"]
[null,null,null,null,null,null,"2024-09-08"]
[null,null,null,null,null,null,"2024-09-09"]
[null,null,null,null,null,null,"2024-09-10"]
[null,null,null,null,null,null,"2024-09-11"]
[null,null,null,null,null,null,"2024-09-12"]
[null,null,null,null,null,null,"2024-09-13"]
[null,null,null,null,null,null,"2024-09-14"]
[null,null,null,null,null,null,"2024-09-15"]
[null,null,null,null,null,null,"2024-09-16"]
[null,null,null,null,null,null,"2024-09-17"]
[null,null,null,null,null,null,{"$f":"G3459+1","v":"2024-09-18"}]
[null,null,null,null,null,null,"2024-09-19"]
[null,null,null,null,null,null,"2024-09-20"]
[null,null,null,null,null,null,"2024-09-21"]
[null,null,null,null,null,null,"2024-09-22"]
[null,null,null,null,null,null,"2024-09-23"]
[null,null,null,null,null,null,"2024-09-24"]
[null,null,null,null,null,null,"2024-09-25"]
[null,null,null,null,null,null,"2024-09-26"]
[null,null,null,null,null,null,"2024-09-27"]
[null,null,null,null,null,null,"2024-09-28"]
[null,null,null,null,null,null,"2024-09-29"]
[null,null,null,null,null,null,"2024-09-30"]
[null,null,null,null,null,null,"2024-10-01"]
[null,null,null,null,null,null,"2024-10-02"]
[null,null,null,null,null,null,"2024-10-03"]
[null,null,null,null,null,null,"2024-10-04"]
[null,null,null,null,null,null,"2024-10-05"]
[null,null,null,null,null,null,"2024-10-06"]
[null,null,null,null,null,null,"2024-10-07"]
[null,null,null,null,null,null,"2024-10-08"]
[null,null,null,null,null,null,"2024-10-09"]
[null,null,null,null,null,null,"2024-10-10"]
[null,null,null,null,null,null,"2024-10-11"]
[null,null,null,null,null,null,"2024-10-12"]
[null,null,null,null,null,null,"2024-10-13"]
[null,null,null,null,null,null,"2024-10-14"]
[null,null,null,null,null,null,"2024-10-15"]
[null,null,null,null,null,null,"2024-10-16"]
[null,null,null,null,null,null,"2024-10-17"]
[null,null,null,null,null,null,"2024-10-18"]
[null,null,null,null,null,null,"2024-10-19"]
[null,null,null,null,null,null,"2024-10-20"]
[null,null,null,null,null,null,"2024-10-21"]
[null,null,null,null,null,null,"2024-10-22"]
[null,null,null,null,null,null,"2024-10-23"]
[null,null,null,null,null,null,"2024-10-24"]
[null,null,null,null,null,null,"2024-10-25"]
[null,null,null,null,null,null,"2024-10-26"]
[null,null,null,null,null,null,"2024-10-27"]
[null,null,null,null,null,null,"2024-10-28"]
[null,null,null,null,null,null,"2024-10-29"]
[null,null,null,null,null,null,"2024-10-30"]
[null,null,null,null,null,null,"2024-10-31"]
[null,null,null,null,null,null,"2024-11-01"]
[null,null,null,null,null,null,"2024-11-02"]
[null,null,null,null,null,null,"2024-11-03"]
[null,null,null,null,null,null,"2024-11-04"]
[null,null,null,null,null,null,"2024-11-05"]
[null,null,null,null,null,null,"2024-11-06"]
[null,null,null,null,null,null,"2024-11-07"]
[null,null,null,null,null,null,"2024-11-08"]
[null,null,null,null,null,null,"2024-11-09"]
[null,null,null,null,null,null,"2024-11-10"]
[null,null,null,null,null,null,"2024-11-11"]
[null,null,null,null,null,null,"2024-11-12"]
[null,null,null,null,null,null,"2024-11-13"]
[null,null,null,null,null,null,"2024-11-14"]
[null,null,null,null,null,null,"2024-11-15"]
[null,null,null,null,null,null,"2024-11-16"]
[null,null,null,null,null,null,"2024-11-17"]
[null,null,null,null,null,null,"2024-11-18"]
[null,null,null,null,null,null,"2024-11-19"]
[null,null,null,null,null,null,"2024-11-20"]
[null,null,null,null,null,null,{"$f":"G3523+1","v":"2024-11-21"}]
[null,null,null,null,null,null,"2024-11-22"]
[null,null,null,null,null,null,"2024-11-23"]
[null,null,null,null,null,null,"2024-11-24"]
[null,null,null,null,null,null,"2024-11-25"]
[null,null,null,null,null,null,"2024-11-26"]
[null,null,null,null,null,null,"2024-11-27"]
[null,null,null,null,null,null,"2024-11-28"]
[null,null,null,null,null,null,"2024-11-29"]
[null,null,null,null,null,null,"2024-11-30"]
[null,null,null,null,null,null,"2024-12-01"]
[null,null,null,null,null,null,"2024-12-02"]
[null,null,null,null,null,null,"2024-12-03"]
[null,null,null,null,null,null,"2024-12-04"]
[null,null,null,null,null,null,"2024-12-05"]
[null,null,null,null,null,null,"2024-12-06"]
[null,null,null,null,null,null,"2024-12-07"]
[null,null,null,null,null,null,"2024-12-08"]
[null,null,null,null,null,null,"2024-12-09"]
[null,null,null,null,null,null,"2024-12-10"]
[null,null,null,null,null,null,"2024-12-11"]
[null,null,null,null,null,null,"2024-12-12"]
[null,null,null,null,null,null,"2024-12-13"]
[null,null,null,null,null,null,"2024-12-14"]
[null,null,null,null,null,null,"2024-12-15"]
[null,null,null,null,null,null,"2024-12-16"]
[null,null,null,null,null,null,"2024-12-17"]
[null,null,null,null,null,null,"2024-12-18"]
[null,null,null,null,null,null,"2024-12-19"]
[null,null,null,null,null,null,"2024-12-20"]
[null,null,null,null,null,null,"2024-12-21"]
[null,null,null,null,null,null,"2024-12-22"]
[null,null,null,null,null,null,"2024-12-23"]
[null,null,null,null,null,null,"2024-12-24"]
[null,null,null,null,null,null,"2024-12-25"]
[null,null,null,null,null,null,"2024-12-26"]
[null,null,null,null,null,null,"2024-12-27"]
[null,null,null,null,null,null,"2024-12-28"]
[null,null,null,null,null,null,"2024-12-29"]
[null,null,null,null,null,null,"2024-12-30"]
[null,null,null,null,null,null,"2024-12-31"]
[null,null,null,null,null,null,"2025-01-01"]
[null,null,null,null,null,null,"2025-01-02"]
[null,null,null,null,null,null,"2025-01-03"]
[null,null,null,null,null,null,"2025-01-04"]
[null,null,null,null,null,null,"2025-01-05"]
[null,null,null,null,null,null,"2025-01-06"]
[null,null,null,null,null,null,"2025-01-07"]
[null,null,null,null,null,null,"2025-01-08"]
[null,null,null,null,null,null,"2025-01-09"]
[null,null,null,null,null,null,"2025-01-10"]
[null,null,null,null,null,null,"2025-01-11"]
[null,null,null,null,null,null,"2025-01-12"]
[null,null,null,null,null,null,"2025-01-13"]
[null,null,null,null,null,null,"2025-01-14"]
[null,null,null,null,null,null,"2025-01-15"]
[null,null,null,null,null,null,"2025-01-16"]
[null,null,null,null,null,null,"2025-01-17"]
[null,null,null,null,null,null,"2025-01-18"]
[null,null,null,null,null,null,"2025-01-19"]
[null,null,null,null,null,null,"2025-01-20"]
[null,null,null,null,null,null,"2025-01-21"]
[null,null,null,null,null,null,"2025-01-22"]
[null,null,null,null,null,null,"2025-01-23"]
[null,null,null,null,null,null,{"$f":"G3587+1","v":"2025-01-24"}]
[null,null,null,null,null,null,"2025-01-25"]
[null,null,null,null,null,null,"2025-01-26"]
[null,null,null,null,null,null,"2025-01-27"]
[null,null,null,null,null,null,"2025-01-28"]
[null,null,null,null,null,null,"2025-01-29"]
[null,null,null,null,null,null,"2025-01-30"]
[null,null,null,null,null,null,"2025-01-31"]
[null,null,null,null,null,null,"2025-02-01"]
[null,null,null,null,null,null,"2025-02-02"]
[null,null,null,null,null,null,"2025-02-03"]
[null,null,null,null,null,null,"2025-02-04"]
[null,null,null,null,null,null,"2025-02-05"]
[null,null,null,null,null,null,"2025-02-06"]
[null,null,null,null,null,null,"2025-02-07"]
[null,null,null,null,null,null,"2025-02-08"]
[null,null,null,null,null,null,"2025-02-09"]
[null,null,null,null,null,null,"2025-02-10"]
[null,null,null,null,null,null,"2025-02-11"]
[null,null,null,null,null,null,"2025-02-12"]
[null,null,null,null,null,null,"2025-02-13"]
[null,null,null,null,null,null,"2025-02-14"]
[null,null,null,null,null,null,"2025-02-15"]
[null,null,null,null,null,null,"2025-02-16"]
[null,null,null,null,null,null,"2025-02-17"]
[null,null,null,null,null,null,"2025-02-18"]
[null,null,null,null,null,null,"2025-02-19"]
[null,null,null,null,null,null,"2025-02-20"]
[null,null,null,null,null,null,"2025-02-21"]
[null,null,null,null,null,null,"2025-02-22"]
[null,null,null,null,null,null,"2025-02-23"]
[null,null,null,null,null,null,"2025-02-24"]
[null,null,null,null,null,null,"2025-02-25"]
[null,null,null,null,null,null,"2025-02-26"]
[null,null,null,null,null,null,"2025-02-27"]
[null,null,null,null,null,null,"2025-02-28"]
[null,null,null,null,null,null,"2025-03-01"]
[null,null,null,null,null,null,"2025-03-02"]
[null,null,null,null,null,null,"2025-03-03"]
[null,null,null,null,null,null,"2025-03-04"]
[null,null,null,null,null,null,"2025-03-05"]
[null,null,null,null,null,null,"2025-03-06"]
[null,null,null,null,null,null,"2025-03-07"]
[null,null,null,null,null,null,"2025-03-08"]
[null,null,null,null,null,null,"2025-03-09"]
[null,null,null,null,null,null,"2025-03-10"]
[null,null,null,null,null,null,"2025-03-11"]
[null,null,null,null,null,null,"2025-03-12"]
[null,null,null,null,null,null,"2025-03-13"]
[null,null,null,null,null,null,"2025-03-14"]
[null,null,null,null,null,null,"2025-03-15"]
[null,null,null,null,null,null,"2025-03-16"]
[null,null,null,null,null,null,"2025-03-17"]
[null,null,null,null,null,null,"2025-03-18"]
[null,null,null,null,null,null,"2025-03-19"]
[null,null,null,null,null,null,"2025-03-20"]
[null,null,null,null,null,null,"2025-03-21"]
[null,null,null,null,null,null,"2025-03-22"]
[null,null,null,null,null,null,"2025-03-23"]
[null,null,null,null,null,null,"2025-03-24"]
[null,null,null,null,null,null,"2025-03-25"]
[null,null,null,null,null,null,"2025-03-26"]
[null,null,null,null,null,null,"2025-03-27"]
[null,null,null,null,null,null,"2025-03-28"]
[null,null,null,null,null,null,{"$f":"G3651+1","v":"2025-03-29"}]
[null,null,null,null,null,null,"2025-03-30"]
[null,null,null,null,null,null,"2025-03-31"]
[null,null,null,null,null,null,"2025-04-01"]
[null,null,null,null,null,null,"2025-04-02"]
[null,null,null,null,null,null,"2025-04-03"]
[null,null,null,null,null,null,"2025-04-04"]
[null,null,null,null,null,null,"2025-04-05"]
[null,null,null,null,null,null,"2025-04-06"]
[null,null,null,null,null,null,"2025-04-07"]
[null,null,null,null,null,null,"2025-04-08"]
[null,null,null,null,null,null,"2025-04-09"]
[null,null,null,null,null,null,"2025-04-10"]
[null,null,null,null,null,null,"2025-04-11"]
[null,null,null,null,null,null,"2025-04-12"]
[null,null,null,null,null,null,"2025-04-13"]
[null,null,null,null,null,null,"2025-04-14"]
[null,null,null,null,null,null,"2025-04-15"]
[null,null,null,null,null,null,"2025-04-16"]
[null,null,null,null,null,null,"2025-04-17"]
[null,null,null,null,null,null,"2025-04-18"]
[null,null,null,null,null,null,"2025-04-19"]
[null,null,null,null,null,null,"2025-04-20"]
[null,null,null,null,null,null,"2025-04-21"]
[null,null,null,null,null,null,"2025-04-22"]
[null,null,null,null,null,null,"2025-04-23"]
[null,null,null,null,null,null,"2025-04-24"]
[null,null,null,null,null,null,"2025-04-25"]
[null,null,null,null,null,null,"2025-04-26"]
[null,null,null,null,null,null,"2025-04-27"]
[null,null,null,null,null,null,"2025-04-28"]
[null,null,null,null,null,null,"2025-04-29"]
[null,null,null,null,null,null,"2025-04-30"]
[null,null,null,null,null,null,"2025-05-01"]
[null,null,null,null,null,null,"2025-05-02"]
[null,null,null,null,null,null,"2025-05-03"]
[null,null,null,null,null,null,"2025-05-04"]
[null,null,null,null,null,null,"2025-05-05"]
[null,null,null,null,null,null,"2025-05-06"]
[null,null,null,null,null,null,"2025-05-07"]
[null,null,null,null,null,null,"2025-05-08"]
[null,null,null,null,null,null,"2025-05-09"]
[null,null,null,null,null,null,"2025-05-10"]
[null,null,null,null,null,null,"2025-05-11"]
[null,null,null,null,null,null,"2025-05-12"]
[null,null,null,null,null,null,"2025-05-13"]
[null,null,null,null,null,null,"2025-05-14"]
[null,null,null,null,null,null,"2025-05-15"]
[null,null,null,null,null,null,"2025-05-16"]
[null,null,null,null,null,null,"2025-05-17"]
[null,null,null,null,null,null,"2025-05-18"]
[null,null,null,null,null,null,"2025-05-19"]
[null,null,null,null,null,null,"2025-05-20"]
[null,null,null,null,null,null,"2025-05-21"]
[null,null,null,null,null,null,"2025-05-22"]
[null,null,null,null,null,null,"2025-05-23"]
[null,null,null,null,null,null,"2025-05-24"]
[null,null,null,null,null,null,"2025-05-25"]
[null,null,null,null,null,null,"2025-05-26"]
[null,null,null,null,null,null,"2025-05-27"]
[null,null,null,null,null,null,"2025-05-28"]
[null,null,null,null,null,null,"2025-05-29"]
[null,null,null,null,null,null,"2025-05-30"]
[null,null,null,null,null,null,"2025-05-31"]
[null,null,null,null,null,null,{"$f":"G3715+1","v":"2025-06-01"}]
[null,null,null,null,null,null,"2025-06-02"]
[null,null,null,null,null,null,"2025-06-03"]
[null,null,null,null,null,null,"2025-06-04"]
[null,null,null,null,null,null,"2025-06-05"]
[null,null,null,null,null,null,"2025-06-06"]
[null,null,null,null,null,null,"2025-06-07"]
[null,null,null,null,null,null,"2025-06-08"]
[null,null,null,null,null,null,"2025-06-09"]
[null,null,null,null,null,null,"2025-06-10"]
[null,null,null,null,null,null,"2025-06-11"]
[null,null,null,null,null,null,"2025-06-12"]
[null,null,null,null,null,null,"2025-06-13"]
[null,null,null,null,null,null,"2025-06-14"]
[null,null,null,null,null,null,"2025-06-15"]
[null,null,null,null,null,null,"2025-06-16"]
[null,null,null,null,null,null,"2025-06-17"]
[null,null,null,null,null,null,"2025-06-18"]
[null,null,null,null,null,null,"2025-06-19"]
[null,null,null,null,null,null,"2025-06-20"]
[null,null,null,null,null,null,"2025-06-21"]
[null,null,null,null,null,null,"2025-06-22"]
[null,null,null,null,null,null,"2025-06-23"]
[null,null,null,null,null,null,"2025-06-24"]
[null,null,null,null,null,null,"2025-06-25"]
[null,null,null,null,null,null,"2025-06-26"]
[null,null,null,null,null,null,"2025-06-27"]
[null,null,null,null,null,null,"2025-06-28"]
[null,null,null,null,null,null,"2025-06-29"]
[null,null,null,null,null,null,"2025-06-30"]
[null,null,null,null,null,null,"2025-07-01"]
[null,null,null,null,null,null,"2025-07-02"]
[null,null,null,null,null,null,"2025-07-03"]
[null,null,null,null,null,null,"2025-07-04"]
[null,null,null,null,null,null,"2025-07-05"]
[null,null,null,null,null,null,"2025-07-06"]
[null,null,null,null,null,null,"2025-07-07"]
[null,null,null,null,null,null,"2025-07-08"]
[null,null,null,null,null,null,"2025-07-09"]
[null,null,null,null,null,null,"2025-07-10"]
[null,null,null,null,null,null,"2025-07-11"]
[null,null,null,null,null,null,"2025-07-12"]
[null,null,null,null,null,null,"2025-07-13"]
[null,null,null,null,null,null,"2025-07-14"]
[null,null,null,null,null,null,"2025-07-15"]
[null,null,null,null,null,null,"2025-07-16"]
[null,null,null,null,null,null,"2025-07-17"]
[null,null,null,null,null,null,"2025-07-18"]
[null,null,null,null,null,null,"2025-07-19"]
[null,null,null,null,null,null,"2025-07-20"]
[null,null,null,null,null,null,"2025-07-21"]
[null,null,null,null,null,null,"2025-07-22"]
[null,null,null,null,null,null,"2025-07-23"]
[null,null,null,null,null,null,"2025-07-24"]
[null,null,null,null,null,null,"2025-07-25"]
[null,null,null,null,null,null,"2025-07-26"]
[null,null,null,null,null,null,"2025-07-27"]
[null,null,null,null,null,null,"2025-07-28"]
[null,null,null,null,null,null,"2025-07-29"]
[null,null,null,null,null,null,"2025-07-30"]
[null,null,null,null,null,null,"2025-07-31"]
[null,null,null,null,null,null,"2025-08-01"]
[null,null,null,null,null,null,"2025-08-02"]
[null,null,null,null,null,null,"2025-08-03"]
[null,null,null,null,null,null,{"$f":"G3779+1","v":"2025-08-04"}]
[null,null,null,null,null,null,"2025-08-05"]
[null,null,null,null,null,null,"2025-08-06"]
[null,null,null,null,null,null,"2025-08-07"]
[null,null,null,null,null,null,"2025-08-08"]
[null,null,null,null,null,null,"2025-08-09"]
[null,null,null,null,null,null,"2025-08-10"]
[null,null,null,null,null,null,"2025-08-11"]
[null,null,null,null,null,null,"2025-08-12"]
[null,null,null,null,null,null,"2025-08-13"]
[null,null,null,null,null,null,"2025-08-14"]
[null,null,null,null,null,null,"2025-08-15"]
[null,null,null,null,null,null,"2025-08-16"]
[null,null,null,null,null,null,"2025-08-17"]
[null,null,null,null,null,null,"2025-08-18"]
[null,null,null,null,null,null,"2025-08-19"]
[null,null,null,null,null,null,"2025-08-20"]
[null,null,null,null,null,null,"2025-08-21"]
[null,null,null,null,null,null,"2025-08-22"]
[null,null,null,null,null,null,"2025-08-23"]
[null,null,null,null,null,null,"2025-08-24"]
[null,null,null,null,null,null,"2025-08-25"]
[null,null,null,null,null,null,"2025-08-26"]
[null,null,null,null,null,null,"2025-08-27"]
[null,null,null,null,null,null,"2025-08-28"]
[null,null,null,null,null,null,"2025-08-29"]
[null,null,null,null,null,null,"2025-08-30"]
[null,null,null,null,null,null,"2025-08-31"]
[null,null,null,null,null,null,"2025-09-01"]
[null,null,null,null,null,null,"2025-09-02"]
[null,null,null,null,null,null,"2025-09-03"]
[null,null,null,null,null,null,"2025-09-04"]
[null,null,null,null,null,null,"2025-09-05"]
[null,null,null,null,null,null,"2025-09-06"]
[null,null,null,null,null,null,"2025-09-07"]
[null,null,null,null,null,null,"2025-09-08"]
[null,null,null,null,null,null,"2025-09-09"]
[null,null,null,null,null,null,"2025-09-10"]
[null,null,null,null,null,null,"2025-09-11"]
[null,null,null,null,null,null,"2025-09-12"]
[null,null,null,null,null,null,"2025-09-13"]
[null,null,null,null,null,null,"2025-09-14"]
[null,null,null,null,null,null,"2025-09-15"]
[null,null,null,null,null,null,"2025-09-16"]
[null,null,null,null,null,null,"2025-09-17"]
[null,null,null,null,null,null,"2025-09-18"]
[null,null,null,null,null,null,"2025-09-19"]
[null,null,null,null,null,null,"2025-09-20"]
[null,null,null,null,null,null,"2025-09-21"]
[null,null,null,null,null,null,"2025-09-22"]
[null,null,null,null,null,null,"2025-09-23"]
[null,null,null,null,null,null,"2025-09-24"]
[null,null,null,null,null,null,"2025-09-25"]
[null,null,null,null,null,null,"2025-09-26"]
[null,null,null,null,null,null,"2025-09-27"]
[null,null,null,null,null,null,"2025-09-28"]
[null,null,null,null,null,null,"2025-09-29"]
[null,null,null,null,null,null,"2025-09-30"]
[null,null,null,null,null,null,"2025-10-01"]
[null,null,null,null,null,null,"2025-10-02"]
[null,null,null,null,null,null,"2025-10-03"]
[null,null,null,null,null,null,"2025-10-04"]
[null,null,null,null,null,null,"2025-10-05"]
[null,null,null,null,null,null,"2025-10-06"]
[null,null,null,null,null,null,{"$f":"G3843+1","v":"2025-10-07"}]
[null,null,null,null,null,null,"2025-10-08"]
[null,null,null,null,null,null,"2025-10-09"]
[null,null,null,null,null,null,"2025-10-10"]
[null,null,null,null,null,null,"2025-10-11"]
[null,null,null,null,null,null,"2025-10-12"]
[null,null,null,null,null,null,"2025-10-13"]
[null,null,null,null,null,null,"2025-10-14"]
[null,null,null,null,null,null,"2025-10-15"]
[null,null,null,null,null,null,"2025-10-16"]
[null,null,null,null,null,null,"2025-10-17"]
[null,null,null,null,null,null,"2025-10-18"]
[null,null,null,null,null,null,"2025-10-19"]
[null,null,null,null,null,null,"2025-10-20"]
[null,null,null,null,null,null,"2025-10-21"]
[null,null,null,null,null,null,"2025-10-22"]
[null,null,null,null,null,null,"2025-10-23"]
[null,null,null,null,null,null,"2025-10-24"]
[null,null,null,null,null,null,"2025-10-25"]
[null,null,null,null,null,null,"2025-10-26"]
[null,null,null,null,null,null,"2025-10-27"]
[null,null,null,null,null,null,"2025-10-28"]
[null,null,null,null,null,null,"2025-10-29"]
[null,null,null,null,null,null,"2025-10-30"]
[null,null,null,null,null,null,"2025-10-31"]
[null,null,null,null,null,null,"2025-11-01"]
[null,null,null,null,null,null,"2025-11-02"]
[null,null,null,null,null,null,"2025-11-03"]
[null,null,null,null,null,null,"2025-11-04"]
[null,null,null,null,null,null,"2025-11-05"]
[null,null,null,null,null,null,"2025-11-06"]
[null,null,null,null,null,null,"2025-11-07"]
[null,null,null,null,null,null,"2025-11-08"]
[null,null,null,null,null,null,"2025-11-09"]
[null,null,null,null,null,null,"2025-11-10"]
[null,null,null,null,null,null,"2025-11-11"]
[null,null,null,null,null,null,"2025-11-12"]
[null,null,null,null,null,null,"2025-11-13"]
[null,null,null,null,null,null,"2025-11-14"]
[null,null,null,null,null,null,"2025-11-15"]
[null,null,null,null,null,null,"2025-11-16"]
[null,null,null,null,null,null,"2025-11-17"]
[null,null,null,null,null,null,"2025-11-18"]
[null,null,null,null,null,null,"2025-11-19"]
[null,null,null,null,null,null,"2025-11-20"]
[null,null,null,null,null,null,"2025-11-21"]
[null,null,null,null,null,null,"2025-11-22"]
[null,null,null,null,null,null,"2025-11-23"]
[null,null,null,null,null,null,"2025-11-24"]
[null,null,null,null,null,null,"2025-11-25"]
[null,null,null,null,null,null,"2025-11-26"]
[null,null,null,null,null,null,"2025-11-27"]
[null,null,null,null,null,null,"2025-11-28"]
[null,null,null,null,null,null,"2025-11-29"]
[null,null,null,null,null,null,"2025-11-30"]
[null,null,null,null,null,null,"2025-12-01"]
[null,null,null,null,null,null,"2025-12-02"]
[null,null,null,null,null,null,"2025-12-03"]
[null,null,null,null,null,null,"2025-12-04"]
[null,null,null,null,null,null,"2025-12-05"]
[null,null,null,null,null,null,"2025-12-06"]
[null,null,null,null,null,null,"2025-12-07"]
[null,null,null,null,null,null,"2025-12-08"]
[null,null,null,null,null,null,"2025-12-09"]
[null,null,null,null,null,null,{"$f":"G3907+1","v":"2025-12-10"}]
[null,null,null,null,null,null,"2025-12-11"]
[null,null,null,null,null,null,"2025-12-12"]
[null,null,null,null,null,null,"2025-12-13"]
[null,null,null,null,null,null,"2025-12-14"]
[null,null,null,null,null,null,"2025-12-15"]
[null,null,null,null,null,null,"2025-12-16"]
[null,null,null,null,null,null,"2025-12-17"]
[null,null,null,null,null,null,"2025-12-18"]
[null,null,null,null,null,null,"2025-12-19"]
[null,null,null,null,null,null,"2025-12-20"]
[null,null,null,null,null,null,"2025-12-21"]
[null,null,null,null,null,null,"2025-12-22"]
[null,null,null,null,null,null,"2025-12-23"]
[null,null,null,null,null,null,"2025-12-24"]
[null,null,null,null,null,null,"2025-12-25"]
[null,null,null,null,null,null,"2025-12-26"]
[null,null,null,null,null,null,"2025-12-27"]
[null,null,null,null,null,null,"2025-12-28"]
[null,null,null,null,null,null,"2025-12-29"]
[null,null,null,null,null,null,"2025-12-30"]
[null,null,null,null,null,null,"2025-12-31"]
[null,null,null,null,null,null,"2026-01-01"]
[null,null,null,null,null,null,"2026-01-02"]
[null,null,null,null,null,null,"2026-01-03"]
[null,null,null,null,null,null,"2026-01-04"]
[null,null,null,null,null,null,"2026-01-05"]
[null,null,null,null,null,null,"2026-01-06"]
[null,null,null,null,null,null,"2026-01-07"]
[null,null,null,null,null,null,"2026-01-08"]
[null,null,null,null,null,null,"2026-01-09"]
[null,null,null,null,null,null,"2026-01-10"]
[null,null,null,null,null,null,"2026-01-11"]
[null,null,null,null,null,null,"2026-01-12"]
[null,null,null,null,null,null,"2026-01-13"]
[null,null,null,null,null,null,"2026-01-14"]
[null,null,null,null,null,null,"2026-01-15"]
[null,null,null,null,null,null,"2026-01-16"]
[null,null,null,null,null,null,"2026-01-17"]
[null,null,null,null,null,null,"2026-01-18"]
[null,null,null,null,null,null,"2026-01-19"]
[null,null,null,null,null,null,"2026-01-20"]
[null,null,null,null,null,null,"2026-01-21"]
[null,null,null,null,null,null,"2026-01-22"]
[null,null,null,null,null,null,"2026-01-23"]
[null,null,null,null,null,null,"2026-01-24"]
[null,null,null,null,null,null,"2026-01-25"]
[null,null,null,null,null,null,"2026-01-26"]
[null,null,null,null,null,null,"2026-01-27"]
[null,null,null,null,null,null,"2026-01-28"]
[null,null,null,null,null,null,"2026-01-29"]
[null,null,null,null,null,null,"2026-01-30"]
[null,null,null,null,null,null,"2026-01-31"]
[null,null,null,null,null,null,"2026-02-01"]
[null,null,null,null,null,null,"2026-02-02"]
[null,null,null,null,null,null,"2026-02-03"]
[null,null,null,null,null,null,"2026-02-04"]
[null,null,null,null,null,null,"2026-02-05"]
[null,null,null,null,null,null,"2026-02-06"]
[null,null,null,null,null,null,"2026-02-07"]
[null,null,null,null,null,null,"2026-02-08"]
[null,null,null,null,null,null,"2026-02-09"]
[null,null,null,null,null,null,"2026-02-10"]
[null,null,null,null,null,null,"2026-02-11"]
[null,null,null,null,null,null,{"$f":"G3971+1","v":"2026-02-12"}]
[null,null,null,null,null,null,"2026-02-13"]
[null,null,null,null,null,null,"2026-02-14"]
[null,null,null,null,null,null,"2026-02-15"]
[null,null,null,null,null,null,"2026-02-16"]
[null,null,null,null,null,null,"2026-02-17"]
[null,null,null,null,null,null,"2026-02-18"]
[null,null,null,null,null,null,"2026-02-19"]
[null,null,null,null,null,null,"2026-02-20"]
[null,null,null,null,null,null,"2026-02-21"]
[null,null,null,null,null,null,"2026-02-22"]
[null,null,null,null,null,null,"2026-02-23"]
[null,null,null,null,null,null,"2026-02-24"]
[null,null,null,null,null,null,"2026-02-25"]
[null,null,null,null,null,null,"2026-02-26"]
[null,null,null,null,null,null,"2026-02-27"]
[null,null,null,null,null,null,"2026-02-28"]
[null,null,null,null,null,null,"2026-03-01"]
[null,null,null,null,null,null,"2026-03-02"]
[null,null,null,null,null,null,"2026-03-03"]
[null,null,null,null,null,null,"2026-03-04"]
[null,null,null,null,null,null,"2026-03-05"]
[null,null,null,null,null,null,"2026-03-06"]
[null,null,null,null,null,null,"2026-03-07"]
[null,null,null,null,null,null,"2026-03-08"]
[null,null,null,null,null,null,"2026-03-09"]
[null,null,null,null,null,null,"2026-03-10"]
[null,null,null,null,null,null,"2026-03-11"]
[null,null,null,null,null,null,"2026-03-12"]
[null,null,null,null,null,null,"2026-03-13"]
[null,null,null,null,null,null,"2026-03-14"]
[null,null,null,null,null,null,"2026-03-15"]
[null,null,null,null,null,null,"2026-03-16"]
[null,null,null,null,null,null,"2026-03-17"]
[null,null,null,null,null,null,"2026-03-18"]
[null,null,null,null,null,null,"2026-03-19"]
[null,null,null,null,null,null,"2026-03-20"]
[null,null,null,null,null,null,"2026-03-21"]
[null,null,null,null,null,null,"2026-03-22"]
[null,null,null,null,null,null,"2026-03-23"]
[null,null,null,null,null,null,"2026-03-24"]
[null,null,null,null,null,null,"2026-03-25"]
[null,null,null,null,null,null,"2026-03-26"]
[null,null,null,null,null,null,"2026-03-27"]
[null,null,null,null,null,null,"2026-03-28"]
[null,null,null,null,null,null,"2026-03-29"]
[null,null,null,null,null,null,"2026-03-30"]
[null,null,null,null,null,null,"2026-03-31"]
[null,null,null,null,null,null,"2026-04-01"]
[null,null,null,null,null,null,"2026-04-02"]
[null,null,null,null,null,null,"2026-04-03"]
[null,null,null,null,null,null,"2026-04-04"]
[null,null,null,null,null,null,"2026-04-05"]
[null,null,null,null,null,null,"2026-04-06"]
[null,null,null,null,null,null,"2026-04-07"]
[null,null,null,null,null,null,"2026-04-08"]
[null,null,null,null,null,null,"2026-04-09"]
[null,null,null,null,null,null,"2026-04-10"]
[null,null,null,null,null,null,"2026-04-11"]
[null,null,null,null,null,null,"2026-04-12"]
[null,null,null,null,null,null,"2026-04-13"]
[null,null,null,null,null,null,"2026-04-14"]
[null,null,null,null,null,null,"2026-04-15"]
[null,null,null,null,null,null,"2026-04-16"]
[null,null,null,null,null,null,{"$f":"G4035+1","v":"2026-04-17"}]
[null,null,null,null,null,null,"2026-04-18"]
[null,null,null,null,null,null,"2026-04-19"]
[null,null,null,null,null,null,"2026-04-20"]
[null,null,null,null,null,null,"2026-04-21"]
[null,null,null,null,null,null,"2026-04-22"]
[null,null,null,null,null,null,"2026-04-23"]
[null,null,null,null,null,null,"2026-04-24"]
[null,null,null,null,null,null,"2026-04-25"]
[null,null,null,null,null,null,"2026-04-26"]
[null,null,null,null,null,null,"2026-04-27"]
[null,null,null,null,null,null,"2026-04-28"]
[null,null,null,null,null,null,"2026-04-29"]
[null,null,null,null,null,null,"2026-04-30"]
[null,null,null,null,null,null,"2026-05-01"]
[null,null,null,null,null,null,"2026-05-02"]
[null,null,null,null,null,null,"2026-05-03"]
[null,null,null,null,null,null,"2026-05-04"]
[null,null,null,null,null,null,"2026-05-05"]
[null,null,null,null,null,null,"2026-05-06"]
[null,null,null,null,null,null,"2026-05-07"]
[null,null,null,null,null,null,"2026-05-08"]
[null,null,null,null,null,null,"2026-05-09"]
[null,null,null,null,null,null,"2026-05-10"]
[null,null,null,null,null,null,"2026-05-11"]
[null,null,null,null,null,null,"2026-05-12"]
[null,null,null,null,null,null,"2026-05-13"]
[null,null,null,null,null,null,"2026-05-14"]
[null,null,null,null,null,null,"2026-05-15"]
[null,null,null,null,null,null,"2026-05-16"]
[null,null,null,null,null,null,"2026-05-17"]
[null,null,null,null,null,null,"2026-05-18"]
[null,null,null,null,null,null,"2026-05-19"]
[null,null,null,null,null,null,"2026-05-20"]
[null,null,null,null,null,null,"2026-05-21"]
[null,null,null,null,null,null,"2026-05-22"]
[null,null,null,null,null,null,"2026-05-23"]
[null,null,null,null,null,null,"2026-05-24"]
[null,null,null,null,null,null,"2026-05-25"]
[null,null,null,null,null,null,"2026-05-26"]
[null,null,null,null,null,null,"2026-05-27"]
[null,null,null,null,null,null,"2026-05-28"]
[null,null,null,null,null,null,"2026-05-29"]
[null,null,null,null,null,null,"2026-05-30"]
[null,null,null,null,null,null,"2026-05-31"]
[null,null,null,null,null,null,"2026-06-01"]
[null,null,null,null,null,null,"2026-06-02"]
[null,null,null,null,null,null,"2026-06-03"]
[null,null,null,null,null,null,"2026-06-04"]
[null,null,null,null,null,null,"2026-06-05"]
[null,null,null,null,null,null,"2026-06-06"]
[null,null,null,null,null,null,"2026-06-07"]
[null,null,null,null,null,null,"2026-06-08"]
[null,null,null,null,null,null,"2026-06-09"]
[null,null,null,null,null,null,"2026-06-10"]
[null,null,null,null,null,null,"2026-06-11"]
[null,null,null,null,null,null,"2026-06-12"]
[null,null,null,null,null,null,"2026-06-13"]
[null,null,null,null,null,null,"2026-06-14"]
[null,null,null,null,null,null,"2026-06-15"]
[null,null,null,null,null,null,"2026-06-16"]
[null,null,null,null,null,null,"2026-06-17"]
[null,null,null,null,null,null,"2026-06-18"]
[null,null,null,null,null,null,"2026-06-19"]
[null,null,null,null,null,null,{"$f":"G4099+1","v":"2026-06-20"}]
[null,null,null,null,null,null,"2026-06-21"]
[null,null,null,null,null,null,"2026-06-22"]
[null,null,null,null,null,null,"2026-06-23"]
[null,null,null,null,null,null,"2026-06-24"]
[null,null,null,null,null,null,"2026-06-25"]
[null,null,null,null,null,null,"2026-06-26"]
[null,null,null,null,null,null,"2026-06-27"]
[null,null,null,null,null,null,"2026-06-28"]
[null,null,null,null,null,null,"2026-06-29"]
[null,null,null,null,null,null,"2026-06-30"]
[null,null,null,null,null,null,"2026-07-01"]
[null,null,null,null,null,null,"2026-07-02"]
[null,null,null,null,null,null,"2026-07-03"]
[null,null,null,null,null,null,"2026-07-04"]
[null,null,null,null,null,null,"2026-07-05"]
[null,null,null,null,null,null,"2026-07-06"]
[null,null,null,null,null,null,"2026-07-07"]
[null,null,null,null,null,null,"2026-07-08"]
[null,null,null,null,null,null,"2026-07-09"]
[null,null,null,null,null,null,"2026-07-10"]
[null,null,null,null,null,null,"2026-07-11"]
[null,null,null,null,null,null,"2026-07-12"]
[null,null,null,null,null,null,"2026-07-13"]
[null,null,null,null,null,null,"2026-07-14"]
[null,null,null,null,null,null,"2026-07-15"]
[null,null,null,null,null,null,"2026-07-16"]
[null,null,null,null,null,null,"2026-07-17"]
[null,null,null,null,null,null,"2026-07-18"]
[null,null,null,null,null,null,"2026-07-19"]
[null,null,null,null,null,null,"2026-07-20"]
[null,null,null,null,null,null,"2026-07-21"]
[null,null,null,null,null,null,"2026-07-22"]
[null,null,null,null,null,null,"2026-07-23"]
[null,null,null,null,null,null,"2026-07-24"]
[null,null,null,null,null,null,"2026-07-25"]
[null,null,null,null,null,null,"2026-07-26"]
[null,null,null,null,null,null,"2026-07-27"]
[null,null,null,null,null,null,"2026-07-28"]
[null,null,null,null,null,null,"2026-07-29"]
[null,null,null,null,null,null,"2026-07-30"]
[null,null,null,null,null,null,"2026-07-31"]
[null,null,null,null,null,null,"2026-08-01"]
[null,null,null,null,null,null,"2026-08-02"]
[null,null,null,null,null,null,"2026-08-03"]
[null,null,null,null,null,null,"2026-08-04"]
[null,null,null,null,null,null,"2026-08-05"]
[null,null,null,null,null,null,"2026-08-06"]
[null,null,null,null,null,null,"2026-08-07"]
[null,null,null,null,null,null,"2026-08-08"]
[null,null,null,null,null,null,"2026-08-09"]
[null,null,null,null,null,null,"2026-08-10"]
[null,null,null,null,null,null,"2026-08-11"]
[null,null,null,null,null,null,"2026-08-12"]
[null,null,null,null,null,null,"2026-08-13"]
[null,null,null,null,null,null,"2026-08-14"]
[null,null,null,null,null,null,"2026-08-15"]
[null,null,null,null,null,null,"2026-08-16"]
[null,null,null,null,null,null,"2026-08-17"]
[null,null,null,null,null,null,"2026-08-18"]
[null,null,null,null,null,null,"2026-08-19"]
[null,null,null,null,null,null,"2026-08-20"]
[null,null,null,null,null,null,"2026-08-21"]
[null,null,null,null,null,null,"2026-08-22"]
[null,null,null,null,null,null,{"$f":"G4163+1","v":"2026-08-23"}]
[null,null,null,null,null,null,"2026-08-24"]
[null,null,null,null,null,null,"2026-08-25"]
[null,null,null,null,null,null,"2026-08-26"]
[null,null,null,null,null,null,"2026-08-27"]
[null,null,null,null,null,null,"2026-08-28"]
[null,null,null,null,null,null,"2026-08-29"]
[null,null,null,null,null,null,"2026-08-30"]
[null,null,null,null,null,null,"2026-08-31"]
[null,null,null,null,null,null,"2026-09-01"]
[null,null,null,null,null,null,"2026-09-02"]
[null,null,null,null,null,null,"2026-09-03"]
[null,null,null,null,null,null,"2026-09-04"]
[null,null,null,null,null,null,"2026-09-05"]
[null,null,null,null,null,null,"2026-09-06"]
[null,null,null,null,null,null,"2026-09-07"]
[null,null,null,null,null,null,"2026-09-08"]
[null,null,null,null,null,null,"2026-09-09"]
[null,null,null,null,null,null,"2026-09-10"]
[null,null,null,null,null,null,"2026-09-11"]
[null,null,null,null,null,null,"2026-09-12"]
[null,null,null,null,null,null,"2026-09-13"]
[null,null,null,null,null,null,"2026-09-14"]
[null,null,null,null,null,null,"2026-09-15"]
[null,null,null,null,null,null,"2026-09-16"]
[null,null,null,null,null,null,"2026-09-17"]
[null,null,null,null,null,null,"2026-09-18"]
[null,null,null,null,null,null,"2026-09-19"]
[null,null,null,null,null,null,"2026-09-20"]
[null,null,null,null,null,null,"2026-09-21"]
[null,null,null,null,null,null,"2026-09-22"]
[null,null,null,null,null,null,"2026-09-23"]
[null,null,null,null,null,null,"2026-09-24"]
[null,null,null,null,null,null,"2026-09-25"]
[null,null,null,null,null,null,"2026-09-26"]
[null,null,null,null,null,null,"2026-09-27"]
[null,null,null,null,null,null,"2026-09-28"]
[null,null,null,null,null,null,"2026-09-29"]
[null,null,null,null,null,null,"2026-09-30"]
[null,null,null,null,null,null,"2026-10-01"]
[null,null,null,null,null,null,"2026-10-02"]
[null,null,null,null,null,null,"2026-10-03"]
[null,null,null,null,null,null,"2026-10-04"]
[null,null,null,null,null,null,"2026-10-05"]
[null,null,null,null,null,null,"2026-10-06"]
[null,null,null,null,null,null,"2026-10-07"]
[null,null,null,null,null,null,"2026-10-08"]
[null,null,null,null,null,null,"2026-10-09"]
[null,null,null,null,null,null,"2026-10-10"]
[null,null,null,null,null,null,"2026-10-11"]
[null,null,null,null,null,null,"2026-10-12"]
[null,null,null,null,null,null,"2026-10-13"]
[null,null,null,null,null,null,"2026-10-14"]
[null,null,null,null,null,null,"2026-10-15"]
[null,null,null,null,null,null,"2026-10-16"]
[null,null,null,null,null,null,"2026-10-17"]
[null,null,null,null,null,null,"2026-10-18"]
[null,null,null,null,null,null,"2026-10-19"]
[null,null,null,null,null,null,"2026-10-20"]
[null,null,null,null,null,null,"2026-10-21"]
[null,null,null,null,null,null,"2026-10-22"]
[null,null,null,null,null,null,"2026-10-23"]
[null,null,null,null,null,null,"2026-10-24"]
[null,null,null,null,null,null,"2026-10-25"]
[null,null,null,null,null,null,{"$f":"G4227+1","v":"2026-10-26"}]
[null,null,null,null,null,null,"2026-10-27"]
[null,null,null,null,null,null,"2026-10-28"]
[null,null,null,null,null,null,"2026-10-29"]
[null,null,null,null,null,null,"2026-10-30"]
[null,null,null,null,null,null,"2026-10-31"]
[null,null,null,null,null,null,"2026-11-01"]
[null,null,null,null,null,null,"2026-11-02"]
[null,null,null,null,null,null,"2026-11-03"]
[null,null,null,null,null,null,"2026-11-04"]
[null,null,null,null,null,null,"2026-11-05"]
[null,null,null,null,null,null,"2026-11-06"]
[null,null,null,null,null,null,"2026-11-07"]
[null,null,null,null,null,null,"2026-11-08"]
[null,null,null,null,null,null,"2026-11-09"]
[null,null,null,null,null,null,"2026-11-10"]
[null,null,null,null,null,null,"2026-11-11"]
[null,null,null,null,null,null,"2026-11-12"]
[null,null,null,null,null,null,"2026-11-13"]
[null,null,null,null,null,null,"2026-11-14"]
[null,null,null,null,null,null,"2026-11-15"]
[null,null,null,null,null,null,"2026-11-16"]
[null,null,null,null,null,null,"2026-11-17"]
[null,null,null,null,null,null,"2026-11-18"]
[null,null,null,null,null,null,"2026-11-19"]
[null,null,null,null,null,null,"2026-11-20"]
[null,null,null,null,null,null,"2026-11-21"]
[null,null,null,null,null,null,"2026-11-22"]
[null,null,null,null,null,null,"2026-11-23"]
[null,null,null,null,null,null,"2026-11-24"]
[null,null,null,null,null,null,"2026-11-25"]
[null,null,null,null,null,null,"2026-11-26"]
[null,null,null,null,null,null,"2026-11-27"]
[null,null,null,null,null,null,"2026-11-28"]
[null,null,null,null,null,null,"2026-11-29"]
[null,null,null,null,null,null,"2026-11-30"]
[null,null,null,null,null,null,"2026-12-01"]
[null,null,null,null,null,null,"2026-12-02"]
[null,null,null,null,null,null,"2026-12-03"]
[null,null,null,null,null,null,"2026-12-04"]
[null,null,null,null,null,null,"2026-12-05"]
[null,null,null,null,null,null,"2026-12-06"]
[null,null,null,null,null,null,"2026-12-07"]
[null,null,null,null,null,null,"2026-12-08"]
[null,null,null,null,null,null,"2026-12-09"]
[null,null,null,null,null,null,"2026-12-10"]
[null,null,null,null,null,null,"2026-12-11"]
[null,null,null,null,null,null,"2026-12-12"]
[null,null,null,null,null,null,"2026-12-13"]
[null,null,null,null,null,null,"2026-12-14"]
[null,null,null,null,null,null,"2026-12-15"]
[null,null,null,null,null,null,"2026-12-16"]
[null,null,null,null,null,null,"2026-12-17"]
[null,null,null,null,null,null,"2026-12-18"]
[null,null,null,null,null,null,"2026-12-19"]
[null,null,null,null,null,null,"2026-12-20"]
[null,null,null,null,null,null,"2026-12-21"]
[null,null,null,null,null,null,"2026-12-22"]
[null,null,null,null,null,null,"2026-12-23"]
[null,null,null,null,null,null,"2026-12-24"]
[null,null,null,null,null,null,"2026-12-25"]
[null,null,null,null,null,null,"2026-12-26"]
[null,null,null,null,null,null,"2026-12-27"]
[null,null,null,null,null,null,"2026-12-28"]
[null,null,null,null,null,null,{"$f":"G4291+1","v":"2026-12-29"}]
[null,null,null,null,null,null,"2026-12-30"]
[null,null,null,null,null,null,"2026-12-31"]
[null,null,null,null,null,null,"2027-01-01"]
[null,null,null,null,null,null,"2027-01-02"]
[null,null,null,null,null,null,"2027-01-03"]
[null,null,null,null,null,null,"2027-01-04"]
[null,null,null,null,null,null,"2027-01-05"]
[null,null,null,null,null,null,"2027-01-06"]
[null,null,null,null,null,null,"2027-01-07"]
[null,null,null,null,null,null,"2027-01-08"]
[null,null,null,null,null,null,"2027-01-09"]
[null,null,null,null,null,null,"2027-01-10"]
[null,null,null,null,null,null,"2027-01-11"]
[null,null,null,null,null,null,"2027-01-12"]
[null,null,null,null,null,null,"2027-01-13"]
[null,null,null,null,null,null,"2027-01-14"]
[null,null,null,null,null,null,"2027-01-15"]
[null,null,null,null,null,null,"2027-01-16"]
[null,null,null,null,null,null,"2027-01-17"]
[null,null,null,null,null,null,"2027-01-18"]
[null,null,null,null,null,null,"2027-01-19"]
[null,null,null,null,null,null,"2027-01-20"]
[null,null,null,null,null,null,"2027-01-21"]
[null,null,null,null,null,null,"2027-01-22"]
[null,null,null,null,null,null,"2027-01-23"]
[null,null,null,null,null,null,"2027-01-24"]
[null,null,null,null,null,null,"2027-01-25"]
[null,null,null,null,null,null,"2027-01-26"]
[null,null,null,null,null,null,"2027-01-27"]
[null,null,null,null,null,null,"2027-01-28"]
[null,null,null,null,null,null,"2027-01-29"]
[null,null,null,null,null,null,"2027-01-30"]
[null,null,null,null,null,null,"2027-01-31"]
[null,null,null,null,null,null,"2027-02-01"]
[null,null,null,null,null,null,"2027-02-02"]
[null,null,null,null,null,null,"2027-02-03"]
[null,null,null,null,null,null,"2027-02-04"]
[null,null,null,null,null,null,"2027-02-05"]
[null,null,null,null,null,null,"2027-02-06"]
[null,null,null,null,null,null,"2027-02-07"]
[null,null,null,null,null,null,"2027-02-08"]
[null,null,null,null,null,null,"2027-02-09"]
[null,null,null,null,null,null,"2027-02-10"]
[null,null,null,null,null,null,"2027-02-11"]
[null,null,null,null,null,null,"2027-02-12"]
[null,null,null,null,null,null,"2027-02-13"]
[null,null,null,null,null,null,"2027-02-14"]
[null,null,null,null,null,null,"2027-02-15"]
[null,null,null,null,null,null,"2027-02-16"]
[null,null,null,null,null,null,"2027-02-17"]
[null,null,null,null,null,null,"2027-02-18"]
[null,null,null,null,null,null,"2027-02-19"]
[null,null,null,null,null,null,"2027-02-20"]
[null,null,null,null,null,null,"2027-02-21"]
[null,null,null,null,null,null,"2027-02-22"]
[null,null,null,null,null,null,"2027-02-23"]
[null,null,null,null,null,null,"2027-02-24"]
[null,null,null,null,null,null,"2027-02-25"]
[null,null,null,null,null,null,"2027-02-26"]
[null,null,null,null,null,null,"2027-02-27"]
[null,null,null,null,null,null,"2027-02-28"]
[null,null,null,null,null,null,"2027-03-01"]
[null,null,null,null,null,null,"2027-03-02"]
[null,null,null,null,null,null,{"$f":"G4355+1","v":"2027-03-03"}]
[null,null,null,null,null,null,"2027-03-04"]
[null,null,null,null,null,null,"2027-03-05"]
[null,null,null,null,null,null,"2027-03-06"]
[null,null,null,null,null,null,"2027-03-07"]
[null,null,null,null,null,null,"2027-03-08"]
[null,null,null,null,null,null,"2027-03-09"]
[null,null,null,null,null,null,"2027-03-10"]
[null,null,null,null,null,null,"2027-03-11"]
[null,null,null,null,null,null,"2027-03-12"]
[null,null,null,null,null,null,"2027-03-13"]
[null,null,null,null,null,null,"2027-03-14"]
[null,null,null,null,null,null,"2027-03-15"]
[null,null,null,null,null,null,"2027-03-16"]
[null,null,null,null,null,null,"2027-03-17"]
[null,null,null,null,null,null,"2027-03-18"]
[null,null,null,null,null,null,"2027-03-19"]
[null,null,null,null,null,null,"2027-03-20"]
[null,null,null,null,null,null,"2027-03-21"]
[null,null,null,null,null,null,"2027-03-22"]
[null,null,null,null,null,null,"2027-03-23"]
[null,null,null,null,null,null,"2027-03-24"]
[null,null,null,null,null,null,"2027-03-25"]
[null,null,null,null,null,null,"2027-03-26"]
[null,null,null,null,null,null,"2027-03-27"]
[null,null,null,null,null,null,"2027-03-28"]
[null,null,null,null,null,null,"2027-03-29"]
[null,null,null,null,null,null,"2027-03-30"]
[null,null,null,null,null,null,"2027-03-31"]
[null,null,null,null,null,null,"2027-04-01"]
[null,null,null,null,null,null,"2027-04-02"]
[null,null,null,null,null,null,"2027-04-03"]
[null,null,null,null,null,null,"2027-04-04"]
[null,null,null,null,null,null,"2027-04-05"]
[null,null,null,null,null,null,"2027-04-06"]
[null,null,null,null,null,null,"2027-04-07"]
[null,null,null,null,null,null,"2027-04-08"]
[null,null,null,null,null,null,"2027-04-09"]
[null,null,null,null,null,null,"2027-04-10"]
[null,null,null,null,null,null,"2027-04-11"]
[null,null,null,null,null,null,"2027-04-12"]
[null,null,null,null,null,null,"2027-04-13"]
[null,null,null,null,null,null,"2027-04-14"]
[null,null,null,null,null,null,"2027-04-15"]
[null,null,null,null,null,null,"2027-04-16"]
[null,null,null,null,null,null,"2027-04-17"]
[null,null,null,null,null,null,"2027-04-18"]
[null,null,null,null,null,null,"2027-04-19"]
[null,null,null,null,null,null,"2027-04-20"]
[null,null,null,null,null,null,"2027-04-21"]
[null,null,null,null,null,null,"2027-04-22"]
[null,null,null,null,null,null,"2027-04-23"]
[null,null,null,null,null,null,"2027-04-24"]
[null,null,null,null,null,null,"2027-04-25"]
[null,null,null,null,null,null,"2027-04-26"]
[null,null,null,null,null,null,"2027-04-27"]
[null,null,null,null,null,null,"2027-04-28"]
[null,null,null,null,null,null,"2027-04-29"]
[null,null,null,null,null,null,"2027-04-30"]
[null,null,null,null,null,null,"2027-05-01"]
[null,null,null,null,null,null,"2027-05-02"]
[null,null,null,null,null,null,"2027-05-03"]
[null,null,null,null,null,null,"2027-05-04"]
[null,null,null,null,null,null,"2027-05-05"]
[null,null,null,null,null,null,{"$f":"G4419+1","v":"2027-05-06"}]
[null,null,null,null,null,null,"2027-05-07"]
[null,null,null,null,null,null,"2027-05-08"]
[null,null,null,null,null,null,"2027-05-09"]
[null,null,null,null,null,null,"2027-05-10"]
[null,null,null,null,null,null,"2027-05-11"]
[null,null,null,null,null,null,"2027-05-12"]
[null,null,null,null,null,null,"2027-05-13"]
[null,null,null,null,null,null,"2027-05-14"]
[null,null,null,null,null,null,"2027-05-15"]
[null,null,null,null,null,null,"2027-05-16"]
[null,null,null,null,null,null,"2027-05-17"]
[null,null,null,null,null,null,"2027-05-18"]
[null,null,null,null,null,null,"2027-05-19"]
[null,null,null,null,null,null,"2027-05-20"]
[null,null,null,null,null,null,"2027-05-21"]
[null,null,null,null,null,null,"2027-05-22"]
[null,null,null,null,null,null,"2027-05-23"]
[null,null,null,null,null,null,"2027-05-24"]
[null,null,null,null,null,null,"2027-05-25"]
[null,null,null,null,null,null,"2027-05-26"]
[null,null,null,null,null,null,"2027-05-27"]
[null,null,null,null,null,null,"2027-05-28"]
[null,null,null,null,null,null,"2027-05-29"]
[null,null,null,null,null,null,"2027-05-30"]
[null,null,null,null,null,null,"2027-05-31"]
[null,null,null,null,null,null,"2027-06-01"]
[null,null,null,null,null,null,"2027-06-02"]
[null,null,null,null,null,null,"2027-06-03"]
[null,null,null,null,null,null,"2027-06-04"]
[null,null,null,null,null,null,"2027-06-05"]
[null,null,null,null,null,null,"2027-06-06"]
[null,null,null,null,null,null,"2027-06-07"]
[null,null,null,null,null,null,"2027-06-08"]
[null,null,null,null,null,null,"2027-06-09"]
[null,null,null,null,null,null,"2027-06-10"]
[null,null,null,null,null,null,"2027-06-11"]
[null,null,null,null,null,null,"2027-06-12"]
[null,null,null,null,null,null,"2027-06-13"]
[null,null,null,null,null,null,"2027-06-14"]
[null,null,null,null,null,null,"2027-06-15"]
[null,null,null,null,null,null,"2027-06-16"]
[null,null,null,null,null,null,"2027-06-17"]
[null,null,null,null,null,null,"2027-06-18"]
[null,null,null,null,null,null,"2027-06-19"]
[null,null,null,null,null,null,"2027-06-20"]
[null,null,null,null,null,null,"2027-06-21"]
[null,null,null,null,null,null,"2027-06-22"]
[null,null,null,null,null,null,"2027-06-23"]
[null,null,null,null,null,null,"2027-06-24"]
[null,null,null,null,null,null,"2027-06-25"]
[null,null,null,null,null,null,"2027-06-26"]
[null,null,null,null,null,null,"2027-06-27"]
[null,null,null,null,null,null,"2027-06-28"]
[null,null,null,null,null,null,"2027-06-29"]
[null,null,null,null,null,null,"2027-06-30"]
[null,null,null,null,null,null,"2027-07-01"]
[null,null,null,null,null,null,"2027-07-02"]
[null,null,null,null,null,null,"2027-07-03"]
[null,null,null,null,null,null,"2027-07-04"]
[null,null,null,null,null,null,"2027-07-05"]
[null,null,null,null,null,null,"2027-07-06"]
[null,null,null,null,null,null,"2027-07-07"]
[null,null,null,null,null,null,"2027-07-08"]
[null,null,null,null,null,null,{"$f":"G4483+1","v":"2027-07-09"}]
[null,null,null,null,null,null,"2027-07-10"]
[null,null,null,null,null,null,"2027-07-11"]
[null,null,null,null,null,null,"2027-07-12"]
[null,null,null,null,null,null,"2027-07-13"]
[null,null,null,null,null,null,"2027-07-14"]
[null,null,null,null,null,null,"2027-07-15"]
[null,null,null,null,null,null,"2027-07-16"]
[null,null,null,null,null,null,"2027-07-17"]
[null,null,null,null,null,null,"2027-07-18"]
[null,null,null,null,null,null,"2027-07-19"]
[null,null,null,null,null,null,"2027-07-20"]
[null,null,null,null,null,null,"2027-07-21"]
[null,null,null,null,null,null,"2027-07-22"]
[null,null,null,null,null,null,"2027-07-23"]
[null,null,null,null,null,null,"2027-07-24"]
[null,null,null,null,null,null,"2027-07-25"]
[null,null,null,null,null,null,"2027-07-26"]
[null,null,null,null,null,null,"2027-07-27"]
[null,null,null,null,null,null,"2027-07-28"]
[null,null,null,null,null,null,"2027-07-29"]
[null,null,null,null,null,null,"2027-07-30"]
[null,null,null,null,null,null,"2027-07-31"]
[null,null,null,null,null,null,"2027-08-01"]
[null,null,null,null,null,null,"2027-08-02"]
[null,null,null,null,null,null,"2027-08-03"]
[null,null,null,null,null,null,"2027-08-04"]
[null,null,null,null,null,null,"2027-08-05"]
[null,null,null,null,null,null,"2027-08-06"]
[null,null,null,null,null,null,"2027-08-07"]
[null,null,null,null,null,null,"2027-08-08"]
[null,null,null,null,null,null,"2027-08-09"]
[null,null,null,null,null,null,"2027-08-10"]
[null,null,null,null,null,null,"2027-08-11"]
[null,null,null,null,null,null,"2027-08-12"]
[null,null,null,null,null,null,"2027-08-13"]
[null,null,null,null,null,null,"2027-08-14"]
[null,null,null,null,null,null,"2027-08-15"]
[null,null,null,null,null,null,"2027-08-16"]
[null,null,null,null,null,null,"2027-08-17"]
[null,null,null,null,null,null,"2027-08-18"]
[null,null,null,null,null,null,"2027-08-19"]
[null,null,null,null,null,null,"2027-08-20"]
[null,null,null,null,null,null,"2027-08-21"]
[null,null,null,null,null,null,"2027-08-22"]
[null,null,null,null,null,null,"2027-08-23"]
[null,null,null,null,null,null,"2027-08-24"]
[null,null,null,null,null,null,"2027-08-25"]
[null,null,null,null,null,null,"2027-08-26"]
[null,null,null,null,null,null,"2027-08-27"]
[null,null,null,null,null,null,"2027-08-28"]
[null,null,null,null,null,null,"2027-08-29"]
[null,null,null,null,null,null,"2027-08-30"]
[null,null,null,null,null,null,"2027-08-31"]
[null,null,null,null,null,null,"2027-09-01"]
[null,null,null,null,null,null,"2027-09-02"]
[null,null,null,null,null,null,"2027-09-03"]
[null,null,null,null,null,null,"2027-09-04"]
[null,null,null,null,null,null,"2027-09-05"]
[null,null,null,null,null,null,"2027-09-06"]
[null,null,null,null,null,null,"2027-09-07"]
[null,null,null,null,null,null,"2027-09-08"]
[null,null,null,null,null,null,"2027-09-09"]
[null,null,null,null,null,null,"2027-09-10"]
[null,null,null,null,null,null,{"$f":"G4547+1","v":"2027-09-11"}]
[null,null,null,null,null,null,"2027-09-12"]
[null,null,null,null,null,null,"2027-09-13"]
[null,null,null,null,null,null,"2027-09-14"]
[null,null,null,null,null,null,"2027-09-15"]
[null,null,null,null,null,null,"2027-09-16"]
[null,null,null,null,null,null,"2027-09-17"]
[null,null,null,null,null,null,"2027-09-18"]
[null,null,null,null,null,null,"2027-09-19"]
[null,null,null,null,null,null,"2027-09-20"]
[null,null,null,null,null,null,"2027-09-21"]
[null,null,null,null,null,null,"2027-09-22"]
[null,null,null,null,null,null,"2027-09-23"]
[null,null,null,null,null,null,"2027-09-24"]
[null,null,null,null,null,null,"2027-09-25"]
[null,null,null,null,null,null,"2027-09-26"]
[null,null,null,null,null,null,"2027-09-27"]
[null,null,null,null,null,null,"2027-09-28"]
[null,null,null,null,null,null,"2027-09-29"]
[null,null,null,null,null,null,"2027-09-30"]
[null,null,null,null,null,null,"2027-10-01"]
[null,null,null,null,null,null,"2027-10-02"]
[null,null,null,null,null,null,"2027-10-03"]
[null,null,null,null,null,null,"2027-10-04"]
[null,null,null,null,null,null,"2027-10-05"]
[null,null,null,null,null,null,"2027-10-06"]
[null,null,null,null,null,null,"2027-10-07"]
[null,null,null,null,null,null,"2027-10-08"]
[null,null,null,null,null,null,"2027-10-09"]
[null,null,null,null,null,null,"2027-10-10"]
[null,null,null,null,null,null,"2027-10-11"]
[null,null,null,null,null,null,"2027-10-12"]
[null,null,null,null,null,null,"2027-10-13"]
[null,null,null,null,null,null,"2027-10-14"]
[null,null,null,null,null,null,"2027-10-15"]
[null,null,null,null,null,null,"2027-10-16"]
[null,null,null,null,null,null,"2027-10-17"]
[null,null,null,null,null,null,"2027-10-18"]
[null,null,null,null,null,null,"2027-10-19"]
[null,null,null,null,null,null,"2027-10-20"]
[null,null,null,null,null,null,"2027-10-21"]
[null,null,null,null,null,null,"2027-10-22"]
[null,null,null,null,null,null,"2027-10-23"]
[null,null,null,null,null,null,"2027-10-24"]
[null,null,null,null,null,null,"2027-10-25"]
[null,null,null,null,null,null,"2027-10-26"]
[null,null,null,null,null,null,"2027-10-27"]
[null,null,null,null,null,null,"2027-10-28"]
[null,null,null,null,null,null,"2027-10-29"]
[null,null,null,null,null,null,"2027-10-30"]
[null,null,null,null,null,null,"2027-10-31"]
[null,null,null,null,null,null,"2027-11-01"]
[null,null,null,null,null,null,"2027-11-02"]
[null,null,null,null,null,null,"2027-11-03"]
[null,null,null,null,null,null,"2027-11-04"]
[null,null,null,null,null,null,"2027-11-05"]
[null,null,null,null,null,null,"2027-11-06"]
[null,null,null,null,null,null,"2027-11-07"]
[null,null,null,null,null,null,"2027-11-08"]
[null,null,null,null,null,null,"2027-11-09"]
[null,null,null,null,null,null,"2027-11-10"]
[null,null,null,null,null,null,"2027-11-11"]
[null,null,null,null,null,null,"2027-11-12"]
[null,null,null,null,null,null,"2027-11-13"]
[null,null,null,null,null,null,{"$f":"G4611+1","v":"2027-11-14"}]
[null,null,null,null,null,null,"2027-11-15"]
[null,null,null,null,null,null,"2027-11-16"]
[null,null,null,null,null,null,"2027-11-17"]
[null,null,null,null,null,null,"2027-11-18"]
[null,null,null,null,null,null,"2027-11-19"]
[null,null,null,null,null,null,"2027-11-20"]
[null,null,null,null,null,null,"2027-11-21"]
[null,null,null,null,null,null,"2027-11-22"]
[null,null,null,null,null,null,"2027-11-23"]
[null,null,null,null,null,null,"2027-11-24"]
[null,null,null,null,null,null,"2027-11-25"]
[null,null,null,null,null,null,"2027-11-26"]
[null,null,null,null,null,null,"2027-11-27"]
[null,null,null,null,null,null,"2027-11-28"]
[null,null,null,null,null,null,"2027-11-29"]
[null,null,null,null,null,null,"2027-11-30"]
[null,null,null,null,null,null,"2027-12-01"]
[null,null,null,null,null,null,"2027-12-02"]
[null,null,null,null,null,null,"2027-12-03"]
[null,null,null,null,null,null,"2027-12-04"]
[null,null,null,null,null,null,"2027-12-05"]
[null,null,null,null,null,null,"2027-12-06"]
[null,null,null,null,null,null,"2027-12-07"]
[null,null,null,null,null,null,"2027-12-08"]
[null,null,null,null,null,null,"2027-12-09"]
[null,null,null,null,null,null,"2027-12-10"]
[null,null,null,null,null,null,"2027-12-11"]
[null,null,null,null,null,null,"2027-12-12"]
[null,null,null,null,null,null,"2027-12-13"]
[null,null,null,null,null,null,"2027-12-14"]
[null,null,null,null,null,null,"2027-12-15"]
[null,null,null,null,null,null,"2027-12-16"]
[null,null,null,null,null,null,"2027-12-17"]
[null,null,null,null,null,null,"2027-12-18"]
[null,null,null,null,null,null,"2027-12-19"]
[null,null,null,null,null,null,"2027-12-20"]
[null,null,null,null,null,null,"2027-12-21"]
[null,null,null,null,null,null,"2027-12-22"]
[null,null,null,null,null,null,"2027-12-23"]
[null,null,null,null,null,null,"2027-12-24"]
[null,null,null,null,null,null,"2027-12-25"]
[null,null,null,null,null,null,"2027-12-26"]
[null,null,null,null,null,null,"2027-12-27"]
[null,null,null,null,null,null,"2027-12-28"]
[null,null,null,null,null,null,"2027-12-29"]
[null,null,null,null,null,null,"2027-12-30"]
[null,null,null,null,null,null,"2027-12-31"]
[null,null,null,null,null,null,"2028-01-01"]
[null,null,null,null,null,null,"2028-01-02"]
[null,null,null,null,null,null,"2028-01-03"]
[null,null,null,null,null,null,"2028-01-04"]
[null,null,null,null,null,null,"2028-01-05"]
[null,null,null,null,null,null,"2028-01-06"]
[null,null,null,null,null,null,"2028-01-07"]
[null,null,null,null,null,null,"2028-01-08"]
[null,null,null,null,null,null,"2028-01-09"]
[null,null,null,null,null,null,"2028-01-10"]
[null,null,null,null,null,null,"2028-01-11"]
[null,null,null,null,null,null,"2028-01-12"]
[null,null,null,null,null,null,"2028-01-13"]
[null,null,null,null,null,null,"2028-01-14"]
[null,null,null,null,null,null,"2028-01-15"]
[null,null,null,null,null,null,"2028-01-16"]
[null,null,null,null,null,null,{"$f":"G4675+1","v":"2028-01-17"}]
[null,null,null,null,null,null,"2028-01-18"]
[null,null,null,null,null,null,"2028-01-19"]
[null,null,null,null,null,null,"2028-01-20"]
[null,null,null,null,null,null,"2028-01-21"]
[null,null,null,null,null,null,"2028-01-22"]
[null,null,null,null,null,null,"2028-01-23"]
[null,null,null,null,null,null,"2028-01-24"]
[null,null,null,null,null,null,"2028-01-25"]
[null,null,null,null,null,null,"2028-01-26"]
[null,null,null,null,null,null,"2028-01-27"]
[null,null,null,null,null,null,"2028-01-28"]
[null,null,null,null,null,null,"2028-01-29"]
[null,null,null,null,null,null,"2028-01-30"]
[null,null,null,null,null,null,"2028-01-31"]
[null,null,null,null,null,null,"2028-02-01"]
[null,null,null,null,null,null,"2028-02-02"]
[null,null,null,null,null,null,"2028-02-03"]
[null,null,null,null,null,null,"2028-02-04"]
[null,null,null,null,null,null,"2028-02-05"]
[null,null,null,null,null,null,"2028-02-06"]
[null,null,null,null,null,null,"2028-02-07"]
[null,null,null,null,null,null,"2028-02-08"]
[null,null,null,null,null,null,"2028-02-09"]
[null,null,null,null,null,null,"2028-02-10"]
[null,null,null,null,null,null,"2028-02-11"]
[null,null,null,null,null,null,"2028-02-12"]
[null,null,null,null,null,null,"2028-02-13"]
[null,null,null,null,null,null,"2028-02-14"]
[null,null,null,null,null,null,"2028-02-15"]
[null,null,null,null,null,null,"2028-02-16"]
[null,null,null,null,null,null,"2028-02-17"]
[null,null,null,null,null,null,"2028-02-18"]
[null,null,null,null,null,null,"2028-02-19"]
[null,null,null,null,null,null,"2028-02-20"]
[null,null,null,null,null,null,"2028-02-21"]
[null,null,null,null,null,null,"2028-02-22"]
[null,null,null,null,null,null,"2028-02-23"]
[null,null,null,null,null,null,"2028-02-24"]
[null,null,null,null,null,null,"2028-02-25"]
[null,null,null,null,null,null,"2028-02-26"]
[null,null,null,null,null,null,"2028-02-27"]
[null,null,null,null,null,null,"2028-02-28"]
[null,null,null,null,null,null,"2028-02-29"]
[null,null,null,null,null,null,"2028-03-01"]
[null,null,null,null,null,null,"2028-03-02"]
[null,null,null,null,null,null,"2028-03-03"]
[null,null,null,null,null,null,"2028-03-04"]
[null,null,null,null,null,null,"2028-03-05"]
[null,null,null,null,null,null,"2028-03-06"]
[null,null,null,null,null,null,"2028-03-07"]
[null,null,null,null,null,null,"2028-03-08"]
[null,null,null,null,null,null,"2028-03-09"]
[null,null,null,null,null,null,"2028-03-10"]
[null,null,null,null,null,null,"2028-03-11"]
[null,null,null,null,null,null,"2028-03-12"]
[null,null,null,null,null,null,"2028-03-13"]
[null,null,null,null,null,null,"2028-03-14"]
[null,null,null,null,null,null,"2028-03-15"]
[null,null,null,null,null,null,"2028-03-16"]
[null,null,null,null,null,null,"2028-03-17"]
[null,null,null,null,null,null,"2028-03-18"]
[null,null,null,null,null,null,"2028-03-19"]
[null,null,null,null,null,null,"2028-03-20"]
[null,null,null,null,null,null,{"$f":"G4739+1","v":"2028-03-21"}]
[null,null,null,null,null,null,"2028-03-22"]
[null,null,null,null,null,null,"2028-03-23"]
[null,null,null,null,null,null,"2028-03-24"]
[null,null,null,null,null,null,"2028-03-25"]
[null,null,null,null,null,null,"2028-03-26"]
[null,null,null,null,null,null,"2028-03-27"]
[null,null,null,null,null,null,"2028-03-28"]
[null,null,null,null,null,null,"2028-03-29"]
[null,null,null,null,null,null,"2028-03-30"]
[null,null,null,null,null,null,"2028-03-31"]
[null,null,null,null,null,null,"2028-04-01"]
[null,null,null,null,null,null,"2028-04-02"]
[null,null,null,null,null,null,"2028-04-03"]
[null,null,null,null,null,null,"2028-04-04"]
[null,null,null,null,null,null,"2028-04-05"]
[null,null,null,null,null,null,"2028-04-06"]
[null,null,null,null,null,null,"2028-04-07"]
[null,null,null,null,null,null,"2028-04-08"]
[null,null,null,null,null,null,"2028-04-09"]
[null,null,null,null,null,null,"2028-04-10"]
[null,null,null,null,null,null,"2028-04-11"]
[null,null,null,null,null,null,"2028-04-12"]
[null,null,null,null,null,null,"2028-04-13"]
[null,null,null,null,null,null,"2028-04-14"]
[null,null,null,null,null,null,"2028-04-15"]
[null,null,null,null,null,null,"2028-04-16"]
[null,null,null,null,null,null,"2028-04-17"]
[null,null,null,null,null,null,"2028-04-18"]
[null,null,null,null,null,null,"2028-04-19"]
[null,null,null,null,null,null,"2028-04-20"]
[null,null,null,null,null,null,"2028-04-21"]
[null,null,null,null,null,null,"2028-04-22"]
[null,null,null,null,null,null,"2028-04-23"]
[null,null,null,null,null,null,"2028-04-24"]
[null,null,null,null,null,null,"2028-04-25"]
[null,null,null,null,null,null,"2028-04-26"]
[null,null,null,null,null,null,"2028-04-27"]
[null,null,null,null,null,null,"2028-04-28"]
[null,null,null,null,null,null,"2028-04-29"]
[null,null,null,null,null,null,"2028-04-30"]
[null,null,null,null,null,null,"2028-05-01"]
[null,null,null,null,null,null,"2028-05-02"]
[null,null,null,null,null,null,"2028-05-03"]
[null,null,null,null,null,null,"2028-05-04"]
[null,null,null,null,null,null,"2028-05-05"]
[null,null,null,null,null,null,"2028-05-06"]
[null,null,null,null,null,null,"2028-05-07"]
[null,null,null,null,null,null,"2028-05-08"]
[null,null,null,null,null,null,"2028-05-09"]
[null,null,null,null,null,null,"2028-05-10"]
[null,null,null,null,null,null,"2028-05-11"]
[null,null,null,null,null,null,"2028-05-12"]
[null,null,null,null,null,null,"2028-05-13"]
[null,null,null,null,null,null,"2028-05-14"]
[null,null,null,null,null,null,"2028-05-15"]
[null,null,null,null,null,null,"2028-05-16"]
[null,null,null,null,null,null,"2028-05-17"]
[null,null,null,null,null,null,"2028-05-18"]
[null,null,null,null,null,null,"2028-05-19"]
[null,null,null,null,null,null,"2028-05-20"]
[null,null,null,null,null,null,"2028-05-21"]
[null,null,null,null,null,null,"2028-05-22"]
[null,null,null,null,null,null,"2028-05-23"]
[null,null,null,null,null,null,{"$f":"G4803+1","v":"2028-05-24"}]
[null,null,null,null,null,null,"2028-05-25"]
[null,null,null,null,null,null,"2028-05-26"]
[null,null,null,null,null,null,"2028-05-27"]
[null,null,null,null,null,null,"2028-05-28"]
[null,null,null,null,null,null,"2028-05-29"]
[null,null,null,null,null,null,"2028-05-30"]
[null,null,null,null,null,null,"2028-05-31"]
[null,null,null,null,null,null,"2028-06-01"]
[null,null,null,null,null,null,"2028-06-02"]
[null,null,null,null,null,null,"2028-06-03"]
[null,null,null,null,null,null,"2028-06-04"]
[null,null,null,null,null,null,"2028-06-05"]
[null,null,null,null,null,null,"2028-06-06"]
[null,null,null,null,null,null,"2028-06-07"]
[null,null,null,null,null,null,"2028-06-08"]
[null,null,null,null,null,null,"2028-06-09"]
[null,null,null,null,null,null,"2028-06-10"]
[null,null,null,null,null,null,"2028-06-11"]
[null,null,null,null,null,null,"2028-06-12"]
[null,null,null,null,null,null,"2028-06-13"]
[null,null,null,null,null,null,"2028-06-14"]
[null,null,null,null,null,null,"2028-06-15"]
[null,null,null,null,null,null,"2028-06-16"]
[null,null,null,null,null,null,"2028-06-17"]
[null,null,null,null,null,null,"2028-06-18"]
[null,null,null,null,null,null,"2028-06-19"]
[null,null,null,null,null,null,"2028-06-20"]
[null,null,null,null,null,null,"2028-06-21"]
[null,null,null,null,null,null,"2028-06-22"]
[null,null,null,null,null,null,"2028-06-23"]
[null,null,null,null,null,null,"2028-06-24"]
[null,null,null,null,null,null,"2028-06-25"]
[null,null,null,null,null,null,"2028-06-26"]
[null,null,null,null,null,null,"2028-06-27"]
[null,null,null,null,null,null,"2028-06-28"]
[null,null,null,null,null,null,"2028-06-29"]
[null,null,null,null,null,null,"2028-06-30"]
[null,null,null,null,null,null,"2028-07-01"]
[null,null,null,null,null,null,"2028-07-02"]
[null,null,null,null,null,null,"2028-07-03"]
[null,null,null,null,null,null,"2028-07-04"]
[null,null,null,null,null,null,"2028-07-05"]
[null,null,null,null,null,null,"2028-07-06"]
[null,null,null,null,null,null,"2028-07-07"]
[null,null,null,null,null,null,"2028-07-08"]
[null,null,null,null,null,null,"2028-07-09"]
[null,null,null,null,null,null,"2028-07-10"]
[null,null,null,null,null,null,"2028-07-11"]
[null,null,null,null,null,null,"2028-07-12"]
[null,null,null,null,null,null,"2028-07-13"]
[null,null,null,null,null,null,"2028-07-14"]
[null,null,null,null,null,null,"2028-07-15"]
[null,null,null,null,null,null,"2028-07-16"]
[null,null,null,null,null,null,"2028-07-17"]
[null,null,null,null,null,null,"2028-07-18"]
[null,null,null,null,null,null,"2028-07-19"]
[null,null,null,null,null,null,"2028-07-20"]
[null,null,null,null,null,null,"2028-07-21"]
[null,null,null,null,null,null,"2028-07-22"]
[null,null,null,null,null,null,"2028-07-23"]
[null,null,null,null,null,null,"2028-07-24"]
[null,null,null,null,null,null,"2028-07-25"]
[null,null,null,null,null,null,"2028-07-26"]
[null,null,null,null,null,null,{"$f":"G4867+1","v":"2028-07-27"}]
[null,null,null,null,null,null,"2028-07-28"]
[null,null,null,null,null,null,"2028-07-29"]
[null,null,null,null,null,null,"2028-07-30"]
[null,null,null,null,null,null,"2028-07-31"]
[null,null,null,null,null,null,"2028-08-01"]
[null,null,null,null,null,null,"2028-08-02"]
[null,null,null,null,null,null,"2028-08-03"]
[null,null,null,null,null,null,"2028-08-04"]
[null,null,null,null,null,null,"2028-08-05"]
[null,null,null,null,null,null,"2028-08-06"]
[null,null,null,null,null,null,"2028-08-07"]
[null,null,null,null,null,null,"2028-08-08"]
[null,null,null,null,null,null,"2028-08-09"]
[null,null,null,null,null,null,"2028-08-10"]
[null,null,null,null,null,null,"2028-08-11"]
[null,null,null,null,null,null,"2028-08-12"]
[null,null,null,null,null,null,"2028-08-13"]
[null,null,null,null,null,null,"2028-08-14"]
[null,null,null,null,null,null,"2028-08-15"]
[null,null,null,null,null,null,"2028-08-16"]
[null,null,null,null,null,null,"2028-08-17"]
[null,null,null,null,null,null,"2028-08-18"]
[null,null,null,null,null,null,"2028-08-19"]
[null,null,null,null,null,null,"2028-08-20"]
[null,null,null,null,null,null,"2028-08-21"]
[null,null,null,null,null,null,"2028-08-22"]
[null,null,null,null,null,null,"2028-08-23"]
[null,null,null,null,null,null,"2028-08-24"]
[null,null,null,null,null,null,"2028-08-25"]
[null,null,null,null,null,null,"2028-08-26"]
[null,null,null,null,null,null,"2028-08-27"]
[null,null,null,null,null,null,"2028-08-28"]
[null,null,null,null,null,null,"2028-08-29"]
[null,null,null,null,null,null,"2028-08-30"]
[null,null,null,null,null,null,"2028-08-31"]
[null,null,null,null,null,null,"2028-09-01"]
[null,null,null,null,null,null,"2028-09-02"]
[null,null,null,null,null,null,"2028-09-03"]
[null,null,null,null,null,null,"2028-09-04"]
[null,null,null,null,null,null,"2028-09-05"]
[null,null,null,null,null,null,"2028-09-06"]
[null,null,null,null,null,null,"2028-09-07"]
[null,null,null,null,null,null,"2028-09-08"]
[null,null,null,null,null,null,"2028-09-09"]
[null,null,null,null,null,null,"2028-09-10"]
[null,null,null,null,null,null,"2028-09-11"]
[null,null,null,null,null,null,"2028-09-12"]
[null,null,null,null,null,null,"2028-09-13"]
[null,null,null,null,null,null,"2028-09-14"]
[null,null,null,null,null,null,"2028-09-15"]
[null,null,null,null,null,null,"2028-09-16"]
[null,null,null,null,null,null,"2028-09-17"]
[null,null,null,null,null,null,"2028-09-18"]
[null,null,null,null,null,null,"2028-09-19"]
[null,null,null,null,null,null,"2028-09-20"]
[null,null,null,null,null,null,"2028-09-21"]
[null,null,null,null,null,null,"2028-09-22"]
[null,null,null,null,null,null,"2028-09-23"]
[null,null,null,null,null,null,"2028-09-24"]
[null,null,null,null,null,null,"2028-09-25"]
[null,null,null,null,null,null,"2028-09-26"]
[null,null,null,null,null,null,"2028-09-27"]
[null,null,null,null,null,null,"2028-09-28"]
[null,null,null,null,null,null,{"$f":"G4931+1","v":"2028-09-29"}]
[null,null,null,null,null,null,"2028-09-30"]
[null,null,null,null,null,null,"2028-10-01"]
[null,null,null,null,null,null,"2028-10-02"]
[null,null,null,null,null,null,"2028-10-03"]
[null,null,null,null,null,null,"2028-10-04"]
[null,null,null,null,null,null,"2028-10-05"]
[null,null,null,null,null,null,"2028-10-06"]
[null,null,null,null,null,null,"2028-10-07"]
[null,null,null,null,null,null,"2028-10-08"]
[null,null,null,null,null,null,"2028-10-09"]
[null,null,null,null,null,null,"2028-10-10"]
[null,null,null,null,null,null,"2028-10-11"]
[null,null,null,null,null,null,"2028-10-12"]
[null,null,null,null,null,null,"2028-10-13"]
[null,null,null,null,null,null,"2028-10-14"]
[null,null,null,null,null,null,"2028-10-15"]
[null,null,null,null,null,null,"2028-10-16"]
[null,null,null,null,null,null,"2028-10-17"]
[null,null,null,null,null,null,"2028-10-18"]
[null,null,null,null,null,null,"2028-10-19"]
[null,null,null,null,null,null,"2028-10-20"]
[null,null,null,null,null,null,"2028-10-21"]
[null,null,null,null,null,null,"2028-10-22"]
[null,null,null,null,null,null,"2028-10-23"]
[null,null,null,null,null,null,"2028-10-24"]
[null,null,null,null,null,null,"2028-10-25"]
[null,null,null,null,null,null,"2028-10-26"]
[null,null,null,null,null,null,"2028-10-27"]
[null,null,null,null,null,null,"2028-10-28"]
[null,null,null,null,null,null,"2028-10-29"]
[null,null,null,null,null,null,"2028-10-30"]
[null,null,null,null,null,null,"2028-10-31"]
[null,null,null,null,null,null,"2028-11-01"]
[null,null,null,null,null,null,"2028-11-02"]
[null,null,null,null,null,null,"2028-11-03"]
[null,null,null,null,null,null,"2028-11-04"]
[null,null,null,null,null,null,"2028-11-05"]
[null,null,null,null,null,null,"2028-11-06"]
[null,null,null,null,null,null,"2028-11-07"]
[null,null,null,null,null,null,"2028-11-08"]
[null,null,null,null,null,null,"2028-11-09"]
[null,null,null,null,null,null,"2028-11-10"]
[null,null,null,null,null,null,"2028-11-11"]
[null,null,null,null,null,null,"2028-11-12"]
[null,null,null,null,null,null,"2028-11-13"]
[null,null,null,null,null,null,"2028-11-14"]
[null,null,null,null,null,null,"2028-11-15"]
[null,null,null,null,null,null,"2028-11-16"]
[null,null,null,null,null,null,"2028-11-17"]
[null,null,null,null,null,null,"2028-11-18"]
[null,null,null,null,null,null,"2028-11-19"]
[null,null,null,null,null,null,"2028-11-20"]
[null,null,null,null,null,null,"2028-11-21"]
[null,null,null,null,null,null,"2028-11-22"]
[null,null,null,null,null,null,"2028-11-23"]
[null,null,null,null,null,null,"2028-11-24"]
[null,null,null,null,null,null,"2028-11-25"]
[null,null,null,null,null,null,"2028-11-26"]
[null,null,null,null,null,null,"2028-11-27"]
[null,null,null,null,null,null,"2028-11-28"]
[null,null,null,null,null,null,"2028-11-29"]
[null,null,null,null,null,null,"2028-11-30"]
[null,null,null,null,null,null,"2028-12-01"]
[null,null,null,null,null,null,{"$f":"G4995+1","v":"2028-12-02"}]
[null,null,null,null,null,null,"2028-12-03"]
[null,null,null,null,null,null,"2028-12-04"]
[null,null,null,null,null,null,"2028-12-05"]
[null,null,null,null,null,null,"2028-12-06"]
[null,null,null,null,null,null,"2028-12-07"]
[null,null,null,null,null,null,"2028-12-08"]
[null,null,null,null,null,null,"2028-12-09"]
[null,null,null,null,null,null,"2028-12-10"]
[null,null,null,null,null,null,"2028-12-11"]
[null,null,null,null,null,null,"2028-12-12"]
[null,null,null,null,null,null,"2028-12-13"]
[null,null,null,null,null,null,"2028-12-14"]
[null,null,null,null,null,null,"2028-12-15"]
[null,null,null,null,null,null,"2028-12-16"]
[null,null,null,null,null,null,"2028-12-17"]
[null,null,null,null,null,null,"2028-12-18"]
[null,null,null,null,null,null,"2028-12-19"]
[null,null,null,null,null,null,"2028-12-20"]
[null,null,null,null,null,null,"2028-12-21"]
[null,null,null,null,null,null,"2028-12-22"]
[null,null,null,null,null,null,"2028-12-23"]
[null,null,null,null,null,null,"2028-12-24"]
[null,null,null,null,null,null,"2028-12-25"]
[null,null,null,null,null,null,"2028-12-26"]
[null,null,null,null,null,null,"2028-12-27"]
[null,null,null,null,null,null,"2028-12-28"]
[null,null,null,null,null,null,"2028-12-29"]
[null,null,null,null,null,null,"2028-12-30"]
[null,null,null,null,null,null,"2028-12-31"]
[null,null,null,null,null,null,"2029-01-01"]
[null,null,null,null,null,null,"2029-01-02"]
[null,null,null,null,null,null,"2029-01-03"]
[null,null,null,null,null,null,"2029-01-04"]
[null,null,null,null,null,null,"2029-01-05"]
[null,null,null,null,null,null,"2029-01-06"]
[null,null,null,null,null,null,"2029-01-07"]
[null,null,null,null,null,null,"2029-01-08"]
[null,null,null,null,null,null,"2029-01-09"]
[null,null,null,null,null,null,"2029-01-10"]
[null,null,null,null,null,null,"2029-01-11"]
[null,null,null,null,null,null,"2029-01-12"]
[null,null,null,null,null,null,"2029-01-13"]
[null,null,null,null,null,null,"2029-01-14"]
[null,null,null,null,null,null,"2029-01-15"]
[null,null,null,null,null,null,"2029-01-16"]
[null,null,null,null,null,null,"2029-01-17"]
[null,null,null,null,null,null,"2029-01-18"]
[null,null,null,null,null,null,"2029-01-19"]
[null,null,null,null,null,null,"2029-01-20"]
[null,null,null,null,null,null,"2029-01-21"]
[null,null,null,null,null,null,"2029-01-22"]
[null,null,null,null,null,null,"2029-01-23"]
[null,null,null,null,null,null,"2029-01-24"]
[null,null,null,null,null,null,"2029-01-25"]
[null,null,null,null,null,null,"2029-01-26"]
[null,null,null,null,null,null,"2029-01-27"]
[null,null,null,null,null,null,"2029-01-28"]
[null,null,null,null,null,null,"2029-01-29"]
[null,null,null,null,null,null,"2029-01-30"]
[null,null,null,null,null,null,"2029-01-31"]
[null,null,null,null,null,null,"2029-02-01"]
[null,null,null,null,null,null,"2029-02-02"]
[null,null,null,null,null,null,"2029-02-03"]
[null,null,null,null,null,null,{"$f":"G5059+1","v":"2029-02-04"}]
[null,null,null,null,null,null,"2029-02-05"]
[null,null,null,null,null,null,"2029-02-06"]
[null,null,null,null,null,null,"2029-02-07"]
[null,null,null,null,null,null,"2029-02-08"]
[null,null,null,null,null,null,"2029-02-09"]
[null,null,null,null,null,null,"2029-02-10"]
[null,null,null,null,null,null,"2029-02-11"]
[null,null,null,null,null,null,"2029-02-12"]
[null,null,null,null,null,null,"2029-02-13"]
[null,null,null,null,null,null,"2029-02-14"]
[null,null,null,null,null,null,"2029-02-15"]
[null,null,null,null,null,null,"2029-02-16"]
[null,null,null,null,null,null,"2029-02-17"]
[null,null,null,null,null,null,"2029-02-18"]
[null,null,null,null,null,null,"2029-02-19"]
[null,null,null,null,null,null,"2029-02-20"]
[null,null,null,null,null,null,"2029-02-21"]
[null,null,null,null,null,null,"2029-02-22"]
[null,null,null,null,null,null,"2029-02-23"]
[null,null,null,null,null,null,"2029-02-24"]
[null,null,null,null,null,null,"2029-02-25"]
[null,null,null,null,null,null,"2029-02-26"]
[null,null,null,null,null,null,"2029-02-27"]
[null,null,null,null,null,null,"2029-02-28"]
[null,null,null,null,null,null,"2029-03-01"]
[null,null,null,null,null,null,"2029-03-02"]
[null,null,null,null,null,null,"2029-03-03"]
[null,null,null,null,null,null,"2029-03-04"]
[null,null,null,null,null,null,"2029-03-05"]
[null,null,null,null,null,null,"2029-03-06"]
[null,null,null,null,null,null,"2029-03-07"]
[null,null,null,null,null,null,"2029-03-08"]
[null,null,null,null,null,null,"2029-03-09"]
[null,null,null,null,null,null,"2029-03-10"]
[null,null,null,null,null,null,"2029-03-11"]
[null,null,null,null,null,null,"2029-03-12"]
[null,null,null,null,null,null,"2029-03-13"]
[null,null,null,null,null,null,"2029-03-14"]
[null,null,null,null,null,null,"2029-03-15"]
[null,null,null,null,null,null,"2029-03-16"]
[null,null,null,null,null,null,"2029-03-17"]
[null,null,null,null,null,null,"2029-03-18"]
[null,null,null,null,null,null,"2029-03-19"]
[null,null,null,null,null,null,"2029-03-20"]
[null,null,null,null,null,null,"2029-03-21"]
[null,null,null,null,null,null,"2029-03-22"]
[null,null,null,null,null,null,"2029-03-23"]
[null,null,null,null,null,null,"2029-03-24"]
[null,null,null,null,null,null,"2029-03-25"]
[null,null,null,null,null,null,"2029-03-26"]
[null,null,null,null,null,null,"2029-03-27"]
[null,null,null,null,null,null,"2029-03-28"]
[null,null,null,null,null,null,"2029-03-29"]
[null,null,null,null,null,null,"2029-03-30"]
[null,null,null,null,null,null,"2029-03-31"]
[null,null,null,null,null,null,"2029-04-01"]
[null,null,null,null,null,null,"2029-04-02"]
[null,null,null,null,null,null,"2029-04-03"]
[null,null,null,null,null,null,"2029-04-04"]
[null,null,null,null,null,null,"2029-04-05"]
[null,null,null,null,null,null,"2029-04-06"]
[null,null,null,null,null,null,"2029-04-07"]
[null,null,null,null,null,null,"2029-04-08"]
[null,null,null,null,null,null,{"$f":"G5123+1","v":"2029-04-09"}]
[null,null,null,null,null,null,"2029-04-10"]
[null,null,null,null,null,null,"2029-04-11"]
[null,null,null,null,null,null,"2029-04-12"]
[null,null,null,null,null,null,"2029-04-13"]
[null,null,null,null,null,null,"2029-04-14"]
[null,null,null,null,null,null,"2029-04-15"]
[null,null,null,null,null,null,"2029-04-16"]
[null,null,null,null,null,null,"2029-04-17"]
[null,null,null,null,null,null,"2029-04-18"]
[null,null,null,null,null,null,"2029-04-19"]
[null,null,null,null,null,null,"2029-04-20"]
[null,null,null,null,null,null,"2029-04-21"]
[null,null,null,null,null,null,"2029-04-22"]
[null,null,null,null,null,null,"2029-04-23"]
[null,null,null,null,null,null,"2029-04-24"]
[null,null,null,null,null,null,"2029-04-25"]
[null,null,null,null,null,null,"2029-04-26"]
[null,null,null,null,null,null,"2029-04-27"]
[null,null,null,null,null,null,"2029-04-28"]
[null,null,null,null,null,null,"2029-04-29"]
[null,null,null,null,null,null,"2029-04-30"]
[null,null,null,null,null,null,"2029-05-01"]
[null,null,null,null,null,null,"2029-05-02"]
[null,null,null,null,null,null,"2029-05-03"]
[null,null,null,null,null,null,"2029-05-04"]
[null,null,null,null,null,null,"2029-05-05"]
[null,null,null,null,null,null,"2029-05-06"]
[null,null,null,null,null,null,"2029-05-07"]
[null,null,null,null,null,null,"2029-05-08"]
[null,null,null,null,null,null,"2029-05-09"]
[null,null,null,null,null,null,"2029-05-10"]
[null,null,null,null,null,null,"2029-05-11"]
[null,null,null,null,null,null,"2029-05-12"]
[null,null,null,null,null,null,"2029-05-13"]
[null,null,null,null,null,null,"2029-05-14"]
[null,null,null,null,null,null,"2029-05-15"]
[null,null,null,null,null,null,"2029-05-16"]
[null,null,null,null,null,null,"2029-05-17"]
[null,null,null,null,null,null,"2029-05-18"]
[null,null,null,null,null,null,"2029-05-19"]
[null,null,null,null,null,null,"2029-05-20"]
[null,null,null,null,null,null,"2029-05-21"]
[null,null,null,null,null,null,"2029-05-22"]
[null,null,null,null,null,null,"2029-05-23"]
[null,null,null,null,null,null,"2029-05-24"]
[null,null,null,null,null,null,"2029-05-25"]
[null,null,null,null,null,null,"2029-05-26"]
[null,null,null,null,null,null,"2029-05-27"]
[null,null,null,null,null,null,"2029-05-28"]
[null,null,null,null,null,null,"2029-05-29"]
[null,null,null,null,null,null,"2029-05-30"]
[null,null,null,null,null,null,"2029-05-31"]
[null,null,null,null,null,null,"2029-06-01"]
[null,null,null,null,null,null,"2029-06-02"]
[null,null,null,null,null,null,"2029-06-03"]
[null,null,null,null,null,null,"2029-06-04"]
[null,null,null,null,null,null,"2029-06-05"]
[null,null,null,null,null,null,"2029-06-06"]
[null,null,null,null,null,null,"2029-06-07"]
[null,null,null,null,null,null,"2029-06-08"]
[null,null,null,null,null,null,"2029-06-09"]
[null,null,null,null,null,null,"2029-06-10"]
[null,null,null,null,null,null,"2029-06-11"]
[null,null,null,null,null,null,{"$f":"G5187+1","v":"2029-06-12"}]
[null,null,null,null,null,null,"2029-06-13"]
[null,null,null,null,null,null,"2029-06-14"]
[null,null,null,null,null,null,"2029-06-15"]
[null,null,null,null,null,null,"2029-06-16"]
[null,null,null,null,null,null,"2029-06-17"]
[null,null,null,null,null,null,"2029-06-18"]
[null,null,null,null,null,null,"2029-06-19"]
[null,null,null,null,null,null,"2029-06-20"]
[null,null,null,null,null,null,"2029-06-21"]
[null,null,null,null,null,null,"2029-06-22"]
[null,null,null,null,null,null,"2029-06-23"]
[null,null,null,null,null,null,"2029-06-24"]
[null,null,null,null,null,null,"2029-06-25"]
[null,null,null,null,null,null,"2029-06-26"]
[null,null,null,null,null,null,"2029-06-27"]
[null,null,null,null,null,null,"2029-06-28"]
[null,null,null,null,null,null,"2029-06-29"]
[null,null,null,null,null,null,"2029-06-30"]
[null,null,null,null,null,null,"2029-07-01"]
[null,null,null,null,null,null,"2029-07-02"]
[null,null,null,null,null,null,"2029-07-03"]
[null,null,null,null,null,null,"2029-07-04"]
[null,null,null,null,null,null,"2029-07-05"]
[null,null,null,null,null,null,"2029-07-06"]
[null,null,null,null,null,null,"2029-07-07"]
[null,null,null,null,null,null,"2029-07-08"]
[null,null,null,null,null,null,"2029-07-09"]
[null,null,null,null,null,null,"2029-07-10"]
[null,null,null,null,null,null,"2029-07-11"]
[null,null,null,null,null,null,"2029-07-12"]
[null,null,null,null,null,null,"2029-07-13"]
[null,null,null,null,null,null,"2029-07-14"]
[null,null,null,null,null,null,"2029-07-15"]
[null,null,null,null,null,null,"2029-07-16"]
[null,null,null,null,null,null,"2029-07-17"]
[null,null,null,null,null,null,"2029-07-18"]
[null,null,null,null,null,null,"2029-07-19"]
[null,null,null,null,null,null,"2029-07-20"]
[null,null,null,null,null,null,"2029-07-21"]
[null,null,null,null,null,null,"2029-07-22"]
[null,null,null,null,null,null,"2029-07-23"]
[null,null,null,null,null,null,"2029-07-24"]
[null,null,null,null,null,null,"2029-07-25"]
[null,null,null,null,null,null,"2029-07-26"]
[null,null,null,null,null,null,"2029-07-27"]
[null,null,null,null,null,null,"2029-07-28"]
[null,null,null,null,null,null,"2029-07-29"]
[null,null,null,null,null,null,"2029-07-30"]
[null,null,null,null,null,null,"2029-07-31"]
[null,null,null,null,null,null,"2029-08-01"]
[null,null,null,null,null,null,"2029-08-02"]
[null,null,null,null,null,null,"2029-08-03"]
[null,null,null,null,null,null,"2029-08-04"]
[null,null,null,null,null,null,"2029-08-05"]
[null,null,null,null,null,null,"2029-08-06"]
[null,null,null,null,null,null,"2029-08-07"]
[null,null,null,null,null,null,"2029-08-08"]
[null,null,null,null,null,null,"2029-08-09"]
[null,null,null,null,null,null,"2029-08-10"]
[null,null,null,null,null,null,"2029-08-11"]
[null,null,null,null,null,null,"2029-08-12"]
[null,null,null,null,null,null,"2029-08-13"]
[null,null,null,null,null,null,"2029-08-14"]
[null,null,null,null,null,null,{"$f":"G5251+1","v":"2029-08-15"}]
[null,null,null,null,null,null,"2029-08-16"]
[null,null,null,null,null,null,"2029-08-17"]
[null,null,null,null,null,null,"2029-08-18"]
[null,null,null,null,null,null,"2029-08-19"]
[null,null,null,null,null,null,"2029-08-20"]
[null,null,null,null,null,null,"2029-08-21"]
[null,null,null,null,null,null,"2029-08-22"]
[null,null,null,null,null,null,"2029-08-23"]
[null,null,null,null,null,null,"2029-08-24"]
[null,null,null,null,null,null,"2029-08-25"]
[null,null,null,null,null,null,"2029-08-26"]
[null,null,null,null,null,null,"2029-08-27"]
[null,null,null,null,null,null,"2029-08-28"]
[null,null,null,null,null,null,"2029-08-29"]
[null,null,null,null,null,null,"2029-08-30"]
[null,null,null,null,null,null,"2029-08-31"]
[null,null,null,null,null,null,"2029-09-01"]
[null,null,null,null,null,null,"2029-09-02"]
[null,null,null,null,null,null,"2029-09-03"]
[null,null,null,null,null,null,"2029-09-04"]
[null,null,null,null,null,null,"2029-09-05"]
[null,null,null,null,null,null,"2029-09-06"]
[null,null,null,null,null,null,"2029-09-07"]
[null,null,null,null,null,null,"2029-09-08"]
[null,null,null,null,null,null,"2029-09-09"]
[null,null,null,null,null,null,"2029-09-10"]
[null,null,null,null,null,null,"2029-09-11"]
[null,null,null,null,null,null,"2029-09-12"]
[null,null,null,null,null,null,"2029-09-13"]
[null,null,null,null,null,null,"2029-09-14"]
[null,null,null,null,null,null,"2029-09-15"]
[null,null,null,null,null,null,"2029-09-16"]
[null,null,null,null,null,null,"2029-09-17"]
[null,null,null,null,null,null,"2029-09-18"]
[null,null,null,null,null,null,"2029-09-19"]
[null,null,null,null,null,null,"2029-09-20"]
[null,null,null,null,null,null,"2029-09-21"]
[null,null,null,null,null,null,"2029-09-22"]
[null,null,null,null,null,null,"2029-09-23"]
[null,null,null,null,null,null,"2029-09-24"]
[null,null,null,null,null,null,"2029-09-25"]
[null,null,null,null,null,null,"2029-09-26"]
[null,null,null,null,null,null,"2029-09-27"]
[null,null,null,null,null,null,"2029-09-28"]
[null,null,null,null,null,null,"2029-09-29"]
[null,null,null,null,null,null,"2029-09-30"]
[null,null,null,null,null,null,"2029-10-01"]
[null,null,null,null,null,null,"2029-10-02"]
[null,null,null,null,null,null,"2029-10-03"]
[null,null,null,null,null,null,"2029-10-04"]
[null,null,null,null,null,null,"2029-10-05"]
[null,null,null,null,null,null,"2029-10-06"]
[null,null,null,null,null,null,"2029-10-07"]
[null,null,null,null,null,null,"2029-10-08"]
[null,null,null,null,null,null,"2029-10-09"]
[null,null,null,null,null,null,"2029-10-10"]
[null,null,null,null,null,null,"2029-10-11"]
[null,null,null,null,null,null,"2029-10-12"]
[null,null,null,null,null,null,"2029-10-13"]
[null,null,null,null,null,null,"2029-10-14"]
[null,null,null,null,null,null,"2029-10-15"]
[null,null,null,null,null,null,"2029-10-16"]
[null,null,null,null,null,null,"2029-10-17"]
[null,null,null,null,null,null,{"$f":"G5315+1","v":"2029-10-18"}]
[null,null,null,null,null,null,"2029-10-19"]
[null,null,null,null,null,null,"2029-10-20"]
[null,null,null,null,null,null,"2029-10-21"]
[null,null,null,null,null,null,"2029-10-22"]
[null,null,null,null,null,null,"2029-10-23"]
[null,null,null,null,null,null,"2029-10-24"]
[null,null,null,null,null,null,"2029-10-25"]
[null,null,null,null,null,null,"2029-10-26"]
[null,null,null,null,null,null,"2029-10-27"]
[null,null,null,null,null,null,"2029-10-28"]
[null,null,null,null,null,null,"2029-10-29"]
[null,null,null,null,null,null,"2029-10-30"]
[null,null,null,null,null,null,"2029-10-31"]
[null,null,null,null,null,null,"2029-11-01"]
[null,null,null,null,null,null,"2029-11-02"]
[null,null,null,null,null,null,"2029-11-03"]
[null,null,null,null,null,null,"2029-11-04"]
[null,null,null,null,null,null,"2029-11-05"]
[null,null,null,null,null,null,"2029-11-06"]
[null,null,null,null,null,null,"2029-11-07"]
[null,null,null,null,null,null,"2029-11-08"]
[null,null,null,null,null,null,"2029-11-09"]
[null,null,null,null,null,null,"2029-11-10"]
[null,null,null,null,null,null,"2029-11-11"]
[null,null,null,null,null,null,"2029-11-12"]
[null,null,null,null,null,null,"2029-11-13"]
[null,null,null,null,null,null,"2029-11-14"]
[null,null,null,null,null,null,"2029-11-15"]
[null,null,null,null,null,null,"2029-11-16"]
[null,null,null,null,null,null,"2029-11-17"]
[null,null,null,null,null,null,"2029-11-18"]
[null,null,null,null,null,null,"2029-11-19"]
[null,null,null,null,null,null,"2029-11-20"]
[null,null,null,null,null,null,"2029-11-21"]
[null,null,null,null,null,null,"2029-11-22"]
[null,null,null,null,null,null,"2029-11-23"]
[null,null,null,null,null,null,"2029-11-24"]
[null,null,null,null,null,null,"2029-11-25"]
[null,null,null,null,null,null,"2029-11-26"]
[null,null,null,null,null,null,"2029-11-27"]
[null,null,null,null,null,null,"2029-11-28"]
[null,null,null,null,null,null,"2029-11-29"]
[null,null,null,null,null,null,"2029-11-30"]
[null,null,null,null,null,null,"2029-12-01"]
[null,null,null,null,null,null,"2029-12-02"]
[null,null,null,null,null,null,"2029-12-03"]
[null,null,null,null,null,null,"2029-12-04"]
[null,null,null,null,null,null,"2029-12-05"]
[null,null,null,null,null,null,"2029-12-06"]
[null,null,null,null,null,null,"2029-12-07"]
[null,null,null,null,null,null,"2029-12-08"]
[null,null,null,null,null,null,"2029-12-09"]
[null,null,null,null,null,null,"2029-12-10"]
[null,null,null,null,null,null,"2029-12-11"]
[null,null,null,null,null,null,"2029-12-12"]
[null,null,null,null,null,null,"2029-12-13"]
[null,null,null,null,null,null,"2029-12-14"]
[null,null,null,null,null,null,"2029-12-15"]
[null,null,null,null,null,null,"2029-12-16"]
[null,null,null,null,null,null,"2029-12-17"]
[null,null,null,null,null,null,"2029-12-18"]
[null,null,null,null,null,null,"2029-12-19"]
[null,null,null,null,null,null,"2029-12-20"]
[null,null,null,null,null,null,{"$f":"G5379+1","v":"2029-12-21"}]
[null,null,null,null,null,null,"2029-12-22"]
[null,null,null,null,null,null,"2029-12-23"]
[null,null,null,null,null,null,"2029-12-24"]
[null,null,null,null,null,null,"2029-12-25"]
[null,null,null,null,null,null,"2029-12-26"]
[null,null,null,null,null,null,"2029-12-27"]
[null,null,null,null,null,null,"2029-12-28"]
[null,null,null,null,null,null,"2029-12-29"]
[null,null,null,null,null,null,"2029-12-30"]
[null,null,null,null,null,null,"2029-12-31"]
[null,null,null,null,null,null,"2030-01-01"]
[null,null,null,null,null,null,"2030-01-02"]
[null,null,null,null,null,null,"2030-01-03"]
[null,null,null,null,null,null,"2030-01-04"]
[null,null,null,null,null,null,"2030-01-05"]
[null,null,null,null,null,null,"2030-01-06"]
[null,null,null,null,null,null,"2030-01-07"]
[null,null,null,null,null,null,"2030-01-08"]
[null,null,null,null,null,null,"2030-01-09"]
[null,null,null,null,null,null,"2030-01-10"]
[null,null,null,null,null,null,"2030-01-11"]
[null,null,null,null,null,null,"2030-01-12"]
[null,null,null,null,null,null,"2030-01-13"]
[null,null,null,null,null,null,"2030-01-14"]
[null,null,null,null,null,null,"2030-01-15"]
[null,null,null,null,null,null,"2030-01-16"]
[null,null,null,null,null,null,"2030-01-17"]
[null,null,null,null,null,null,"2030-01-18"]
[null,null,null,null,null,null,"2030-01-19"]
[null,null,null,null,null,null,"2030-01-20"]
[null,null,null,null,null,null,"2030-01-21"]
[null,null,null,null,null,null,"2030-01-22"]
[null,null,null,null,null,null,"2030-01-23"]
[null,null,null,null,null,null,"2030-01-24"]
[null,null,null,null,null,null,"2030-01-25"]
[null,null,null,null,null,null,"2030-01-26"]
[null,null,null,null,null,null,"2030-01-27"]
[null,null,null,null,null,null,"2030-01-28"]
[null,null,null,null,null,null,"2030-01-29"]
[null,null,null,null,null,null,"2030-01-30"]
[null,null,null,null,null,null,"2030-01-31"]
[null,null,null,null,null,null,"2030-02-01"]
[null,null,null,null,null,null,"2030-02-02"]
[null,null,null,null,null,null,"2030-02-03"]
[null,null,null,null,null,null,"2030-02-04"]
[null,null,null,null,null,null,"2030-02-05"]
[null,null,null,null,null,null,"2030-02-06"]
[null,null,null,null,null,null,"2030-02-07"]
[null,null,null,null,null,null,"2030-02-08"]
[null,null,null,null,null,null,"2030-02-09"]
[null,null,null,null,null,null,"2030-02-10"]
[null,null,null,null,null,null,"2030-02-11"]
[null,null,null,null,null,null,"2030-02-12"]
[null,null,null,null,null,null,"2030-02-13"]
[null,null,null,null,null,null,"2030-02-14"]
[null,null,null,null,null,null,"2030-02-15"]
[null,null,null,null,null,null,"2030-02-16"]
[null,null,null,null,null,null,"2030-02-17"]
[null,null,null,null,null,null,"2030-02-18"]
[null,null,null,null,null,null,"2030-02-19"]
[null,null,null,null,null,null,"2030-02-20"]
[null,null,null,null,null,null,"2030-02-21"]
[null,null,null,null,null,null,"2030-02-22"]
[null,null,null,null,null,null,{"$f":"G5443+1","v":"2030-02-23"}]
[null,null,null,null,null,null,"2030-02-24"]
[null,null,null,null,null,null,"2030-02-25"]
[null,null,null,null,null,null,"2030-02-26"]
[null,null,null,null,null,null,"2030-02-27"]
[null,null,null,null,null,null,"2030-02-28"]
[null,null,null,null,null,null,"2030-03-01"]
[null,null,null,null,null,null,"2030-03-02"]
[null,null,null,null,null,null,"2030-03-03"]
[null,null,null,null,null,null,"2030-03-04"]
[null,null,null,null,null,null,"2030-03-05"]
[null,null,null,null,null,null,"2030-03-06"]
[null,null,null,null,null,null,"2030-03-07"]
[null,null,null,null,null,null,"2030-03-08"]
[null,null,null,null,null,null,"2030-03-09"]
[null,null,null,null,null,null,"2030-03-10"]
[null,null,null,null,null,null,"2030-03-11"]
[null,null,null,null,null,null,"2030-03-12"]
[null,null,null,null,null,null,"2030-03-13"]
[null,null,null,null,null,null,"2030-03-14"]
[null,null,null,null,null,null,"2030-03-15"]
[null,null,null,null,null,null,"2030-03-16"]
[null,null,null,null,null,null,"2030-03-17"]
[null,null,null,null,null,null,"2030-03-18"]
[null,null,null,null,null,null,"2030-03-19"]
[null,null,null,null,null,null,"2030-03-20"]
[null,null,null,null,null,null,"2030-03-21"]
[null,null,null,null,null,null,"2030-03-22"]
[null,null,null,null,null,null,"2030-03-23"]
[null,null,null,null,null,null,"2030-03-24"]
[null,null,null,null,null,null,"2030-03-25"]
[null,null,null,null,null,null,"2030-03-26"]
[null,null,null,null,null,null,"2030-03-27"]
[null,null,null,null,null,null,"2030-03-28"]
[null,null,null,null,null,null,"2030-03-29"]
[null,null,null,null,null,null,"2030-03-30"]
[null,null,null,null,null,null,"2030-03-31"]
[null,null,null,null,null,null,"2030-04-01"]
[null,null,null,null,null,null,"2030-04-02"]
[null,null,null,null,null,null,"2030-04-03"]
[null,null,null,null,null,null,"2030-04-04"]
[null,null,null,null,null,null,"2030-04-05"]
[null,null,null,null,null,null,"2030-04-06"]
[null,null,null,null,null,null,"2030-04-07"]
[null,null,null,null,null,null,"2030-04-08"]
[null,null,null,null,null,null,"2030-04-09"]
[null,null,null,null,null,null,"2030-04-10"]
[null,null,null,null,null,null,"2030-04-11"]
[null,null,null,null,null,null,"2030-04-12"]
[null,null,null,null,null,null,"2030-04-13"]
[null,null,null,null,null,null,"2030-04-14"]
[null,null,null,null,null,null,"2030-04-15"]
[null,null,null,null,null,null,"2030-04-16"]
[null,null,null,null,null,null,"2030-04-17"]
[null,null,null,null,null,null,"2030-04-18"]
[null,null,null,null,null,null,"2030-04-19"]
[null,null,null,null,null,null,"2030-04-20"]
[null,null,null,null,null,null,"2030-04-21"]
[null,null,null,null,null,null,"2030-04-22"]
[null,null,null,null,null,null,"2030-04-23"]
[null,null,null,null,null,null,"2030-04-24"]
[null,null,null,null,null,null,"2030-04-25"]
[null,null,null,null,null,null,"2030-04-26"]
[null,null,null,null,null,null,"2030-04-27"]
[null,null,null,null,null,null,{"$f":"G5507+1","v":"2030-04-28"}]
[null,null,null,null,null,null,"2030-04-29"]
[null,null,null,null,null,null,"2030-04-30"]
[null,null,null,null,null,null,"2030-05-01"]
[null,null,null,null,null,null,"2030-05-02"]
[null,null,null,null,null,null,"2030-05-03"]
[null,null,null,null,null,null,"2030-05-04"]
[null,null,null,null,null,null,"2030-05-05"]
[null,null,null,null,null,null,"2030-05-06"]
[null,null,null,null,null,null,"2030-05-07"]
[null,null,null,null,null,null,"2030-05-08"]
[null,null,null,null,null,null,"2030-05-09"]
[null,null,null,null,null,null,"2030-05-10"]
[null,null,null,null,null,null,"2030-05-11"]
[null,null,null,null,null,null,"2030-05-12"]
[null,null,null,null,null,null,"2030-05-13"]
[null,null,null,null,null,null,"2030-05-14"]
[null,null,null,null,null,null,"2030-05-15"]
[null,null,null,null,null,null,"2030-05-16"]
[null,null,null,null,null,null,"2030-05-17"]
[null,null,null,null,null,null,"2030-05-18"]
[null,null,null,null,null,null,"2030-05-19"]
[null,null,null,null,null,null,"2030-05-20"]
[null,null,null,null,null,null,"2030-05-21"]
[null,null,null,null,null,null,"2030-05-22"]
[null,null,null,null,null,null,"2030-05-23"]
[null,null,null,null,null,null,"2030-05-24"]
[null,null,null,null,null,null,"2030-05-25"]
[null,null,null,null,null,null,"2030-05-26"]
[null,null,null,null,null,null,"2030-05-27"]
[null,null,null,null,null,null,"2030-05-28"]
[null,null,null,null,null,null,"2030-05-29"]
[null,null,null,null,null,null,"2030-05-30"]
[null,null,null,null,null,null,"2030-05-31"]
[null,null,null,null,null,null,"2030-06-01"]
[null,null,null,null,null,null,"2030-06-02"]
[null,null,null,null,null,null,"2030-06-03"]
[null,null,null,null,null,null,"2030-06-04"]
[null,null,null,null,null,null,"2030-06-05"]
[null,null,null,null,null,null,"2030-06-06"]
[null,null,null,null,null,null,"2030-06-07"]
[null,null,null,null,null,null,"2030-06-08"]
[null,null,null,null,null,null,"2030-06-09"]
[null,null,null,null,null,null,"2030-06-10"]
[null,null,null,null,null,null,"2030-06-11"]
[null,null,null,null,null,null,"2030-06-12"]
[null,null,null,null,null,null,"2030-06-13"]
[null,null,null,null,null,null,"2030-06-14"]
[null,null,null,null,null,null,"2030-06-15"]
[null,null,null,null,null,null,"2030-06-16"]
[null,null,null,null,null,null,"2030-06-17"]
[null,null,null,null,null,null,"2030-06-18"]
[null,null,null,null,null,null,"2030-06-19"]
[null,null,null,null,null,null,"2030-06-20"]
[null,null,null,null,null,null,"2030-06-21"]
[null,null,null,null,null,null,"2030-06-22"]
[null,null,null,null,null,null,"2030-06-23"]
[null,null,null,null,null,null,"2030-06-24"]
[null,null,null,null,null,null,"2030-06-25"]
[null,null,null,null,null,null,"2030-06-26"]
[null,null,null,null,null,null,"2030-06-27"]
[null,null,null,null,null,null,"2030-06-28"]
[null,null,null,null,null,null,"2030-06-29"]
[null,null,null,null,null,null,"2030-06-30"]
[null,null,null,null,null,null,{"$f":"G5571+1","v":"2030-07-01"}]
[null,null,null,null,null,null,"2030-07-02"]
[null,null,null,null,null,null,"2030-07-03"]
[null,null,null,null,null,null,"2030-07-04"]
[null,null,null,null,null,null,"2030-07-05"]
[null,null,null,null,null,null,"2030-07-06"]
[null,null,null,null,null,null,"2030-07-07"]
[null,null,null,null,null,null,"2030-07-08"]
[null,null,null,null,null,null,"2030-07-09"]
[null,null,null,null,null,null,"2030-07-10"]
[null,null,null,null,null,null,"2030-07-11"]
[null,null,null,null,null,null,"2030-07-12"]
[null,null,null,null,null,null,"2030-07-13"]
[null,null,null,null,null,null,"2030-07-14"]
[null,null,null,null,null,null,"2030-07-15"]
[null,null,null,null,null,null,"2030-07-16"]
[null,null,null,null,null,null,"2030-07-17"]
[null,null,null,null,null,null,"2030-07-18"]
[null,null,null,null,null,null,"2030-07-19"]
[null,null,null,null,null,null,"2030-07-20"]
[null,null,null,null,null,null,"2030-07-21"]
[null,null,null,null,null,null,"2030-07-22"]
[null,null,null,null,null,null,"2030-07-23"]
[null,null,null,null,null,null,"2030-07-24"]
[null,null,null,null,null,null,"2030-07-25"]
[null,null,null,null,null,null,"2030-07-26"]
[null,null,null,null,null,null,"2030-07-27"]
[null,null,null,null,null,null,"2030-07-28"]
[null,null,null,null,null,null,"2030-07-29"]
[null,null,null,null,null,null,"2030-07-30"]
[null,null,null,null,null,null,"2030-07-31"]
[null,null,null,null,null,null,"2030-08-01"]
[null,null,null,null,null,null,"2030-08-02"]
[null,null,null,null,null,null,"2030-08-03"]
[null,null,null,null,null,null,"2030-08-04"]
[null,null,null,null,null,null,"2030-08-05"]
[null,null,null,null,null,null,"2030-08-06"]
[null,null,null,null,null,null,"2030-08-07"]
[null,null,null,null,null,null,"2030-08-08"]
[null,null,null,null,null,null,"2030-08-09"]
[null,null,null,null,null,null,"2030-08-10"]
[null,null,null,null,null,null,"2030-08-11"]
[null,null,null,null,null,null,"2030-08-12"]
[null,null,null,null,null,null,"2030-08-13"]
[null,null,null,null,null,null,"2030-08-14"]
[null,null,null,null,null,null,"2030-08-15"]
[null,null,null,null,null,null,"2030-08-16"]
[null,null,null,null,null,null,"2030-08-17"]
[null,null,null,null,null,null,"2030-08-18"]
[null,null,null,null,null,null,"2030-08-19"]
[null,null,null,null,null,null,"2030-08-20"]
[null,null,null,null,null,null,"2030-08-21"]
[null,null,null,null,null,null,"2030-08-22"]
[null,null,null,null,null,null,"2030-08-23"]
[null,null,null,null,null,null,"2030-08-24"]
[null,null,null,null,null,null,"2030-08-25"]
[null,null,null,null,null,null,"2030-08-26"]
[null,null,null,null,null,null,"2030-08-27"]
[null,null,null,null,null,null,"2030-08-28"]
[null,null,null,null,null,null,"2030-08-29"]
[null,null,null,null,null,null,"2030-08-30"]
[null,null,null,null,null,null,"2030-08-31"]
[null,null,null,null,null,null,"2030-09-01"]
[null,null,null,null,null,null,"2030-09-02"]
[null,null,null,null,null,null,{"$f":"G5635+1","v":"2030-09-03"}]
[null,null,null,null,null,null,"2030-09-04"]
[null,null,null,null,null,null,"2030-09-05"]
[null,null,null,null,null,null,"2030-09-06"]
[null,null,null,null,null,null,"2030-09-07"]
[null,null,null,null,null,null,"2030-09-08"]
[null,null,null,null,null,null,"2030-09-09"]
[null,null,null,null,null,null,"2030-09-10"]
[null,null,null,null,null,null,"2030-09-11"]
[null,null,null,null,null,null,"2030-09-12"]
[null,null,null,null,null,null,"2030-09-13"]
[null,null,null,null,null,null,"2030-09-14"]
[null,null,null,null,null,null,"2030-09-15"]
[null,null,null,null,null,null,"2030-09-16"]
[null,null,null,null,null,null,"2030-09-17"]
[null,null,null,null,null,null,"2030-09-18"]
[null,null,null,null,null,null,"2030-09-19"]
[null,null,null,null,null,null,"2030-09-20"]
[null,null,null,null,null,null,"2030-09-21"]
[null,null,null,null,null,null,"2030-09-22"]
[null,null,null,null,null,null,"2030-09-23"]
[null,null,null,null,null,null,"2030-09-24"]
[null,null,null,null,null,null,"2030-09-25"]
[null,null,null,null,null,null,"2030-09-26"]
[null,null,null,null,null,null,"2030-09-27"]
[null,null,null,null,null,null,"2030-09-28"]
[null,null,null,null,null,null,"2030-09-29"]
[null,null,null,null,null,null,"2030-09-30"]
[null,null,null,null,null,null,"2030-10-01"]
[null,null,null,null,null,null,"2030-10-02"]
[null,null,null,null,null,null,"2030-10-03"]
[null,null,null,null,null,null,"2030-10-04"]
[null,null,null,null,null,null,"2030-10-05"]
[null,null,null,null,null,null,"2030-10-06"]
[null,null,null,null,null,null,"2030-10-07"]
[null,null,null,null,null,null,"2030-10-08"]
[null,null,null,null,null,null,"2030-10-09"]
[null,null,null,null,null,null,"2030-10-10"]
[null,null,null,null,null,null,"2030-10-11"]
[null,null,null,null,null,null,"2030-10-12"]
[null,null,null,null,null,null,"2030-10-13"]
[null,null,null,null,null,null,"2030-10-14"]
[null,null,null,null,null,null,"2030-10-15"]
[null,null,null,null,null,null,"2030-10-16"]
[null,null,null,null,null,null,"2030-10-17"]
[null,null,null,null,null,null,"2030-10-18"]
[null,null,null,null,null,null,"2030-10-19"]
[null,null,null,null,null,null,"2030-10-20"]
[null,null,null,null,null,null,"2030-10-21"]
[null,null,null,null,null,null,"2030-10-22"]
[null,null,null,null,null,null,"2030-10-23"]
[null,null,null,null,null,null,"2030-10-24"]
[null,null,null,null,null,null,"2030-10-25"]
[null,null,null,null,null,null,"2030-10-26"]
[null,null,null,null,null,null,"2030-10-27"]
[null,null,null,null,null,null,"2030-10-28"]
[null,null,null,null,null,null,"2030-10-29"]
[null,null,null,null,null,null,"2030-10-30"]
[null,null,null,null,null,null,"2030-10-31"]
[null,null,null,null,null,null,"2030-11-01"]
[null,null,null,null,null,null,"2030-11-02"]
[null,null,null,null,null,null,"2030-11-03"]
[null,null,null,null,null,null,"2030-11-04"]
[null,null,null,null,null,null,"2030-11-05"]
[null,null,null,null,null,null,{"$f":"G5699+1","v":"2030-11-06"}]
[null,null,null,null,null,null,"2030-11-07"]
[null,null,null,null,null,null,"2030-11-08"]
[null,null,null,null,null,null,"2030-11-09"]
[null,null,null,null,null,null,"2030-11-10"]
[null,null,null,null,null,null,"2030-11-11"]
[null,null,null,null,null,null,"2030-11-12"]
[null,null,null,null,null,null,"2030-11-13"]
[null,null,null,null,null,null,"2030-11-14"]
[null,null,null,null,null,null,"2030-11-15"]
[null,null,null,null,null,null,"2030-11-16"]
[null,null,null,null,null,null,"2030-11-17"]
[null,null,null,null,null,null,"2030-11-18"]
[null,null,null,null,null,null,"2030-11-19"]
[null,null,null,null,null,null,"2030-11-20"]
[null,null,null,null,null,null,"2030-11-21"]
[null,null,null,null,null,null,"2030-11-22"]
[null,null,null,null,null,null,"2030-11-23"]
[null,null,null,null,null,null,"2030-11-24"]
[null,null,null,null,null,null,"2030-11-25"]
[null,null,null,null,null,null,"2030-11-26"]
[null,null,null,null,null,null,"2030-11-27"]
[null,null,null,null,null,null,"2030-11-28"]
[null,null,null,null,null,null,"2030-11-29"]
[null,null,null,null,null,null,"2030-11-30"]
[null,null,null,null,null,null,"2030-12-01"]
[null,null,null,null,null,null,"2030-12-02"]
[null,null,null,null,null,null,"2030-12-03"]
[null,null,null,null,null,null,"2030-12-04"]
[null,null,null,null,null,null,"2030-12-05"]
[null,null,null,null,null,null,"2030-12-06"]
[null,null,null,null,null,null,"2030-12-07"]
[null,null,null,null,null,null,"2030-12-08"]
[null,null,null,null,null,null,"2030-12-09"]
[null,null,null,null,null,null,"2030-12-10"]
[null,null,null,null,null,null,"2030-12-11"]
[null,null,null,null,null,null,"2030-12-12"]
[null,null,null,null,null,null,"2030-12-13"]
[null,null,null,null,null,null,"2030-12-14"]
[null,null,null,null,null,null,"2030-12-15"]
[null,null,null,null,null,null,"2030-12-16"]
[null,null,null,null,null,null,"2030-12-17"]
[null,null,null,null,null,null,"2030-12-18"]
[null,null,null,null,null,null,"2030-12-19"]
[null,null,null,null,null,null,"2030-12-20"]
[null,null,null,null,null,null,"2030-12-21"]
[null,null,null,null,null,null,"2030-12-22"]
[null,null,null,null,null,null,"2030-12-23"]
[null,null,null,null,null,null,"2030-12-24"]
[null,null,null,null,null,null,"2030-12-25"]
[null,null,null,null,null,null,"2030-12-26"]
[null,null,null,null,null,null,"2030-12-27"]
[null,null,null,null,null,null,"2030-12-28"]
[null,null,null,null,null,null,"2030-12-29"]
[null,null,null,null,null,null,"2030-12-30"]
[null,null,null,null,null,null,"2030-12-31"]
[null,null,null,null,null,null,"2031-01-01"]
[null,null,null,null,null,null,"2031-01-02"]
[null,null,null,null,null,null,"2031-01-03"]
[null,null,null,null,null,null,"2031-01-04"]
[null,null,null,null,null,null,"2031-01-05"]
[null,null,null,null,null,null,"2031-01-06"]
[null,null,null,null,null,null,"2031-01-07"]
[null,null,null,null,null,null,"2031-01-08"]
[null,null,null,null,null,null,{"$f":"G5763+1","v":"2031-01-09"}]
[null,null,null,null,null,null,"2031-01-10"]
[null,null,null,null,null,null,"2031-01-11"]
[null,null,null,null,null,null,"2031-01-12"]
[null,null,null,null,null,null,"2031-01-13"]
[null,null,null,null,null,null,"2031-01-14"]
[null,null,null,null,null,null,"2031-01-15"]
[null,null,null,null,null,null,"2031-01-16"]
[null,null,null,null,null,null,"2031-01-17"]
[null,null,null,null,null,null,"2031-01-18"]
[null,null,null,null,null,null,"2031-01-19"]
[null,null,null,null,null,null,"2031-01-20"]
[null,null,null,null,null,null,"2031-01-21"]
[null,null,null,null,null,null,"2031-01-22"]
[null,null,null,null,null,null,"2031-01-23"]
[null,null,null,null,null,null,"2031-01-24"]
[null,null,null,null,null,null,"2031-01-25"]
[null,null,null,null,null,null,"2031-01-26"]
[null,null,null,null,null,null,"2031-01-27"]
[null,null,null,null,null,null,"2031-01-28"]
[null,null,null,null,null,null,"2031-01-29"]
[null,null,null,null,null,null,"2031-01-30"]
[null,null,null,null,null,null,"2031-01-31"]
[null,null,null,null,null,null,"2031-02-01"]
[null,null,null,null,null,null,"2031-02-02"]
[null,null,null,null,null,null,"2031-02-03"]
[null,null,null,null,null,null,"2031-02-04"]
[null,null,null,null,null,null,"2031-02-05"]
[null,null,null,null,null,null,"2031-02-06"]
[null,null,null,null,null,null,"2031-02-07"]
[null,null,null,null,null,null,"2031-02-08"]
[null,null,null,null,null,null,"2031-02-09"]
[null,null,null,null,null,null,"2031-02-10"]
[null,null,null,null,null,null,"2031-02-11"]
[null,null,null,null,null,null,"2031-02-12"]
[null,null,null,null,null,null,"2031-02-13"]
[null,null,null,null,null,null,"2031-02-14"]
[null,null,null,null,null,null,"2031-02-15"]
[null,null,null,null,null,null,"2031-02-16"]
[null,null,null,null,null,null,"2031-02-17"]
[null,null,null,null,null,null,"2031-02-18"]
[null,null,null,null,null,null,"2031-02-19"]
[null,null,null,null,null,null,"2031-02-20"]
[null,null,null,null,null,null,"2031-02-21"]
[null,null,null,null,null,null,"2031-02-22"]
[null,null,null,null,null,null,"2031-02-23"]
[null,null,null,null,null,null,"2031-02-24"]
[null,null,null,null,null,null,"2031-02-25"]
[null,null,null,null,null,null,"2031-02-26"]
[null,null,null,null,null,null,"2031-02-27"]
[null,null,null,null,null,null,"2031-02-28"]
[null,null,null,null,null,null,"2031-03-01"]
[null,null,null,null,null,null,"2031-03-02"]
[null,null,null,null,null,null,"2031-03-03"]
[null,null,null,null,null,null,"2031-03-04"]
[null,null,null,null,null,null,"2031-03-05"]
[null,null,null,null,null,null,"2031-03-06"]
[null,null,null,null,null,null,"2031-03-07"]
[null,null,null,null,null,null,"2031-03-08"]
[null,null,null,null,null,null,"2031-03-09"]
[null,null,null,null,null,null,"2031-03-10"]
[null,null,null,null,null,null,"2031-03-11"]
[null,null,null,null,null,null,"2031-03-12"]
[null,null,null,null,null,null,"2031-03-13"]
[null,null,null,null,null,null,{"$f":"G5827+1","v":"2031-03-14"}]
[null,null,null,null,null,null,"2031-03-15"]
[null,null,null,null,null,null,"2031-03-16"]
[null,null,null,null,null,null,"2031-03-17"]
[null,null,null,null,null,null,"2031-03-18"]
[null,null,null,null,null,null,"2031-03-19"]
[null,null,null,null,null,null,"2031-03-20"]
[null,null,null,null,null,null,"2031-03-21"]
[null,null,null,null,null,null,"2031-03-22"]
[null,null,null,null,null,null,"2031-03-23"]
[null,null,null,null,null,null,"2031-03-24"]
[null,null,null,null,null,null,"2031-03-25"]
[null,null,null,null,null,null,"2031-03-26"]
[null,null,null,null,null,null,"2031-03-27"]
[null,null,null,null,null,null,"2031-03-28"]
[null,null,null,null,null,null,"2031-03-29"]
[null,null,null,null,null,null,"2031-03-30"]
[null,null,null,null,null,null,"2031-03-31"]
[null,null,null,null,null,null,"2031-04-01"]
[null,null,null,null,null,null,"2031-04-02"]
[null,null,null,null,null,null,"2031-04-03"]
[null,null,null,null,null,null,"2031-04-04"]
[null,null,null,null,null,null,"2031-04-05"]
[null,null,null,null,null,null,"2031-04-06"]
[null,null,null,null,null,null,"2031-04-07"]
[null,null,null,null,null,null,"2031-04-08"]
[null,null,null,null,null,null,"2031-04-09"]
[null,null,null,null,null,null,"2031-04-10"]
[null,null,null,null,null,null,"2031-04-11"]
[null,null,null,null,null,null,"2031-04-12"]
[null,null,null,null,null,null,"2031-04-13"]
[null,null,null,null,null,null,"2031-04-14"]
[null,null,null,null,null,null,"2031-04-15"]
[null,null,null,null,null,null,"2031-04-16"]
[null,null,null,null,null,null,"2031-04-17"]
[null,null,null,null,null,null,"2031-04-18"]
[null,null,null,null,null,null,"2031-04-19"]
[null,null,null,null,null,null,"2031-04-20"]
[null,null,null,null,null,null,"2031-04-21"]
[null,null,null,null,null,null,"2031-04-22"]
[null,null,null,null,null,null,"2031-04-23"]
[null,null,null,null,null,null,"2031-04-24"]
[null,null,null,null,null,null,"2031-04-25"]
[null,null,null,null,null,null,"2031-04-26"]
[null,null,null,null,null,null,"2031-04-27"]
[null,null,null,null,null,null,"2031-04-28"]
[null,null,null,null,null,null,"2031-04-29"]
[null,null,null,null,null,null,"2031-04-30"]
[null,null,null,null,null,null,"2031-05-01"]
[null,null,null,null,null,null,"2031-05-02"]
[null,null,null,null,null,null,"2031-05-03"]
[null,null,null,null,null,null,"2031-05-04"]
[null,null,null,null,null,null,"2031-05-05"]
[null,null,null,null,null,null,"2031-05-06"]
[null,null,null,null,null,null,"2031-05-07"]
[null,null,null,null,null,null,"2031-05-08"]
[null,null,null,null,null,null,"2031-05-09"]
[null,null,null,null,null,null,"2031-05-10"]
[null,null,null,null,null,null,"2031-05-11"]
[null,null,null,null,null,null,"2031-05-12"]
[null,null,null,null,null,null,"2031-05-13"]
[null,null,null,null,null,null,"2031-05-14"]
[null,null,null,null,null,null,"2031-05-15"]
[null,null,null,null,null,null,"2031-05-16"]
[null,null,null,null,null,null,{"$f":"G5891+1","v":"2031-05-17"}]
[null,null,null,null,null,null,"2031-05-18"]
[null,null,null,null,null,null,"2031-05-19"]
[null,null,null,null,null,null,"2031-05-20"]
[null,null,null,null,null,null,"2031-05-21"]
[null,null,null,null,null,null,"2031-05-22"]
[null,null,null,null,null,null,"2031-05-23"]
[null,null,null,null,null,null,"2031-05-24"]
[null,null,null,null,null,null,"2031-05-25"]
[null,null,null,null,null,null,"2031-05-26"]
[null,null,null,null,null,null,"2031-05-27"]
[null,null,null,null,null,null,"2031-05-28"]
[null,null,null,null,null,null,"2031-05-29"]
[null,null,null,null,null,null,"2031-05-30"]
[null,null,null,null,null,null,"2031-05-31"]
[null,null,null,null,null,null,"2031-06-01"]
[null,null,null,null,null,null,"2031-06-02"]
[null,null,null,null,null,null,"2031-06-03"]
[null,null,null,null,null,null,"2031-06-04"]
[null,null,null,null,null,null,"2031-06-05"]
[null,null,null,null,null,null,"2031-06-06"]
[null,null,null,null,null,null,"2031-06-07"]
[null,null,null,null,null,null,"2031-06-08"]
[null,null,null,null,null,null,"2031-06-09"]
[null,null,null,null,null,null,"2031-06-10"]
[null,null,null,null,null,null,"2031-06-11"]
[null,null,null,null,null,null,"2031-06-12"]
[null,null,null,null,null,null,"2031-06-13"]
[null,null,null,null,null,null,"2031-06-14"]
[null,null,null,null,null,null,"2031-06-15"]
[null,null,null,null,null,null,"2031-06-16"]
[null,null,null,null,null,null,"2031-06-17"]
[null,null,null,null,null,null,"2031-06-18"]
[null,null,null,null,null,null,"2031-06-19"]
[null,null,null,null,null,null,"2031-06-20"]
[null,null,null,null,null,null,"2031-06-21"]
[null,null,null,null,null,null,"2031-06-22"]
[null,null,null,null,null,null,"2031-06-23"]
[null,null,null,null,null,null,"2031-06-24"]
[null,null,null,null,null,null,"2031-06-25"]
[null,null,null,null,null,null,"2031-06-26"]
[null,null,null,null,null,null,"2031-06-27"]
[null,null,null,null,null,null,"2031-06-28"]
[null,null,null,null,null,null,"2031-06-29"]
[null,null,null,null,null,null,"2031-06-30"]
[null,null,null,null,null,null,"2031-07-01"]
[null,null,null,null,null,null,"2031-07-02"]
[null,null,null,null,null,null,"2031-07-03"]
[null,null,null,null,null,null,"2031-07-04"]
[null,null,null,null,null,null,"2031-07-05"]
[null,null,null,null,null,null,"2031-07-06"]
[null,null,null,null,null,null,"2031-07-07"]
[null,null,null,null,null,null,"2031-07-08"]
[null,null,null,null,null,null,"2031-07-09"]
[null,null,null,null,null,null,"2031-07-10"]
[null,null,null,null,null,null,"2031-07-11"]
[null,null,null,null,null,null,"2031-07-12"]
[null,null,null,null,null,null,"2031-07-13"]
[null,null,null,null,null,null,"2031-07-14"]
[null,null,null,null,null,null,"2031-07-15"]
[null,null,null,null,null,null,"2031-07-16"]
[null,null,null,null,null,null,"2031-07-17"]
[null,null,null,null,null,null,"2031-07-18"]
[null,null,null,null,null,null,"2031-07-19"]
[null,null,null,null,null,null,{"$f":"G5955+1","v":"2031-07-20"}]
[null,null,null,null,null,null,"2031-07-21"]
[null,null,null,null,null,null,"2031-07-22"]
[null,null,null,null,null,null,"2031-07-23"]
[null,null,null,null,null,null,"2031-07-24"]
[null,null,null,null,null,null,"2031-07-25"]
[null,null,null,null,null,null,"2031-07-26"]
[null,null,null,null,null,null,"2031-07-27"]
[null,null,null,null,null,null,"2031-07-28"]
[null,null,null,null,null,null,"2031-07-29"]
[null,null,null,null,null,null,"2031-07-30"]
[null,null,null,null,null,null,"2031-07-31"]
[null,null,null,null,null,null,"2031-08-01"]
[null,null,null,null,null,null,"2031-08-02"]
[null,null,null,null,null,null,"2031-08-03"]
[null,null,null,null,null,null,"2031-08-04"]
[null,null,null,null,null,null,"2031-08-05"]
[null,null,null,null,null,null,"2031-08-06"]
[null,null,null,null,null,null,"2031-08-07"]
[null,null,null,null,null,null,"2031-08-08"]
[null,null,null,null,null,null,"2031-08-09"]
[null,null,null,null,null,null,"2031-08-10"]
[null,null,null,null,null,null,"2031-08-11"]
[null,null,null,null,null,null,"2031-08-12"]
[null,null,null,null,null,null,"2031-08-13"]
[null,null,null,null,null,null,"2031-08-14"]
[null,null,null,null,null,null,"2031-08-15"]
[null,null,null,null,null,null,"2031-08-16"]
[null,null,null,null,null,null,"2031-08-17"]
[null,null,null,null,null,null,"2031-08-18"]
[null,null,null,null,null,null,"2031-08-19"]
[null,null,null,null,null,null,"2031-08-20"]
[null,null,null,null,null,null,"2031-08-21"]
[null,null,null,null,null,null,"2031-08-22"]
[null,null,null,null,null,null,"2031-08-23"]
[null,null,null,null,null,null,"2031-08-24"]
[null,null,null,null,null,null,"2031-08-25"]
[null,null,null,null,null,null,"2031-08-26"]
[null,null,null,null,null,null,"2031-08-27"]
[null,null,null,null,null,null,"2031-08-28"]
[null,null,null,null,null,null,"2031-08-29"]
[null,null,null,null,null,null,"2031-08-30"]
[null,null,null,null,null,null,"2031-08-31"]
[null,null,null,null,null,null,"2031-09-01"]
[null,null,null,null,null,null,"2031-09-02"]
[null,null,null,null,null,null,"2031-09-03"]
[null,null,null,null,null,null,"2031-09-04"]
[null,null,null,null,null,null,"2031-09-05"]
[null,null,null,null,null,null,"2031-09-06"]
[null,null,null,null,null,null,"2031-09-07"]
[null,null,null,null,null,null,"2031-09-08"]
[null,null,null,null,null,null,"2031-09-09"]
[null,null,null,null,null,null,"2031-09-10"]
[null,null,null,null,null,null,"2031-09-11"]
[null,null,null,null,null,null,"2031-09-12"]
[null,null,null,null,null,null,"2031-09-13"]
[null,null,null,null,null,null,"2031-09-14"]
[null,null,null,null,null,null,"2031-09-15"]
[null,null,null,null,null,null,"2031-09-16"]
[null,null,null,null,null,null,"2031-09-17"]
[null,null,null,null,null,null,"2031-09-18"]
[null,null,null,null,null,null,"2031-09-19"]
[null,null,null,null,null,null,"2031-09-20"]
[null,null,null,null,null,null,"2031-09-21"]
[null,null,null,null,null,null,{"$f":"G6019+1","v":"2031-09-22"}]
[null,null,null,null,null,null,"2031-09-23"]
[null,null,null,null,null,null,"2031-09-24"]
[null,null,null,null,null,null,"2031-09-25"]
[null,null,null,null,null,null,"2031-09-26"]
[null,null,null,null,null,null,"2031-09-27"]
[null,null,null,null,null,null,"2031-09-28"]
[null,null,null,null,null,null,"2031-09-29"]
[null,null,null,null,null,null,"2031-09-30"]
[null,null,null,null,null,null,"2031-10-01"]
[null,null,null,null,null,null,"2031-10-02"]
[null,null,null,null,null,null,"2031-10-03"]
[null,null,null,null,null,null,"2031-10-04"]
[null,null,null,null,null,null,"2031-10-05"]
[null,null,null,null,null,null,"2031-10-06"]
[null,null,null,null,null,null,"2031-10-07"]
[null,null,null,null,null,null,"2031-10-08"]
[null,null,null,null,null,null,"2031-10-09"]
[null,null,null,null,null,null,"2031-10-10"]
[null,null,null,null,null,null,"2031-10-11"]
[null,null,null,null,null,null,"2031-10-12"]
[null,null,null,null,null,null,"2031-10-13"]
[null,null,null,null,null,null,"2031-10-14"]
[null,null,null,null,null,null,"2031-10-15"]
[null,null,null,null,null,null,"2031-10-16"]
[null,null,null,null,null,null,"2031-10-17"]
[null,null,null,null,null,null,"2031-10-18"]
[null,null,null,null,null,null,"2031-10-19"]
[null,null,null,null,null,null,"2031-10-20"]
[null,null,null,null,null,null,"2031-10-21"]
[null,null,null,null,null,null,"2031-10-22"]
[null,null,null,null,null,null,"2031-10-23"]
[null,null,null,null,null,null,"2031-10-24"]
[null,null,null,null,null,null,"2031-10-25"]
[null,null,null,null,null,null,"2031-10-26"]
[null,null,null,null,null,null,"2031-10-27"]
[null,null,null,null,null,null,"2031-10-28"]
[null,null,null,null,null,null,"2031-10-29"]
[null,null,null,null,null,null,"2031-10-30"]
[null,null,null,null,null,null,"2031-10-31"]
[null,null,null,null,null,null,"2031-11-01"]
[null,null,null,null,null,null,"2031-11-02"]
[null,null,null,null,null,null,"2031-11-03"]
[null,null,null,null,null,null,"2031-11-04"]
[null,null,null,null,null,null,"2031-11-05"]
[null,null,null,null,null,null,"2031-11-06"]
[null,null,null,null,null,null,"2031-11-07"]
[null,null,null,null,null,null,"2031-11-08"]
[null,null,null,null,null,null,"2031-11-09"]
[null,null,null,null,null,null,"2031-11-10"]
[null,null,null,null,null,null,"2031-11-11"]
[null,null,null,null,null,null,"2031-11-12"]
[null,null,null,null,null,null,"2031-11-13"]
[null,null,null,null,null,null,"2031-11-14"]
[null,null,null,null,null,null,"2031-11-15"]
[null,null,null,null,null,null,"2031-11-16"]
[null,null,null,null,null,null,"2031-11-17"]
[null,null,null,null,null,null,"2031-11-18"]
[null,null,null,null,null,null,"2031-11-19"]
[null,null,null,null,null,null,"2031-11-20"]
[null,null,null,null,null,null,"2031-11-21"]
[null,null,null,null,null,null,"2031-11-22"]
[null,null,null,null,null,null,"2031-11-23"]
[null,null,null,null,null,null,"2031-11-24"]
[null,null,null,null,null,null,{"$f":"G6083+1","v":"2031-11-25"}]
[null,null,null,null,null,null,"2031-11-26"]
[null,null,null,null,null,null,"2031-11-27"]
[null,null,null,null,null,null,"2031-11-28"]
[null,null,null,null,null,null,"2031-11-29"]
[null,null,null,null,null,null,"2031-11-30"]
[null,null,null,null,null,null,"2031-12-01"]
[null,null,null,null,null,null,"2031-12-02"]
[null,null,null,null,null,null,"2031-12-03"]
[null,null,null,null,null,null,"2031-12-04"]
[null,null,null,null,null,null,"2031-12-05"]
[null,null,null,null,null,null,"2031-12-06"]
[null,null,null,null,null,null,"2031-12-07"]
[null,null,null,null,null,null,"2031-12-08"]
[null,null,null,null,null,null,"2031-12-09"]
[null,null,null,null,null,null,"2031-12-10"]
[null,null,null,null,null,null,"2031-12-11"]
[null,null,null,null,null,null,"2031-12-12"]
[null,null,null,null,null,null,"2031-12-13"]
[null,null,null,null,null,null,"2031-12-14"]
[null,null,null,null,null,null,"2031-12-15"]
[null,null,null,null,null,null,"2031-12-16"]
[null,null,null,null,null,null,"2031-12-17"]
[null,null,null,null,null,null,"2031-12-18"]
[null,null,null,null,null,null,"2031-12-19"]
[null,null,null,null,null,null,"2031-12-20"]
[null,null,null,null,null,null,"2031-12-21"]
[null,null,null,null,null,null,"2031-12-22"]
[null,null,null,null,null,null,"2031-12-23"]
[null,null,null,null,null,null,"2031-12-24"]
[null,null,null,null,null,null,"2031-12-25"]
[null,null,null,null,null,null,"2031-12-26"]
[null,null,null,null,null,null,"2031-12-27"]
[null,null,null,null,null,null,"2031-12-28"]
[null,null,null,null,null,null,"2031-12-29"]
[null,null,null,null,null,null,"2031-12-30"]
[null,null,null,null,null,null,"2031-12-31"]
[null,null,null,null,null,null,"2032-01-01"]
[null,null,null,null,null,null,"2032-01-02"]
[null,null,null,null,null,null,"2032-01-03"]
[null,null,null,null,null,null,"2032-01-04"]
[null,null,null,null,null,null,"2032-01-05"]
[null,null,null,null,null,null,"2032-01-06"]
[null,null,null,null,null,null,"2032-01-07"]
[null,null,null,null,null,null,"2032-01-08"]
[null,null,null,null,null,null,"2032-01-09"]
[null,null,null,null,null,null,"2032-01-10"]
[null,null,null,null,null,null,"2032-01-11"]
[null,null,null,null,null,null,"2032-01-12"]
[null,null,null,null,null,null,"2032-01-13"]
[null,null,null,null,null,null,"2032-01-14"]
[null,null,null,null,null,null,"2032-01-15"]
[null,null,null,null,null,null,"2032-01-16"]
[null,null,null,null,null,null,"2032-01-17"]
[null,null,null,null,null,null,"2032-01-18"]
[null,null,null,null,null,null,"2032-01-19"]
[null,null,null,null,null,null,"2032-01-20"]
[null,null,null,null,null,null,"2032-01-21"]
[null,null,null,null,null,null,"2032-01-22"]
[null,null,null,null,null,null,"2032-01-23"]
[null,null,null,null,null,null,"2032-01-24"]
[null,null,null,null,null,null,"2032-01-25"]
[null,null,null,null,null,null,"2032-01-26"]
[null,null,null,null,null,null,"2032-01-27"]
[null,null,null,null,null,null,{"$f":"G6147+1","v":"2032-01-28"}]
[null,null,null,null,null,null,"2032-01-29"]
[null,null,null,null,null,null,"2032-01-30"]
[null,null,null,null,null,null,"2032-01-31"]
[null,null,null,null,null,null,"2032-02-01"]
[null,null,null,null,null,null,"2032-02-02"]
[null,null,null,null,null,null,"2032-02-03"]
[null,null,null,null,null,null,"2032-02-04"]
[null,null,null,null,null,null,"2032-02-05"]
[null,null,null,null,null,null,"2032-02-06"]
[null,null,null,null,null,null,"2032-02-07"]
[null,null,null,null,null,null,"2032-02-08"]
[null,null,null,null,null,null,"2032-02-09"]
[null,null,null,null,null,null,"2032-02-10"]
[null,null,null,null,null,null,"2032-02-11"]
[null,null,null,null,null,null,"2032-02-12"]
[null,null,null,null,null,null,"2032-02-13"]
[null,null,null,null,null,null,"2032-02-14"]
[null,null,null,null,null,null,"2032-02-15"]
[null,null,null,null,null,null,"2032-02-16"]
[null,null,null,null,null,null,"2032-02-17"]
[null,null,null,null,null,null,"2032-02-18"]
[null,null,null,null,null,null,"2032-02-19"]
[null,null,null,null,null,null,"2032-02-20"]
[null,null,null,null,null,null,"2032-02-21"]
[null,null,null,null,null,null,"2032-02-22"]
[null,null,null,null,null,null,"2032-02-23"]
[null,null,null,null,null,null,"2032-02-24"]
[null,null,null,null,null,null,"2032-02-25"]
[null,null,null,null,null,null,"2032-02-26"]
[null,null,null,null,null,null,"2032-02-27"]
[null,null,null,null,null,null,"2032-02-28"]
[null,null,null,null,null,null,"2032-02-29"]
[null,null,null,null,null,null,"2032-03-01"]
[null,null,null,null,null,null,"2032-03-02"]
[null,null,null,null,null,null,"2032-03-03"]
[null,null,null,null,null,null,"2032-03-04"]
[null,null,null,null,null,null,"2032-03-05"]
[null,null,null,null,null,null,"2032-03-06"]
[null,null,null,null,null,null,"2032-03-07"]
[null,null,null,null,null,null,"2032-03-08"]
[null,null,null,null,null,null,"2032-03-09"]
[null,null,null,null,null,null,"2032-03-10"]
[null,null,null,null,null,null,"2032-03-11"]
[null,null,null,null,null,null,"2032-03-12"]
[null,null,null,null,null,null,"2032-03-13"]
[null,null,null,null,null,null,"2032-03-14"]
[null,null,null,null,null,null,"2032-03-15"]
[null,null,null,null,null,null,"2032-03-16"]
[null,null,null,null,null,null,"2032-03-17"]
[null,null,null,null,null,null,"2032-03-18"]
[null,null,null,null,null,null,"2032-03-19"]
[null,null,null,null,null,null,"2032-03-20"]
[null,null,null,null,null,null,"2032-03-21"]
[null,null,null,null,null,null,"2032-03-22"]
[null,null,null,null,null,null,"2032-03-23"]
[null,null,null,null,null,null,"2032-03-24"]
[null,null,null,null,null,null,"2032-03-25"]
[null,null,null,null,null,null,"2032-03-26"]
[null,null,null,null,null,null,"2032-03-27"]
[null,null,null,null,null,null,"2032-03-28"]
[null,null,null,null,null,null,"2032-03-29"]
[null,null,null,null,null,null,"2032-03-30"]
[null,null,null,null,null,null,"2032-03-31"]
[null,null,null,null,null,null,{"$f":"G6211+1","v":"2032-04-01"}]
[null,null,null,null,null,null,"2032-04-02"]
[null,null,null,null,null,null,"2032-04-03"]
[null,null,null,null,null,null,"2032-04-04"]
[null,null,null,null,null,null,"2032-04-05"]
[null,null,null,null,null,null,"2032-04-06"]
[null,null,null,null,null,null,"2032-04-07"]
[null,null,null,null,null,null,"2032-04-08"]
[null,null,null,null,null,null,"2032-04-09"]
[null,null,null,null,null,null,"2032-04-10"]
[null,null,null,null,null,null,"2032-04-11"]
[null,null,null,null,null,null,"2032-04-12"]
[null,null,null,null,null,null,"2032-04-13"]
[null,null,null,null,null,null,"2032-04-14"]
[null,null,null,null,null,null,"2032-04-15"]
[null,null,null,null,null,null,"2032-04-16"]
[null,null,null,null,null,null,"2032-04-17"]
[null,null,null,null,null,null,"2032-04-18"]
[null,null,null,null,null,null,"2032-04-19"]
[null,null,null,null,null,null,"2032-04-20"]
[null,null,null,null,null,null,"2032-04-21"]
[null,null,null,null,null,null,"2032-04-22"]
[null,null,null,null,null,null,"2032-04-23"]
[null,null,null,null,null,null,"2032-04-24"]
[null,null,null,null,null,null,"2032-04-25"]
[null,null,null,null,null,null,"2032-04-26"]
[null,null,null,null,null,null,"2032-04-27"]
[null,null,null,null,null,null,"2032-04-28"]
[null,null,null,null,null,null,"2032-04-29"]
[null,null,null,null,null,null,"2032-04-30"]
[null,null,null,null,null,null,"2032-05-01"]
[null,null,null,null,null,null,"2032-05-02"]
[null,null,null,null,null,null,"2032-05-03"]
[null,null,null,null,null,null,"2032-05-04"]
[null,null,null,null,null,null,"2032-05-05"]
[null,null,null,null,null,null,"2032-05-06"]
[null,null,null,null,null,null,"2032-05-07"]
[null,null,null,null,null,null,"2032-05-08"]
[null,null,null,null,null,null,"2032-05-09"]
[null,null,null,null,null,null,"2032-05-10"]
[null,null,null,null,null,null,"2032-05-11"]
[null,null,null,null,null,null,"2032-05-12"]
[null,null,null,null,null,null,"2032-05-13"]
[null,null,null,null,null,null,"2032-05-14"]
[null,null,null,null,null,null,"2032-05-15"]
[null,null,null,null,null,null,"2032-05-16"]
[null,null,null,null,null,null,"2032-05-17"]
[null,null,null,null,null,null,"2032-05-18"]
[null,null,null,null,null,null,"2032-05-19"]
[null,null,null,null,null,null,"2032-05-20"]
[null,null,null,null,null,null,"2032-05-21"]
[null,null,null,null,null,null,"2032-05-22"]
[null,null,null,null,null,null,"2032-05-23"]
[null,null,null,null,null,null,"2032-05-24"]
[null,null,null,null,null,null,"2032-05-25"]
[null,null,null,null,null,null,"2032-05-26"]
[null,null,null,null,null,null,"2032-05-27"]
[null,null,null,null,null,null,"2032-05-28"]
[null,null,null,null,null,null,"2032-05-29"]
[null,null,null,null,null,null,"2032-05-30"]
[null,null,null,null,null,null,"2032-05-31"]
[null,null,null,null,null,null,"2032-06-01"]
[null,null,null,null,null,null,"2032-06-02"]
[null,null,null,null,null,null,"2032-06-03"]
[null,null,null,null,null,null,{"$f":"G6275+1","v":"2032-06-04"}]
[null,null,null,null,null,null,"2032-06-05"]
[null,null,null,null,null,null,"2032-06-06"]
[null,null,null,null,null,null,"2032-06-07"]
[null,null,null,null,null,null,"2032-06-08"]
[null,null,null,null,null,null,"2032-06-09"]
[null,null,null,null,null,null,"2032-06-10"]
[null,null,null,null,null,null,"2032-06-11"]
[null,null,null,null,null,null,"2032-06-12"]
[null,null,null,null,null,null,"2032-06-13"]
[null,null,null,null,null,null,"2032-06-14"]
[null,null,null,null,null,null,"2032-06-15"]
[null,null,null,null,null,null,"2032-06-16"]
[null,null,null,null,null,null,"2032-06-17"]
[null,null,null,null,null,null,"2032-06-18"]
[null,null,null,null,null,null,"2032-06-19"]
[null,null,null,null,null,null,"2032-06-20"]
[null,null,null,null,null,null,"2032-06-21"]
[null,null,null,null,null,null,"2032-06-22"]
[null,null,null,null,null,null,"2032-06-23"]
[null,null,null,null,null,null,"2032-06-24"]
[null,null,null,null,null,null,"2032-06-25"]
[null,null,null,null,null,null,"2032-06-26"]
[null,null,null,null,null,null,"2032-06-27"]
[null,null,null,null,null,null,"2032-06-28"]
[null,null,null,null,null,null,"2032-06-29"]
[null,null,null,null,null,null,"2032-06-30"]
[null,null,null,null,null,null,"2032-07-01"]
[null,null,null,null,null,null,"2032-07-02"]
[null,null,null,null,null,null,"2032-07-03"]
[null,null,null,null,null,null,"2032-07-04"]
[null,null,null,null,null,null,"2032-07-05"]
[null,null,null,null,null,null,"2032-07-06"]
[null,null,null,null,null,null,"2032-07-07"]
[null,null,null,null,null,null,"2032-07-08"]
[null,null,null,null,null,null,"2032-07-09"]
[null,null,null,null,null,null,"2032-07-10"]
[null,null,null,null,null,null,"2032-07-11"]
[null,null,null,null,null,null,"2032-07-12"]
[null,null,null,null,null,null,"2032-07-13"]
[null,null,null,null,null,null,"2032-07-14"]
[null,null,null,null,null,null,"2032-07-15"]
[null,null,null,null,null,null,"2032-07-16"]
[null,null,null,null,null,null,"2032-07-17"]
[null,null,null,null,null,null,"2032-07-18"]
[null,null,null,null,null,null,"2032-07-19"]
[null,null,null,null,null,null,"2032-07-20"]
[null,null,null,null,null,null,"2032-07-21"]
[null,null,null,null,null,null,"2032-07-22"]
[null,null,null,null,null,null,"2032-07-23"]
[null,null,null,null,null,null,"2032-07-24"]
[null,null,null,null,null,null,"2032-07-25"]
[null,null,null,null,null,null,"2032-07-26"]
[null,null,null,null,null,null,"2032-07-27"]
[null,null,null,null,null,null,"2032-07-28"]
[null,null,null,null,null,null,"2032-07-29"]
[null,null,null,null,null,null,"2032-07-30"]
[null,null,null,null,null,null,"2032-07-31"]
[null,null,null,null,null,null,"2032-08-01"]
[null,null,null,null,null,null,"2032-08-02"]
[null,null,null,null,null,null,"2032-08-03"]
[null,null,null,null,null,null,"2032-08-04"]
[null,null,null,null,null,null,"2032-08-05"]
[null,null,null,null,null,null,"2032-08-06"]
[null,null,null,null,null,null,{"$f":"G6339+1","v":"2032-08-07"}]
[null,null,null,null,null,null,"2032-08-08"]
[null,null,null,null,null,null,"2032-08-09"]
[null,null,null,null,null,null,"2032-08-10"]
[null,null,null,null,null,null,"2032-08-11"]
[null,null,null,null,null,null,"2032-08-12"]
[null,null,null,null,null,null,"2032-08-13"]
[null,null,null,null,null,null,"2032-08-14"]
[null,null,null,null,null,null,"2032-08-15"]
[null,null,null,null,null,null,"2032-08-16"]
[null,null,null,null,null,null,"2032-08-17"]
[null,null,null,null,null,null,"2032-08-18"]
[null,null,null,null,null,null,"2032-08-19"]
[null,null,null,null,null,null,"2032-08-20"]
[null,null,null,null,null,null,"2032-08-21"]
[null,null,null,null,null,null,"2032-08-22"]
[null,null,null,null,null,null,"2032-08-23"]
[null,null,null,null,null,null,"2032-08-24"]
[null,null,null,null,null,null,"2032-08-25"]
[null,null,null,null,null,null,"2032-08-26"]
[null,null,null,null,null,null,"2032-08-27"]
[null,null,null,null,null,null,"2032-08-28"]
[null,null,null,null,null,null,"2032-08-29"]
[null,null,null,null,null,null,"2032-08-30"]
[null,null,null,null,null,null,"2032-08-31"]
[null,null,null,null,null,null,"2032-09-01"]
[null,null,null,null,null,null,"2032-09-02"]
[null,null,null,null,null,null,"2032-09-03"]
[null,null,null,null,null,null,"2032-09-04"]
[null,null,null,null,null,null,"2032-09-05"]
[null,null,null,null,null,null,"2032-09-06"]
[null,null,null,null,null,null,"2032-09-07"]
[null,null,null,null,null,null,"2032-09-08"]
[null,null,null,null,null,null,"2032-09-09"]
[null,null,null,null,null,null,"2032-09-10"]
[null,null,null,null,null,null,"2032-09-11"]
[null,null,null,null,null,null,"2032-09-12"]
[null,null,null,null,null,null,"2032-09-13"]
[null,null,null,null,null,null,"2032-09-14"]
[null,null,null,null,null,null,"2032-09-15"]
[null,null,null,null,null,null,"2032-09-16"]
[null,null,null,null,null,null,"2032-09-17"]
[null,null,null,null,null,null,"2032-09-18"]
[null,null,null,null,null,null,"2032-09-19"]
[null,null,null,null,null,null,"2032-09-20"]
[null,null,null,null,null,null,"2032-09-21"]
[null,null,null,null,null,null,"2032-09-22"]
[null,null,null,null,null,null,"2032-09-23"]
[null,null,null,null,null,null,"2032-09-24"]
[null,null,null,null,null,null,"2032-09-25"]
[null,null,null,null,null,null,"2032-09-26"]
[null,null,null,null,null,null,"2032-09-27"]
[null,null,null,null,null,null,"2032-09-28"]
[null,null,null,null,null,null,"2032-09-29"]
[null,null,null,null,null,null,"2032-09-30"]
[null,null,null,null,null,null,"2032-10-01"]
[null,null,null,null,null,null,"2032-10-02"]
[null,null,null,null,null,null,"2032-10-03"]
[null,null,null,null,null,null,"2032-10-04"]
[null,null,null,null,null,null,"2032-10-05"]
[null,null,null,null,null,null,"2032-10-06"]
[null,null,null,null,null,null,"2032-10-07"]
[null,null,null,null,null,null,"2032-10-08"]
[null,null,null,null,null,null,"2032-10-09"]
[null,null,null,null,null,null,{"$f":"G6403+1","v":"2032-10-10"}]
[null,null,null,null,null,null,"2032-10-11"]
[null,null,null,null,null,null,"2032-10-12"]
[null,null,null,null,null,null,"2032-10-13"]
[null,null,null,null,null,null,"2032-10-14"]
[null,null,null,null,null,null,"2032-10-15"]
[null,null,null,null,null,null,"2032-10-16"]
[null,null,null,null,null,null,"2032-10-17"]
[null,null,null,null,null,null,"2032-10-18"]
[null,null,null,null,null,null,"2032-10-19"]
[null,null,null,null,null,null,"2032-10-20"]
[null,null,null,null,null,null,"2032-10-21"]
[null,null,null,null,null,null,"2032-10-22"]
[null,null,null,null,null,null,"2032-10-23"]
[null,null,null,null,null,null,"2032-10-24"]
[null,null,null,null,null,null,"2032-10-25"]
[null,null,null,null,null,null,"2032-10-26"]
[null,null,null,null,null,null,"2032-10-27"]
[null,null,null,null,null,null,"2032-10-28"]
[null,null,null,null,null,null,"2032-10-29"]
[null,null,null,null,null,null,"2032-10-30"]
[null,null,null,null,null,null,"2032-10-31"]
[null,null,null,null,null,null,"2032-11-01"]
[null,null,null,null,null,null,"2032-11-02"]
[null,null,null,null,null,null,"2032-11-03"]
[null,null,null,null,null,null,"2032-11-04"]
[null,null,null,null,null,null,"2032-11-05"]
[null,null,null,null,null,null,"2032-11-06"]
[null,null,null,null,null,null,"2032-11-07"]
[null,null,null,null,null,null,"2032-11-08"]
[null,null,null,null,null,null,"2032-11-09"]
[null,null,null,null,null,null,"2032-11-10"]
[null,null,null,null,null,null,"2032-11-11"]
[null,null,null,null,null,null,"2032-11-12"]
[null,null,null,null,null,null,"2032-11-13"]
[null,null,null,null,null,null,"2032-11-14"]
[null,null,null,null,null,null,"2032-11-15"]
[null,null,null,null,null,null,"2032-11-16"]
[null,null,null,null,null,null,"2032-11-17"]
[null,null,null,null,null,null,"2032-11-18"]
[null,null,null,null,null,null,"2032-11-19"]
[null,null,null,null,null,null,"2032-11-20"]
[null,null,null,null,null,null,"2032-11-21"]
[null,null,null,null,null,null,"2032-11-22"]
[null,null,null,null,null,null,"2032-11-23"]
[null,null,null,null,null,null,"2032-11-24"]
[null,null,null,null,null,null,"2032-11-25"]
[null,null,null,null,null,null,"2032-11-26"]
[null,null,null,null,null,null,"2032-11-27"]
[null,null,null,null,null,null,"2032-11-28"]
[null,null,null,null,null,null,"2032-11-29"]
[null,null,null,null,null,null,"2032-11-30"]
[null,null,null,null,null,null,"2032-12-01"]
[null,null,null,null,null,null,"2032-12-02"]
[null,null,null,null,null,null,"2032-12-03"]
[null,null,null,null,null,null,"2032-12-04"]
[null,null,null,null,null,null,"2032-12-05"]
[null,null,null,null,null,null,"2032-12-06"]
[null,null,null,null,null,null,"2032-12-07"]
[null,null,null,null,null,null,"2032-12-08"]
[null,null,null,null,null,null,"2032-12-09"]
[null,null,null,null,null,null,"2032-12-10"]
[null,null,null,null,null,null,"2032-12-11"]
[null,null,null,null,null,null,"2032-12-12"]
[null,null,null,null,null,null,{"$f":"G6467+1","v":"2032-12-13"}]
[null,null,null,null,null,null,"2032-12-14"]
[null,null,null,null,null,null,"2032-12-15"]
[null,null,null,null,null,null,"2032-12-16"]
[null,null,null,null,null,null,"2032-12-17"]
[null,null,null,null,null,null,"2032-12-18"]
[null,null,null,null,null,null,"2032-12-19"]
[null,null,null,null,null,null,"2032-12-20"]
[null,null,null,null,null,null,"2032-12-21"]
[null,null,null,null,null,null,"2032-12-22"]
[null,null,null,null,null,null,"2032-12-23"]
[null,null,null,null,null,null,"2032-12-24"]
[null,null,null,null,null,null,"2032-12-25"]
[null,null,null,null,null,null,"2032-12-26"]
[null,null,null,null,null,null,"2032-12-27"]
[null,null,null,null,null,null,"2032-12-28"]
[null,null,null,null,null,null,"2032-12-29"]
[null,null,null,null,null,null,"2032-12-30"]
[null,null,null,null,null,null,"2032-12-31"]
[null,null,null,null,null,null,"2033-01-01"]
[null,null,null,null,null,null,"2033-01-02"]
[null,null,null,null,null,null,"2033-01-03"]
[null,null,null,null,null,null,"2033-01-04"]
[null,null,null,null,null,null,"2033-01-05"]
[null,null,null,null,null,null,"2033-01-06"]
[null,null,null,null,null,null,"2033-01-07"]
[null,null,null,null,null,null,"2033-01-08"]
[null,null,null,null,null,null,"2033-01-09"]
[null,null,null,null,null,null,"2033-01-10"]
[null,null,null,null,null,null,"2033-01-11"]
[null,null,null,null,null,null,"2033-01-12"]
[null,null,null,null,null,null,"2033-01-13"]
[null,null,null,null,null,null,"2033-01-14"]
[null,null,null,null,null,null,"2033-01-15"]
[null,null,null,null,null,null,"2033-01-16"]
[null,null,null,null,null,null,"2033-01-17"]
[null,null,null,null,null,null,"2033-01-18"]
[null,null,null,null,null,null,"2033-01-19"]
[null,null,null,null,null,null,"2033-01-20"]
[null,null,null,null,null,null,"2033-01-21"]
[null,null,null,null,null,null,"2033-01-22"]
[null,null,null,null,null,null,"2033-01-23"]
[null,null,null,null,null,null,"2033-01-24"]
[null,null,null,null,null,null,"2033-01-25"]
[null,null,null,null,null,null,"2033-01-26"]
[null,null,null,null,null,null,"2033-01-27"]
[null,null,null,null,null,null,"2033-01-28"]
[null,null,null,null,null,null,"2033-01-29"]
[null,null,null,null,null,null,"2033-01-30"]
[null,null,null,null,null,null,"2033-01-31"]
[null,null,null,null,null,null,"2033-02-01"]
[null,null,null,null,null,null,"2033-02-02"]
[null,null,null,null,null,null,"2033-02-03"]
[null,null,null,null,null,null,"2033-02-04"]
[null,null,null,null,null,null,"2033-02-05"]
[null,null,null,null,null,null,"2033-02-06"]
[null,null,null,null,null,null,"2033-02-07"]
[null,null,null,null,null,null,"2033-02-08"]
[null,null,null,null,null,null,"2033-02-09"]
[null,null,null,null,null,null,"2033-02-10"]
[null,null,null,null,null,null,"2033-02-11"]
[null,null,null,null,null,null,"2033-02-12"]
[null,null,null,null,null,null,"2033-02-13"]
[null,null,null,null,null,null,"2033-02-14"]
[null,null,null,null,null,null,{"$f":"G6531+1","v":"2033-02-15"}]
[null,null,null,null,null,null,"2033-02-16"]
[null,null,null,null,null,null,"2033-02-17"]
[null,null,null,null,null,null,"2033-02-18"]
[null,null,null,null,null,null,"2033-02-19"]
[null,null,null,null,null,null,"2033-02-20"]
[null,null,null,null,null,null,"2033-02-21"]
[null,null,null,null,null,null,"2033-02-22"]
[null,null,null,null,null,null,"2033-02-23"]
[null,null,null,null,null,null,"2033-02-24"]
[null,null,null,null,null,null,"2033-02-25"]
[null,null,null,null,null,null,"2033-02-26"]
[null,null,null,null,null,null,"2033-02-27"]
[null,null,null,null,null,null,"2033-02-28"]
[null,null,null,null,null,null,"2033-03-01"]
[null,null,null,null,null,null,"2033-03-02"]
[null,null,null,null,null,null,"2033-03-03"]
[null,null,null,null,null,null,"2033-03-04"]
[null,null,null,null,null,null,"2033-03-05"]
[null,null,null,null,null,null,"2033-03-06"]
[null,null,null,null,null,null,"2033-03-07"]
[null,null,null,null,null,null,"2033-03-08"]
[null,null,null,null,null,null,"2033-03-09"]
[null,null,null,null,null,null,"2033-03-10"]
[null,null,null,null,null,null,"2033-03-11"]
[null,null,null,null,null,null,"2033-03-12"]
[null,null,null,null,null,null,"2033-03-13"]
[null,null,null,null,null,null,"2033-03-14"]
[null,null,null,null,null,null,"2033-03-15"]
[null,null,null,null,null,null,"2033-03-16"]
[null,null,null,null,null,null,"2033-03-17"]
[null,null,null,null,null,null,"2033-03-18"]
[null,null,null,null,null,null,"2033-03-19"]
[null,null,null,null,null,null,"2033-03-20"]
[null,null,null,null,null,null,"2033-03-21"]
[null,null,null,null,null,null,"2033-03-22"]
[null,null,null,null,null,null,"2033-03-23"]
[null,null,null,null,null,null,"2033-03-24"]
[null,null,null,null,null,null,"2033-03-25"]
[null,null,null,null,null,null,"2033-03-26"]
[null,null,null,null,null,null,"2033-03-27"]
[null,null,null,null,null,null,"2033-03-28"]
[null,null,null,null,null,null,"2033-03-29"]
[null,null,null,null,null,null,"2033-03-30"]
[null,null,null,null,null,null,"2033-03-31"]
[null,null,null,null,null,null,"2033-04-01"]
[null,null,null,null,null,null,"2033-04-02"]
[null,null,null,null,null,null,"2033-04-03"]
[null,null,null,null,null,null,"2033-04-04"]
[null,null,null,null,null,null,"2033-04-05"]
[null,null,null,null,null,null,"2033-04-06"]
[null,null,null,null,null,null,"2033-04-07"]
[null,null,null,null,null,null,"2033-04-08"]
[null,null,null,null,null,null,"2033-04-09"]
[null,null,null,null,null,null,"2033-04-10"]
[null,null,null,null,null,null,"2033-04-11"]
[null,null,null,null,null,null,"2033-04-12"]
[null,null,null,null,null,null,"2033-04-13"]
[null,null,null,null,null,null,"2033-04-14"]
[null,null,null,null,null,null,"2033-04-15"]
[null,null,null,null,null,null,"2033-04-16"]
[null,null,null,null,null,null,"2033-04-17"]
[null,null,null,null,null,null,"2033-04-18"]
[null,null,null,null,null,null,"2033-04-19"]
[null,null,null,null,null,null,{"$f":"G6595+1","v":"2033-04-20"}]
[null,null,null,null,null,null,"2033-04-21"]
[null,null,null,null,null,null,"2033-04-22"]
[null,null,null,null,null,null,"2033-04-23"]
[null,null,null,null,null,null,"2033-04-24"]
[null,null,null,null,null,null,"2033-04-25"]
[null,null,null,null,null,null,"2033-04-26"]
[null,null,null,null,null,null,"2033-04-27"]
[null,null,null,null,null,null,"2033-04-28"]
[null,null,null,null,null,null,"2033-04-29"]
[null,null,null,null,null,null,"2033-04-30"]
[null,null,null,null,null,null,"2033-05-01"]
[null,null,null,null,null,null,"2033-05-02"]
[null,null,null,null,null,null,"2033-05-03"]
[null,null,null,null,null,null,"2033-05-04"]
[null,null,null,null,null,null,"2033-05-05"]
[null,null,null,null,null,null,"2033-05-06"]
[null,null,null,null,null,null,"2033-05-07"]
[null,null,null,null,null,null,"2033-05-08"]
[null,null,null,null,null,null,"2033-05-09"]
[null,null,null,null,null,null,"2033-05-10"]
[null,null,null,null,null,null,"2033-05-11"]
[null,null,null,null,null,null,"2033-05-12"]
[null,null,null,null,null,null,"2033-05-13"]
[null,null,null,null,null,null,"2033-05-14"]
[null,null,null,null,null,null,"2033-05-15"]
[null,null,null,null,null,null,"2033-05-16"]
[null,null,null,null,null,null,"2033-05-17"]
[null,null,null,null,null,null,"2033-05-18"]
[null,null,null,null,null,null,"2033-05-19"]
[null,null,null,null,null,null,"2033-05-20"]
[null,null,null,null,null,null,"2033-05-21"]
[null,null,null,null,null,null,"2033-05-22"]
[null,null,null,null,null,null,"2033-05-23"]
[null,null,null,null,null,null,"2033-05-24"]
[null,null,null,null,null,null,"2033-05-25"]
[null,null,null,null,null,null,"2033-05-26"]
[null,null,null,null,null,null,"2033-05-27"]
[null,null,null,null,null,null,"2033-05-28"]
[null,null,null,null,null,null,"2033-05-29"]
[null,null,null,null,null,null,"2033-05-30"]
[null,null,null,null,null,null,"2033-05-31"]
[null,null,null,null,null,null,"2033-06-01"]
[null,null,null,null,null,null,"2033-06-02"]
[null,null,null,null,null,null,"2033-06-03"]
[null,null,null,null,null,null,"2033-06-04"]
[null,null,null,null,null,null,"2033-06-05"]
[null,null,null,null,null,null,"2033-06-06"]
[null,null,null,null,null,null,"2033-06-07"]
[null,null,null,null,null,null,"2033-06-08"]
[null,null,null,null,null,null,"2033-06-09"]
[null,null,null,null,null,null,"2033-06-10"]
[null,null,null,null,null,null,"2033-06-11"]
[null,null,null,null,null,null,"2033-06-12"]
[null,null,null,null,null,null,"2033-06-13"]
[null,null,null,null,null,null,"2033-06-14"]
[null,null,null,null,null,null,"2033-06-15"]
[null,null,null,null,null,null,"2033-06-16"]
[null,null,null,null,null,null,"2033-06-17"]
[null,null,null,null,null,null,"2033-06-18"]
[null,null,null,null,null,null,"2033-06-19"]
[null,null,null,null,null,null,"2033-06-20"]
[null,null,null,null,null,null,"2033-06-21"]
[null,null,null,null,null,null,"2033-06-22"]
[null,null,null,null,null,null,{"$f":"G6659+1","v":"2033-06-23"}]
[null,null,null,null,null,null,"2033-06-24"]
[null,null,null,null,null,null,"2033-06-25"]
[null,null,null,null,null,null,"2033-06-26"]
[null,null,null,null,null,null,"2033-06-27"]
[null,null,null,null,null,null,"2033-06-28"]
[null,null,null,null,null,null,"2033-06-29"]
[null,null,null,null,null,null,"2033-06-30"]
[null,null,null,null,null,null,"2033-07-01"]
[null,null,null,null,null,null,"2033-07-02"]
[null,null,null,null,null,null,"2033-07-03"]
[null,null,null,null,null,null,"2033-07-04"]
[null,null,null,null,null,null,"2033-07-05"]
[null,null,null,null,null,null,"2033-07-06"]
[null,null,null,null,null,null,"2033-07-07"]
[null,null,null,null,null,null,"2033-07-08"]
[null,null,null,null,null,null,"2033-07-09"]
[null,null,null,null,null,null,"2033-07-10"]
[null,null,null,null,null,null,"2033-07-11"]
[null,null,null,null,null,null,"2033-07-12"]
[null,null,null,null,null,null,"2033-07-13"]
[null,null,null,null,null,null,"2033-07-14"]
[null,null,null,null,null,null,"2033-07-15"]
[null,null,null,null,null,null,"2033-07-16"]
[null,null,null,null,null,null,"2033-07-17"]
[null,null,null,null,null,null,"2033-07-18"]
[null,null,null,null,null,null,"2033-07-19"]
[null,null,null,null,null,null,"2033-07-20"]
[null,null,null,null,null,null,"2033-07-21"]
[null,null,null,null,null,null,"2033-07-22"]
[null,null,null,null,null,null,"2033-07-23"]
[null,null,null,null,null,null,"2033-07-24"]
[null,null,null,null,null,null,"2033-07-25"]
[null,null,null,null,null,null,"2033-07-26"]
[null,null,null,null,null,null,"2033-07-27"]
[null,null,null,null,null,null,"2033-07-28"]
[null,null,null,null,null,null,"2033-07-29"]
[null,null,null,null,null,null,"2033-07-30"]
[null,null,null,null,null,null,"2033-07-31"]
[null,null,null,null,null,null,"2033-08-01"]
[null,null,null,null,null,null,"2033-08-02"]
[null,null,null,null,null,null,"2033-08-03"]
[null,null,null,null,null,null,"2033-08-04"]
[null,null,null,null,null,null,"2033-08-05"]
[null,null,null,null,null,null,"2033-08-06"]
[null,null,null,null,null,null,"2033-08-07"]
[null,null,null,null,null,null,"2033-08-08"]
[null,null,null,null,null,null,"2033-08-09"]
[null,null,null,null,null,null,"2033-08-10"]
[null,null,null,null,null,null,"2033-08-11"]
[null,null,null,null,null,null,"2033-08-12"]
[null,null,null,null,null,null,"2033-08-13"]
[null,null,null,null,null,null,"2033-08-14"]
[null,null,null,null,null,null,"2033-08-15"]
[null,null,null,null,null,null,"2033-08-16"]
[null,null,null,null,null,null,"2033-08-17"]
[null,null,null,null,null,null,"2033-08-18"]
[null,null,null,null,null,null,"2033-08-19"]
[null,null,null,null,null,null,"2033-08-20"]
[null,null,null,null,null,null,"2033-08-21"]
[null,null,null,null,null,null,"2033-08-22"]
[null,null,null,null,null,null,"2033-08-23"]
[null,null,null,null,null,null,"2033-08-24"]
[null,null,null,null,null,null,"2033-08-25"]
[null,null,null,null,null,null,{"$f":"G6723+1","v":"2033-08-26"}]
[null,null,null,null,null,null,"2033-08-27"]
[null,null,null,null,null,null,"2033-08-28"]
[null,null,null,null,null,null,"2033-08-29"]
[null,null,null,null,null,null,"2033-08-30"]
[null,null,null,null,null,null,"2033-08-31"]
[null,null,null,null,null,null,"2033-09-01"]
[null,null,null,null,null,null,"2033-09-02"]
[null,null,null,null,null,null,"2033-09-03"]
[null,null,null,null,null,null,"2033-09-04"]
[null,null,null,null,null,null,"2033-09-05"]
[null,null,null,null,null,null,"2033-09-06"]
[null,null,null,null,null,null,"2033-09-07"]
[null,null,null,null,null,null,"2033-09-08"]
[null,null,null,null,null,null,"2033-09-09"]
[null,null,null,null,null,null,"2033-09-10"]
[null,null,null,null,null,null,"2033-09-11"]
[null,null,null,null,null,null,"2033-09-12"]
[null,null,null,null,null,null,"2033-09-13"]
[null,null,null,null,null,null,"2033-09-14"]
[null,null,null,null,null,null,"2033-09-15"]
[null,null,null,null,null,null,"2033-09-16"]
[null,null,null,null,null,null,"2033-09-17"]
[null,null,null,null,null,null,"2033-09-18"]
[null,null,null,null,null,null,"2033-09-19"]
[null,null,null,null,null,null,"2033-09-20"]
[null,null,null,null,null,null,"2033-09-21"]
[null,null,null,null,null,null,"2033-09-22"]
[null,null,null,null,null,null,"2033-09-23"]
[null,null,null,null,null,null,"2033-09-24"]
[null,null,null,null,null,null,"2033-09-25"]
[null,null,null,null,null,null,"2033-09-26"]
[null,null,null,null,null,null,"2033-09-27"]
[null,null,null,null,null,null,"2033-09-28"]
[null,null,null,null,null,null,"2033-09-29"]
[null,null,null,null,null,null,"2033-09-30"]
[null,null,null,null,null,null,"2033-10-01"]
[null,null,null,null,null,null,"2033-10-02"]
[null,null,null,null,null,null,"2033-10-03"]
[null,null,null,null,null,null,"2033-10-04"]
[null,null,null,null,null,null,"2033-10-05"]
[null,null,null,null,null,null,"2033-10-06"]
[null,null,null,null,null,null,"2033-10-07"]
[null,null,null,null,null,null,"2033-10-08"]
[null,null,null,null,null,null,"2033-10-09"]
[null,null,null,null,null,null,"2033-10-10"]
[null,null,null,null,null,null,"2033-10-11"]
[null,null,null,null,null,null,"2033-10-12"]
[null,null,null,null,null,null,"2033-10-13"]
[null,null,null,null,null,null,"2033-10-14"]
[null,null,null,null,null,null,"2033-10-15"]
[null,null,null,null,null,null,"2033-10-16"]
[null,null,null,null,null,null,"2033-10-17"]
[null,null,null,null,null,null,"2033-10-18"]
[null,null,null,null,null,null,"2033-10-19"]
[null,null,null,null,null,null,"2033-10-20"]
[null,null,null,null,null,null,"2033-10-21"]
[null,null,null,null,null,null,"2033-10-22"]
[null,null,null,null,null,null,"2033-10-23"]
[null,null,null,null,null,null,"2033-10-24"]
[null,null,null,null,null,null,"2033-10-25"]
[null,null,null,null,null,null,"2033-10-26"]
[null,null,null,null,null,null,"2033-10-27"]
[null,null,null,null,null,null,"2033-10-28"]
[null,null,null,null,null,null,{"$f":"G6787+1","v":"2033-10-29"}]
[null,null,null,null,null,null,"2033-10-30"]
[null,null,null,null,null,null,"2033-10-31"]
[null,null,null,null,null,null,"2033-11-01"]
[null,null,null,null,null,null,"2033-11-02"]
[null,null,null,null,null,null,"2033-11-03"]
[null,null,null,null,null,null,"2033-11-04"]
[null,null,null,null,null,null,"2033-11-05"]
[null,null,null,null,null,null,"2033-11-06"]
[null,null,null,null,null,null,"2033-11-07"]
[null,null,null,null,null,null,"2033-11-08"]
[null,null,null,null,null,null,"2033-11-09"]
[null,null,null,null,null,null,"2033-11-10"]
[null,null,null,null,null,null,"2033-11-11"]
[null,null,null,null,null,null,"2033-11-12"]
[null,null,null,null,null,null,"2033-11-13"]
[null,null,null,null,null,null,"2033-11-14"]
[null,null,null,null,null,null,"2033-11-15"]
[null,null,null,null,null,null,"2033-11-16"]
[null,null,null,null,null,null,"2033-11-17"]
[null,null,null,null,null,null,"2033-11-18"]
[null,null,null,null,null,null,"2033-11-19"]
[null,null,null,null,null,null,"2033-11-20"]
[null,null,null,null,null,null,"2033-11-21"]
[null,null,null,null,null,null,"2033-11-22"]
[null,null,null,null,null,null,"2033-11-23"]
[null,null,null,null,null,null,"2033-11-24"]
[null,null,null,null,null,null,"2033-11-25"]
[null,null,null,null,null,null,"2033-11-26"]
[null,null,null,null,null,null,"2033-11-27"]
[null,null,null,null,null,null,"2033-11-28"]
[null,null,null,null,null,null,"2033-11-29"]
[null,null,null,null,null,null,"2033-11-30"]
[null,null,null,null,null,null,"2033-12-01"]
[null,null,null,null,null,null,"2033-12-02"]
[null,null,null,null,null,null,"2033-12-03"]
[null,null,null,null,null,null,"2033-12-04"]
[null,null,null,null,null,null,"2033-12-05"]
[null,null,null,null,null,null,"2033-12-06"]
[null,null,null,null,null,null,"2033-12-07"]
[null,null,null,null,null,null,"2033-12-08"]
[null,null,null,null,null,null,"2033-12-09"]
[null,null,null,null,null,null,"2033-12-10"]
[null,null,null,null,null,null,"2033-12-11"]
[null,null,null,null,null,null,"2033-12-12"]
[null,null,null,null,null,null,"2033-12-13"]
[null,null,null,null,null,null,"2033-12-14"]
[null,null,null,null,null,null,"2033-12-15"]
[null,null,null,null,null,null,"2033-12-16"]
[null,null,null,null,null,null,"2033-12-17"]
[null,null,null,null,null,null,"2033-12-18"]
[null,null,null,null,null,null,"2033-12-19"]
[null,null,null,null,null,null,"2033-12-20"]
[null,null,null,null,null,null,"2033-12-21"]
[null,null,null,null,null,null,"2033-12-22"]
[null,null,null,null,null,null,"2033-12-23"]
[null,null,null,null,null,null,"2033-12-24"]
[null,null,null,null,null,null,"2033-12-25"]
[null,null,null,null,null,null,"2033-12-26"]
[null,null,null,null,null,null,"2033-12-27"]
[null,null,null,null,null,null,"2033-12-28"]
[null,null,null,null,null,null,"2033-12-29"]
[null,null,null,null,null,null,"2033-12-30"]
[null,null,null,null,null,null,"2033-12-31"]
[null,null,null,null,null,null,{"$f":"G6851+1","v":"2034-01-01"}]
[null,null,null,null,null,null,"2034-01-02"]
[null,null,null,null,null,null,"2034-01-03"]
[null,null,null,null,null,null,"2034-01-04"]
[null,null,null,null,null,null,"2034-01-05"]
[null,null,null,null,null,null,"2034-01-06"]
[null,null,null,null,null,null,"2034-01-07"]
[null,null,null,null,null,null,"2034-01-08"]
[null,null,null,null,null,null,"2034-01-09"]
[null,null,null,null,null,null,"2034-01-10"]
[null,null,null,null,null,null,"2034-01-11"]
[null,null,null,null,null,null,"2034-01-12"]
[null,null,null,null,null,null,"2034-01-13"]
[null,null,null,null,null,null,"2034-01-14"]
[null,null,null,null,null,null,"2034-01-15"]
[null,null,null,null,null,null,"2034-01-16"]
[null,null,null,null,null,null,"2034-01-17"]
[null,null,null,null,null,null,"2034-01-18"]
[null,null,null,null,null,null,"2034-01-19"]
[null,null,null,null,null,null,"2034-01-20"]
[null,null,null,null,null,null,"2034-01-21"]
[null,null,null,null,null,null,"2034-01-22"]
[null,null,null,null,null,null,"2034-01-23"]
[null,null,null,null,null,null,"2034-01-24"]
[null,null,null,null,null,null,"2034-01-25"]
[null,null,null,null,null,null,"2034-01-26"]
[null,null,null,null,null,null,"2034-01-27"]
[null,null,null,null,null,null,"2034-01-28"]
[null,null,null,null,null,null,"2034-01-29"]
[null,null,null,null,null,null,"2034-01-30"]
[null,null,null,null,null,null,"2034-01-31"]
[null,null,null,null,null,null,"2034-02-01"]
[null,null,null,null,null,null,"2034-02-02"]
[null,null,null,null,null,null,"2034-02-03"]
[null,null,null,null,null,null,"2034-02-04"]
[null,null,null,null,null,null,"2034-02-05"]
[null,null,null,null,null,null,"2034-02-06"]
[null,null,null,null,null,null,"2034-02-07"]
[null,null,null,null,null,null,"2034-02-08"]
[null,null,null,null,null,null,"2034-02-09"]
[null,null,null,null,null,null,"2034-02-10"]
[null,null,null,null,null,null,"2034-02-11"]
[null,null,null,null,null,null,"2034-02-12"]
[null,null,null,null,null,null,"2034-02-13"]
[null,null,null,null,null,null,"2034-02-14"]
[null,null,null,null,null,null,"2034-02-15"]
[null,null,null,null,null,null,"2034-02-16"]
[null,null,null,null,null,null,"2034-02-17"]
[null,null,null,null,null,null,"2034-02-18"]
[null,null,null,null,null,null,"2034-02-19"]
[null,null,null,null,null,null,"2034-02-20"]
[null,null,null,null,null,null,"2034-02-21"]
[null,null,null,null,null,null,"2034-02-22"]
[null,null,null,null,null,null,"2034-02-23"]
[null,null,null,null,null,null,"2034-02-24"]
[null,null,null,null,null,null,"2034-02-25"]
[null,null,null,null,null,null,"2034-02-26"]
[null,null,null,null,null,null,"2034-02-27"]
[null,null,null,null,null,null,"2034-02-28"]
[null,null,null,null,null,null,"2034-03-01"]
[null,null,null,null,null,null,"2034-03-02"]
[null,null,null,null,null,null,"2034-03-03"]
[null,null,null,null,null,null,"2034-03-04"]
[null,null,null,null,null,null,"2034-03-05"]
[null,null,null,null,null,null,{"$f":"G6915+1","v":"2034-03-06"}]
[null,null,null,null,null,null,"2034-03-07"]
[null,null,null,null,null,null,"2034-03-08"]
[null,null,null,null,null,null,"2034-03-09"]
[null,null,null,null,null,null,"2034-03-10"]
[null,null,null,null,null,null,"2034-03-11"]
[null,null,null,null,null,null,"2034-03-12"]
[null,null,null,null,null,null,"2034-03-13"]
[null,null,null,null,null,null,"2034-03-14"]
[null,null,null,null,null,null,"2034-03-15"]
[null,null,null,null,null,null,"2034-03-16"]
[null,null,null,null,null,null,"2034-03-17"]
[null,null,null,null,null,null,"2034-03-18"]
[null,null,null,null,null,null,"2034-03-19"]
[null,null,null,null,null,null,"2034-03-20"]
[null,null,null,null,null,null,"2034-03-21"]
[null,null,null,null,null,null,"2034-03-22"]
[null,null,null,null,null,null,"2034-03-23"]
[null,null,null,null,null,null,"2034-03-24"]
[null,null,null,null,null,null,"2034-03-25"]
[null,null,null,null,null,null,"2034-03-26"]
[null,null,null,null,null,null,"2034-03-27"]
[null,null,null,null,null,null,"2034-03-28"]
[null,null,null,null,null,null,"2034-03-29"]
[null,null,null,null,null,null,"2034-03-30"]
[null,null,null,null,null,null,"2034-03-31"]
[null,null,null,null,null,null,"2034-04-01"]
[null,null,null,null,null,null,"2034-04-02"]
[null,null,null,null,null,null,"2034-04-03"]
[null,null,null,null,null,null,"2034-04-04"]
[null,null,null,null,null,null,"2034-04-05"]
[null,null,null,null,null,null,"2034-04-06"]
[null,null,null,null,null,null,"2034-04-07"]
[null,null,null,null,null,null,"2034-04-08"]
[null,null,null,null,null,null,"2034-04-09"]
[null,null,null,null,null,null,"2034-04-10"]
[null,null,null,null,null,null,"2034-04-11"]
[null,null,null,null,null,null,"2034-04-12"]
[null,null,null,null,null,null,"2034-04-13"]
[null,null,null,null,null,null,"2034-04-14"]
[null,null,null,null,null,null,"2034-04-15"]
[null,null,null,null,null,null,"2034-04-16"]
[null,null,null,null,null,null,"2034-04-17"]
[null,null,null,null,null,null,"2034-04-18"]
[null,null,null,null,null,null,"2034-04-19"]
[null,null,null,null,null,null,"2034-04-20"]
[null,null,null,null,null,null,"2034-04-21"]
[null,null,null,null,null,null,"2034-04-22"]
[null,null,null,null,null,null,"2034-04-23"]
[null,null,null,null,null,null,"2034-04-24"]
[null,null,null,null,null,null,"2034-04-25"]
[null,null,null,null,null,null,"2034-04-26"]
[null,null,null,null,null,null,"2034-04-27"]
[null,null,null,null,null,null,"2034-04-28"]
[null,null,null,null,null,null,"2034-04-29"]
[null,null,null,null,null,null,"2034-04-30"]
[null,null,null,null,null,null,"2034-05-01"]
[null,null,null,null,null,null,"2034-05-02"]
[null,null,null,null,null,null,"2034-05-03"]
[null,null,null,null,null,null,"2034-05-04"]
[null,null,null,null,null,null,"2034-05-05"]
[null,null,null,null,null,null,"2034-05-06"]
[null,null,null,null,null,null,"2034-05-07"]
[null,null,null,null,null,null,"2034-05-08"]
[null,null,null,null,null,null,{"$f":"G6979+1","v":"2034-05-09"}]
[null,null,null,null,null,null,"2034-05-10"]
[null,null,null,null,null,null,"2034-05-11"]
[null,null,null,null,null,null,"2034-05-12"]
[null,null,null,null,null,null,"2034-05-13"]
[null,null,null,null,null,null,"2034-05-14"]
[null,null,null,null,null,null,"2034-05-15"]
[null,null,null,null,null,null,"2034-05-16"]
[null,null,null,null,null,null,"2034-05-17"]
[null,null,null,null,null,null,"2034-05-18"]
[null,null,null,null,null,null,"2034-05-19"]
[null,null,null,null,null,null,"2034-05-20"]
[null,null,null,null,null,null,"2034-05-21"]
[null,null,null,null,null,null,"2034-05-22"]
[null,null,null,null,null,null,"2034-05-23"]
[null,null,null,null,null,null,"2034-05-24"]
[null,null,null,null,null,null,"2034-05-25"]
[null,null,null,null,null,null,"2034-05-26"]
[null,null,null,null,null,null,"2034-05-27"]
[null,null,null,null,null,null,"2034-05-28"]
[null,null,null,null,null,null,"2034-05-29"]
[null,null,null,null,null,null,"2034-05-30"]
[null,null,null,null,null,null,"2034-05-31"]
[null,null,null,null,null,null,"2034-06-01"]
[null,null,null,null,null,null,"2034-06-02"]
[null,null,null,null,null,null,"2034-06-03"]
[null,null,null,null,null,null,"2034-06-04"]
[null,null,null,null,null,null,"2034-06-05"]
[null,null,null,null,null,null,"2034-06-06"]
[null,null,null,null,null,null,"2034-06-07"]
[null,null,null,null,null,null,"2034-06-08"]
[null,null,null,null,null,null,"2034-06-09"]
[null,null,null,null,null,null,"2034-06-10"]
[null,null,null,null,null,null,"2034-06-11"]
[null,null,null,null,null,null,"2034-06-12"]
[null,null,null,null,null,null,"2034-06-13"]
[null,null,null,null,null,null,"2034-06-14"]
[null,null,null,null,null,null,"2034-06-15"]
[null,null,null,null,null,null,"2034-06-16"]
[null,null,null,null,null,null,"2034-06-17"]
[null,null,null,null,null,null,"2034-06-18"]
[null,null,null,null,null,null,"2034-06-19"]
[null,null,null,null,null,null,"2034-06-20"]
[null,null,null,null,null,null,"2034-06-21"]
[null,null,null,null,null,null,"2034-06-22"]
[null,null,null,null,null,null,"2034-06-23"]
[null,null,null,null,null,null,"2034-06-24"]
[null,null,null,null,null,null,"2034-06-25"]
[null,null,null,null,null,null,"2034-06-26"]
[null,null,null,null,null,null,"2034-06-27"]
[null,null,null,null,null,null,"2034-06-28"]
[null,null,null,null,null,null,"2034-06-29"]
[null,null,null,null,null,null,"2034-06-30"]
[null,null,null,null,null,null,"2034-07-01"]
[null,null,null,null,null,null,"2034-07-02"]
[null,null,null,null,null,null,"2034-07-03"]
[null,null,null,null,null,null,"2034-07-04"]
[null,null,null,null,null,null,"2034-07-05"]
[null,null,null,null,null,null,"2034-07-06"]
[null,null,null,null,null,null,"2034-07-07"]
[null,null,null,null,null,null,"2034-07-08"]
[null,null,null,null,null,null,"2034-07-09"]
[null,null,null,null,null,null,"2034-07-10"]
[null,null,null,null,null,null,"2034-07-11"]
[null,null,null,null,null,null,{"$f":"G7043+1","v":"2034-07-12"}]
[null,null,null,null,null,null,"2034-07-13"]
[null,null,null,null,null,null,"2034-07-14"]
[null,null,null,null,null,null,"2034-07-15"]
[null,null,null,null,null,null,"2034-07-16"]
[null,null,null,null,null,null,"2034-07-17"]
[null,null,null,null,null,null,"2034-07-18"]
[null,null,null,null,null,null,"2034-07-19"]
[null,null,null,null,null,null,"2034-07-20"]
[null,null,null,null,null,null,"2034-07-21"]
[null,null,null,null,null,null,"2034-07-22"]
[null,null,null,null,null,null,"2034-07-23"]
[null,null,null,null,null,null,"2034-07-24"]
[null,null,null,null,null,null,"2034-07-25"]
[null,null,null,null,null,null,"2034-07-26"]
[null,null,null,null,null,null,"2034-07-27"]
[null,null,null,null,null,null,"2034-07-28"]
[null,null,null,null,null,null,"2034-07-29"]
[null,null,null,null,null,null,"2034-07-30"]
[null,null,null,null,null,null,"2034-07-31"]
[null,null,null,null,null,null,"2034-08-01"]
[null,null,null,null,null,null,"2034-08-02"]
[null,null,null,null,null,null,"2034-08-03"]
[null,null,null,null,null,null,"2034-08-04"]
[null,null,null,null,null,null,"2034-08-05"]
[null,null,null,null,null,null,"2034-08-06"]
[null,null,null,null,null,null,"2034-08-07"]
[null,null,null,null,null,null,"2034-08-08"]
[null,null,null,null,null,null,"2034-08-09"]
[null,null,null,null,null,null,"2034-08-10"]
[null,null,null,null,null,null,"2034-08-11"]
[null,null,null,null,null,null,"2034-08-12"]
[null,null,null,null,null,null,"2034-08-13"]
[null,null,null,null,null,null,"2034-08-14"]
[null,null,null,null,null,null,"2034-08-15"]
[null,null,null,null,null,null,"2034-08-16"]
[null,null,null,null,null,null,"2034-08-17"]
[null,null,null,null,null,null,"2034-08-18"]
[null,null,null,null,null,null,"2034-08-19"]
[null,null,null,null,null,null,"2034-08-20"]
[null,null,null,null,null,null,"2034-08-21"]
[null,null,null,null,null,null,"2034-08-22"]
[null,null,null,null,null,null,"2034-08-23"]
[null,null,null,null,null,null,"2034-08-24"]
[null,null,null,null,null,null,"2034-08-25"]
[null,null,null,null,null,null,"2034-08-26"]
[null,null,null,null,null,null,"2034-08-27"]
[null,null,null,null,null,null,"2034-08-28"]
[null,null,null,null,null,null,"2034-08-29"]
[null,null,null,null,null,null,"2034-08-30"]
[null,null,null,null,null,null,"2034-08-31"]
[null,null,null,null,null,null,"2034-09-01"]
[null,null,null,null,null,null,"2034-09-02"]
[null,null,null,null,null,null,"2034-09-03"]
[null,null,null,null,null,null,"2034-09-04"]
[null,null,null,null,null,null,"2034-09-05"]
[null,null,null,null,null,null,"2034-09-06"]
[null,null,null,null,null,null,"2034-09-07"]
[null,null,null,null,null,null,"2034-09-08"]
[null,null,null,null,null,null,"2034-09-09"]
[null,null,null,null,null,null,"2034-09-10"]
[null,null,null,null,null,null,"2034-09-11"]
[null,null,null,null,null,null,"2034-09-12"]
[null,null,null,null,null,null,"2034-09-13"]
[null,null,null,null,null,null,{"$f":"G7107+1","v":"2034-09-14"}]
[null,null,null,null,null,null,"2034-09-15"]
[null,null,null,null,null,null,"2034-09-16"]
[null,null,null,null,null,null,"2034-09-17"]
[null,null,null,null,null,null,"2034-09-18"]
[null,null,null,null,null,null,"2034-09-19"]
[null,null,null,null,null,null,"2034-09-20"]
[null,null,null,null,null,null,"2034-09-21"]
[null,null,null,null,null,null,"2034-09-22"]
[null,null,null,null,null,null,"2034-09-23"]
[null,null,null,null,null,null,"2034-09-24"]
[null,null,null,null,null,null,"2034-09-25"]
[null,null,null,null,null,null,"2034-09-26"]
[null,null,null,null,null,null,"2034-09-27"]
[null,null,null,null,null,null,"2034-09-28"]
[null,null,null,null,null,null,"2034-09-29"]
[null,null,null,null,null,null,"2034-09-30"]
[null,null,null,null,null,null,"2034-10-01"]
[null,null,null,null,null,null,"2034-10-02"]
[null,null,null,null,null,null,"2034-10-03"]
[null,null,null,null,null,null,"2034-10-04"]
[null,null,null,null,null,null,"2034-10-05"]
[null,null,null,null,null,null,"2034-10-06"]
[null,null,null,null,null,null,"2034-10-07"]
[null,null,null,null,null,null,"2034-10-08"]
[null,null,null,null,null,null,"2034-10-09"]
[null,null,null,null,null,null,"2034-10-10"]
[null,null,null,null,null,null,"2034-10-11"]
[null,null,null,null,null,null,"2034-10-12"]
[null,null,null,null,null,null,"2034-10-13"]
[null,null,null,null,null,null,"2034-10-14"]
[null,null,null,null,null,null,"2034-10-15"]
[null,null,null,null,null,null,"2034-10-16"]
[null,null,null,null,null,null,"2034-10-17"]
[null,null,null,null,null,null,"2034-10-18"]
[null,null,null,null,null,null,"2034-10-19"]
[null,null,null,null,null,null,"2034-10-20"]
[null,null,null,null,null,null,"2034-10-21"]
[null,null,null,null,null,null,"2034-10-22"]
[null,null,null,null,null,null,"2034-10-23"]
[null,null,null,null,null,null,"2034-10-24"]
[null,null,null,null,null,null,"2034-10-25"]
[null,null,null,null,null,null,"2034-10-26"]
[null,null,null,null,null,null,"2034-10-27"]
[null,null,null,null,null,null,"2034-10-28"]
[null,null,null,null,null,null,"2034-10-29"]
[null,null,null,null,null,null,"2034-10-30"]
[null,null,null,null,null,null,"2034-10-31"]
[null,null,null,null,null,null,"2034-11-01"]
[null,null,null,null,null,null,"2034-11-02"]
[null,null,null,null,null,null,"2034-11-03"]
[null,null,null,null,null,null,"2034-11-04"]
[null,null,null,null,null,null,"2034-11-05"]
[null,null,null,null,null,null,"2034-11-06"]
[null,null,null,null,null,null,"2034-11-07"]
[null,null,null,null,null,null,"2034-11-08"]
[null,null,null,null,null,null,"2034-11-09"]
[null,null,null,null,null,null,"2034-11-10"]
[null,null,null,null,null,null,"2034-11-11"]
[null,null,null,null,null,null,"2034-11-12"]
[null,null,null,null,null,null,"2034-11-13"]
[null,null,null,null,null,null,"2034-11-14"]
[null,null,null,null,null,null,"2034-11-15"]
[null,null,null,null,null,null,"2034-11-16"]
[null,null,null,null,null,null,{"$f":"G7171+1","v":"2034-11-17"}]
[null,null,null,null,null,null,"2034-11-18"]
[null,null,null,null,null,null,"2034-11-19"]
[null,null,null,null,null,null,"2034-11-20"]
[null,null,null,null,null,null,"2034-11-21"]
[null,null,null,null,null,null,"2034-11-22"]
[null,null,null,null,null,null,"2034-11-23"]
[null,null,null,null,null,null,"2034-11-24"]
[null,null,null,null,null,null,"2034-11-25"]
[null,null,null,null,null,null,"2034-11-26"]
[null,null,null,null,null,null,"2034-11-27"]
[null,null,null,null,null,null,"2034-11-28"]
[null,null,null,null,null,null,"2034-11-29"]
[null,null,null,null,null,null,"2034-11-30"]
[null,null,null,null,null,null,"2034-12-01"]
[null,null,null,null,null,null,"2034-12-02"]
[null,null,null,null,null,null,"2034-12-03"]
[null,null,null,null,null,null,"2034-12-04"]
[null,null,null,null,null,null,"2034-12-05"]
[null,null,null,null,null,null,"2034-12-06"]
[null,null,null,null,null,null,"2034-12-07"]
[null,null,null,null,null,null,"2034-12-08"]
[null,null,null,null,null,null,"2034-12-09"]
[null,null,null,null,null,null,"2034-12-10"]
[null,null,null,null,null,null,"2034-12-11"]
[null,null,null,null,null,null,"2034-12-12"]
[null,null,null,null,null,null,"2034-12-13"]
[null,null,null,null,null,null,"2034-12-14"]
[null,null,null,null,null,null,"2034-12-15"]
[null,null,null,null,null,null,"2034-12-16"]
[null,null,null,null,null,null,"2034-12-17"]
[null,null,null,null,null,null,"2034-12-18"]
[null,null,null,null,null,null,"2034-12-19"]
[null,null,null,null,null,null,"2034-12-20"]
[null,null,null,null,null,null,"2034-12-21"]
[null,null,null,null,null,null,"2034-12-22"]
[null,null,null,null,null,null,"2034-12-23"]
[null,null,null,null,null,null,"2034-12-24"]
[null,null,null,null,null,null,"2034-12-25"]
[null,null,null,null,null,null,"2034-12-26"]
[null,null,null,null,null,null,"2034-12-27"]
[null,null,null,null,null,null,"2034-12-28"]
[null,null,null,null,null,null,"2034-12-29"]
[null,null,null,null,null,null,"2034-12-30"]
[null,null,null,null,null,null,"2034-12-31"]
[null,null,null,null,null,null,"2035-01-01"]
[null,null,null,null,null,null,"2035-01-02"]
[null,null,null,null,null,null,"2035-01-03"]
[null,null,null,null,null,null,"2035-01-04"]
[null,null,null,null,null,null,"2035-01-05"]
[null,null,null,null,null,null,"2035-01-06"]
[null,null,null,null,null,null,"2035-01-07"]
[null,null,null,null,null,null,"2035-01-08"]
[null,null,null,null,null,null,"2035-01-09"]
[null,null,null,null,null,null,"2035-01-10"]
[null,null,null,null,null,null,"2035-01-11"]
[null,null,null,null,null,null,"2035-01-12"]
[null,null,null,null,null,null,"2035-01-13"]
[null,null,null,null,null,null,"2035-01-14"]
[null,null,null,null,null,null,"2035-01-15"]
[null,null,null,null,null,null,"2035-01-16"]
[null,null,null,null,null,null,"2035-01-17"]
[null,null,null,null,null,null,"2035-01-18"]
[null,null,null,null,null,null,"2035-01-19"]
[null,null,null,null,null,null,{"$f":"G7235+1","v":"2035-01-20"}]
[null,null,null,null,null,null,"2035-01-21"]
[null,null,null,null,null,null,"2035-01-22"]
[null,null,null,null,null,null,"2035-01-23"]
[null,null,null,null,null,null,"2035-01-24"]
[null,null,null,null,null,null,"2035-01-25"]
[null,null,null,null,null,null,"2035-01-26"]
[null,null,null,null,null,null,"2035-01-27"]
[null,null,null,null,null,null,"2035-01-28"]
[null,null,null,null,null,null,"2035-01-29"]
[null,null,null,null,null,null,"2035-01-30"]
[null,null,null,null,null,null,"2035-01-31"]
[null,null,null,null,null,null,"2035-02-01"]
[null,null,null,null,null,null,"2035-02-02"]
[null,null,null,null,null,null,"2035-02-03"]
[null,null,null,null,null,null,"2035-02-04"]
[null,null,null,null,null,null,"2035-02-05"]
[null,null,null,null,null,null,"2035-02-06"]
[null,null,null,null,null,null,"2035-02-07"]
[null,null,null,null,null,null,"2035-02-08"]
[null,null,null,null,null,null,"2035-02-09"]
[null,null,null,null,null,null,"2035-02-10"]
[null,null,null,null,null,null,"2035-02-11"]
[null,null,null,null,null,null,"2035-02-12"]
[null,null,null,null,null,null,"2035-02-13"]
[null,null,null,null,null,null,"2035-02-14"]
[null,null,null,null,null,null,"2035-02-15"]
[null,null,null,null,null,null,"2035-02-16"]
[null,null,null,null,null,null,"2035-02-17"]
[null,null,null,null,null,null,"2035-02-18"]
[null,null,null,null,null,null,"2035-02-19"]
[null,null,null,null,null,null,"2035-02-20"]
[null,null,null,null,null,null,"2035-02-21"]
[null,null,null,null,null,null,"2035-02-22"]
[null,null,null,null,null,null,"2035-02-23"]
[null,null,null,null,null,null,"2035-02-24"]
[null,null,null,null,null,null,"2035-02-25"]
[null,null,null,null,null,null,"2035-02-26"]
[null,null,null,null,null,null,"2035-02-27"]
[null,null,null,null,null,null,"2035-02-28"]
[null,null,null,null,null,null,"2035-03-01"]
[null,null,null,null,null,null,"2035-03-02"]
[null,null,null,null,null,null,"2035-03-03"]
[null,null,null,null,null,null,"2035-03-04"]
[null,null,null,null,null,null,"2035-03-05"]
[null,null,null,null,null,null,"2035-03-06"]
[null,null,null,null,null,null,"2035-03-07"]
[null,null,null,null,null,null,"2035-03-08"]
[null,null,null,null,null,null,"2035-03-09"]
[null,null,null,null,null,null,"2035-03-10"]
[null,null,null,null,null,null,"2035-03-11"]
[null,null,null,null,null,null,"2035-03-12"]
[null,null,null,null,null,null,"2035-03-13"]
[null,null,null,null,null,null,"2035-03-14"]
[null,null,null,null,null,null,"2035-03-15"]
[null,null,null,null,null,null,"2035-03-16"]
[null,null,null,null,null,null,"2035-03-17"]
[null,null,null,null,null,null,"2035-03-18"]
[null,null,null,null,null,null,"2035-03-19"]
[null,null,null,null,null,null,"2035-03-20"]
[null,null,null,null,null,null,"2035-03-21"]
[null,null,null,null,null,null,"2035-03-22"]
[null,null,null,null,null,null,"2035-03-23"]
[null,null,null,null,null,null,"2035-03-24"]
[null,null,null,null,null,null,{"$f":"G7299+1","v":"2035-03-25"}]
[null,null,null,null,null,null,"2035-03-26"]
[null,null,null,null,null,null,"2035-03-27"]
[null,null,null,null,null,null,"2035-03-28"]
[null,null,null,null,null,null,"2035-03-29"]
[null,null,null,null,null,null,"2035-03-30"]
[null,null,null,null,null,null,"2035-03-31"]
[null,null,null,null,null,null,"2035-04-01"]
[null,null,null,null,null,null,"2035-04-02"]
[null,null,null,null,null,null,"2035-04-03"]
[null,null,null,null,null,null,"2035-04-04"]
[null,null,null,null,null,null,"2035-04-05"]
[null,null,null,null,null,null,"2035-04-06"]
[null,null,null,null,null,null,"2035-04-07"]
[null,null,null,null,null,null,"2035-04-08"]
[null,null,null,null,null,null,"2035-04-09"]
[null,null,null,null,null,null,"2035-04-10"]
[null,null,null,null,null,null,"2035-04-11"]
[null,null,null,null,null,null,"2035-04-12"]
[null,null,null,null,null,null,"2035-04-13"]
[null,null,null,null,null,null,"2035-04-14"]
[null,null,null,null,null,null,"2035-04-15"]
[null,null,null,null,null,null,"2035-04-16"]
[null,null,null,null,null,null,"2035-04-17"]
[null,null,null,null,null,null,"2035-04-18"]
[null,null,null,null,null,null,"2035-04-19"]
[null,null,null,null,null,null,"2035-04-20"]
[null,null,null,null,null,null,"2035-04-21"]
[null,null,null,null,null,null,"2035-04-22"]
[null,null,null,null,null,null,"2035-04-23"]
[null,null,null,null,null,null,"2035-04-24"]
[null,null,null,null,null,null,"2035-04-25"]
[null,null,null,null,null,null,"2035-04-26"]
[null,null,null,null,null,null,"2035-04-27"]
[null,null,null,null,null,null,"2035-04-28"]
[null,null,null,null,null,null,"2035-04-29"]
[null,null,null,null,null,null,"2035-04-30"]
[null,null,null,null,null,null,"2035-05-01"]
[null,null,null,null,null,null,"2035-05-02"]
[null,null,null,null,null,null,"2035-05-03"]
[null,null,null,null,null,null,"2035-05-04"]
[null,null,null,null,null,null,"2035-05-05"]
[null,null,null,null,null,null,"2035-05-06"]
[null,null,null,null,null,null,"2035-05-07"]
[null,null,null,null,null,null,"2035-05-08"]
[null,null,null,null,null,null,"2035-05-09"]
[null,null,null,null,null,null,"2035-05-10"]
[null,null,null,null,null,null,"2035-05-11"]
[null,null,null,null,null,null,"2035-05-12"]
[null,null,null,null,null,null,"2035-05-13"]
[null,null,null,null,null,null,"2035-05-14"]
[null,null,null,null,null,null,"2035-05-15"]
[null,null,null,null,null,null,"2035-05-16"]
[null,null,null,null,null,null,"2035-05-17"]
[null,null,null,null,null,null,"2035-05-18"]
[null,null,null,null,null,null,"2035-05-19"]
[null,null,null,null,null,null,"2035-05-20"]
[null,null,null,null,null,null,"2035-05-21"]
[null,null,null,null,null,null,"2035-05-22"]
[null,null,null,null,null,null,"2035-05-23"]
[null,null,null,null,null,null,"2035-05-24"]
[null,null,null,null,null,null,"2035-05-25"]
[null,null,null,null,null,null,"2035-05-26"]
[null,null,null,null,null,null,"2035-05-27"]
[null,null,null,null,null,null,{"$f":"G7363+1","v":"2035-05-28"}]
[null,null,null,null,null,null,"2035-05-29"]
[null,null,null,null,null,null,"2035-05-30"]
[null,null,null,null,null,null,"2035-05-31"]
[null,null,null,null,null,null,"2035-06-01"]
[null,null,null,null,null,null,"2035-06-02"]
[null,null,null,null,null,null,"2035-06-03"]
[null,null,null,null,null,null,"2035-06-04"]
[null,null,null,null,null,null,"2035-06-05"]
[null,null,null,null,null,null,"2035-06-06"]
[null,null,null,null,null,null,"2035-06-07"]
[null,null,null,null,null,null,"2035-06-08"]
[null,null,null,null,null,null,"2035-06-09"]
[null,null,null,null,null,null,"2035-06-10"]
[null,null,null,null,null,null,"2035-06-11"]
[null,null,null,null,null,null,"2035-06-12"]
[null,null,null,null,null,null,"2035-06-13"]
[null,null,null,null,null,null,"2035-06-14"]
[null,null,null,null,null,null,"2035-06-15"]
[null,null,null,null,null,null,"2035-06-16"]
[null,null,null,null,null,null,"2035-06-17"]
[null,null,null,null,null,null,"2035-06-18"]
[null,null,null,null,null,null,"2035-06-19"]
[null,null,null,null,null,null,"2035-06-20"]
[null,null,null,null,null,null,"2035-06-21"]
[null,null,null,null,null,null,"2035-06-22"]
[null,null,null,null,null,null,"2035-06-23"]
[null,null,null,null,null,null,"2035-06-24"]
[null,null,null,null,null,null,"2035-06-25"]
[null,null,null,null,null,null,"2035-06-26"]
[null,null,null,null,null,null,"2035-06-27"]
[null,null,null,null,null,null,"2035-06-28"]
[null,null,null,null,null,null,"2035-06-29"]
[null,null,null,null,null,null,"2035-06-30"]
[null,null,null,null,null,null,"2035-07-01"]
[null,null,null,null,null,null,"2035-07-02"]
[null,null,null,null,null,null,"2035-07-03"]
[null,null,null,null,null,null,"2035-07-04"]
[null,null,null,null,null,null,"2035-07-05"]
[null,null,null,null,null,null,"2035-07-06"]
[null,null,null,null,null,null,"2035-07-07"]
[null,null,null,null,null,null,"2035-07-08"]
[null,null,null,null,null,null,"2035-07-09"]
[null,null,null,null,null,null,"2035-07-10"]
[null,null,null,null,null,null,"2035-07-11"]
[null,null,null,null,null,null,"2035-07-12"]
[null,null,null,null,null,null,"2035-07-13"]
[null,null,null,null,null,null,"2035-07-14"]
[null,null,null,null,null,null,"2035-07-15"]
[null,null,null,null,null,null,"2035-07-16"]
[null,null,null,null,null,null,"2035-07-17"]
[null,null,null,null,null,null,"2035-07-18"]
[null,null,null,null,null,null,"2035-07-19"]
[null,null,null,null,null,null,"2035-07-20"]
[null,null,null,null,null,null,"2035-07-21"]
[null,null,null,null,null,null,"2035-07-22"]
[null,null,null,null,null,null,"2035-07-23"]
[null,null,null,null,null,null,"2035-07-24"]
[null,null,null,null,null,null,"2035-07-25"]
[null,null,null,null,null,null,"2035-07-26"]
[null,null,null,null,null,null,"2035-07-27"]
[null,null,null,null,null,null,"2035-07-28"]
[null,null,null,null,null,null,"2035-07-29"]
[null,null,null,null,null,null,"2035-07-30"]
[null,null,null,null,null,null,{"$f":"G7427+1","v":"2035-07-31"}]
[null,null,null,null,null,null,"2035-08-01"]
[null,null,null,null,null,null,"2035-08-02"]
[null,null,null,null,null,null,"2035-08-03"]
[null,null,null,null,null,null,"2035-08-04"]
[null,null,null,null,null,null,"2035-08-05"]
[null,null,null,null,null,null,"2035-08-06"]
[null,null,null,null,null,null,"2035-08-07"]
[null,null,null,null,null,null,"2035-08-08"]
[null,null,null,null,null,null,"2035-08-09"]
[null,null,null,null,null,null,"2035-08-10"]
[null,null,null,null,null,null,"2035-08-11"]
[null,null,null,null,null,null,"2035-08-12"]
[null,null,null,null,null,null,"2035-08-13"]
[null,null,null,null,null,null,"2035-08-14"]
[null,null,null,null,null,null,"2035-08-15"]
[null,null,null,null,null,null,"2035-08-16"]
[null,null,null,null,null,null,"2035-08-17"]
[null,null,null,null,null,null,"2035-08-18"]
[null,null,null,null,null,null,"2035-08-19"]
[null,null,null,null,null,null,"2035-08-20"]
[null,null,null,null,null,null,"2035-08-21"]
[null,null,null,null,null,null,"2035-08-22"]
[null,null,null,null,null,null,"2035-08-23"]
[null,null,null,null,null,null,"2035-08-24"]
[null,null,null,null,null,null,"2035-08-25"]
[null,null,null,null,null,null,"2035-08-26"]
[null,null,null,null,null,null,"2035-08-27"]
[null,null,null,null,null,null,"2035-08-28"]
[null,null,null,null,null,null,"2035-08-29"]
[null,null,null,null,null,null,"2035-08-30"]
[null,null,null,null,null,null,"2035-08-31"]
[null,null,null,null,null,null,"2035-09-01"]
[null,null,null,null,null,null,"2035-09-02"]
[null,null,null,null,null,null,"2035-09-03"]
[null,null,null,null,null,null,"2035-09-04"]
[null,null,null,null,null,null,"2035-09-05"]
[null,null,null,null,null,null,"2035-09-06"]
[null,null,null,null,null,null,"2035-09-07"]
[null,null,null,null,null,null,"2035-09-08"]
[null,null,null,null,null,null,"2035-09-09"]
[null,null,null,null,null,null,"2035-09-10"]
[null,null,null,null,null,null,"2035-09-11"]
[null,null,null,null,null,null,"2035-09-12"]
[null,null,null,null,null,null,"2035-09-13"]
[null,null,null,null,null,null,"2035-09-14"]
[null,null,null,null,null,null,"2035-09-15"]
[null,null,null,null,null,null,"2035-09-16"]
[null,null,null,null,null,null,"2035-09-17"]
[null,null,null,null,null,null,"2035-09-18"]
[null,null,null,null,null,null,"2035-09-19"]
[null,null,null,null,null,null,"2035-09-20"]
[null,null,null,null,null,null,"2035-09-21"]
[null,null,null,null,null,null,"2035-09-22"]
[null,null,null,null,null,null,"2035-09-23"]
[null,null,null,null,null,null,"2035-09-24"]
[null,null,null,null,null,null,"2035-09-25"]
[null,null,null,null,null,null,"2035-09-26"]
[null,null,null,null,null,null,"2035-09-27"]
[null,null,null,null,null,null,"2035-09-28"]
[null,null,null,null,null,null,"2035-09-29"]
[null,null,null,null,null,null,"2035-09-30"]
[null,null,null,null,null,null,"2035-10-01"]
[null,null,null,null,null,null,"2035-10-02"]
[null,null,null,null,null,null,{"$f":"G7491+1","v":"2035-10-03"}]
[null,null,null,null,null,null,"2035-10-04"]
[null,null,null,null,null,null,"2035-10-05"]
[null,null,null,null,null,null,"2035-10-06"]
[null,null,null,null,null,null,"2035-10-07"]
[null,null,null,null,null,null,"2035-10-08"]
[null,null,null,null,null,null,"2035-10-09"]
[null,null,null,null,null,null,"2035-10-10"]
[null,null,null,null,null,null,"2035-10-11"]
[null,null,null,null,null,null,"2035-10-12"]
[null,null,null,null,null,null,"2035-10-13"]
[null,null,null,null,null,null,"2035-10-14"]
[null,null,null,null,null,null,"2035-10-15"]
[null,null,null,null,null,null,"2035-10-16"]
[null,null,null,null,null,null,"2035-10-17"]
[null,null,null,null,null,null,"2035-10-18"]
[null,null,null,null,null,null,"2035-10-19"]
[null,null,null,null,null,null,"2035-10-20"]
[null,null,null,null,null,null,"2035-10-21"]
[null,null,null,null,null,null,"2035-10-22"]
[null,null,null,null,null,null,"2035-10-23"]
[null,null,null,null,null,null,"2035-10-24"]
[null,null,null,null,null,null,"2035-10-25"]
[null,null,null,null,null,null,"2035-10-26"]
[null,null,null,null,null,null,"2035-10-27"]
[null,null,null,null,null,null,"2035-10-28"]
[null,null,null,null,null,null,"2035-10-29"]
[null,null,null,null,null,null,"2035-10-30"]
[null,null,null,null,null,null,"2035-10-31"]
[null,null,null,null,null,null,"2035-11-01"]
[null,null,null,null,null,null,"2035-11-02"]
[null,null,null,null,null,null,"2035-11-03"]
[null,null,null,null,null,null,"2035-11-04"]
[null,null,null,null,null,null,"2035-11-05"]
[null,null,null,null,null,null,"2035-11-06"]
[null,null,null,null,null,null,"2035-11-07"]
[null,null,null,null,null,null,"2035-11-08"]
[null,null,null,null,null,null,"2035-11-09"]
[null,null,null,null,null,null,"2035-11-10"]
[null,null,null,null,null,null,"2035-11-11"]
[null,null,null,null,null,null,"2035-11-12"]
[null,null,null,null,null,null,"2035-11-13"]
[null,null,null,null,null,null,"2035-11-14"]
[null,null,null,null,null,null,"2035-11-15"]
[null,null,null,null,null,null,"2035-11-16"]
[null,null,null,null,null,null,"2035-11-17"]
[null,null,null,null,null,null,"2035-11-18"]
[null,null,null,null,null,null,"2035-11-19"]
[null,null,null,null,null,null,"2035-11-20"]
[null,null,null,null,null,null,"2035-11-21"]
[null,null,null,null,null,null,"2035-11-22"]
[null,null,null,null,null,null,"2035-11-23"]
[null,null,null,null,null,null,"2035-11-24"]
[null,null,null,null,null,null,"2035-11-25"]
[null,null,null,null,null,null,"2035-11-26"]
[null,null,null,null,null,null,"2035-11-27"]
[null,null,null,null,null,null,"2035-11-28"]
[null,null,null,null,null,null,"2035-11-29"]
[null,null,null,null,null,null,"2035-11-30"]
[null,null,null,null,null,null,"2035-12-01"]
[null,null,null,null,null,null,"2035-12-02"]
[null,null,null,null,null,null,"2035-12-03"]
[null,null,null,null,null,null,"2035-12-04"]
[null,null,null,null,null,null,"2035-12-05"]
[null,null,null,null,null,null,{"$f":"G7555+1","v":"2035-12-06"}]
[null,null,null,null,null,null,"2035-12-07"]
[null,null,null,null,null,null,"2035-12-08"]
[null,null,null,null,null,null,"2035-12-09"]
[null,null,null,null,null,null,"2035-12-10"]
[null,null,null,null,null,null,"2035-12-11"]
[null,null,null,null,null,null,"2035-12-12"]
[null,null,null,null,null,null,"2035-12-13"]
[null,null,null,null,null,null,"2035-12-14"]
[null,null,null,null,null,null,"2035-12-15"]
[null,null,null,null,null,null,"2035-12-16"]
[null,null,null,null,null,null,"2035-12-17"]
[null,null,null,null,null,null,"2035-12-18"]
[null,null,null,null,null,null,"2035-12-19"]
[null,null,null,null,null,null,"2035-12-20"]
[null,null,null,null,null,null,"2035-12-21"]
[null,null,null,null,null,null,"2035-12-22"]
[null,null,null,null,null,null,"2035-12-23"]
[null,null,null,null,null,null,"2035-12-24"]
[null,null,null,null,null,null,"2035-12-25"]
[null,null,null,null,null,null,"2035-12-26"]
[null,null,null,null,null,null,"2035-12-27"]
[null,null,null,null,null,null,"2035-12-28"]
[null,null,null,null,null,null,"2035-12-29"]
[null,null,null,null,null,null,"2035-12-30"]
[null,null,null,null,null,null,"2035-12-31"]
[null,null,null,null,null,null,"2036-01-01"]
[null,null,null,null,null,null,"2036-01-02"]
[null,null,null,null,null,null,"2036-01-03"]
[null,null,null,null,null,null,"2036-01-04"]
[null,null,null,null,null,null,"2036-01-05"]
[null,null,null,null,null,null,"2036-01-06"]
[null,null,null,null,null,null,"2036-01-07"]
[null,null,null,null,null,null,"2036-01-08"]
[null,null,null,null,null,null,"2036-01-09"]
[null,null,null,null,null,null,"2036-01-10"]
[null,null,null,null,null,null,"2036-01-11"]
[null,null,null,null,null,null,"2036-01-12"]
[null,null,null,null,null,null,"2036-01-13"]
[null,null,null,null,null,null,"2036-01-14"]
[null,null,null,null,null,null,"2036-01-15"]
[null,null,null,null,null,null,"2036-01-16"]
[null,null,null,null,null,null,"2036-01-17"]
[null,null,null,null,null,null,"2036-01-18"]
[null,null,null,null,null,null,"2036-01-19"]
[null,null,null,null,null,null,"2036-01-20"]
[null,null,null,null,null,null,"2036-01-21"]
[null,null,null,null,null,null,"2036-01-22"]
[null,null,null,null,null,null,"2036-01-23"]
[null,null,null,null,null,null,"2036-01-24"]
[null,null,null,null,null,null,"2036-01-25"]
[null,null,null,null,null,null,"2036-01-26"]
[null,null,null,null,null,null,"2036-01-27"]
[null,null,null,null,null,null,"2036-01-28"]
[null,null,null,null,null,null,"2036-01-29"]
[null,null,null,null,null,null,"2036-01-30"]
[null,null,null,null,null,null,"2036-01-31"]
[null,null,null,null,null,null,"2036-02-01"]
[null,null,null,null,null,null,"2036-02-02"]
[null,null,null,null,null,null,"2036-02-03"]
[null,null,null,null,null,null,"2036-02-04"]
[null,null,null,null,null,null,"2036-02-05"]
[null,null,null,null,null,null,"2036-02-06"]
[null,null,null,null,null,null,"2036-02-07"]
[null,null,null,null,null,null,{"$f":"G7619+1","v":"2036-02-08"}]
[null,null,null,null,null,null,"2036-02-09"]
[null,null,null,null,null,null,"2036-02-10"]
[null,null,null,null,null,null,"2036-02-11"]
[null,null,null,null,null,null,"2036-02-12"]
[null,null,null,null,null,null,"2036-02-13"]
[null,null,null,null,null,null,"2036-02-14"]
[null,null,null,null,null,null,"2036-02-15"]
[null,null,null,null,null,null,"2036-02-16"]
[null,null,null,null,null,null,"2036-02-17"]
[null,null,null,null,null,null,"2036-02-18"]
[null,null,null,null,null,null,"2036-02-19"]
[null,null,null,null,null,null,"2036-02-20"]
[null,null,null,null,null,null,"2036-02-21"]
[null,null,null,null,null,null,"2036-02-22"]
[null,null,null,null,null,null,"2036-02-23"]
[null,null,null,null,null,null,"2036-02-24"]
[null,null,null,null,null,null,"2036-02-25"]
[null,null,null,null,null,null,"2036-02-26"]
[null,null,null,null,null,null,"2036-02-27"]
[null,null,null,null,null,null,"2036-02-28"]
[null,null,null,null,null,null,"2036-02-29"]
[null,null,null,null,null,null,"2036-03-01"]
[null,null,null,null,null,null,"2036-03-02"]
[null,null,null,null,null,null,"2036-03-03"]
[null,null,null,null,null,null,"2036-03-04"]
[null,null,null,null,null,null,"2036-03-05"]
[null,null,null,null,null,null,"2036-03-06"]
[null,null,null,null,null,null,"2036-03-07"]
[null,null,null,null,null,null,"2036-03-08"]
[null,null,null,null,null,null,"2036-03-09"]
[null,null,null,null,null,null,"2036-03-10"]
[null,null,null,null,null,null,"2036-03-11"]
[null,null,null,null,null,null,"2036-03-12"]
[null,null,null,null,null,null,"2036-03-13"]
[null,null,null,null,null,null,"2036-03-14"]
[null,null,null,null,null,null,"2036-03-15"]
[null,null,null,null,null,null,"2036-03-16"]
[null,null,null,null,null,null,"2036-03-17"]
[null,null,null,null,null,null,"2036-03-18"]
[null,null,null,null,null,null,"2036-03-19"]
[null,null,null,null,null,null,"2036-03-20"]
[null,null,null,null,null,null,"2036-03-21"]
[null,null,null,null,null,null,"2036-03-22"]
[null,null,null,null,null,null,"2036-03-23"]
[null,null,null,null,null,null,"2036-03-24"]
[null,null,null,null,null,null,"2036-03-25"]
[null,null,null,null,null,null,"2036-03-26"]
[null,null,null,null,null,null,"2036-03-27"]
[null,null,null,null,null,null,"2036-03-28"]
[null,null,null,null,null,null,"2036-03-29"]
[null,null,null,null,null,null,"2036-03-30"]
[null,null,null,null,null,null,"2036-03-31"]
[null,null,null,null,null,null,"2036-04-01"]
[null,null,null,null,null,null,"2036-04-02"]
[null,null,null,null,null,null,"2036-04-03"]
[null,null,null,null,null,null,"2036-04-04"]
[null,null,null,null,null,null,"2036-04-05"]
[null,null,null,null,null,null,"2036-04-06"]
[null,null,null,null,null,null,"2036-04-07"]
[null,null,null,null,null,null,"2036-04-08"]
[null,null,null,null,null,null,"2036-04-09"]
[null,null,null,null,null,null,"2036-04-10"]
[null,null,null,null,null,null,"2036-04-11"]
[null,null,null,null,null,null,{"$f":"G7683+1","v":"2036-04-12"}]
[null,null,null,null,null,null,"2036-04-13"]
[null,null,null,null,null,null,"2036-04-14"]
[null,null,null,null,null,null,"2036-04-15"]
[null,null,null,null,null,null,"2036-04-16"]
[null,null,null,null,null,null,"2036-04-17"]
[null,null,null,null,null,null,"2036-04-18"]
[null,null,null,null,null,null,"2036-04-19"]
[null,null,null,null,null,null,"2036-04-20"]
[null,null,null,null,null,null,"2036-04-21"]
[null,null,null,null,null,null,"2036-04-22"]
[null,null,null,null,null,null,"2036-04-23"]
[null,null,null,null,null,null,"2036-04-24"]
[null,null,null,null,null,null,"2036-04-25"]
[null,null,null,null,null,null,"2036-04-26"]
[null,null,null,null,null,null,"2036-04-27"]
[null,null,null,null,null,null,"2036-04-28"]
[null,null,null,null,null,null,"2036-04-29"]
[null,null,null,null,null,null,"2036-04-30"]
[null,null,null,null,null,null,"2036-05-01"]
[null,null,null,null,null,null,"2036-05-02"]
[null,null,null,null,null,null,"2036-05-03"]
[null,null,null,null,null,null,"2036-05-04"]
[null,null,null,null,null,null,"2036-05-05"]
[null,null,null,null,null,null,"2036-05-06"]
[null,null,null,null,null,null,"2036-05-07"]
[null,null,null,null,null,null,"2036-05-08"]
[null,null,null,null,null,null,"2036-05-09"]
[null,null,null,null,null,null,"2036-05-10"]
[null,null,null,null,null,null,"2036-05-11"]
[null,null,null,null,null,null,"2036-05-12"]
[null,null,null,null,null,null,"2036-05-13"]
[null,null,null,null,null,null,"2036-05-14"]
[null,null,null,null,null,null,"2036-05-15"]
[null,null,null,null,null,null,"2036-05-16"]
[null,null,null,null,null,null,"2036-05-17"]
[null,null,null,null,null,null,"2036-05-18"]
[null,null,null,null,null,null,"2036-05-19"]
[null,null,null,null,null,null,"2036-05-20"]
[null,null,null,null,null,null,"2036-05-21"]
[null,null,null,null,null,null,"2036-05-22"]
[null,null,null,null,null,null,"2036-05-23"]
[null,null,null,null,null,null,"2036-05-24"]
[null,null,null,null,null,null,"2036-05-25"]
[null,null,null,null,null,null,"2036-05-26"]
[null,null,null,null,null,null,"2036-05-27"]
[null,null,null,null,null,null,"2036-05-28"]
[null,null,null,null,null,null,"2036-05-29"]
[null,null,null,null,null,null,"2036-05-30"]
[null,null,null,null,null,null,"2036-05-31"]
[null,null,null,null,null,null,"2036-06-01"]
[null,null,null,null,null,null,"2036-06-02"]
[null,null,null,null,null,null,"2036-06-03"]
[null,null,null,null,null,null,"2036-06-04"]
[null,null,null,null,null,null,"2036-06-05"]
[null,null,null,null,null,null,"2036-06-06"]
[null,null,null,null,null,null,"2036-06-07"]
[null,null,null,null,null,null,"2036-06-08"]
[null,null,null,null,null,null,"2036-06-09"]
[null,null,null,null,null,null,"2036-06-10"]
[null,null,null,null,null,null,"2036-06-11"]
[null,null,null,null,null,null,"2036-06-12"]
[null,null,null,null,null,null,"2036-06-13"]
[null,null,null,null,null,null,"2036-06-14"]
[null,null,null,null,null,null,{"$f":"G7747+1","v":"2036-06-15"}]
[null,null,null,null,null,null,"2036-06-16"]
[null,null,null,null,null,null,"2036-06-17"]
[null,null,null,null,null,null,"2036-06-18"]
[null,null,null,null,null,null,"2036-06-19"]
[null,null,null,null,null,null,"2036-06-20"]
[null,null,null,null,null,null,"2036-06-21"]
[null,null,null,null,null,null,"2036-06-22"]
[null,null,null,null,null,null,"2036-06-23"]
[null,null,null,null,null,null,"2036-06-24"]
[null,null,null,null,null,null,"2036-06-25"]
[null,null,null,null,null,null,"2036-06-26"]
[null,null,null,null,null,null,"2036-06-27"]
[null,null,null,null,null,null,"2036-06-28"]
[null,null,null,null,null,null,"2036-06-29"]
[null,null,null,null,null,null,"2036-06-30"]
[null,null,null,null,null,null,"2036-07-01"]
[null,null,null,null,null,null,"2036-07-02"]
[null,null,null,null,null,null,"2036-07-03"]
[null,null,null,null,null,null,"2036-07-04"]
[null,null,null,null,null,null,"2036-07-05"]
[null,null,null,null,null,null,"2036-07-06"]
[null,null,null,null,null,null,"2036-07-07"]
[null,null,null,null,null,null,"2036-07-08"]
[null,null,null,null,null,null,"2036-07-09"]
[null,null,null,null,null,null,"2036-07-10"]
[null,null,null,null,null,null,"2036-07-11"]
[null,null,null,null,null,null,"2036-07-12"]
[null,null,null,null,null,null,"2036-07-13"]
[null,null,null,null,null,null,"2036-07-14"]
[null,null,null,null,null,null,"2036-07-15"]
[null,null,null,null,null,null,"2036-07-16"]
[null,null,null,null,null,null,"2036-07-17"]
[null,null,null,null,null,null,"2036-07-18"]
[null,null,null,null,null,null,"2036-07-19"]
[null,null,null,null,null,null,"2036-07-20"]
[null,null,null,null,null,null,"2036-07-21"]
[null,null,null,null,null,null,"2036-07-22"]
[null,null,null,null,null,null,"2036-07-23"]
[null,null,null,null,null,null,"2036-07-24"]
[null,null,null,null,null,null,"2036-07-25"]
[null,null,null,null,null,null,"2036-07-26"]
[null,null,null,null,null,null,"2036-07-27"]
[null,null,null,null,null,null,"2036-07-28"]
[null,null,null,null,null,null,"2036-07-29"]
[null,null,null,null,null,null,"2036-07-30"]
[null,null,null,null,null,null,"2036-07-31"]
[null,null,null,null,null,null,"2036-08-01"]
[null,null,null,null,null,null,"2036-08-02"]
[null,null,null,null,null,null,"2036-08-03"]
[null,null,null,null,null,null,"2036-08-04"]
[null,null,null,null,null,null,"2036-08-05"]
[null,null,null,null,null,null,"2036-08-06"]
[null,null,null,null,null,null,"2036-08-07"]
[null,null,null,null,null,null,"2036-08-08"]
[null,null,null,null,null,null,"2036-08-09"]
[null,null,null,null,null,null,"2036-08-10"]
[null,null,null,null,null,null,"2036-08-11"]
[null,null,null,null,null,null,"2036-08-12"]
[null,null,null,null,null,null,"2036-08-13"]
[null,null,null,null,null,null,"2036-08-14"]
[null,null,null,null,null,null,"2036-08-15"]
[null,null,null,null,null,null,"2036-08-16"]
[null,null,null,null,null,null,"2036-08-17"]
[null,null,null,null,null,null,{"$f":"G7811+1","v":"2036-08-18"}]
[null,null,null,null,null,null,"2036-08-19"]
[null,null,null,null,null,null,"2036-08-20"]
[null,null,null,null,null,null,"2036-08-21"]
[null,null,null,null,null,null,"2036-08-22"]
[null,null,null,null,null,null,"2036-08-23"]
[null,null,null,null,null,null,"2036-08-24"]
[null,null,null,null,null,null,"2036-08-25"]
[null,null,null,null,null,null,"2036-08-26"]
[null,null,null,null,null,null,"2036-08-27"]
[null,null,null,null,null,null,"2036-08-28"]
[null,null,null,null,null,null,"2036-08-29"]
[null,null,null,null,null,null,"2036-08-30"]
[null,null,null,null,null,null,"2036-08-31"]
[null,null,null,null,null,null,"2036-09-01"]
[null,null,null,null,null,null,"2036-09-02"]
[null,null,null,null,null,null,"2036-09-03"]
[null,null,null,null,null,null,"2036-09-04"]
[null,null,null,null,null,null,"2036-09-05"]
[null,null,null,null,null,null,"2036-09-06"]
[null,null,null,null,null,null,"2036-09-07"]
[null,null,null,null,null,null,"2036-09-08"]
[null,null,null,null,null,null,"2036-09-09"]
[null,null,null,null,null,null,"2036-09-10"]
[null,null,null,null,null,null,"2036-09-11"]
[null,null,null,null,null,null,"2036-09-12"]
[null,null,null,null,null,null,"2036-09-13"]
[null,null,null,null,null,null,"2036-09-14"]
[null,null,null,null,null,null,"2036-09-15"]
[null,null,null,null,null,null,"2036-09-16"]
[null,null,null,null,null,null,"2036-09-17"]
[null,null,null,null,null,null,"2036-09-18"]
[null,null,null,null,null,null,"2036-09-19"]
[null,null,null,null,null,null,"2036-09-20"]
[null,null,null,null,null,null,"2036-09-21"]
[null,null,null,null,null,null,"2036-09-22"]
[null,null,null,null,null,null,"2036-09-23"]
[null,null,null,null,null,null,"2036-09-24"]
[null,null,null,null,null,null,"2036-09-25"]
[null,null,null,null,null,null,"2036-09-26"]
[null,null,null,null,null,null,"2036-09-27"]
[null,null,null,null,null,null,"2036-09-28"]
[null,null,null,null,null,null,"2036-09-29"]
[null,null,null,null,null,null,"2036-09-30"]
[null,null,null,null,null,null,"2036-10-01"]
[null,null,null,null,null,null,"2036-10-02"]
[null,null,null,null,null,null,"2036-10-03"]
[null,null,null,null,null,null,"2036-10-04"]
[null,null,null,null,null,null,"2036-10-05"]
[null,null,null,null,null,null,"2036-10-06"]
[null,null,null,null,null,null,"2036-10-07"]
[null,null,null,null,null,null,"2036-10-08"]
[null,null,null,null,null,null,"2036-10-09"]
[null,null,null,null,null,null,"2036-10-10"]
[null,null,null,null,null,null,"2036-10-11"]
[null,null,null,null,null,null,"2036-10-12"]
[null,null,null,null,null,null,"2036-10-13"]
[null,null,null,null,null,null,"2036-10-14"]
[null,null,null,null,null,null,"2036-10-15"]
[null,null,null,null,null,null,"2036-10-16"]
[null,null,null,null,null,null,"2036-10-17"]
[null,null,null,null,null,null,"2036-10-18"]
[null,null,null,null,null,null,"2036-10-19"]
[null,null,null,null,null,null,"2036-10-20"]
[null,null,null,null,null,null,{"$f":"G7875+1","v":"2036-10-21"}]
[null,null,null,null,null,null,"2036-10-22"]
[null,null,null,null,null,null,"2036-10-23"]
[null,null,null,null,null,null,"2036-10-24"]
[null,null,null,null,null,null,"2036-10-25"]
[null,null,null,null,null,null,"2036-10-26"]
[null,null,null,null,null,null,"2036-10-27"]
[null,null,null,null,null,null,"2036-10-28"]
[null,null,null,null,null,null,"2036-10-29"]
[null,null,null,null,null,null,"2036-10-30"]
[null,null,null,null,null,null,"2036-10-31"]
[null,null,null,null,null,null,"2036-11-01"]
[null,null,null,null,null,null,"2036-11-02"]
[null,null,null,null,null,null,"2036-11-03"]
[null,null,null,null,null,null,"2036-11-04"]
[null,null,null,null,null,null,"2036-11-05"]
[null,null,null,null,null,null,"2036-11-06"]
[null,null,null,null,null,null,"2036-11-07"]
[null,null,null,null,null,null,"2036-11-08"]
[null,null,null,null,null,null,"2036-11-09"]
[null,null,null,null,null,null,"2036-11-10"]
[null,null,null,null,null,null,"2036-11-11"]
[null,null,null,null,null,null,"2036-11-12"]
[null,null,null,null,null,null,"2036-11-13"]
[null,null,null,null,null,null,"2036-11-14"]
[null,null,null,null,null,null,"2036-11-15"]
[null,null,null,null,null,null,"2036-11-16"]
[null,null,null,null,null,null,"2036-11-17"]
[null,null,null,null,null,null,"2036-11-18"]
[null,null,null,null,null,null,"2036-11-19"]
[null,null,null,null,null,null,"2036-11-20"]
[null,null,null,null,null,null,"2036-11-21"]
[null,null,null,null,null,null,"2036-11-22"]
[null,null,null,null,null,null,"2036-11-23"]
[null,null,null,null,null,null,"2036-11-24"]
[null,null,null,null,null,null,"2036-11-25"]
[null,null,null,null,null,null,"2036-11-26"]
[null,null,null,null,null,null,"2036-11-27"]
[null,null,null,null,null,null,"2036-11-28"]
[null,null,null,null,null,null,"2036-11-29"]
[null,null,null,null,null,null,"2036-11-30"]
[null,null,null,null,null,null,"2036-12-01"]
[null,null,null,null,null,null,"2036-12-02"]
[null,null,null,null,null,null,"2036-12-03"]
[null,null,null,null,null,null,"2036-12-04"]
[null,null,null,null,null,null,"2036-12-05"]
[null,null,null,null,null,null,"2036-12-06"]
[null,null,null,null,null,null,"2036-12-07"]
[null,null,null,null,null,null,"2036-12-08"]
[null,null,null,null,null,null,"2036-12-09"]
[null,null,null,null,null,null,"2036-12-10"]
[null,null,null,null,null,null,"2036-12-11"]
[null,null,null,null,null,null,"2036-12-12"]
[null,null,null,null,null,null,"2036-12-13"]
[null,null,null,null,null,null,"2036-12-14"]
[null,null,null,null,null,null,"2036-12-15"]
[null,null,null,null,null,null,"2036-12-16"]
[null,null,null,null,null,null,"2036-12-17"]
[null,null,null,null,null,null,"2036-12-18"]
[null,null,null,null,null,null,"2036-12-19"]
[null,null,null,null,null,null,"2036-12-20"]
[null,null,null,null,null,null,"2036-12-21"]
[null,null,null,null,null,null,"2036-12-22"]
[null,null,null,null,null,null,"2036-12-23"]
[null,null,null,null,null,null,{"$f":"G7939+1","v":"2036-12-24"}]
[null,null,null,null,null,null,"2036-12-25"]
[null,null,null,null,null,null,"2036-12-26"]
[null,null,null,null,null,null,"2036-12-27"]
[null,null,null,null,null,null,"2036-12-28"]
[null,null,null,null,null,null,"2036-12-29"]
[null,null,null,null,null,null,"2036-12-30"]
[null,null,null,null,null,null,"2036-12-31"]
[null,null,null,null,null,null,"2037-01-01"]
[null,null,null,null,null,null,"2037-01-02"]
[null,null,null,null,null,null,"2037-01-03"]
[null,null,null,null,null,null,"2037-01-04"]
[null,null,null,null,null,null,"2037-01-05"]
[null,null,null,null,null,null,"2037-01-06"]
[null,null,null,null,null,null,"2037-01-07"]
[null,null,null,null,null,null,"2037-01-08"]
[null,null,null,null,null,null,"2037-01-09"]
[null,null,null,null,null,null,"2037-01-10"]
[null,null,null,null,null,null,"2037-01-11"]
[null,null,null,null,null,null,"2037-01-12"]
[null,null,null,null,null,null,"2037-01-13"]
[null,null,null,null,null,null,"2037-01-14"]
[null,null,null,null,null,null,"2037-01-15"]
[null,null,null,null,null,null,"2037-01-16"]
[null,null,null,null,null,null,"2037-01-17"]
[null,null,null,null,null,null,"2037-01-18"]
[null,null,null,null,null,null,"2037-01-19"]
[null,null,null,null,null,null,"2037-01-20"]
[null,null,null,null,null,null,"2037-01-21"]
[null,null,null,null,null,null,"2037-01-22"]
[null,null,null,null,null,null,"2037-01-23"]
[null,null,null,null,null,null,"2037-01-24"]
[null,null,null,null,null,null,"2037-01-25"]
[null,null,null,null,null,null,"2037-01-26"]
[null,null,null,null,null,null,"2037-01-27"]
[null,null,null,null,null,null,"2037-01-28"]
[null,null,null,null,null,null,"2037-01-29"]
[null,null,null,null,null,null,"2037-01-30"]
[null,null,null,null,null,null,"2037-01-31"]
[null,null,null,null,null,null,"2037-02-01"]
[null,null,null,null,null,null,"2037-02-02"]
[null,null,null,null,null,null,"2037-02-03"]
[null,null,null,null,null,null,"2037-02-04"]
[null,null,null,null,null,null,"2037-02-05"]
[null,null,null,null,null,null,"2037-02-06"]
[null,null,null,null,null,null,"2037-02-07"]
[null,null,null,null,null,null,"2037-02-08"]
[null,null,null,null,null,null,"2037-02-09"]
[null,null,null,null,null,null,"2037-02-10"]
[null,null,null,null,null,null,"2037-02-11"]
[null,null,null,null,null,null,"2037-02-12"]
[null,null,null,null,null,null,"2037-02-13"]
[null,null,null,null,null,null,"2037-02-14"]
[null,null,null,null,null,null,"2037-02-15"]
[null,null,null,null,null,null,"2037-02-16"]
[null,null,null,null,null,null,"2037-02-17"]
[null,null,null,null,null,null,"2037-02-18"]
[null,null,null,null,null,null,"2037-02-19"]
[null,null,null,null,null,null,"2037-02-20"]
[null,null,null,null,null,null,"2037-02-21"]
[null,null,null,null,null,null,"2037-02-22"]
[null,null,null,null,null,null,"2037-02-23"]
[null,null,null,null,null,null,"2037-02-24"]
[null,null,null,null,null,null,"2037-02-25"]
[null,null,null,null,null,null,{"$f":"G8003+1","v":"2037-02-26"}]
[null,null,null,null,null,null,"2037-02-27"]
[null,null,null,null,null,null,"2037-02-28"]
[null,null,null,null,null,null,"2037-03-01"]
[null,null,null,null,null,null,"2037-03-02"]
[null,null,null,null,null,null,"2037-03-03"]
[null,null,null,null,null,null,"2037-03-04"]
[null,null,null,null,null,null,"2037-03-05"]
[null,null,null,null,null,null,"2037-03-06"]
[null,null,null,null,null,null,"2037-03-07"]
[null,null,null,null,null,null,"2037-03-08"]
[null,null,null,null,null,null,"2037-03-09"]
[null,null,null,null,null,null,"2037-03-10"]
[null,null,null,null,null,null,"2037-03-11"]
[null,null,null,null,null,null,"2037-03-12"]
[null,null,null,null,null,null,"2037-03-13"]
[null,null,null,null,null,null,"2037-03-14"]
[null,null,null,null,null,null,"2037-03-15"]
[null,null,null,null,null,null,"2037-03-16"]
[null,null,null,null,null,null,"2037-03-17"]
[null,null,null,null,null,null,"2037-03-18"]
[null,null,null,null,null,null,"2037-03-19"]
[null,null,null,null,null,null,"2037-03-20"]
[null,null,null,null,null,null,"2037-03-21"]
[null,null,null,null,null,null,"2037-03-22"]
[null,null,null,null,null,null,"2037-03-23"]
[null,null,null,null,null,null,"2037-03-24"]
[null,null,null,null,null,null,"2037-03-25"]
[null,null,null,null,null,null,"2037-03-26"]
[null,null,null,null,null,null,"2037-03-27"]
[null,null,null,null,null,null,"2037-03-28"]
[null,null,null,null,null,null,"2037-03-29"]
[null,null,null,null,null,null,"2037-03-30"]
[null,null,null,null,null,null,"2037-03-31"]
[null,null,null,null,null,null,"2037-04-01"]
[null,null,null,null,null,null,"2037-04-02"]
[null,null,null,null,null,null,"2037-04-03"]
[null,null,null,null,null,null,"2037-04-04"]
[null,null,null,null,null,null,"2037-04-05"]
[null,null,null,null,null,null,"2037-04-06"]
[null,null,null,null,null,null,"2037-04-07"]
[null,null,null,null,null,null,"2037-04-08"]
[null,null,null,null,null,null,"2037-04-09"]
[null,null,null,null,null,null,"2037-04-10"]
[null,null,null,null,null,null,"2037-04-11"]
[null,null,null,null,null,null,"2037-04-12"]
[null,null,null,null,null,null,"2037-04-13"]
[null,null,null,null,null,null,"2037-04-14"]
[null,null,null,null,null,null,"2037-04-15"]
[null,null,null,null,null,null,"2037-04-16"]
[null,null,null,null,null,null,"2037-04-17"]
[null,null,null,null,null,null,"2037-04-18"]
[null,null,null,null,null,null,"2037-04-19"]
[null,null,null,null,null,null,"2037-04-20"]
[null,null,null,null,null,null,"2037-04-21"]
[null,null,null,null,null,null,"2037-04-22"]
[null,null,null,null,null,null,"2037-04-23"]
[null,null,null,null,null,null,"2037-04-24"]
[null,null,null,null,null,null,"2037-04-25"]
[null,null,null,null,null,null,"2037-04-26"]
[null,null,null,null,null,null,"2037-04-27"]
[null,null,null,null,null,null,"2037-04-28"]
[null,null,null,null,null,null,"2037-04-29"]
[null,null,null,null,null,null,"2037-04-30"]
[null,null,null,null,null,null,{"$f":"G8067+1","v":"2037-05-01"}]
[null,null,null,null,null,null,"2037-05-02"]
[null,null,null,null,null,null,"2037-05-03"]
[null,null,null,null,null,null,"2037-05-04"]
[null,null,null,null,null,null,"2037-05-05"]
[null,null,null,null,null,null,"2037-05-06"]
[null,null,null,null,null,null,"2037-05-07"]
[null,null,null,null,null,null,"2037-05-08"]
[null,null,null,null,null,null,"2037-05-09"]
[null,null,null,null,null,null,"2037-05-10"]
[null,null,null,null,null,null,"2037-05-11"]
[null,null,null,null,null,null,"2037-05-12"]
[null,null,null,null,null,null,"2037-05-13"]
[null,null,null,null,null,null,"2037-05-14"]
[null,null,null,null,null,null,"2037-05-15"]
[null,null,null,null,null,null,"2037-05-16"]
[null,null,null,null,null,null,"2037-05-17"]
[null,null,null,null,null,null,"2037-05-18"]
[null,null,null,null,null,null,"2037-05-19"]
[null,null,null,null,null,null,"2037-05-20"]
[null,null,null,null,null,null,"2037-05-21"]
[null,null,null,null,null,null,"2037-05-22"]
[null,null,null,null,null,null,"2037-05-23"]
[null,null,null,null,null,null,"2037-05-24"]
[null,null,null,null,null,null,"2037-05-25"]
[null,null,null,null,null,null,"2037-05-26"]
[null,null,null,null,null,null,"2037-05-27"]
[null,null,null,null,null,null,"2037-05-28"]
[null,null,null,null,null,null,"2037-05-29"]
[null,null,null,null,null,null,"2037-05-30"]
[null,null,null,null,null,null,"2037-05-31"]
[null,null,null,null,null,null,"2037-06-01"]
[null,null,null,null,null,null,"2037-06-02"]
[null,null,null,null,null,null,"2037-06-03"]
[null,null,null,null,null,null,"2037-06-04"]
[null,null,null,null,null,null,"2037-06-05"]
[null,null,null,null,null,null,"2037-06-06"]
[null,null,null,null,null,null,"2037-06-07"]
[null,null,null,null,null,null,"2037-06-08"]
[null,null,null,null,null,null,"2037-06-09"]
[null,null,null,null,null,null,"2037-06-10"]
[null,null,null,null,null,null,"2037-06-11"]
[null,null,null,null,null,null,"2037-06-12"]
[null,null,null,null,null,null,"2037-06-13"]
[null,null,null,null,null,null,"2037-06-14"]
[null,null,null,null,null,null,"2037-06-15"]
[null,null,null,null,null,null,"2037-06-16"]
[null,null,null,null,null,null,"2037-06-17"]
[null,null,null,null,null,null,"2037-06-18"]
[null,null,null,null,null,null,"2037-06-19"]
[null,null,null,null,null,null,"2037-06-20"]
[null,null,null,null,null,null,"2037-06-21"]
[null,null,null,null,null,null,"2037-06-22"]
[null,null,null,null,null,null,"2037-06-23"]
[null,null,null,null,null,null,"2037-06-24"]
[null,null,null,null,null,null,"2037-06-25"]
[null,null,null,null,null,null,"2037-06-26"]
[null,null,null,null,null,null,"2037-06-27"]
[null,null,null,null,null,null,"2037-06-28"]
[null,null,null,null,null,null,"2037-06-29"]
[null,null,null,null,null,null,"2037-06-30"]
[null,null,null,null,null,null,"2037-07-01"]
[null,null,null,null,null,null,"2037-07-02"]
[null,null,null,null,null,null,"2037-07-03"]
[null,null,null,null,null,null,{"$f":"G8131+1","v":"2037-07-04"}]
[null,null,null,null,null,null,"2037-07-05"]
[null,null,null,null,null,null,"2037-07-06"]
[null,null,null,null,null,null,"2037-07-07"]
[null,null,null,null,null,null,"2037-07-08"]
[null,null,null,null,null,null,"2037-07-09"]
[null,null,null,null,null,null,"2037-07-10"]
[null,null,null,null,null,null,"2037-07-11"]
[null,null,null,null,null,null,"2037-07-12"]
[null,null,null,null,null,null,"2037-07-13"]
[null,null,null,null,null,null,"2037-07-14"]
[null,null,null,null,null,null,"2037-07-15"]
[null,null,null,null,null,null,"2037-07-16"]
[null,null,null,null,null,null,"2037-07-17"]
[null,null,null,null,null,null,"2037-07-18"]
[null,null,null,null,null,null,"2037-07-19"]
[null,null,null,null,null,null,"2037-07-20"]
[null,null,null,null,null,null,"2037-07-21"]
[null,null,null,null,null,null,"2037-07-22"]
[null,null,null,null,null,null,"2037-07-23"]
[null,null,null,null,null,null,"2037-07-24"]
[null,null,null,null,null,null,"2037-07-25"]
[null,null,null,null,null,null,"2037-07-26"]
[null,null,null,null,null,null,"2037-07-27"]
[null,null,null,null,null,null,"2037-07-28"]
[null,null,null,null,null,null,"2037-07-29"]
[null,null,null,null,null,null,"2037-07-30"]
[null,null,null,null,null,null,"2037-07-31"]
[null,null,null,null,null,null,"2037-08-01"]
[null,null,null,null,null,null,"2037-08-02"]
[null,null,null,null,null,null,"2037-08-03"]
[null,null,null,null,null,null,"2037-08-04"]
[null,null,null,null,null,null,"2037-08-05"]
[null,null,null,null,null,null,"2037-08-06"]
[null,null,null,null,null,null,"2037-08-07"]
[null,null,null,null,null,null,"2037-08-08"]
[null,null,null,null,null,null,"2037-08-09"]
[null,null,null,null,null,null,"2037-08-10"]
[null,null,null,null,null,null,"2037-08-11"]
[null,null,null,null,null,null,"2037-08-12"]
[null,null,null,null,null,null,"2037-08-13"]
[null,null,null,null,null,null,"2037-08-14"]
[null,null,null,null,null,null,"2037-08-15"]
[null,null,null,null,null,null,"2037-08-16"]
[null,null,null,null,null,null,"2037-08-17"]
[null,null,null,null,null,null,"2037-08-18"]
[null,null,null,null,null,null,"2037-08-19"]
[null,null,null,null,null,null,"2037-08-20"]
[null,null,null,null,null,null,"2037-08-21"]
[null,null,null,null,null,null,"2037-08-22"]
[null,null,null,null,null,null,"2037-08-23"]
[null,null,null,null,null,null,"2037-08-24"]
[null,null,null,null,null,null,"2037-08-25"]
[null,null,null,null,null,null,"2037-08-26"]
[null,null,null,null,null,null,"2037-08-27"]
[null,null,null,null,null,null,"2037-08-28"]
[null,null,null,null,null,null,"2037-08-29"]
[null,null,null,null,null,null,"2037-08-30"]
[null,null,null,null,null,null,"2037-08-31"]
[null,null,null,null,null,null,"2037-09-01"]
[null,null,null,null,null,null,"2037-09-02"]
[null,null,null,null,null,null,"2037-09-03"]
[null,null,null,null,null,null,"2037-09-04"]
[null,null,null,null,null,null,"2037-09-05"]
[null,null,null,null,null,null,{"$f":"G8195+1","v":"2037-09-06"}]
[null,null,null,null,null,null,"2037-09-07"]
[null,null,null,null,null,null,"2037-09-08"]
[null,null,null,null,null,null,"2037-09-09"]
[null,null,null,null,null,null,"2037-09-10"]
[null,null,null,null,null,null,"2037-09-11"]
[null,null,null,null,null,null,"2037-09-12"]
[null,null,null,null,null,null,"2037-09-13"]
[null,null,null,null,null,null,"2037-09-14"]
[null,null,null,null,null,null,"2037-09-15"]
[null,null,null,null,null,null,"2037-09-16"]
[null,null,null,null,null,null,"2037-09-17"]
[null,null,null,null,null,null,"2037-09-18"]
[null,null,null,null,null,null,"2037-09-19"]
[null,null,null,null,null,null,"2037-09-20"]
[null,null,null,null,null,null,"2037-09-21"]
[null,null,null,null,null,null,"2037-09-22"]
[null,null,null,null,null,null,"2037-09-23"]
[null,null,null,null,null,null,"2037-09-24"]
[null,null,null,null,null,null,"2037-09-25"]
[null,null,null,null,null,null,"2037-09-26"]
[null,null,null,null,null,null,"2037-09-27"]
[null,null,null,null,null,null,"2037-09-28"]
[null,null,null,null,null,null,"2037-09-29"]
[null,null,null,null,null,null,"2037-09-30"]
[null,null,null,null,null,null,"2037-10-01"]
[null,null,null,null,null,null,"2037-10-02"]
[null,null,null,null,null,null,"2037-10-03"]
[null,null,null,null,null,null,"2037-10-04"]
[null,null,null,null,null,null,"2037-10-05"]
[null,null,null,null,null,null,"2037-10-06"]
[null,null,null,null,null,null,"2037-10-07"]
[null,null,null,null,null,null,"2037-10-08"]
[null,null,null,null,null,null,"2037-10-09"]
[null,null,null,null,null,null,"2037-10-10"]
[null,null,null,null,null,null,"2037-10-11"]
[null,null,null,null,null,null,"2037-10-12"]
[null,null,null,null,null,null,"2037-10-13"]
[null,null,null,null,null,null,"2037-10-14"]
[null,null,null,null,null,null,"2037-10-15"]
[null,null,null,null,null,null,"2037-10-16"]
[null,null,null,null,null,null,"2037-10-17"]
[null,null,null,null,null,null,"2037-10-18"]
[null,null,null,null,null,null,"2037-10-19"]
[null,null,null,null,null,null,"2037-10-20"]
[null,null,null,null,null,null,"2037-10-21"]
[null,null,null,null,null,null,"2037-10-22"]
[null,null,null,null,null,null,"2037-10-23"]
[null,null,null,null,null,null,"2037-10-24"]
[null,null,null,null,null,null,"2037-10-25"]
[null,null,null,null,null,null,"2037-10-26"]
[null,null,null,null,null,null,"2037-10-27"]
[null,null,null,null,null,null,"2037-10-28"]
[null,null,null,null,null,null,"2037-10-29"]
[null,null,null,null,null,null,"2037-10-30"]
[null,null,null,null,null,null,"2037-10-31"]
[null,null,null,null,null,null,"2037-11-01"]
[null,null,null,null,null,null,"2037-11-02"]
[null,null,null,null,null,null,"2037-11-03"]
[null,null,null,null,null,null,"2037-11-04"]
[null,null,null,null,null,null,"2037-11-05"]
[null,null,null,null,null,null,"2037-11-06"]
[null,null,null,null,null,null,"2037-11-07"]
[null,null,null,null,null,null,"2037-11-08"]
[null,null,null,null,null,null,{"$f":"G8259+1","v":"2037-11-09"}]
[null,null,null,null,null,null,"2037-11-10"]
[null,null,null,null,null,null,"2037-11-11"]
[null,null,null,null,null,null,"2037-11-12"]
[null,null,null,null,null,null,"2037-11-13"]
[null,null,null,null,null,null,"2037-11-14"]
[null,null,null,null,null,null,"2037-11-15"]
[null,null,null,null,null,null,"2037-11-16"]
[null,null,null,null,null,null,"2037-11-17"]
[null,null,null,null,null,null,"2037-11-18"]
[null,null,null,null,null,null,"2037-11-19"]
[null,null,null,null,null,null,"2037-11-20"]
[null,null,null,null,null,null,"2037-11-21"]
[null,null,null,null,null,null,"2037-11-22"]
[null,null,null,null,null,null,"2037-11-23"]
[null,null,null,null,null,null,"2037-11-24"]
[null,null,null,null,null,null,"2037-11-25"]
[null,null,null,null,null,null,"2037-11-26"]
[null,null,null,null,null,null,"2037-11-27"]
[null,null,null,null,null,null,"2037-11-28"]
[null,null,null,null,null,null,"2037-11-29"]
[null,null,null,null,null,null,"2037-11-30"]
[null,null,null,null,null,null,"2037-12-01"]
[null,null,null,null,null,null,"2037-12-02"]
[null,null,null,null,null,null,"2037-12-03"]
[null,null,null,null,null,null,"2037-12-04"]
[null,null,null,null,null,null,"2037-12-05"]
[null,null,null,null,null,null,"2037-12-06"]
[null,null,null,null,null,null,"2037-12-07"]
[null,null,null,null,null,null,"2037-12-08"]
[null,null,null,null,null,null,"2037-12-09"]
[null,null,null,null,null,null,"2037-12-10"]
[null,null,null,null,null,null,"2037-12-11"]
[null,null,null,null,null,null,"2037-12-12"]
[null,null,null,null,null,null,"2037-12-13"]
[null,null,null,null,null,null,"2037-12-14"]
[null,null,null,null,null,null,"2037-12-15"]
[null,null,null,null,null,null,"2037-12-16"]
[null,null,null,null,null,null,"2037-12-17"]
[null,null,null,null,null,null,"2037-12-18"]
[null,null,null,null,null,null,"2037-12-19"]
[null,null,null,null,null,null,"2037-12-20"]
[null,null,null,null,null,null,"2037-12-21"]
[null,null,null,null,null,null,"2037-12-22"]
[null,null,null,null,null,null,"2037-12-23"]
[null,null,null,null,null,null,"2037-12-24"]
[null,null,null,null,null,null,"2037-12-25"]
[null,null,null,null,null,null,"2037-12-26"]
[null,null,null,null,null,null,"2037-12-27"]
[null,null,null,null,null,null,"2037-12-28"]
[null,null,null,null,null,null,"2037-12-29"]
[null,null,null,null,null,null,"2037-12-30"]
[null,null,null,null,null,null,"2037-12-31"]
[null,null,null,null,null,null,"2038-01-01"]
[null,null,null,null,null,null,"2038-01-02"]
[null,null,null,null,null,null,"2038-01-03"]
[null,null,null,null,null,null,"2038-01-04"]
[null,null,null,null,null,null,"2038-01-05"]
[null,null,null,null,null,null,"2038-01-06"]
[null,null,null,null,null,null,"2038-01-07"]
[null,null,null,null,null,null,"2038-01-08"]
[null,null,null,null,null,null,"2038-01-09"]
[null,null,null,null,null,null,"2038-01-10"]
[null,null,null,null,null,null,"2038-01-11"]
[null,null,null,null,null,null,{"$f":"G8323+1","v":"2038-01-12"}]
[null,null,null,null,null,null,"2038-01-13"]
[null,null,null,null,null,null,"2038-01-14"]
[null,null,null,null,null,null,"2038-01-15"]
[null,null,null,null,null,null,"2038-01-16"]
[null,null,null,null,null,null,"2038-01-17"]
[null,null,null,null,null,null,"2038-01-18"]
[null,null,null,null,null,null,"2038-01-19"]
[null,null,null,null,null,null,"2038-01-20"]
[null,null,null,null,null,null,"2038-01-21"]
[null,null,null,null,null,null,"2038-01-22"]
[null,null,null,null,null,null,"2038-01-23"]
[null,null,null,null,null,null,"2038-01-24"]
[null,null,null,null,null,null,"2038-01-25"]
[null,null,null,null,null,null,"2038-01-26"]
[null,null,null,null,null,null,"2038-01-27"]
[null,null,null,null,null,null,"2038-01-28"]
[null,null,null,null,null,null,"2038-01-29"]
[null,null,null,null,null,null,"2038-01-30"]
[null,null,null,null,null,null,"2038-01-31"]
[null,null,null,null,null,null,"2038-02-01"]
[null,null,null,null,null,null,"2038-02-02"]
[null,null,null,null,null,null,"2038-02-03"]
[null,null,null,null,null,null,"2038-02-04"]
[null,null,null,null,null,null,"2038-02-05"]
[null,null,null,null,null,null,"2038-02-06"]
[null,null,null,null,null,null,"2038-02-07"]
[null,null,null,null,null,null,"2038-02-08"]
[null,null,null,null,null,null,"2038-02-09"]
[null,null,null,null,null,null,"2038-02-10"]
[null,null,null,null,null,null,"2038-02-11"]
[null,null,null,null,null,null,"2038-02-12"]
[null,null,null,null,null,null,"2038-02-13"]
[null,null,null,null,null,null,"2038-02-14"]
[null,null,null,null,null,null,"2038-02-15"]
[null,null,null,null,null,null,"2038-02-16"]
[null,null,null,null,null,null,"2038-02-17"]
[null,null,null,null,null,null,"2038-02-18"]
[null,null,null,null,null,null,"2038-02-19"]
[null,null,null,null,null,null,"2038-02-20"]
[null,null,null,null,null,null,"2038-02-21"]
[null,null,null,null,null,null,"2038-02-22"]
[null,null,null,null,null,null,"2038-02-23"]
[null,null,null,null,null,null,"2038-02-24"]
[null,null,null,null,null,null,"2038-02-25"]
[null,null,null,null,null,null,"2038-02-26"]
[null,null,null,null,null,null,"2038-02-27"]
[null,null,null,null,null,null,"2038-02-28"]
[null,null,null,null,null,null,"2038-03-01"]
[null,null,null,null,null,null,"2038-03-02"]
[null,null,null,null,null,null,"2038-03-03"]
[null,null,null,null,null,null,"2038-03-04"]
[null,null,null,null,null,null,"2038-03-05"]
[null,null,null,null,null,null,"2038-03-06"]
[null,null,null,null,null,null,"2038-03-07"]
[null,null,null,null,null,null,"2038-03-08"]
[null,null,null,null,null,null,"2038-03-09"]
[null,null,null,null,null,null,"2038-03-10"]
[null,null,null,null,null,null,"2038-03-11"]
[null,null,null,null,null,null,"2038-03-12"]
[null,null,null,null,null,null,"2038-03-13"]
[null,null,null,null,null,null,"2038-03-14"]
[null,null,null,null,null,null,"2038-03-15"]
[null,null,null,null,null,null,"2038-03-16"]
[null,null,null,null,null,null,{"$f":"G8387+1","v":"2038-03-17"}]
[null,null,null,null,null,null,"2038-03-18"]
[null,null,null,null,null,null,"2038-03-19"]
[null,null,null,null,null,null,"2038-03-20"]
[null,null,null,null,null,null,"2038-03-21"]
[null,null,null,null,null,null,"2038-03-22"]
[null,null,null,null,null,null,"2038-03-23"]
[null,null,null,null,null,null,"2038-03-24"]
[null,null,null,null,null,null,"2038-03-25"]
[null,null,null,null,null,null,"2038-03-26"]
[null,null,null,null,null,null,"2038-03-27"]
[null,null,null,null,null,null,"2038-03-28"]
[null,null,null,null,null,null,"2038-03-29"]
[null,null,null,null,null,null,"2038-03-30"]
[null,null,null,null,null,null,"2038-03-31"]
[null,null,null,null,null,null,"2038-04-01"]
[null,null,null,null,null,null,"2038-04-02"]
[null,null,null,null,null,null,"2038-04-03"]
[null,null,null,null,null,null,"2038-04-04"]
[null,null,null,null,null,null,"2038-04-05"]
[null,null,null,null,null,null,"2038-04-06"]
[null,null,null,null,null,null,"2038-04-07"]
[null,null,null,null,null,null,"2038-04-08"]
[null,null,null,null,null,null,"2038-04-09"]
[null,null,null,null,null,null,"2038-04-10"]
[null,null,null,null,null,null,"2038-04-11"]
[null,null,null,null,null,null,"2038-04-12"]
[null,null,null,null,null,null,"2038-04-13"]
[null,null,null,null,null,null,"2038-04-14"]
[null,null,null,null,null,null,"2038-04-15"]
[null,null,null,null,null,null,"2038-04-16"]
[null,null,null,null,null,null,"2038-04-17"]
[null,null,null,null,null,null,"2038-04-18"]
[null,null,null,null,null,null,"2038-04-19"]
[null,null,null,null,null,null,"2038-04-20"]
[null,null,null,null,null,null,"2038-04-21"]
[null,null,null,null,null,null,"2038-04-22"]
[null,null,null,null,null,null,"2038-04-23"]
[null,null,null,null,null,null,"2038-04-24"]
[null,null,null,null,null,null,"2038-04-25"]
[null,null,null,null,null,null,"2038-04-26"]
[null,null,null,null,null,null,"2038-04-27"]
[null,null,null,null,null,null,"2038-04-28"]
[null,null,null,null,null,null,"2038-04-29"]
[null,null,null,null,null,null,"2038-04-30"]
[null,null,null,null,null,null,"2038-05-01"]
[null,null,null,null,null,null,"2038-05-02"]
[null,null,null,null,null,null,"2038-05-03"]
[null,null,null,null,null,null,"2038-05-04"]
[null,null,null,null,null,null,"2038-05-05"]
[null,null,null,null,null,null,"2038-05-06"]
[null,null,null,null,null,null,"2038-05-07"]
[null,null,null,null,null,null,"2038-05-08"]
[null,null,null,null,null,null,"2038-05-09"]
[null,null,null,null,null,null,"2038-05-10"]
[null,null,null,null,null,null,"2038-05-11"]
[null,null,null,null,null,null,"2038-05-12"]
[null,null,null,null,null,null,"2038-05-13"]
[null,null,null,null,null,null,"2038-05-14"]
[null,null,null,null,null,null,"2038-05-15"]
[null,null,null,null,null,null,"2038-05-16"]
[null,null,null,null,null,null,"2038-05-17"]
[null,null,null,null,null,null,"2038-05-18"]
[null,null,null,null,null,null,"2038-05-19"]
[null,null,null,null,null,null,{"$f":"G8451+1","v":"2038-05-20"}]
[null,null,null,null,null,null,"2038-05-21"]
[null,null,null,null,null,null,"2038-05-22"]
[null,null,null,null,null,null,"2038-05-23"]
[null,null,null,null,null,null,"2038-05-24"]
[null,null,null,null,null,null,"2038-05-25"]
[null,null,null,null,null,null,"2038-05-26"]
[null,null,null,null,null,null,"2038-05-27"]
[null,null,null,null,null,null,"2038-05-28"]
[null,null,null,null,null,null,"2038-05-29"]
[null,null,null,null,null,null,"2038-05-30"]
[null,null,null,null,null,null,"2038-05-31"]
[null,null,null,null,null,null,"2038-06-01"]
[null,null,null,null,null,null,"2038-06-02"]
[null,null,null,null,null,null,"2038-06-03"]
[null,null,null,null,null,null,"2038-06-04"]
[null,null,null,null,null,null,"2038-06-05"]
[null,null,null,null,null,null,"2038-06-06"]
[null,null,null,null,null,null,"2038-06-07"]
[null,null,null,null,null,null,"2038-06-08"]
[null,null,null,null,null,null,"2038-06-09"]
[null,null,null,null,null,null,"2038-06-10"]
[null,null,null,null,null,null,"2038-06-11"]
[null,null,null,null,null,null,"2038-06-12"]
[null,null,null,null,null,null,"2038-06-13"]
[null,null,null,null,null,null,"2038-06-14"]
[null,null,null,null,null,null,"2038-06-15"]
[null,null,null,null,null,null,"2038-06-16"]
[null,null,null,null,null,null,"2038-06-17"]
[null,null,null,null,null,null,"2038-06-18"]
[null,null,null,null,null,null,"2038-06-19"]
[null,null,null,null,null,null,"2038-06-20"]
[null,null,null,null,null,null,"2038-06-21"]
[null,null,null,null,null,null,"2038-06-22"]
[null,null,null,null,null,null,"2038-06-23"]
[null,null,null,null,null,null,"2038-06-24"]
[null,null,null,null,null,null,"2038-06-25"]
[null,null,null,null,null,null,"2038-06-26"]
[null,null,null,null,null,null,"2038-06-27"]
[null,null,null,null,null,null,"2038-06-28"]
[null,null,null,null,null,null,"2038-06-29"]
[null,null,null,null,null,null,"2038-06-30"]
[null,null,null,null,null,null,"2038-07-01"]
[null,null,null,null,null,null,"2038-07-02"]
[null,null,null,null,null,null,"2038-07-03"]
[null,null,null,null,null,null,"2038-07-04"]
[null,null,null,null,null,null,"2038-07-05"]
[null,null,null,null,null,null,"2038-07-06"]
[null,null,null,null,null,null,"2038-07-07"]
[null,null,null,null,null,null,"2038-07-08"]
[null,null,null,null,null,null,"2038-07-09"]
[null,null,null,null,null,null,"2038-07-10"]
[null,null,null,null,null,null,"2038-07-11"]
[null,null,null,null,null,null,"2038-07-12"]
[null,null,null,null,null,null,"2038-07-13"]
[null,null,null,null,null,null,"2038-07-14"]
[null,null,null,null,null,null,"2038-07-15"]
[null,null,null,null,null,null,"2038-07-16"]
[null,null,null,null,null,null,"2038-07-17"]
[null,null,null,null,null,null,"2038-07-18"]
[null,null,null,null,null,null,"2038-07-19"]
[null,null,null,null,null,null,"2038-07-20"]
[null,null,null,null,null,null,"2038-07-21"]
[null,null,null,null,null,null,"2038-07-22"]
[null,null,null,null,null,null,{"$f":"G8515+1","v":"2038-07-23"}]
[null,null,null,null,null,null,"2038-07-24"]
[null,null,null,null,null,null,"2038-07-25"]
[null,null,null,null,null,null,"2038-07-26"]
[null,null,null,null,null,null,"2038-07-27"]
[null,null,null,null,null,null,"2038-07-28"]
[null,null,null,null,null,null,"2038-07-29"]
[null,null,null,null,null,null,"2038-07-30"]
[null,null,null,null,null,null,"2038-07-31"]
[null,null,null,null,null,null,"2038-08-01"]
[null,null,null,null,null,null,"2038-08-02"]
[null,null,null,null,null,null,"2038-08-03"]
[null,null,null,null,null,null,"2038-08-04"]
[null,null,null,null,null,null,"2038-08-05"]
[null,null,null,null,null,null,"2038-08-06"]
[null,null,null,null,null,null,"2038-08-07"]
[null,null,null,null,null,null,"2038-08-08"]
[null,null,null,null,null,null,"2038-08-09"]
[null,null,null,null,null,null,"2038-08-10"]
[null,null,null,null,null,null,"2038-08-11"]
[null,null,null,null,null,null,"2038-08-12"]
[null,null,null,null,null,null,"2038-08-13"]
[null,null,null,null,null,null,"2038-08-14"]
[null,null,null,null,null,null,"2038-08-15"]
[null,null,null,null,null,null,"2038-08-16"]
[null,null,null,null,null,null,"2038-08-17"]
[null,null,null,null,null,null,"2038-08-18"]
[null,null,null,null,null,null,"2038-08-19"]
[null,null,null,null,null,null,"2038-08-20"]
[null,null,null,null,null,null,"2038-08-21"]
[null,null,null,null,null,null,"2038-08-22"]
[null,null,null,null,null,null,"2038-08-23"]
[null,null,null,null,null,null,"2038-08-24"]
[null,null,null,null,null,null,"2038-08-25"]
[null,null,null,null,null,null,"2038-08-26"]
[null,null,null,null,null,null,"2038-08-27"]
[null,null,null,null,null,null,"2038-08-28"]
[null,null,null,null,null,null,"2038-08-29"]
[null,null,null,null,null,null,"2038-08-30"]
[null,null,null,null,null,null,"2038-08-31"]
[null,null,null,null,null,null,"2038-09-01"]
[null,null,null,null,null,null,"2038-09-02"]
[null,null,null,null,null,null,"2038-09-03"]
[null,null,null,null,null,null,"2038-09-04"]
[null,null,null,null,null,null,"2038-09-05"]
[null,null,null,null,null,null,"2038-09-06"]
[null,null,null,null,null,null,"2038-09-07"]
[null,null,null,null,null,null,"2038-09-08"]
[null,null,null,null,null,null,"2038-09-09"]
[null,null,null,null,null,null,"2038-09-10"]
[null,null,null,null,null,null,"2038-09-11"]
[null,null,null,null,null,null,"2038-09-12"]
[null,null,null,null,null,null,"2038-09-13"]
[null,null,null,null,null,null,"2038-09-14"]
[null,null,null,null,null,null,"2038-09-15"]
[null,null,null,null,null,null,"2038-09-16"]
[null,null,null,null,null,null,"2038-09-17"]
[null,null,null,null,null,null,"2038-09-18"]
[null,null,null,null,null,null,"2038-09-19"]
[null,null,null,null,null,null,"2038-09-20"]
[null,null,null,null,null,null,"2038-09-21"]
[null,null,null,null,null,null,"2038-09-22"]
[null,null,null,null,null,null,"2038-09-23"]
[null,null,null,null,null,null,"2038-09-24"]
[null,null,null,null,null,null,{"$f":"G8579+1","v":"2038-09-25"}]
[null,null,null,null,null,null,"2038-09-26"]
[null,null,null,null,null,null,"2038-09-27"]
[null,null,null,null,null,null,"2038-09-28"]
[null,null,null,null,null,null,"2038-09-29"]
[null,null,null,null,null,null,"2038-09-30"]
[null,null,null,null,null,null,"2038-10-01"]
[null,null,null,null,null,null,"2038-10-02"]
[null,null,null,null,null,null,"2038-10-03"]
[null,null,null,null,null,null,"2038-10-04"]
[null,null,null,null,null,null,"2038-10-05"]
[null,null,null,null,null,null,"2038-10-06"]
[null,null,null,null,null,null,"2038-10-07"]
[null,null,null,null,null,null,"2038-10-08"]
[null,null,null,null,null,null,"2038-10-09"]
[null,null,null,null,null,null,"2038-10-10"]
[null,null,null,null,null,null,"2038-10-11"]
[null,null,null,null,null,null,"2038-10-12"]
[null,null,null,null,null,null,"2038-10-13"]
[null,null,null,null,null,null,"2038-10-14"]
[null,null,null,null,null,null,"2038-10-15"]
[null,null,null,null,null,null,"2038-10-16"]
[null,null,null,null,null,null,"2038-10-17"]
[null,null,null,null,null,null,"2038-10-18"]
[null,null,null,null,null,null,"2038-10-19"]
[null,null,null,null,null,null,"2038-10-20"]
[null,null,null,null,null,null,"2038-10-21"]
[null,null,null,null,null,null,"2038-10-22"]
[null,null,null,null,null,null,"2038-10-23"]
[null,null,null,null,null,null,"2038-10-24"]
[null,null,null,null,null,null,"2038-10-25"]
[null,null,null,null,null,null,"2038-10-26"]
[null,null,null,null,null,null,"2038-10-27"]
[null,null,null,null,null,null,"2038-10-28"]
[null,null,null,null,null,null,"2038-10-29"]
[null,null,null,null,null,null,"2038-10-30"]
[null,null,null,null,null,null,"2038-10-31"]
[null,null,null,null,null,null,"2038-11-01"]
[null,null,null,null,null,null,"2038-11-02"]
[null,null,null,null,null,null,"2038-11-03"]
[null,null,null,null,null,null,"2038-11-04"]
[null,null,null,null,null,null,"2038-11-05"]
[null,null,null,null,null,null,"2038-11-06"]
[null,null,null,null,null,null,"2038-11-07"]
[null,null,null,null,null,null,"2038-11-08"]
[null,null,null,null,null,null,"2038-11-09"]
[null,null,null,null,null,null,"2038-11-10"]
[null,null,null,null,null,null,"2038-11-11"]
[null,null,null,null,null,null,"2038-11-12"]
[null,null,null,null,null,null,"2038-11-13"]
[null,null,null,null,null,null,"2038-11-14"]
[null,null,null,null,null,null,"2038-11-15"]
[null,null,null,null,null,null,"2038-11-16"]
[null,null,null,null,null,null,"2038-11-17"]
[null,null,null,null,null,null,"2038-11-18"]
[null,null,null,null,null,null,"2038-11-19"]
[null,null,null,null,null,null,"2038-11-20"]
[null,null,null,null,null,null,"2038-11-21"]
[null,null,null,null,null,null,"2038-11-22"]
[null,null,null,null,null,null,"2038-11-23"]
[null,null,null,null,null,null,"2038-11-24"]
[null,null,null,null,null,null,"2038-11-25"]
[null,null,null,null,null,null,"2038-11-26"]
[null,null,null,null,null,null,"2038-11-27"]
[null,null,null,null,null,null,{"$f":"G8643+1","v":"2038-11-28"}]
[null,null,null,null,null,null,"2038-11-29"]
[null,null,null,null,null,null,"2038-11-30"]
[null,null,null,null,null,null,"2038-12-01"]
[null,null,null,null,null,null,"2038-12-02"]
[null,null,null,null,null,null,"2038-12-03"]
[null,null,null,null,null,null,"2038-12-04"]
[null,null,null,null,null,null,"2038-12-05"]
[null,null,null,null,null,null,"2038-12-06"]
[null,null,null,null,null,null,"2038-12-07"]
[null,null,null,null,null,null,"2038-12-08"]
[null,null,null,null,null,null,"2038-12-09"]
[null,null,null,null,null,null,"2038-12-10"]
[null,null,null,null,null,null,"2038-12-11"]
[null,null,null,null,null,null,"2038-12-12"]
[null,null,null,null,null,null,"2038-12-13"]
[null,null,null,null,null,null,"2038-12-14"]
[null,null,null,null,null,null,"2038-12-15"]
[null,null,null,null,null,null,"2038-12-16"]
[null,null,null,null,null,null,"2038-12-17"]
[null,null,null,null,null,null,"2038-12-18"]
[null,null,null,null,null,null,"2038-12-19"]
[null,null,null,null,null,null,"2038-12-20"]
[null,null,null,null,null,null,"2038-12-21"]
[null,null,null,null,null,null,"2038-12-22"]
[null,null,null,null,null,null,"2038-12-23"]
[null,null,null,null,null,null,"2038-12-24"]
[null,null,null,null,null,null,"2038-12-25"]
[null,null,null,null,null,null,"2038-12-26"]
[null,null,null,null,null,null,"2038-12-27"]
[null,null,null,null,null,null,"2038-12-28"]
[null,null,null,null,null,null,"2038-12-29"]
[null,null,null,null,null,null,"2038-12-30"]
[null,null,null,null,null,null,"2038-12-31"]
[null,null,null,null,null,null,"2039-01-01"]
[null,null,null,null,null,null,"2039-01-02"]
[null,null,null,null,null,null,"2039-01-03"]
[null,null,null,null,null,null,"2039-01-04"]
[null,null,null,null,null,null,"2039-01-05"]
[null,null,null,null,null,null,"2039-01-06"]
[null,null,null,null,null,null,"2039-01-07"]
[null,null,null,null,null,null,"2039-01-08"]
[null,null,null,null,null,null,"2039-01-09"]
[null,null,null,null,null,null,"2039-01-10"]
[null,null,null,null,null,null,"2039-01-11"]
[null,null,null,null,null,null,"2039-01-12"]
[null,null,null,null,null,null,"2039-01-13"]
[null,null,null,null,null,null,"2039-01-14"]
[null,null,null,null,null,null,"2039-01-15"]
[null,null,null,null,null,null,"2039-01-16"]
[null,null,null,null,null,null,"2039-01-17"]
[null,null,null,null,null,null,"2039-01-18"]
[null,null,null,null,null,null,"2039-01-19"]
[null,null,null,null,null,null,"2039-01-20"]
[null,null,null,null,null,null,"2039-01-21"]
[null,null,null,null,null,null,"2039-01-22"]
[null,null,null,null,null,null,"2039-01-23"]
[null,null,null,null,null,null,"2039-01-24"]
[null,null,null,null,null,null,"2039-01-25"]
[null,null,null,null,null,null,"2039-01-26"]
[null,null,null,null,null,null,"2039-01-27"]
[null,null,null,null,null,null,"2039-01-28"]
[null,null,null,null,null,null,"2039-01-29"]
[null,null,null,null,null,null,"2039-01-30"]
[null,null,null,null,null,null,{"$f":"G8707+1","v":"2039-01-31"}]
[null,null,null,null,null,null,"2039-02-01"]
[null,null,null,null,null,null,"2039-02-02"]
[null,null,null,null,null,null,"2039-02-03"]
[null,null,null,null,null,null,"2039-02-04"]
[null,null,null,null,null,null,"2039-02-05"]
[null,null,null,null,null,null,"2039-02-06"]
[null,null,null,null,null,null,"2039-02-07"]
[null,null,null,null,null,null,"2039-02-08"]
[null,null,null,null,null,null,"2039-02-09"]
[null,null,null,null,null,null,"2039-02-10"]
[null,null,null,null,null,null,"2039-02-11"]
[null,null,null,null,null,null,"2039-02-12"]
[null,null,null,null,null,null,"2039-02-13"]
[null,null,null,null,null,null,"2039-02-14"]
[null,null,null,null,null,null,"2039-02-15"]
[null,null,null,null,null,null,"2039-02-16"]
[null,null,null,null,null,null,"2039-02-17"]
[null,null,null,null,null,null,"2039-02-18"]
[null,null,null,null,null,null,"2039-02-19"]
[null,null,null,null,null,null,"2039-02-20"]
[null,null,null,null,null,null,"2039-02-21"]
[null,null,null,null,null,null,"2039-02-22"]
[null,null,null,null,null,null,"2039-02-23"]
[null,null,null,null,null,null,"2039-02-24"]
[null,null,null,null,null,null,"2039-02-25"]
[null,null,null,null,null,null,"2039-02-26"]
[null,null,null,null,null,null,"2039-02-27"]
[null,null,null,null,null,null,"2039-02-28"]
[null,null,null,null,null,null,"2039-03-01"]
[null,null,null,null,null,null,"2039-03-02"]
[null,null,null,null,null,null,"2039-03-03"]
[null,null,null,null,null,null,"2039-03-04"]
[null,null,null,null,null,null,"2039-03-05"]
[null,null,null,null,null,null,"2039-03-06"]
[null,null,null,null,null,null,"2039-03-07"]
[null,null,null,null,null,null,"2039-03-08"]
[null,null,null,null,null,null,"2039-03-09"]
[null,null,null,null,null,null,"2039-03-10"]
[null,null,null,null,null,null,"2039-03-11"]
[null,null,null,null,null,null,"2039-03-12"]
[null,null,null,null,null,null,"2039-03-13"]
[null,null,null,null,null,null,"2039-03-14"]
[null,null,null,null,null,null,"2039-03-15"]
[null,null,null,null,null,null,"2039-03-16"]
[null,null,null,null,null,null,"2039-03-17"]
[null,null,null,null,null,null,"2039-03-18"]
[null,null,null,null,null,null,"2039-03-19"]
[null,null,null,null,null,null,"2039-03-20"]
[null,null,null,null,null,null,"2039-03-21"]
[null,null,null,null,null,null,"2039-03-22"]
[null,null,null,null,null,null,"2039-03-23"]
[null,null,null,null,null,null,"2039-03-24"]
[null,null,null,null,null,null,"2039-03-25"]
[null,null,null,null,null,null,"2039-03-26"]
[null,null,null,null,null,null,"2039-03-27"]
[null,null,null,null,null,null,"2039-03-28"]
[null,null,null,null,null,null,"2039-03-29"]
[null,null,null,null,null,null,"2039-03-30"]
[null,null,null,null,null,null,"2039-03-31"]
[null,null,null,null,null,null,"2039-04-01"]
[null,null,null,null,null,null,"2039-04-02"]
[null,null,null,null,null,null,"2039-04-03"]
[null,null,null,null,null,null,"2039-04-04"]
[null,null,null,null,null,null,{"$f":"G8771+1","v":"2039-04-05"}]
[null,null,null,null,null,null,"2039-04-06"]
[null,null,null,null,null,null,"2039-04-07"]
[null,null,null,null,null,null,"2039-04-08"]
[null,null,null,null,null,null,"2039-04-09"]
[null,null,null,null,null,null,"2039-04-10"]
[null,null,null,null,null,null,"2039-04-11"]
[null,null,null,null,null,null,"2039-04-12"]
[null,null,null,null,null,null,"2039-04-13"]
[null,null,null,null,null,null,"2039-04-14"]
[null,null,null,null,null,null,"2039-04-15"]
[null,null,null,null,null,null,"2039-04-16"]
[null,null,null,null,null,null,"2039-04-17"]
[null,null,null,null,null,null,"2039-04-18"]
[null,null,null,null,null,null,"2039-04-19"]
[null,null,null,null,null,null,"2039-04-20"]
[null,null,null,null,null,null,"2039-04-21"]
[null,null,null,null,null,null,"2039-04-22"]
[null,null,null,null,null,null,"2039-04-23"]
[null,null,null,null,null,null,"2039-04-24"]
[null,null,null,null,null,null,"2039-04-25"]
[null,null,null,null,null,null,"2039-04-26"]
[null,null,null,null,null,null,"2039-04-27"]
[null,null,null,null,null,null,"2039-04-28"]
[null,null,null,null,null,null,"2039-04-29"]
[null,null,null,null,null,null,"2039-04-30"]
[null,null,null,null,null,null,"2039-05-01"]
[null,null,null,null,null,null,"2039-05-02"]
[null,null,null,null,null,null,"2039-05-03"]
[null,null,null,null,null,null,"2039-05-04"]
[null,null,null,null,null,null,"2039-05-05"]
[null,null,null,null,null,null,"2039-05-06"]
[null,null,null,null,null,null,"2039-05-07"]
[null,null,null,null,null,null,"2039-05-08"]
[null,null,null,null,null,null,"2039-05-09"]
[null,null,null,null,null,null,"2039-05-10"]
[null,null,null,null,null,null,"2039-05-11"]
[null,null,null,null,null,null,"2039-05-12"]
[null,null,null,null,null,null,"2039-05-13"]
[null,null,null,null,null,null,"2039-05-14"]
[null,null,null,null,null,null,"2039-05-15"]
[null,null,null,null,null,null,"2039-05-16"]
[null,null,null,null,null,null,"2039-05-17"]
[null,null,null,null,null,null,"2039-05-18"]
[null,null,null,null,null,null,"2039-05-19"]
[null,null,null,null,null,null,"2039-05-20"]
[null,null,null,null,null,null,"2039-05-21"]
[null,null,null,null,null,null,"2039-05-22"]
[null,null,null,null,null,null,"2039-05-23"]
[null,null,null,null,null,null,"2039-05-24"]
[null,null,null,null,null,null,"2039-05-25"]
[null,null,null,null,null,null,"2039-05-26"]
[null,null,null,null,null,null,"2039-05-27"]
[null,null,null,null,null,null,"2039-05-28"]
[null,null,null,null,null,null,"2039-05-29"]
[null,null,null,null,null,null,"2039-05-30"]
[null,null,null,null,null,null,"2039-05-31"]
[null,null,null,null,null,null,"2039-06-01"]
[null,null,null,null,null,null,"2039-06-02"]
[null,null,null,null,null,null,"2039-06-03"]
[null,null,null,null,null,null,"2039-06-04"]
[null,null,null,null,null,null,"2039-06-05"]
[null,null,null,null,null,null,"2039-06-06"]
[null,null,null,null,null,null,"2039-06-07"]
[null,null,null,null,null,null,{"$f":"G8835+1","v":"2039-06-08"}]
[null,null,null,null,null,null,"2039-06-09"]
[null,null,null,null,null,null,"2039-06-10"]
[null,null,null,null,null,null,"2039-06-11"]
[null,null,null,null,null,null,"2039-06-12"]
[null,null,null,null,null,null,"2039-06-13"]
[null,null,null,null,null,null,"2039-06-14"]
[null,null,null,null,null,null,"2039-06-15"]
[null,null,null,null,null,null,"2039-06-16"]
[null,null,null,null,null,null,"2039-06-17"]
[null,null,null,null,null,null,"2039-06-18"]
[null,null,null,null,null,null,"2039-06-19"]
[null,null,null,null,null,null,"2039-06-20"]
[null,null,null,null,null,null,"2039-06-21"]
[null,null,null,null,null,null,"2039-06-22"]
[null,null,null,null,null,null,"2039-06-23"]
[null,null,null,null,null,null,"2039-06-24"]
[null,null,null,null,null,null,"2039-06-25"]
[null,null,null,null,null,null,"2039-06-26"]
[null,null,null,null,null,null,"2039-06-27"]
[null,null,null,null,null,null,"2039-06-28"]
[null,null,null,null,null,null,"2039-06-29"]
[null,null,null,null,null,null,"2039-06-30"]
[null,null,null,null,null,null,"2039-07-01"]
[null,null,null,null,null,null,"2039-07-02"]
[null,null,null,null,null,null,"2039-07-03"]
[null,null,null,null,null,null,"2039-07-04"]
[null,null,null,null,null,null,"2039-07-05"]
[null,null,null,null,null,null,"2039-07-06"]
[null,null,null,null,null,null,"2039-07-07"]
[null,null,null,null,null,null,"2039-07-08"]
[null,null,null,null,null,null,"2039-07-09"]
[null,null,null,null,null,null,"2039-07-10"]
[null,null,null,null,null,null,"2039-07-11"]
[null,null,null,null,null,null,"2039-07-12"]
[null,null,null,null,null,null,"2039-07-13"]
[null,null,null,null,null,null,"2039-07-14"]
[null,null,null,null,null,null,"2039-07-15"]
[null,null,null,null,null,null,"2039-07-16"]
[null,null,null,null,null,null,"2039-07-17"]
[null,null,null,null,null,null,"2039-07-18"]
[null,null,null,null,null,null,"2039-07-19"]
[null,null,null,null,null,null,"2039-07-20"]
[null,null,null,null,null,null,"2039-07-21"]
[null,null,null,null,null,null,"2039-07-22"]
[null,null,null,null,null,null,"2039-07-23"]
[null,null,null,null,null,null,"2039-07-24"]
[null,null,null,null,null,null,"2039-07-25"]
[null,null,null,null,null,null,"2039-07-26"]
[null,null,null,null,null,null,"2039-07-27"]
[null,null,null,null,null,null,"2039-07-28"]
[null,null,null,null,null,null,"2039-07-29"]
[null,null,null,null,null,null,"2039-07-30"]
[null,null,null,null,null,null,"2039-07-31"]
[null,null,null,null,null,null,"2039-08-01"]
[null,null,null,null,null,null,"2039-08-02"]
[null,null,null,null,null,null,"2039-08-03"]
[null,null,null,null,null,null,"2039-08-04"]
[null,null,null,null,null,null,"2039-08-05"]
[null,null,null,null,null,null,"2039-08-06"]
[null,null,null,null,null,null,"2039-08-07"]
[null,null,null,null,null,null,"2039-08-08"]
[null,null,null,null,null,null,"2039-08-09"]
[null,null,null,null,null,null,"2039-08-10"]
[null,null,null,null,null,null,{"$f":"G8899+1","v":"2039-08-11"}]
[null,null,null,null,null,null,"2039-08-12"]
[null,null,null,null,null,null,"2039-08-13"]
[null,null,null,null,null,null,"2039-08-14"]
[null,null,null,null,null,null,"2039-08-15"]
[null,null,null,null,null,null,"2039-08-16"]
[null,null,null,null,null,null,"2039-08-17"]
[null,null,null,null,null,null,"2039-08-18"]
[null,null,null,null,null,null,"2039-08-19"]
[null,null,null,null,null,null,"2039-08-20"]
[null,null,null,null,null,null,"2039-08-21"]
[null,null,null,null,null,null,"2039-08-22"]
[null,null,null,null,null,null,"2039-08-23"]
[null,null,null,null,null,null,"2039-08-24"]
[null,null,null,null,null,null,"2039-08-25"]
[null,null,null,null,null,null,"2039-08-26"]
[null,null,null,null,null,null,"2039-08-27"]
[null,null,null,null,null,null,"2039-08-28"]
[null,null,null,null,null,null,"2039-08-29"]
[null,null,null,null,null,null,"2039-08-30"]
[null,null,null,null,null,null,"2039-08-31"]
[null,null,null,null,null,null,"2039-09-01"]
[null,null,null,null,null,null,"2039-09-02"]
[null,null,null,null,null,null,"2039-09-03"]
[null,null,null,null,null,null,"2039-09-04"]
[null,null,null,null,null,null,"2039-09-05"]
[null,null,null,null,null,null,"2039-09-06"]
[null,null,null,null,null,null,"2039-09-07"]
[null,null,null,null,null,null,"2039-09-08"]
[null,null,null,null,null,null,"2039-09-09"]
[null,null,null,null,null,null,"2039-09-10"]
[null,null,null,null,null,null,"2039-09-11"]
[null,null,null,null,null,null,"2039-09-12"]
[null,null,null,null,null,null,"2039-09-13"]
[null,null,null,null,null,null,"2039-09-14"]
[null,null,null,null,null,null,"2039-09-15"]
[null,null,null,null,null,null,"2039-09-16"]
[null,null,null,null,null,null,"2039-09-17"]
[null,null,null,null,null,null,"2039-09-18"]
[null,null,null,null,null,null,"2039-09-19"]
[null,null,null,null,null,null,"2039-09-20"]
[null,null,null,null,null,null,"2039-09-21"]
[null,null,null,null,null,null,"2039-09-22"]
[null,null,null,null,null,null,"2039-09-23"]
[null,null,null,null,null,null,"2039-09-24"]
[null,null,null,null,null,null,"2039-09-25"]
[null,null,null,null,null,null,"2039-09-26"]
[null,null,null,null,null,null,"2039-09-27"]
[null,null,null,null,null,null,"2039-09-28"]
[null,null,null,null,null,null,"2039-09-29"]
[null,null,null,null,null,null,"2039-09-30"]
[null,null,null,null,null,null,"2039-10-01"]
[null,null,null,null,null,null,"2039-10-02"]
[null,null,null,null,null,null,"2039-10-03"]
[null,null,null,null,null,null,"2039-10-04"]
[null,null,null,null,null,null,"2039-10-05"]
[null,null,null,null,null,null,"2039-10-06"]
[null,null,null,null,null,null,"2039-10-07"]
[null,null,null,null,null,null,"2039-10-08"]
[null,null,null,null,null,null,"2039-10-09"]
[null,null,null,null,null,null,"2039-10-10"]
[null,null,null,null,null,null,"2039-10-11"]
[null,null,null,null,null,null,"2039-10-12"]
[null,null,null,null,null,null,"2039-10-13"]
[null,null,null,null,null,null,{"$f":"G8963+1","v":"2039-10-14"}]
[null,null,null,null,null,null,"2039-10-15"]
[null,null,null,null,null,null,"2039-10-16"]
[null,null,null,null,null,null,"2039-10-17"]
[null,null,null,null,null,null,"2039-10-18"]
[null,null,null,null,null,null,"2039-10-19"]
[null,null,null,null,null,null,"2039-10-20"]
[null,null,null,null,null,null,"2039-10-21"]
[null,null,null,null,null,null,"2039-10-22"]
[null,null,null,null,null,null,"2039-10-23"]
[null,null,null,null,null,null,"2039-10-24"]
[null,null,null,null,null,null,"2039-10-25"]
[null,null,null,null,null,null,"2039-10-26"]
[null,null,null,null,null,null,"2039-10-27"]
[null,null,null,null,null,null,"2039-10-28"]
[null,null,null,null,null,null,"2039-10-29"]
[null,null,null,null,null,null,"2039-10-30"]
[null,null,null,null,null,null,"2039-10-31"]
[null,null,null,null,null,null,"2039-11-01"]
[null,null,null,null,null,null,"2039-11-02"]
[null,null,null,null,null,null,"2039-11-03"]
[null,null,null,null,null,null,"2039-11-04"]
[null,null,null,null,null,null,"2039-11-05"]
[null,null,null,null,null,null,"2039-11-06"]
[null,null,null,null,null,null,"2039-11-07"]
[null,null,null,null,null,null,"2039-11-08"]
[null,null,null,null,null,null,"2039-11-09"]
[null,null,null,null,null,null,"2039-11-10"]
[null,null,null,null,null,null,"2039-11-11"]
[null,null,null,null,null,null,"2039-11-12"]
[null,null,null,null,null,null,"2039-11-13"]
[null,null,null,null,null,null,"2039-11-14"]
[null,null,null,null,null,null,"2039-11-15"]
[null,null,null,null,null,null,"2039-11-16"]
[null,null,null,null,null,null,"2039-11-17"]
[null,null,null,null,null,null,"2039-11-18"]
[null,null,null,null,null,null,"2039-11-19"]
[null,null,null,null,null,null,"2039-11-20"]
[null,null,null,null,null,null,"2039-11-21"]
[null,null,null,null,null,null,"2039-11-22"]
[null,null,null,null,null,null,"2039-11-23"]
[null,null,null,null,null,null,"2039-11-24"]
[null,null,null,null,null,null,"2039-11-25"]
[null,null,null,null,null,null,"2039-11-26"]
[null,null,null,null,null,null,"2039-11-27"]
[null,null,null,null,null,null,"2039-11-28"]
[null,null,null,null,null,null,"2039-11-29"]
[null,null,null,null,null,null,"2039-11-30"]
[null,null,null,null,null,null,"2039-12-01"]
[null,null,null,null,null,null,"2039-12-02"]
[null,null,null,null,null,null,"2039-12-03"]
[null,null,null,null,null,null,"2039-12-04"]
[null,null,null,null,null,null,"2039-12-05"]
[null,null,null,null,null,null,"2039-12-06"]
[null,null,null,null,null,null,"2039-12-07"]
[null,null,null,null,null,null,"2039-12-08"]
[null,null,null,null,null,null,"2039-12-09"]
[null,null,null,null,null,null,"2039-12-10"]
[null,null,null,null,null,null,"2039-12-11"]
[null,null,null,null,null,null,"2039-12-12"]
[null,null,null,null,null,null,"2039-12-13"]
[null,null,null,null,null,null,"2039-12-14"]
[null,null,null,null,null,null,"2039-12-15"]
[null,null,null,null,null,null,"2039-12-16"]
[null,null,null,null,null,null,{"$f":"G9027+1","v":"2039-12-17"}]
[null,null,null,null,null,null,"2039-12-18"]
[null,null,null,null,null,null,"2039-12-19"]
[null,null,null,null,null,null,"2039-12-20"]
[null,null,null,null,null,null,"2039-12-21"]
[null,null,null,null,null,null,"2039-12-22"]
[null,null,null,null,null,null,"2039-12-23"]
[null,null,null,null,null,null,"2039-12-24"]
[null,null,null,null,null,null,"2039-12-25"]
[null,null,null,null,null,null,"2039-12-26"]
[null,null,null,null,null,null,"2039-12-27"]
[null,null,null,null,null,null,"2039-12-28"]
[null,null,null,null,null,null,"2039-12-29"]
[null,null,null,null,null,null,"2039-12-30"]
[null,null,null,null,null,null,"2039-12-31"]
[null,null,null,null,null,null,"2040-01-01"]
[null,null,null,null,null,null,"2040-01-02"]
[null,null,null,null,null,null,"2040-01-03"]
[null,null,null,null,null,null,"2040-01-04"]
[null,null,null,null,null,null,"2040-01-05"]
[null,null,null,null,null,null,"2040-01-06"]
[null,null,null,null,null,null,"2040-01-07"]
[null,null,null,null,null,null,"2040-01-08"]
[null,null,null,null,null,null,"2040-01-09"]
[null,null,null,null,null,null,"2040-01-10"]
[null,null,null,null,null,null,"2040-01-11"]
[null,null,null,null,null,null,"2040-01-12"]
[null,null,null,null,null,null,"2040-01-13"]
[null,null,null,null,null,null,"2040-01-14"]
[null,null,null,null,null,null,"2040-01-15"]
[null,null,null,null,null,null,"2040-01-16"]
[null,null,null,null,null,null,"2040-01-17"]
[null,null,null,null,null,null,"2040-01-18"]
[null,null,null,null,null,null,"2040-01-19"]
[null,null,null,null,null,null,"2040-01-20"]
[null,null,null,null,null,null,"2040-01-21"]
[null,null,null,null,null,null,"2040-01-22"]
[null,null,null,null,null,null,"2040-01-23"]
[null,null,null,null,null,null,"2040-01-24"]
[null,null,null,null,null,null,"2040-01-25"]
[null,null,null,null,null,null,"2040-01-26"]
[null,null,null,null,null,null,"2040-01-27"]
[null,null,null,null,null,null,"2040-01-28"]
[null,null,null,null,null,null,"2040-01-29"]
[null,null,null,null,null,null,"2040-01-30"]
[null,null,null,null,null,null,"2040-01-31"]
[null,null,null,null,null,null,"2040-02-01"]
[null,null,null,null,null,null,"2040-02-02"]
[null,null,null,null,null,null,"2040-02-03"]
[null,null,null,null,null,null,"2040-02-04"]
[null,null,null,null,null,null,"2040-02-05"]
[null,null,null,null,null,null,"2040-02-06"]
[null,null,null,null,null,null,"2040-02-07"]
[null,null,null,null,null,null,"2040-02-08"]
[null,null,null,null,null,null,"2040-02-09"]
[null,null,null,null,null,null,"2040-02-10"]
[null,null,null,null,null,null,"2040-02-11"]
[null,null,null,null,null,null,"2040-02-12"]
[null,null,null,null,null,null,"2040-02-13"]
[null,null,null,null,null,null,"2040-02-14"]
[null,null,null,null,null,null,"2040-02-15"]
[null,null,null,null,null,null,"2040-02-16"]
[null,null,null,null,null,null,"2040-02-17"]
[null,null,null,null,null,null,"2040-02-18"]
[null,null,null,null,null,null,{"$f":"G9091+1","v":"2040-02-19"}]
[null,null,null,null,null,null,"2040-02-20"]
[null,null,null,null,null,null,"2040-02-21"]
[null,null,null,null,null,null,"2040-02-22"]
[null,null,null,null,null,null,"2040-02-23"]
[null,null,null,null,null,null,"2040-02-24"]
[null,null,null,null,null,null,"2040-02-25"]
[null,null,null,null,null,null,"2040-02-26"]
[null,null,null,null,null,null,"2040-02-27"]
[null,null,null,null,null,null,"2040-02-28"]
[null,null,null,null,null,null,"2040-02-29"]
[null,null,null,null,null,null,"2040-03-01"]
[null,null,null,null,null,null,"2040-03-02"]
[null,null,null,null,null,null,"2040-03-03"]
[null,null,null,null,null,null,"2040-03-04"]
[null,null,null,null,null,null,"2040-03-05"]
[null,null,null,null,null,null,"2040-03-06"]
[null,null,null,null,null,null,"2040-03-07"]
[null,null,null,null,null,null,"2040-03-08"]
[null,null,null,null,null,null,"2040-03-09"]
[null,null,null,null,null,null,"2040-03-10"]
[null,null,null,null,null,null,"2040-03-11"]
[null,null,null,null,null,null,"2040-03-12"]
[null,null,null,null,null,null,"2040-03-13"]
[null,null,null,null,null,null,"2040-03-14"]
[null,null,null,null,null,null,"2040-03-15"]
[null,null,null,null,null,null,"2040-03-16"]
[null,null,null,null,null,null,"2040-03-17"]
[null,null,null,null,null,null,"2040-03-18"]
[null,null,null,null,null,null,"2040-03-19"]
[null,null,null,null,null,null,"2040-03-20"]
[null,null,null,null,null,null,"2040-03-21"]
[null,null,null,null,null,null,"2040-03-22"]
[null,null,null,null,null,null,"2040-03-23"]
[null,null,null,null,null,null,"2040-03-24"]
[null,null,null,null,null,null,"2040-03-25"]
[null,null,null,null,null,null,"2040-03-26"]
[null,null,null,null,null,null,"2040-03-27"]
[null,null,null,null,null,null,"2040-03-28"]
[null,null,null,null,null,null,"2040-03-29"]
[null,null,null,null,null,null,"2040-03-30"]
[null,null,null,null,null,null,"2040-03-31"]
[null,null,null,null,null,null,"2040-04-01"]
[null,null,null,null,null,null,"2040-04-02"]
[null,null,null,null,null,null,"2040-04-03"]
[null,null,null,null,null,null,"2040-04-04"]
[null,null,null,null,null,null,"2040-04-05"]
[null,null,null,null,null,null,"2040-04-06"]
[null,null,null,null,null,null,"2040-04-07"]
[null,null,null,null,null,null,"2040-04-08"]
[null,null,null,null,null,null,"2040-04-09"]
[null,null,null,null,null,null,"2040-04-10"]
[null,null,null,null,null,null,"2040-04-11"]
[null,null,null,null,null,null,"2040-04-12"]
[null,null,null,null,null,null,"2040-04-13"]
[null,null,null,null,null,null,"2040-04-14"]
[null,null,null,null,null,null,"2040-04-15"]
[null,null,null,null,null,null,"2040-04-16"]
[null,null,null,null,null,null,"2040-04-17"]
[null,null,null,null,null,null,"2040-04-18"]
[null,null,null,null,null,null,"2040-04-19"]
[null,null,null,null,null,null,"2040-04-20"]
[null,null,null,null,null,null,"2040-04-21"]
[null,null,null,null,null,null,"2040-04-22"]
[null,null,null,null,null,null,{"$f":"G9155+1","v":"2040-04-23"}]
[null,null,null,null,null,null,"2040-04-24"]
[null,null,null,null,null,null,"2040-04-25"]
[null,null,null,null,null,null,"2040-04-26"]
[null,null,null,null,null,null,"2040-04-27"]
[null,null,null,null,null,null,"2040-04-28"]
[null,null,null,null,null,null,"2040-04-29"]
[null,null,null,null,null,null,"2040-04-30"]
[null,null,null,null,null,null,"2040-05-01"]
[null,null,null,null,null,null,"2040-05-02"]
[null,null,null,null,null,null,"2040-05-03"]
[null,null,null,null,null,null,"2040-05-04"]
[null,null,null,null,null,null,"2040-05-05"]
[null,null,null,null,null,null,"2040-05-06"]
[null,null,null,null,null,null,"2040-05-07"]
[null,null,null,null,null,null,"2040-05-08"]
[null,null,null,null,null,null,"2040-05-09"]
[null,null,null,null,null,null,"2040-05-10"]
[null,null,null,null,null,null,"2040-05-11"]
[null,null,null,null,null,null,"2040-05-12"]
[null,null,null,null,null,null,"2040-05-13"]
[null,null,null,null,null,null,"2040-05-14"]
[null,null,null,null,null,null,"2040-05-15"]
[null,null,null,null,null,null,"2040-05-16"]
[null,null,null,null,null,null,"2040-05-17"]
[null,null,null,null,null,null,"2040-05-18"]
[null,null,null,null,null,null,"2040-05-19"]
[null,null,null,null,null,null,"2040-05-20"]
[null,null,null,null,null,null,"2040-05-21"]
[null,null,null,null,null,null,"2040-05-22"]
[null,null,null,null,null,null,"2040-05-23"]
[null,null,null,null,null,null,"2040-05-24"]
[null,null,null,null,null,null,"2040-05-25"]
[null,null,null,null,null,null,"2040-05-26"]
[null,null,null,null,null,null,"2040-05-27"]
[null,null,null,null,null,null,"2040-05-28"]
[null,null,null,null,null,null,"2040-05-29"]
[null,null,null,null,null,null,"2040-05-30"]
[null,null,null,null,null,null,"2040-05-31"]
[null,null,null,null,null,null,"2040-06-01"]
[null,null,null,null,null,null,"2040-06-02"]
[null,null,null,null,null,null,"2040-06-03"]
[null,null,null,null,null,null,"2040-06-04"]
[null,null,null,null,null,null,"2040-06-05"]
[null,null,null,null,null,null,"2040-06-06"]
[null,null,null,null,null,null,"2040-06-07"]
[null,null,null,null,null,null,"2040-06-08"]
[null,null,null,null,null,null,"2040-06-09"]
[null,null,null,null,null,null,"2040-06-10"]
[null,null,null,null,null,null,"2040-06-11"]
[null,null,null,null,null,null,"2040-06-12"]
[null,null,null,null,null,null,"2040-06-13"]
[null,null,null,null,null,null,"2040-06-14"]
[null,null,null,null,null,null,"2040-06-15"]
[null,null,null,null,null,null,"2040-06-16"]
[null,null,null,null,null,null,"2040-06-17"]
[null,null,null,null,null,null,"2040-06-18"]
[null,null,null,null,null,null,"2040-06-19"]
[null,null,null,null,null,null,"2040-06-20"]
[null,null,null,null,null,null,"2040-06-21"]
[null,null,null,null,null,null,"2040-06-22"]
[null,null,null,null,null,null,"2040-06-23"]
[null,null,null,null,null,null,"2040-06-24"]
[null,null,null,null,null,null,"2040-06-25"]
[null,null,null,null,null,null,{"$f":"G9219+1","v":"2040-06-26"}]
[null,null,null,null,null,null,"2040-06-27"]
[null,null,null,null,null,null,"2040-06-28"]
[null,null,null,null,null,null,"2040-06-29"]
[null,null,null,null,null,null,"2040-06-30"]
[null,null,null,null,null,null,"2040-07-01"]
[null,null,null,null,null,null,"2040-07-02"]
[null,null,null,null,null,null,"2040-07-03"]
[null,null,null,null,null,null,"2040-07-04"]
[null,null,null,null,null,null,"2040-07-05"]
[null,null,null,null,null,null,"2040-07-06"]
[null,null,null,null,null,null,"2040-07-07"]
[null,null,null,null,null,null,"2040-07-08"]
[null,null,null,null,null,null,"2040-07-09"]
[null,null,null,null,null,null,"2040-07-10"]
[null,null,null,null,null,null,"2040-07-11"]
[null,null,null,null,null,null,"2040-07-12"]
[null,null,null,null,null,null,"2040-07-13"]
[null,null,null,null,null,null,"2040-07-14"]
[null,null,null,null,null,null,"2040-07-15"]
[null,null,null,null,null,null,"2040-07-16"]
[null,null,null,null,null,null,"2040-07-17"]
[null,null,null,null,null,null,"2040-07-18"]
[null,null,null,null,null,null,"2040-07-19"]
[null,null,null,null,null,null,"2040-07-20"]
[null,null,null,null,null,null,"2040-07-21"]
[null,null,null,null,null,null,"2040-07-22"]
[null,null,null,null,null,null,"2040-07-23"]
[null,null,null,null,null,null,"2040-07-24"]
[null,null,null,null,null,null,"2040-07-25"]
[null,null,null,null,null,null,"2040-07-26"]
[null,null,null,null,null,null,"2040-07-27"]
[null,null,null,null,null,null,"2040-07-28"]
[null,null,null,null,null,null,"2040-07-29"]
[null,null,null,null,null,null,"2040-07-30"]
[null,null,null,null,null,null,"2040-07-31"]
[null,null,null,null,null,null,"2040-08-01"]
[null,null,null,null,null,null,"2040-08-02"]
[null,null,null,null,null,null,"2040-08-03"]
[null,null,null,null,null,null,"2040-08-04"]
[null,null,null,null,null,null,"2040-08-05"]
[null,null,null,null,null,null,"2040-08-06"]
[null,null,null,null,null,null,"2040-08-07"]
[null,null,null,null,null,null,"2040-08-08"]
[null,null,null,null,null,null,"2040-08-09"]
[null,null,null,null,null,null,"2040-08-10"]
[null,null,null,null,null,null,"2040-08-11"]
[null,null,null,null,null,null,"2040-08-12"]
[null,null,null,null,null,null,"2040-08-13"]
[null,null,null,null,null,null,"2040-08-14"]
[null,null,null,null,null,null,"2040-08-15"]
[null,null,null,null,null,null,"2040-08-16"]
[null,null,null,null,null,null,"2040-08-17"]
[null,null,null,null,null,null,"2040-08-18"]
[null,null,null,null,null,null,"2040-08-19"]
[null,null,null,null,null,null,"2040-08-20"]
[null,null,null,null,null,null,"2040-08-21"]
[null,null,null,null,null,null,"2040-08-22"]
[null,null,null,null,null,null,"2040-08-23"]
[null,null,null,null,null,null,"2040-08-24"]
[null,null,null,null,null,null,"2040-08-25"]
[null,null,null,null,null,null,"2040-08-26"]
[null,null,null,null,null,null,"2040-08-27"]
[null,null,null,null,null,null,"2040-08-28"]
[null,null,null,null,null,null,{"$f":"G9283+1","v":"2040-08-29"}]
[null,null,null,null,null,null,"2040-08-30"]
[null,null,null,null,null,null,"2040-08-31"]
[null,null,null,null,null,null,"2040-09-01"]
[null,null,null,null,null,null,"2040-09-02"]
[null,null,null,null,null,null,"2040-09-03"]
[null,null,null,null,null,null,"2040-09-04"]
[null,null,null,null,null,null,"2040-09-05"]
[null,null,null,null,null,null,"2040-09-06"]
[null,null,null,null,null,null,"2040-09-07"]
[null,null,null,null,null,null,"2040-09-08"]
[null,null,null,null,null,null,"2040-09-09"]
[null,null,null,null,null,null,"2040-09-10"]
[null,null,null,null,null,null,"2040-09-11"]
[null,null,null,null,null,null,"2040-09-12"]
[null,null,null,null,null,null,"2040-09-13"]
[null,null,null,null,null,null,"2040-09-14"]
[null,null,null,null,null,null,"2040-09-15"]
[null,null,null,null,null,null,"2040-09-16"]
[null,null,null,null,null,null,"2040-09-17"]
[null,null,null,null,null,null,"2040-09-18"]
[null,null,null,null,null,null,"2040-09-19"]
[null,null,null,null,null,null,"2040-09-20"]
[null,null,null,null,null,null,"2040-09-21"]
[null,null,null,null,null,null,"2040-09-22"]
[null,null,null,null,null,null,"2040-09-23"]
[null,null,null,null,null,null,"2040-09-24"]
[null,null,null,null,null,null,"2040-09-25"]
[null,null,null,null,null,null,"2040-09-26"]
[null,null,null,null,null,null,"2040-09-27"]
[null,null,null,null,null,null,"2040-09-28"]
[null,null,null,null,null,null,"2040-09-29"]
[null,null,null,null,null,null,"2040-09-30"]
[null,null,null,null,null,null,"2040-10-01"]
[null,null,null,null,null,null,"2040-10-02"]
[null,null,null,null,null,null,"2040-10-03"]
[null,null,null,null,null,null,"2040-10-04"]
[null,null,null,null,null,null,"2040-10-05"]
[null,null,null,null,null,null,"2040-10-06"]
[null,null,null,null,null,null,"2040-10-07"]
[null,null,null,null,null,null,"2040-10-08"]
[null,null,null,null,null,null,"2040-10-09"]
[null,null,null,null,null,null,"2040-10-10"]
[null,null,null,null,null,null,"2040-10-11"]
[null,null,null,null,null,null,"2040-10-12"]
[null,null,null,null,null,null,"2040-10-13"]
[null,null,null,null,null,null,"2040-10-14"]
[null,null,null,null,null,null,"2040-10-15"]
[null,null,null,null,null,null,"2040-10-16"]
[null,null,null,null,null,null,"2040-10-17"]
[null,null,null,null,null,null,"2040-10-18"]
[null,null,null,null,null,null,"2040-10-19"]
[null,null,null,null,null,null,"2040-10-20"]
[null,null,null,null,null,null,"2040-10-21"]
[null,null,null,null,null,null,"2040-10-22"]
[null,null,null,null,null,null,"2040-10-23"]
[null,null,null,null,null,null,"2040-10-24"]
[null,null,null,null,null,null,"2040-10-25"]
[null,null,null,null,null,null,"2040-10-26"]
[null,null,null,null,null,null,"2040-10-27"]
[null,null,null,null,null,null,"2040-10-28"]
[null,null,null,null,null,null,"2040-10-29"]
[null,null,null,null,null,null,"2040-10-30"]
[null,null,null,null,null,null,"2040-10-31"]
[null,null,null,null,null,null,{"$f":"G9347+1","v":"2040-11-01"}]
[null,null,null,null,null,null,"2040-11-02"]
[null,null,null,null,null,null,"2040-11-03"]
[null,null,null,null,null,null,"2040-11-04"]
[null,null,null,null,null,null,"2040-11-05"]
[null,null,null,null,null,null,"2040-11-06"]
[null,null,null,null,null,null,"2040-11-07"]
[null,null,null,null,null,null,"2040-11-08"]
[null,null,null,null,null,null,"2040-11-09"]
[null,null,null,null,null,null,"2040-11-10"]
[null,null,null,null,null,null,"2040-11-11"]
[null,null,null,null,null,null,"2040-11-12"]
[null,null,null,null,null,null,"2040-11-13"]
[null,null,null,null,null,null,"2040-11-14"]
[null,null,null,null,null,null,"2040-11-15"]
[null,null,null,null,null,null,"2040-11-16"]
[null,null,null,null,null,null,"2040-11-17"]
[null,null,null,null,null,null,"2040-11-18"]
[null,null,null,null,null,null,"2040-11-19"]
[null,null,null,null,null,null,"2040-11-20"]
[null,null,null,null,null,null,"2040-11-21"]
[null,null,null,null,null,null,"2040-11-22"]
[null,null,null,null,null,null,"2040-11-23"]
[null,null,null,null,null,null,"2040-11-24"]
[null,null,null,null,null,null,"2040-11-25"]
[null,null,null,null,null,null,"2040-11-26"]
[null,null,null,null,null,null,"2040-11-27"]
[null,null,null,null,null,null,"2040-11-28"]
[null,null,null,null,null,null,"2040-11-29"]
[null,null,null,null,null,null,"2040-11-30"]
[null,null,null,null,null,null,"2040-12-01"]
[null,null,null,null,null,null,"2040-12-02"]
[null,null,null,null,null,null,"2040-12-03"]
[null,null,null,null,null,null,"2040-12-04"]
[null,null,null,null,null,null,"2040-12-05"]
[null,null,null,null,null,null,"2040-12-06"]
[null,null,null,null,null,null,"2040-12-07"]
[null,null,null,null,null,null,"2040-12-08"]
[null,null,null,null,null,null,"2040-12-09"]
[null,null,null,null,null,null,"2040-12-10"]
[null,null,null,null,null,null,"2040-12-11"]
[null,null,null,null,null,null,"2040-12-12"]
[null,null,null,null,null,null,"2040-12-13"]
[null,null,null,null,null,null,"2040-12-14"]
[null,null,null,null,null,null,"2040-12-15"]
[null,null,null,null,null,null,"2040-12-16"]
[null,null,null,null,null,null,"2040-12-17"]
[null,null,null,null,null,null,"2040-12-18"]
[null,null,null,null,null,null,"2040-12-19"]
[null,null,null,null,null,null,"2040-12-20"]
[null,null,null,null,null,null,"2040-12-21"]
[null,null,null,null,null,null,"2040-12-22"]
[null,null,null,null,null,null,"2040-12-23"]
[null,null,null,null,null,null,"2040-12-24"]
[null,null,null,null,null,null,"2040-12-25"]
[null,null,null,null,null,null,"2040-12-26"]
[null,null,null,null,null,null,"2040-12-27"]
[null,null,null,null,null,null,"2040-12-28"]
[null,null,null,null,null,null,"2040-12-29"]
[null,null,null,null,null,null,"2040-12-30"]
[null,null,null,null,null,null,"2040-12-31"]
[null,null,null,null,null,null,"2041-01-01"]
[null,null,null,null,null,null,"2041-01-02"]
[null,null,null,null,null,null,"2041-01-03"]
[null,null,null,null,null,null,{"$f":"G9411+1","v":"2041-01-04"}]
[null,null,null,null,null,null,"2041-01-05"]
[null,null,null,null,null,null,"2041-01-06"]
[null,null,null,null,null,null,"2041-01-07"]
[null,null,null,null,null,null,"2041-01-08"]
[null,null,null,null,null,null,"2041-01-09"]
[null,null,null,null,null,null,"2041-01-10"]
[null,null,null,null,null,null,"2041-01-11"]
[null,null,null,null,null,null,"2041-01-12"]
[null,null,null,null,null,null,"2041-01-13"]
[null,null,null,null,null,null,"2041-01-14"]
[null,null,null,null,null,null,"2041-01-15"]
[null,null,null,null,null,null,"2041-01-16"]
[null,null,null,null,null,null,"2041-01-17"]
[null,null,null,null,null,null,"2041-01-18"]
[null,null,null,null,null,null,"2041-01-19"]
[null,null,null,null,null,null,"2041-01-20"]
[null,null,null,null,null,null,"2041-01-21"]
[null,null,null,null,null,null,"2041-01-22"]
[null,null,null,null,null,null,"2041-01-23"]
[null,null,null,null,null,null,"2041-01-24"]
[null,null,null,null,null,null,"2041-01-25"]
[null,null,null,null,null,null,"2041-01-26"]
[null,null,null,null,null,null,"2041-01-27"]
[null,null,null,null,null,null,"2041-01-28"]
[null,null,null,null,null,null,"2041-01-29"]
[null,null,null,null,null,null,"2041-01-30"]
[null,null,null,null,null,null,"2041-01-31"]
[null,null,null,null,null,null,"2041-02-01"]
[null,null,null,null,null,null,"2041-02-02"]
[null,null,null,null,null,null,"2041-02-03"]
[null,null,null,null,null,null,"2041-02-04"]
[null,null,null,null,null,null,"2041-02-05"]
[null,null,null,null,null,null,"2041-02-06"]
[null,null,null,null,null,null,"2041-02-07"]
[null,null,null,null,null,null,"2041-02-08"]
[null,null,null,null,null,null,"2041-02-09"]
[null,null,null,null,null,null,"2041-02-10"]
[null,null,null,null,null,null,"2041-02-11"]
[null,null,null,null,null,null,"2041-02-12"]
[null,null,null,null,null,null,"2041-02-13"]
[null,null,null,null,null,null,"2041-02-14"]
[null,null,null,null,null,null,"2041-02-15"]
[null,null,null,null,null,null,"2041-02-16"]
[null,null,null,null,null,null,"2041-02-17"]
[null,null,null,null,null,null,"2041-02-18"]
[null,null,null,null,null,null,"2041-02-19"]
[null,null,null,null,null,null,"2041-02-20"]
[null,null,null,null,null,null,"2041-02-21"]
[null,null,null,null,null,null,"2041-02-22"]
[null,null,null,null,null,null,"2041-02-23"]
[null,null,null,null,null,null,"2041-02-24"]
[null,null,null,null,null,null,"2041-02-25"]
[null,null,null,null,null,null,"2041-02-26"]
[null,null,null,null,null,null,"2041-02-27"]
[null,null,null,null,null,null,"2041-02-28"]
[null,null,null,null,null,null,"2041-03-01"]
[null,null,null,null,null,null,"2041-03-02"]
[null,null,null,null,null,null,"2041-03-03"]
[null,null,null,null,null,null,"2041-03-04"]
[null,null,null,null,null,null,"2041-03-05"]
[null,null,null,null,null,null,"2041-03-06"]
[null,null,null,null,null,null,"2041-03-07"]
[null,null,null,null,null,null,"2041-03-08"]
[null,null,null,null,null,null,{"$f":"G9475+1","v":"2041-03-09"}]
[null,null,null,null,null,null,"2041-03-10"]
[null,null,null,null,null,null,"2041-03-11"]
[null,null,null,null,null,null,"2041-03-12"]
[null,null,null,null,null,null,"2041-03-13"]
[null,null,null,null,null,null,"2041-03-14"]
[null,null,null,null,null,null,"2041-03-15"]
[null,null,null,null,null,null,"2041-03-16"]
[null,null,null,null,null,null,"2041-03-17"]
[null,null,null,null,null,null,"2041-03-18"]
[null,null,null,null,null,null,"2041-03-19"]
[null,null,null,null,null,null,"2041-03-20"]
[null,null,null,null,null,null,"2041-03-21"]
[null,null,null,null,null,null,"2041-03-22"]
[null,null,null,null,null,null,"2041-03-23"]
[null,null,null,null,null,null,"2041-03-24"]
[null,null,null,null,null,null,"2041-03-25"]
[null,null,null,null,null,null,"2041-03-26"]
[null,null,null,null,null,null,"2041-03-27"]
[null,null,null,null,null,null,"2041-03-28"]
[null,null,null,null,null,null,"2041-03-29"]
[null,null,null,null,null,null,"2041-03-30"]
[null,null,null,null,null,null,"2041-03-31"]
[null,null,null,null,null,null,"2041-04-01"]
[null,null,null,null,null,null,"2041-04-02"]
[null,null,null,null,null,null,"2041-04-03"]
[null,null,null,null,null,null,"2041-04-04"]
[null,null,null,null,null,null,"2041-04-05"]
[null,null,null,null,null,null,"2041-04-06"]
[null,null,null,null,null,null,"2041-04-07"]
[null,null,null,null,null,null,"2041-04-08"]
[null,null,null,null,null,null,"2041-04-09"]
[null,null,null,null,null,null,"2041-04-10"]
[null,null,null,null,null,null,"2041-04-11"]
[null,null,null,null,null,null,"2041-04-12"]
[null,null,null,null,null,null,"2041-04-13"]
[null,null,null,null,null,null,"2041-04-14"]
[null,null,null,null,null,null,"2041-04-15"]
[null,null,null,null,null,null,"2041-04-16"]
[null,null,null,null,null,null,"2041-04-17"]
[null,null,null,null,null,null,"2041-04-18"]
[null,null,null,null,null,null,"2041-04-19"]
[null,null,null,null,null,null,"2041-04-20"]
[null,null,null,null,null,null,"2041-04-21"]
[null,null,null,null,null,null,"2041-04-22"]
[null,null,null,null,null,null,"2041-04-23"]
[null,null,null,null,null,null,"2041-04-24"]
[null,null,null,null,null,null,"2041-04-25"]
[null,null,null,null,null,null,"2041-04-26"]
[null,null,null,null,null,null,"2041-04-27"]
[null,null,null,null,null,null,"2041-04-28"]
[null,null,null,null,null,null,"2041-04-29"]
[null,null,null,null,null,null,"2041-04-30"]
[null,null,null,null,null,null,"2041-05-01"]
[null,null,null,null,null,null,"2041-05-02"]
[null,null,null,null,null,null,"2041-05-03"]
[null,null,null,null,null,null,"2041-05-04"]
[null,null,null,null,null,null,"2041-05-05"]
[null,null,null,null,null,null,"2041-05-06"]
[null,null,null,null,null,null,"2041-05-07"]
[null,null,null,null,null,null,"2041-05-08"]
[null,null,null,null,null,null,"2041-05-09"]
[null,null,null,null,null,null,"2041-05-10"]
[null,null,null,null,null,null,"2041-05-11"]
[null,null,null,null,null,null,{"$f":"G9539+1","v":"2041-05-12"}]
[null,null,null,null,null,null,"2041-05-13"]
[null,null,null,null,null,null,"2041-05-14"]
[null,null,null,null,null,null,"2041-05-15"]
[null,null,null,null,null,null,"2041-05-16"]
[null,null,null,null,null,null,"2041-05-17"]
[null,null,null,null,null,null,"2041-05-18"]
[null,null,null,null,null,null,"2041-05-19"]
[null,null,null,null,null,null,"2041-05-20"]
[null,null,null,null,null,null,"2041-05-21"]
[null,null,null,null,null,null,"2041-05-22"]
[null,null,null,null,null,null,"2041-05-23"]
[null,null,null,null,null,null,"2041-05-24"]
[null,null,null,null,null,null,"2041-05-25"]
[null,null,null,null,null,null,"2041-05-26"]
[null,null,null,null,null,null,"2041-05-27"]
[null,null,null,null,null,null,"2041-05-28"]
[null,null,null,null,null,null,"2041-05-29"]
[null,null,null,null,null,null,"2041-05-30"]
[null,null,null,null,null,null,"2041-05-31"]
[null,null,null,null,null,null,"2041-06-01"]
[null,null,null,null,null,null,"2041-06-02"]
[null,null,null,null,null,null,"2041-06-03"]
[null,null,null,null,null,null,"2041-06-04"]
[null,null,null,null,null,null,"2041-06-05"]
[null,null,null,null,null,null,"2041-06-06"]
[null,null,null,null,null,null,"2041-06-07"]
[null,null,null,null,null,null,"2041-06-08"]
[null,null,null,null,null,null,"2041-06-09"]
[null,null,null,null,null,null,"2041-06-10"]
[null,null,null,null,null,null,"2041-06-11"]
[null,null,null,null,null,null,"2041-06-12"]
[null,null,null,null,null,null,"2041-06-13"]
[null,null,null,null,null,null,"2041-06-14"]
[null,null,null,null,null,null,"2041-06-15"]
[null,null,null,null,null,null,"2041-06-16"]
[null,null,null,null,null,null,"2041-06-17"]
[null,null,null,null,null,null,"2041-06-18"]
[null,null,null,null,null,null,"2041-06-19"]
[null,null,null,null,null,null,"2041-06-20"]
[null,null,null,null,null,null,"2041-06-21"]
[null,null,null,null,null,null,"2041-06-22"]
[null,null,null,null,null,null,"2041-06-23"]
[null,null,null,null,null,null,"2041-06-24"]
[null,null,null,null,null,null,"2041-06-25"]
[null,null,null,null,null,null,"2041-06-26"]
[null,null,null,null,null,null,"2041-06-27"]
[null,null,null,null,null,null,"2041-06-28"]
[null,null,null,null,null,null,"2041-06-29"]
[null,null,null,null,null,null,"2041-06-30"]
[null,null,null,null,null,null,"2041-07-01"]
[null,null,null,null,null,null,"2041-07-02"]
[null,null,null,null,null,null,"2041-07-03"]
[null,null,null,null,null,null,"2041-07-04"]
[null,null,null,null,null,null,"2041-07-05"]
[null,null,null,null,null,null,"2041-07-06"]
[null,null,null,null,null,null,"2041-07-07"]
[null,null,null,null,null,null,"2041-07-08"]
[null,null,null,null,null,null,"2041-07-09"]
[null,null,null,null,null,null,"2041-07-10"]
[null,null,null,null,null,null,"2041-07-11"]
[null,null,null,null,null,null,"2041-07-12"]
[null,null,null,null,null,null,"2041-07-13"]
[null,null,null,null,null,null,"2041-07-14"]
[null,null,null,null,null,null,{"$f":"G9603+1","v":"2041-07-15"}]
[null,null,null,null,null,null,"2041-07-16"]
[null,null,null,null,null,null,"2041-07-17"]
[null,null,null,null,null,null,"2041-07-18"]
[null,null,null,null,null,null,"2041-07-19"]
[null,null,null,null,null,null,"2041-07-20"]
[null,null,null,null,null,null,"2041-07-21"]
[null,null,null,null,null,null,"2041-07-22"]
[null,null,null,null,null,null,"2041-07-23"]
[null,null,null,null,null,null,"2041-07-24"]
[null,null,null,null,null,null,"2041-07-25"]
[null,null,null,null,null,null,"2041-07-26"]
[null,null,null,null,null,null,"2041-07-27"]
[null,null,null,null,null,null,"2041-07-28"]
[null,null,null,null,null,null,"2041-07-29"]
[null,null,null,null,null,null,"2041-07-30"]
[null,null,null,null,null,null,"2041-07-31"]
[null,null,null,null,null,null,"2041-08-01"]
[null,null,null,null,null,null,"2041-08-02"]
[null,null,null,null,null,null,"2041-08-03"]
[null,null,null,null,null,null,"2041-08-04"]
[null,null,null,null,null,null,"2041-08-05"]
[null,null,null,null,null,null,"2041-08-06"]
[null,null,null,null,null,null,"2041-08-07"]
[null,null,null,null,null,null,"2041-08-08"]
[null,null,null,null,null,null,"2041-08-09"]
[null,null,null,null,null,null,"2041-08-10"]
[null,null,null,null,null,null,"2041-08-11"]
[null,null,null,null,null,null,"2041-08-12"]
[null,null,null,null,null,null,"2041-08-13"]
[null,null,null,null,null,null,"2041-08-14"]
[null,null,null,null,null,null,"2041-08-15"]
[null,null,null,null,null,null,"2041-08-16"]
[null,null,null,null,null,null,"2041-08-17"]
[null,null,null,null,null,null,"2041-08-18"]
[null,null,null,null,null,null,"2041-08-19"]
[null,null,null,null,null,null,"2041-08-20"]
[null,null,null,null,null,null,"2041-08-21"]
[null,null,null,null,null,null,"2041-08-22"]
[null,null,null,null,null,null,"2041-08-23"]
[null,null,null,null,null,null,"2041-08-24"]
[null,null,null,null,null,null,"2041-08-25"]
[null,null,null,null,null,null,"2041-08-26"]
[null,null,null,null,null,null,"2041-08-27"]
[null,null,null,null,null,null,"2041-08-28"]
[null,null,null,null,null,null,"2041-08-29"]
[null,null,null,null,null,null,"2041-08-30"]
[null,null,null,null,null,null,"2041-08-31"]
[null,null,null,null,null,null,"2041-09-01"]
[null,null,null,null,null,null,"2041-09-02"]
[null,null,null,null,null,null,"2041-09-03"]
[null,null,null,null,null,null,"2041-09-04"]
[null,null,null,null,null,null,"2041-09-05"]
[null,null,null,null,null,null,"2041-09-06"]
[null,null,null,null,null,null,"2041-09-07"]
[null,null,null,null,null,null,"2041-09-08"]
[null,null,null,null,null,null,"2041-09-09"]
[null,null,null,null,null,null,"2041-09-10"]
[null,null,null,null,null,null,"2041-09-11"]
[null,null,null,null,null,null,"2041-09-12"]
[null,null,null,null,null,null,"2041-09-13"]
[null,null,null,null,null,null,"2041-09-14"]
[null,null,null,null,null,null,"2041-09-15"]
[null,null,null,null,null,null,"2041-09-16"]
[null,null,null,null,null,null,{"$f":"G9667+1","v":"2041-09-17"}]
[null,null,null,null,null,null,"2041-09-18"]
[null,null,null,null,null,null,"2041-09-19"]
[null,null,null,null,null,null,"2041-09-20"]
[null,null,null,null,null,null,"2041-09-21"]
[null,null,null,null,null,null,"2041-09-22"]
[null,null,null,null,null,null,"2041-09-23"]
[null,null,null,null,null,null,"2041-09-24"]
[null,null,null,null,null,null,"2041-09-25"]
[null,null,null,null,null,null,"2041-09-26"]
[null,null,null,null,null,null,"2041-09-27"]
[null,null,null,null,null,null,"2041-09-28"]
[null,null,null,null,null,null,"2041-09-29"]
[null,null,null,null,null,null,"2041-09-30"]
[null,null,null,null,null,null,"2041-10-01"]
[null,null,null,null,null,null,"2041-10-02"]
[null,null,null,null,null,null,"2041-10-03"]
[null,null,null,null,null,null,"2041-10-04"]
[null,null,null,null,null,null,"2041-10-05"]
[null,null,null,null,null,null,"2041-10-06"]
[null,null,null,null,null,null,"2041-10-07"]
[null,null,null,null,null,null,"2041-10-08"]
[null,null,null,null,null,null,"2041-10-09"]
[null,null,null,null,null,null,"2041-10-10"]
[null,null,null,null,null,null,"2041-10-11"]
[null,null,null,null,null,null,"2041-10-12"]
[null,null,null,null,null,null,"2041-10-13"]
[null,null,null,null,null,null,"2041-10-14"]
[null,null,null,null,null,null,"2041-10-15"]
[null,null,null,null,null,null,"2041-10-16"]
[null,null,null,null,null,null,"2041-10-17"]
[null,null,null,null,null,null,"2041-10-18"]
[null,null,null,null,null,null,"2041-10-19"]
[null,null,null,null,null,null,"2041-10-20"]
[null,null,null,null,null,null,"2041-10-21"]
[null,null,null,null,null,null,"2041-10-22"]
[null,null,null,null,null,null,"2041-10-23"]
[null,null,null,null,null,null,"2041-10-24"]
[null,null,null,null,null,null,"2041-10-25"]
[null,null,null,null,null,null,"2041-10-26"]
[null,null,null,null,null,null,"2041-10-27"]
[null,null,null,null,null,null,"2041-10-28"]
[null,null,null,null,null,null,"2041-10-29"]
[null,null,null,null,null,null,"2041-10-30"]
[null,null,null,null,null,null,"2041-10-31"]
[null,null,null,null,null,null,"2041-11-01"]
[null,null,null,null,null,null,"2041-11-02"]
[null,null,null,null,null,null,"2041-11-03"]
[null,null,null,null,null,null,"2041-11-04"]
[null,null,null,null,null,null,"2041-11-05"]
[null,null,null,null,null,null,"2041-11-06"]
[null,null,null,null,null,null,"2041-11-07"]
[null,null,null,null,null,null,"2041-11-08"]
[null,null,null,null,null,null,"2041-11-09"]
[null,null,null,null,null,null,"2041-11-10"]
[null,null,null,null,null,null,"2041-11-11"]
[null,null,null,null,null,null,"2041-11-12"]
[null,null,null,null,null,null,"2041-11-13"]
[null,null,null,null,null,null,"2041-11-14"]
[null,null,null,null,null,null,"2041-11-15"]
[null,null,null,null,null,null,"2041-11-16"]
[null,null,null,null,null,null,"2041-11-17"]
[null,null,null,null,null,null,"2041-11-18"]
[null,null,null,null,null,null,"2041-11-19"]
[null,null,null,null,null,null,{"$f":"G9731+1","v":"2041-11-20"}]
[null,null,null,null,null,null,"2041-11-21"]
[null,null,null,null,null,null,"2041-11-22"]
[null,null,null,null,null,null,"2041-11-23"]
[null,null,null,null,null,null,"2041-11-24"]
[null,null,null,null,null,null,"2041-11-25"]
[null,null,null,null,null,null,"2041-11-26"]
[null,null,null,null,null,null,"2041-11-27"]
[null,null,null,null,null,null,"2041-11-28"]
[null,null,null,null,null,null,"2041-11-29"]
[null,null,null,null,null,null,"2041-11-30"]
[null,null,null,null,null,null,"2041-12-01"]
[null,null,null,null,null,null,"2041-12-02"]
[null,null,null,null,null,null,"2041-12-03"]
[null,null,null,null,null,null,"2041-12-04"]
[null,null,null,null,null,null,"2041-12-05"]
[null,null,null,null,null,null,"2041-12-06"]
[null,null,null,null,null,null,"2041-12-07"]
[null,null,null,null,null,null,"2041-12-08"]
[null,null,null,null,null,null,"2041-12-09"]
[null,null,null,null,null,null,"2041-12-10"]
[null,null,null,null,null,null,"2041-12-11"]
[null,null,null,null,null,null,"2041-12-12"]
[null,null,null,null,null,null,"2041-12-13"]
[null,null,null,null,null,null,"2041-12-14"]
[null,null,null,null,null,null,"2041-12-15"]
[null,null,null,null,null,null,"2041-12-16"]
[null,null,null,null,null,null,"2041-12-17"]
[null,null,null,null,null,null,"2041-12-18"]
[null,null,null,null,null,null,"2041-12-19"]
[null,null,null,null,null,null,"2041-12-20"]
[null,null,null,null,null,null,"2041-12-21"]
[null,null,null,null,null,null,"2041-12-22"]
[null,null,null,null,null,null,"2041-12-23"]
[null,null,null,null,null,null,"2041-12-24"]
[null,null,null,null,null,null,"2041-12-25"]
[null,null,null,null,null,null,"2041-12-26"]
[null,null,null,null,null,null,"2041-12-27"]
[null,null,null,null,null,null,"2041-12-28"]
[null,null,null,null,null,null,"2041-12-29"]
[null,null,null,null,null,null,"2041-12-30"]
[null,null,null,null,null,null,"2041-12-31"]
[null,null,null,null,null,null,"2042-01-01"]
[null,null,null,null,null,null,"2042-01-02"]
[null,null,null,null,null,null,"2042-01-03"]
[null,null,null,null,null,null,"2042-01-04"]
[null,null,null,null,null,null,"2042-01-05"]
[null,null,null,null,null,null,"2042-01-06"]
[null,null,null,null,null,null,"2042-01-07"]
[null,null,null,null,null,null,"2042-01-08"]
[null,null,null,null,null,null,"2042-01-09"]
[null,null,null,null,null,null,"2042-01-10"]
[null,null,null,null,null,null,"2042-01-11"]
[null,null,null,null,null,null,"2042-01-12"]
[null,null,null,null,null,null,"2042-01-13"]
[null,null,null,null,null,null,"2042-01-14"]
[null,null,null,null,null,null,"2042-01-15"]
[null,null,null,null,null,null,"2042-01-16"]
[null,null,null,null,null,null,"2042-01-17"]
[null,null,null,null,null,null,"2042-01-18"]
[null,null,null,null,null,null,"2042-01-19"]
[null,null,null,null,null,null,"2042-01-20"]
[null,null,null,null,null,null,"2042-01-21"]
[null,null,null,null,null,null,"2042-01-22"]
[null,null,null,null,null,null,{"$f":"G9795+1","v":"2042-01-23"}]
[null,null,null,null,null,null,"2042-01-24"]
[null,null,null,null,null,null,"2042-01-25"]
[null,null,null,null,null,null,"2042-01-26"]
[null,null,null,null,null,null,"2042-01-27"]
[null,null,null,null,null,null,"2042-01-28"]
[null,null,null,null,null,null,"2042-01-29"]
[null,null,null,null,null,null,"2042-01-30"]
[null,null,null,null,null,null,"2042-01-31"]
[null,null,null,null,null,null,"2042-02-01"]
[null,null,null,null,null,null,"2042-02-02"]
[null,null,null,null,null,null,"2042-02-03"]
[null,null,null,null,null,null,"2042-02-04"]
[null,null,null,null,null,null,"2042-02-05"]
[null,null,null,null,null,null,"2042-02-06"]
[null,null,null,null,null,null,"2042-02-07"]
[null,null,null,null,null,null,"2042-02-08"]
[null,null,null,null,null,null,"2042-02-09"]
[null,null,null,null,null,null,"2042-02-10"]
[null,null,null,null,null,null,"2042-02-11"]
[null,null,null,null,null,null,"2042-02-12"]
[null,null,null,null,null,null,"2042-02-13"]
[null,null,null,null,null,null,"2042-02-14"]
[null,null,null,null,null,null,"2042-02-15"]
[null,null,null,null,null,null,"2042-02-16"]
[null,null,null,null,null,null,"2042-02-17"]
[null,null,null,null,null,null,"2042-02-18"]
[null,null,null,null,null,null,"2042-02-19"]
[null,null,null,null,null,null,"2042-02-20"]
[null,null,null,null,null,null,"2042-02-21"]
[null,null,null,null,null,null,"2042-02-22"]
[null,null,null,null,null,null,"2042-02-23"]
[null,null,null,null,null,null,"2042-02-24"]
[null,null,null,null,null,null,"2042-02-25"]
[null,null,null,null,null,null,"2042-02-26"]
[null,null,null,null,null,null,"2042-02-27"]
[null,null,null,null,null,null,"2042-02-28"]
[null,null,null,null,null,null,"2042-03-01"]
[null,null,null,null,null,null,"2042-03-02"]
[null,null,null,null,null,null,"2042-03-03"]
[null,null,null,null,null,null,"2042-03-04"]
[null,null,null,null,null,null,"2042-03-05"]
[null,null,null,null,null,null,"2042-03-06"]
[null,null,null,null,null,null,"2042-03-07"]
[null,null,null,null,null,null,"2042-03-08"]
[null,null,null,null,null,null,"2042-03-09"]
[null,null,null,null,null,null,"2042-03-10"]
[null,null,null,null,null,null,"2042-03-11"]
[null,null,null,null,null,null,"2042-03-12"]
[null,null,null,null,null,null,"2042-03-13"]
[null,null,null,null,null,null,"2042-03-14"]
[null,null,null,null,null,null,"2042-03-15"]
[null,null,null,null,null,null,"2042-03-16"]
[null,null,null,null,null,null,"2042-03-17"]
[null,null,null,null,null,null,"2042-03-18"]
[null,null,null,null,null,null,"2042-03-19"]
[null,null,null,null,null,null,"2042-03-20"]
[null,null,null,null,null,null,"2042-03-21"]
[null,null,null,null,null,null,"2042-03-22"]
[null,null,null,null,null,null,"2042-03-23"]
[null,null,null,null,null,null,"2042-03-24"]
[null,null,null,null,null,null,"2042-03-25"]
[null,null,null,null,null,null,"2042-03-26"]
[null,null,null,null,null,null,"2042-03-27"]
[null,null,null,null,null,null,{"$f":"G9859+1","v":"2042-03-28"}]
[null,null,null,null,null,null,"2042-03-29"]
[null,null,null,null,null,null,"2042-03-30"]
[null,null,null,null,null,null,"2042-03-31"]
[null,null,null,null,null,null,"2042-04-01"]
[null,null,null,null,null,null,"2042-04-02"]
[null,null,null,null,null,null,"2042-04-03"]
[null,null,null,null,null,null,"2042-04-04"]
[null,null,null,null,null,null,"2042-04-05"]
[null,null,null,null,null,null,"2042-04-06"]
[null,null,null,null,null,null,"2042-04-07"]
[null,null,null,null,null,null,"2042-04-08"]
[null,null,null,null,null,null,"2042-04-09"]
[null,null,null,null,null,null,"2042-04-10"]
[null,null,null,null,null,null,"2042-04-11"]
[null,null,null,null,null,null,"2042-04-12"]
[null,null,null,null,null,null,"2042-04-13"]
[null,null,null,null,null,null,"2042-04-14"]
[null,null,null,null,null,null,"2042-04-15"]
[null,null,null,null,null,null,"2042-04-16"]
[null,null,null,null,null,null,"2042-04-17"]
[null,null,null,null,null,null,"2042-04-18"]
[null,null,null,null,null,null,"2042-04-19"]
[null,null,null,null,null,null,"2042-04-20"]
[null,null,null,null,null,null,"2042-04-21"]
[null,null,null,null,null,null,"2042-04-22"]
[null,null,null,null,null,null,"2042-04-23"]
[null,null,null,null,null,null,"2042-04-24"]
[null,null,null,null,null,null,"2042-04-25"]
[null,null,null,null,null,null,"2042-04-26"]
[null,null,null,null,null,null,"2042-04-27"]
[null,null,null,null,null,null,"2042-04-28"]
[null,null,null,null,null,null,"2042-04-29"]
[null,null,null,null,null,null,"2042-04-30"]
[null,null,null,null,null,null,"2042-05-01"]
[null,null,null,null,null,null,"2042-05-02"]
[null,null,null,null,null,null,"2042-05-03"]
[null,null,null,null,null,null,"2042-05-04"]
[null,null,null,null,null,null,"2042-05-05"]
[null,null,null,null,null,null,"2042-05-06"]
[null,null,null,null,null,null,"2042-05-07"]
[null,null,null,null,null,null,"2042-05-08"]
[null,null,null,null,null,null,"2042-05-09"]
[null,null,null,null,null,null,"2042-05-10"]
[null,null,null,null,null,null,"2042-05-11"]
[null,null,null,null,null,null,"2042-05-12"]
[null,null,null,null,null,null,"2042-05-13"]
[null,null,null,null,null,null,"2042-05-14"]
[null,null,null,null,null,null,"2042-05-15"]
[null,null,null,null,null,null,"2042-05-16"]
[null,null,null,null,null,null,"2042-05-17"]
[null,null,null,null,null,null,"2042-05-18"]
[null,null,null,null,null,null,"2042-05-19"]
[null,null,null,null,null,null,"2042-05-20"]
[null,null,null,null,null,null,"2042-05-21"]
[null,null,null,null,null,null,"2042-05-22"]
[null,null,null,null,null,null,"2042-05-23"]
[null,null,null,null,null,null,"2042-05-24"]
[null,null,null,null,null,null,"2042-05-25"]
[null,null,null,null,null,null,"2042-05-26"]
[null,null,null,null,null,null,"2042-05-27"]
[null,null,null,null,null,null,"2042-05-28"]
[null,null,null,null,null,null,"2042-05-29"]
[null,null,null,null,null,null,"2042-05-30"]
[null,null,null,null,null,null,{"$f":"G9923+1","v":"2042-05-31"}]
[null,null,null,null,null,null,"2042-06-01"]
[null,null,null,null,null,null,"2042-06-02"]
[null,null,null,null,null,null,"2042-06-03"]
[null,null,null,null,null,null,"2042-06-04"]
[null,null,null,null,null,null,"2042-06-05"]
[null,null,null,null,null,null,"2042-06-06"]
[null,null,null,null,null,null,"2042-06-07"]
[null,null,null,null,null,null,"2042-06-08"]
[null,null,null,null,null,null,"2042-06-09"]
[null,null,null,null,null,null,"2042-06-10"]
[null,null,null,null,null,null,"2042-06-11"]
[null,null,null,null,null,null,"2042-06-12"]
[null,null,null,null,null,null,"2042-06-13"]
[null,null,null,null,null,null,"2042-06-14"]
[null,null,null,null,null,null,"2042-06-15"]
[null,null,null,null,null,null,"2042-06-16"]
[null,null,null,null,null,null,"2042-06-17"]
[null,null,null,null,null,null,"2042-06-18"]
[null,null,null,null,null,null,"2042-06-19"]
[null,null,null,null,null,null,"2042-06-20"]
[null,null,null,null,null,null,"2042-06-21"]
[null,null,null,null,null,null,"2042-06-22"]
[null,null,null,null,null,null,"2042-06-23"]
[null,null,null,null,null,null,"2042-06-24"]
[null,null,null,null,null,null,"2042-06-25"]
[null,null,null,null,null,null,"2042-06-26"]
[null,null,null,null,null,null,"2042-06-27"]
[null,null,null,null,null,null,"2042-06-28"]
[null,null,null,null,null,null,"2042-06-29"]
[null,null,null,null,null,null,"2042-06-30"]
[null,null,null,null,null,null,"2042-07-01"]
[null,null,null,null,null,null,"2042-07-02"]
[null,null,null,null,null,null,"2042-07-03"]
[null,null,null,null,null,null,"2042-07-04"]
[null,null,null,null,null,null,"2042-07-05"]
[null,null,null,null,null,null,"2042-07-06"]
[null,null,null,null,null,null,"2042-07-07"]
[null,null,null,null,null,null,"2042-07-08"]
[null,null,null,null,null,null,"2042-07-09"]
[null,null,null,null,null,null,"2042-07-10"]
[null,null,null,null,null,null,"2042-07-11"]
[null,null,null,null,null,null,"2042-07-12"]
[null,null,null,null,null,null,"2042-07-13"]
[null,null,null,null,null,null,"2042-07-14"]
[null,null,null,null,null,null,"2042-07-15"]
[null,null,null,null,null,null,"2042-07-16"]
[null,null,null,null,null,null,"2042-07-17"]
[null,null,null,null,null,null,"2042-07-18"]
[null,null,null,null,null,null,"2042-07-19"]
[null,null,null,null,null,null,"2042-07-20"]
[null,null,null,null,null,null,"2042-07-21"]
[null,null,null,null,null,null,"2042-07-22"]
[null,null,null,null,null,null,"2042-07-23"]
[null,null,null,null,null,null,"2042-07-24"]
[null,null,null,null,null,null,"2042-07-25"]
[null,null,null,null,null,null,"2042-07-26"]
[null,null,null,null,null,null,"2042-07-27"]
[null,null,null,null,null,null,"2042-07-28"]
[null,null,null,null,null,null,"2042-07-29"]
[null,null,null,null,null,null,"2042-07-30"]
[null,null,null,null,null,null,"2042-07-31"]
[null,null,null,null,null,null,"2042-08-01"]
[null,null,null,null,null,null,"2042-08-02"]
[null,null,null,null,null,null,{"$f":"G9987+1","v":"2042-08-03"}]
[null,null,null,null,null,null,"2042-08-04"]
[null,null,null,null,null,null,"2042-08-05"]
[null,null,null,null,null,null,"2042-08-06"]
[null,null,null,null,null,null,"2042-08-07"]
[null,null,null,null,null,null,"2042-08-08"]
[null,null,null,null,null,null,"2042-08-09"]
[null,null,null,null,null,null,"2042-08-10"]
[null,null,null,null,null,null,"2042-08-11"]
[null,null,null,null,null,null,"2042-08-12"]
[null,null,null,null,null,null,"2042-08-13"]
[null,null,null,null,null,null,"2042-08-14"]
[null,null,null,null,null,null,"2042-08-15"]
[null,null,null,null,null,null,"2042-08-16"]
[null,null,null,null,null,null,"2042-08-17"]
[null,null,null,null,null,null,"2042-08-18"]
[null,null,null,null,null,null,"2042-08-19"]
[null,null,null,null,null,null,"2042-08-20"]
[null,null,null,null,null,null,"2042-08-21"]
[null,null,null,null,null,null,"2042-08-22"]
[null,null,null,null,null,null,"2042-08-23"]
[null,null,null,null,null,null,"2042-08-24"]
[null,null,null,null,null,null,"2042-08-25"]
[null,null,null,null,null,null,"2042-08-26"]
[null,null,null,null,null,null,"2042-08-27"]
[null,null,null,null,null,null,"2042-08-28"]
[null,null,null,null,null,null,"2042-08-29"]
[null,null,null,null,null,null,"2042-08-30"]
[null,null,null,null,null,null,"2042-08-31"]
[null,null,null,null,null,null,"2042-09-01"]
[null,null,null,null,null,null,"2042-09-02"]
[null,null,null,null,null,null,"2042-09-03"]
[null,null,null,null,null,null,"2042-09-04"]
[null,null,null,null,null,null,"2042-09-05"]
[null,null,null,null,null,null,"2042-09-06"]
[null,null,null,null,null,null,"2042-09-07"]
[null,null,null,null,null,null,"2042-09-08"]
[null,null,null,null,null,null,"2042-09-09"]
[null,null,null,null,null,null,"2042-09-10"]
[null,null,null,null,null,null,"2042-09-11"]
[null,null,null,null,null,null,"2042-09-12"]
[null,null,null,null,null,null,"2042-09-13"]
[null,null,null,null,null,null,"2042-09-14"]
[null,null,null,null,null,null,"2042-09-15"]
[null,null,null,null,null,null,"2042-09-16"]
[null,null,null,null,null,null,"2042-09-17"]
[null,null,null,null,null,null,"2042-09-18"]
[null,null,null,null,null,null,"2042-09-19"]
[null,null,null,null,null,null,"2042-09-20"]
[null,null,null,null,null,null,"2042-09-21"]
[null,null,null,null,null,null,"2042-09-22"]
[null,null,null,null,null,null,"2042-09-23"]
[null,null,null,null,null,null,"2042-09-24"]
[null,null,null,null,null,null,"2042-09-25"]
[null,null,null,null,null,null,"2042-09-26"]
[null,null,null,null,null,null,"2042-09-27"]
[null,null,null,null,null,null,"2042-09-28"]
[null,null,null,null,null,null,"2042-09-29"]
[null,null,null,null,null,null,"2042-09-30"]
[null,null,null,null,null,null,"2042-10-01"]
[null,null,null,null,null,null,"2042-10-02"]
[null,null,null,null,null,null,"2042-10-03"]
[null,null,null,null,null,null,"2042-10-04"]
[null,null,null,null,null,null,"2042-10-05"]
[null,null,null,null,null,null,{"$f":"G10051+1","v":"2042-10-06"}]
[null,null,null,null,null,null,"2042-10-07"]
[null,null,null,null,null,null,"2042-10-08"]
[null,null,null,null,null,null,"2042-10-09"]
[null,null,null,null,null,null,"2042-10-10"]
[null,null,null,null,null,null,"2042-10-11"]
[null,null,null,null,null,null,"2042-10-12"]
[null,null,null,null,null,null,"2042-10-13"]
[null,null,null,null,null,null,"2042-10-14"]
[null,null,null,null,null,null,"2042-10-15"]
[null,null,null,null,null,null,"2042-10-16"]
[null,null,null,null,null,null,"2042-10-17"]
[null,null,null,null,null,null,"2042-10-18"]
[null,null,null,null,null,null,"2042-10-19"]
[null,null,null,null,null,null,"2042-10-20"]
[null,null,null,null,null,null,"2042-10-21"]
[null,null,null,null,null,null,"2042-10-22"]
[null,null,null,null,null,null,"2042-10-23"]
[null,null,null,null,null,null,"2042-10-24"]
[null,null,null,null,null,null,"2042-10-25"]
[null,null,null,null,null,null,"2042-10-26"]
[null,null,null,null,null,null,"2042-10-27"]
[null,null,null,null,null,null,"2042-10-28"]
[null,null,null,null,null,null,"2042-10-29"]
[null,null,null,null,null,null,"2042-10-30"]
[null,null,null,null,null,null,"2042-10-31"]
[null,null,null,null,null,null,"2042-11-01"]
[null,null,null,null,null,null,"2042-11-02"]
[null,null,null,null,null,null,"2042-11-03"]
[null,null,null,null,null,null,"2042-11-04"]
[null,null,null,null,null,null,"2042-11-05"]
[null,null,null,null,null,null,"2042-11-06"]
[null,null,null,null,null,null,"2042-11-07"]
[null,null,null,null,null,null,"2042-11-08"]
[null,null,null,null,null,null,"2042-11-09"]
[null,null,null,null,null,null,"2042-11-10"]
[null,null,null,null,null,null,"2042-11-11"]
[null,null,null,null,null,null,"2042-11-12"]
[null,null,null,null,null,null,"2042-11-13"]
[null,null,null,null,null,null,"2042-11-14"]
[null,null,null,null,null,null,"2042-11-15"]
[null,null,null,null,null,null,"2042-11-16"]
[null,null,null,null,null,null,"2042-11-17"]
[null,null,null,null,null,null,"2042-11-18"]
[null,null,null,null,null,null,"2042-11-19"]
[null,null,null,null,null,null,"2042-11-20"]
[null,null,null,null,null,null,"2042-11-21"]
[null,null,null,null,null,null,"2042-11-22"]
[null,null,null,null,null,null,"2042-11-23"]
[null,null,null,null,null,null,"2042-11-24"]
[null,null,null,null,null,null,"2042-11-25"]
[null,null,null,null,null,null,"2042-11-26"]
[null,null,null,null,null,null,"2042-11-27"]
[null,null,null,null,null,null,"2042-11-28"]
[null,null,null,null,null,null,"2042-11-29"]
[null,null,null,null,null,null,"2042-11-30"]
[null,null,null,null,null,null,"2042-12-01"]
[null,null,null,null,null,null,"2042-12-02"]
[null,null,null,null,null,null,"2042-12-03"]
[null,null,null,null,null,null,"2042-12-04"]
[null,null,null,null,null,null,"2042-12-05"]
[null,null,null,null,null,null,"2042-12-06"]
[null,null,null,null,null,null,"2042-12-07"]
[null,null,null,null,null,null,"2042-12-08"]
[null,null,null,null,null,null,{"$f":"G10115+1","v":"2042-12-09"}]
[null,null,null,null,null,null,"2042-12-10"]
[null,null,null,null,null,null,"2042-12-11"]
[null,null,null,null,null,null,"2042-12-12"]
[null,null,null,null,null,null,"2042-12-13"]
[null,null,null,null,null,null,"2042-12-14"]
[null,null,null,null,null,null,"2042-12-15"]
[null,null,null,null,null,null,"2042-12-16"]
[null,null,null,null,null,null,"2042-12-17"]
[null,null,null,null,null,null,"2042-12-18"]
[null,null,null,null,null,null,"2042-12-19"]
[null,null,null,null,null,null,"2042-12-20"]
[null,null,null,null,null,null,"2042-12-21"]
[null,null,null,null,null,null,"2042-12-22"]
[null,null,null,null,null,null,"2042-12-23"]
[null,null,null,null,null,null,"2042-12-24"]
[null,null,null,null,null,null,"2042-12-25"]
[null,null,null,null,null,null,"2042-12-26"]
[null,null,null,null,null,null,"2042-12-27"]
[null,null,null,null,null,null,"2042-12-28"]
[null,null,null,null,null,null,"2042-12-29"]
[null,null,null,null,null,null,"2042-12-30"]
[null,null,null,null,null,null,"2042-12-31"]
[null,null,null,null,null,null,"2043-01-01"]
[null,null,null,null,null,null,"2043-01-02"]
[null,null,null,null,null,null,"2043-01-03"]
[null,null,null,null,null,null,"2043-01-04"]
[null,null,null,null,null,null,"2043-01-05"]
[null,null,null,null,null,null,"2043-01-06"]
[null,null,null,null,null,null,"2043-01-07"]
[null,null,null,null,null,null,"2043-01-08"]
[null,null,null,null,null,null,"2043-01-09"]
[null,null,null,null,null,null,"2043-01-10"]
[null,null,null,null,null,null,"2043-01-11"]
[null,null,null,null,null,null,"2043-01-12"]
[null,null,null,null,null,null,"2043-01-13"]
[null,null,null,null,null,null,"2043-01-14"]
[null,null,null,null,null,null,"2043-01-15"]
[null,null,null,null,null,null,"2043-01-16"]
[null,null,null,null,null,null,"2043-01-17"]
[null,null,null,null,null,null,"2043-01-18"]
[null,null,null,null,null,null,"2043-01-19"]
[null,null,null,null,null,null,"2043-01-20"]
[null,null,null,null,null,null,"2043-01-21"]
[null,null,null,null,null,null,"2043-01-22"]
[null,null,null,null,null,null,"2043-01-23"]
[null,null,null,null,null,null,"2043-01-24"]
[null,null,null,null,null,null,"2043-01-25"]
[null,null,null,null,null,null,"2043-01-26"]
[null,null,null,null,null,null,"2043-01-27"]
[null,null,null,null,null,null,"2043-01-28"]
[null,null,null,null,null,null,"2043-01-29"]
[null,null,null,null,null,null,"2043-01-30"]
[null,null,null,null,null,null,"2043-01-31"]
[null,null,null,null,null,null,"2043-02-01"]
[null,null,null,null,null,null,"2043-02-02"]
[null,null,null,null,null,null,"2043-02-03"]
[null,null,null,null,null,null,"2043-02-04"]
[null,null,null,null,null,null,"2043-02-05"]
[null,null,null,null,null,null,"2043-02-06"]
[null,null,null,null,null,null,"2043-02-07"]
[null,null,null,null,null,null,"2043-02-08"]
[null,null,null,null,null,null,"2043-02-09"]
[null,null,null,null,null,null,"2043-02-10"]
[null,null,null,null,null,null,{"$f":"G10179+1","v":"2043-02-11"}]
[null,null,null,null,null,null,"2043-02-12"]
[null,null,null,null,null,null,"2043-02-13"]
[null,null,null,null,null,null,"2043-02-14"]
[null,null,null,null,null,null,"2043-02-15"]
[null,null,null,null,null,null,"2043-02-16"]
[null,null,null,null,null,null,"2043-02-17"]
[null,null,null,null,null,null,"2043-02-18"]
[null,null,null,null,null,null,"2043-02-19"]
[null,null,null,null,null,null,"2043-02-20"]
[null,null,null,null,null,null,"2043-02-21"]
[null,null,null,null,null,null,"2043-02-22"]
[null,null,null,null,null,null,"2043-02-23"]
[null,null,null,null,null,null,"2043-02-24"]
[null,null,null,null,null,null,"2043-02-25"]
[null,null,null,null,null,null,"2043-02-26"]
[null,null,null,null,null,null,"2043-02-27"]
[null,null,null,null,null,null,"2043-02-28"]
[null,null,null,null,null,null,"2043-03-01"]
[null,null,null,null,null,null,"2043-03-02"]
[null,null,null,null,null,null,"2043-03-03"]
[null,null,null,null,null,null,"2043-03-04"]
[null,null,null,null,null,null,"2043-03-05"]
[null,null,null,null,null,null,"2043-03-06"]
[null,null,null,null,null,null,"2043-03-07"]
[null,null,null,null,null,null,"2043-03-08"]
[null,null,null,null,null,null,"2043-03-09"]
[null,null,null,null,null,null,"2043-03-10"]
[null,null,null,null,null,null,"2043-03-11"]
[null,null,null,null,null,null,"2043-03-12"]
[null,null,null,null,null,null,"2043-03-13"]
[null,null,null,null,null,null,"2043-03-14"]
[null,null,null,null,null,null,"2043-03-15"]
[null,null,null,null,null,null,"2043-03-16"]
[null,null,null,null,null,null,"2043-03-17"]
[null,null,null,null,null,null,"2043-03-18"]
[null,null,null,null,null,null,"2043-03-19"]
[null,null,null,null,null,null,"2043-03-20"]
[null,null,null,null,null,null,"2043-03-21"]
[null,null,null,null,null,null,"2043-03-22"]
[null,null,null,null,null,null,"2043-03-23"]
[null,null,null,null,null,null,"2043-03-24"]
[null,null,null,null,null,null,"2043-03-25"]
[null,null,null,null,null,null,"2043-03-26"]
[null,null,null,null,null,null,"2043-03-27"]
[null,null,null,null,null,null,"2043-03-28"]
[null,null,null,null,null,null,"2043-03-29"]
[null,null,null,null,null,null,"2043-03-30"]
[null,null,null,null,null,null,"2043-03-31"]
[null,null,null,null,null,null,"2043-04-01"]
[null,null,null,null,null,null,"2043-04-02"]
[null,null,null,null,null,null,"2043-04-03"]
[null,null,null,null,null,null,"2043-04-04"]
[null,null,null,null,null,null,"2043-04-05"]
[null,null,null,null,null,null,"2043-04-06"]
[null,null,null,null,null,null,"2043-04-07"]
[null,null,null,null,null,null,"2043-04-08"]
[null,null,null,null,null,null,"2043-04-09"]
[null,null,null,null,null,null,"2043-04-10"]
[null,null,null,null,null,null,"2043-04-11"]
[null,null,null,null,null,null,"2043-04-12"]
[null,null,null,null,null,null,"2043-04-13"]
[null,null,null,null,null,null,"2043-04-14"]
[null,null,null,null,null,null,"2043-04-15"]
[null,null,null,null,null,null,{"$f":"G10243+1","v":"2043-04-16"}]
[null,null,null,null,null,null,"2043-04-17"]
[null,null,null,null,null,null,"2043-04-18"]
[null,null,null,null,null,null,"2043-04-19"]
[null,null,null,null,null,null,"2043-04-20"]
[null,null,null,null,null,null,"2043-04-21"]
[null,null,null,null,null,null,"2043-04-22"]
[null,null,null,null,null,null,"2043-04-23"]
[null,null,null,null,null,null,"2043-04-24"]
[null,null,null,null,null,null,"2043-04-25"]
[null,null,null,null,null,null,"2043-04-26"]
[null,null,null,null,null,null,"2043-04-27"]
[null,null,null,null,null,null,"2043-04-28"]
[null,null,null,null,null,null,"2043-04-29"]
[null,null,null,null,null,null,"2043-04-30"]
[null,null,null,null,null,null,"2043-05-01"]
[null,null,null,null,null,null,"2043-05-02"]
[null,null,null,null,null,null,"2043-05-03"]
[null,null,null,null,null,null,"2043-05-04"]
[null,null,null,null,null,null,"2043-05-05"]
[null,null,null,null,null,null,"2043-05-06"]
[null,null,null,null,null,null,"2043-05-07"]
[null,null,null,null,null,null,"2043-05-08"]
[null,null,null,null,null,null,"2043-05-09"]
[null,null,null,null,null,null,"2043-05-10"]
[null,null,null,null,null,null,"2043-05-11"]
[null,null,null,null,null,null,"2043-05-12"]
[null,null,null,null,null,null,"2043-05-13"]
[null,null,null,null,null,null,"2043-05-14"]
[null,null,null,null,null,null,"2043-05-15"]
[null,null,null,null,null,null,"2043-05-16"]
[null,null,null,null,null,null,"2043-05-17"]
[null,null,null,null,null,null,"2043-05-18"]
[null,null,null,null,null,null,"2043-05-19"]
[null,null,null,null,null,null,"2043-05-20"]
[null,null,null,null,null,null,"2043-05-21"]
[null,null,null,null,null,null,"2043-05-22"]
[null,null,null,null,null,null,"2043-05-23"]
[null,null,null,null,null,null,"2043-05-24"]
[null,null,null,null,null,null,"2043-05-25"]
[null,null,null,null,null,null,"2043-05-26"]
[null,null,null,null,null,null,"2043-05-27"]
[null,null,null,null,null,null,"2043-05-28"]
[null,null,null,null,null,null,"2043-05-29"]
[null,null,null,null,null,null,"2043-05-30"]
[null,null,null,null,null,null,"2043-05-31"]
[null,null,null,null,null,null,"2043-06-01"]
[null,null,null,null,null,null,"2043-06-02"]
[null,null,null,null,null,null,"2043-06-03"]
[null,null,null,null,null,null,"2043-06-04"]
[null,null,null,null,null,null,"2043-06-05"]
[null,null,null,null,null,null,"2043-06-06"]
[null,null,null,null,null,null,"2043-06-07"]
[null,null,null,null,null,null,"2043-06-08"]
[null,null,null,null,null,null,"2043-06-09"]
[null,null,null,null,null,null,"2043-06-10"]
[null,null,null,null,null,null,"2043-06-11"]
[null,null,null,null,null,null,"2043-06-12"]
[null,null,null,null,null,null,"2043-06-13"]
[null,null,null,null,null,null,"2043-06-14"]
[null,null,null,null,null,null,"2043-06-15"]
[null,null,null,null,null,null,"2043-06-16"]
[null,null,null,null,null,null,"2043-06-17"]
[null,null,null,null,null,null,"2043-06-18"]
[null,null,null,null,null,null,{"$f":"G10307+1","v":"2043-06-19"}]
[null,null,null,null,null,null,"2043-06-20"]
[null,null,null,null,null,null,"2043-06-21"]
[null,null,null,null,null,null,"2043-06-22"]
[null,null,null,null,null,null,"2043-06-23"]
[null,null,null,null,null,null,"2043-06-24"]
[null,null,null,null,null,null,"2043-06-25"]
[null,null,null,null,null,null,"2043-06-26"]
[null,null,null,null,null,null,"2043-06-27"]
[null,null,null,null,null,null,"2043-06-28"]
[null,null,null,null,null,null,"2043-06-29"]
[null,null,null,null,null,null,"2043-06-30"]
[null,null,null,null,null,null,"2043-07-01"]
[null,null,null,null,null,null,"2043-07-02"]
[null,null,null,null,null,null,"2043-07-03"]
[null,null,null,null,null,null,"2043-07-04"]
[null,null,null,null,null,null,"2043-07-05"]
[null,null,null,null,null,null,"2043-07-06"]
[null,null,null,null,null,null,"2043-07-07"]
[null,null,null,null,null,null,"2043-07-08"]
[null,null,null,null,null,null,"2043-07-09"]
[null,null,null,null,null,null,"2043-07-10"]
[null,null,null,null,null,null,"2043-07-11"]
[null,null,null,null,null,null,"2043-07-12"]
[null,null,null,null,null,null,"2043-07-13"]
[null,null,null,null,null,null,"2043-07-14"]
[null,null,null,null,null,null,"2043-07-15"]
[null,null,null,null,null,null,"2043-07-16"]
[null,null,null,null,null,null,"2043-07-17"]
[null,null,null,null,null,null,"2043-07-18"]
[null,null,null,null,null,null,"2043-07-19"]
[null,null,null,null,null,null,"2043-07-20"]
[null,null,null,null,null,null,"2043-07-21"]
[null,null,null,null,null,null,"2043-07-22"]
[null,null,null,null,null,null,"2043-07-23"]
[null,null,null,null,null,null,"2043-07-24"]
[null,null,null,null,null,null,"2043-07-25"]
[null,null,null,null,null,null,"2043-07-26"]
[null,null,null,null,null,null,"2043-07-27"]
[null,null,null,null,null,null,"2043-07-28"]
[null,null,null,null,null,null,"2043-07-29"]
[null,null,null,null,null,null,"2043-07-30"]
[null,null,null,null,null,null,"2043-07-31"]
[null,null,null,null,null,null,"2043-08-01"]
[null,null,null,null,null,null,"2043-08-02"]
[null,null,null,null,null,null,"2043-08-03"]
[null,null,null,null,null,null,"2043-08-04"]
[null,null,null,null,null,null,"2043-08-05"]
[null,null,null,null,null,null,"2043-08-06"]
[null,null,null,null,null,null,"2043-08-07"]
[null,null,null,null,null,null,"2043-08-08"]
[null,null,null,null,null,null,"2043-08-09"]
[null,null,null,null,null,null,"2043-08-10"]
[null,null,null,null,null,null,"2043-08-11"]
[null,null,null,null,null,null,"2043-08-12"]
[null,null,null,null,null,null,"2043-08-13"]
[null,null,null,null,null,null,"2043-08-14"]
[null,null,null,null,null,null,"2043-08-15"]
[null,null,null,null,null,null,"2043-08-16"]
[null,null,null,null,null,null,"2043-08-17"]
[null,null,null,null,null,null,"2043-08-18"]
[null,null,null,null,null,null,"2043-08-19"]
[null,null,null,null,null,null,"2043-08-20"]
[null,null,null,null,null,null,"2043-08-21"]
[null,null,null,null,null,null,{"$f":"G10371+1","v":"2043-08-22"}]
[null,null,null,null,null,null,"2043-08-23"]
[null,null,null,null,null,null,"2043-08-24"]
[null,null,null,null,null,null,"2043-08-25"]
[null,null,null,null,null,null,"2043-08-26"]
[null,null,null,null,null,null,"2043-08-27"]
[null,null,null,null,null,null,"2043-08-28"]
[null,null,null,null,null,null,"2043-08-29"]
[null,null,null,null,null,null,"2043-08-30"]
[null,null,null,null,null,null,"2043-08-31"]
[null,null,null,null,null,null,"2043-09-01"]
[null,null,null,null,null,null,"2043-09-02"]
[null,null,null,null,null,null,"2043-09-03"]
[null,null,null,null,null,null,"2043-09-04"]
[null,null,null,null,null,null,"2043-09-05"]
[null,null,null,null,null,null,"2043-09-06"]
[null,null,null,null,null,null,"2043-09-07"]
[null,null,null,null,null,null,"2043-09-08"]
[null,null,null,null,null,null,"2043-09-09"]
[null,null,null,null,null,null,"2043-09-10"]
[null,null,null,null,null,null,"2043-09-11"]
[null,null,null,null,null,null,"2043-09-12"]
[null,null,null,null,null,null,"2043-09-13"]
[null,null,null,null,null,null,"2043-09-14"]
[null,null,null,null,null,null,"2043-09-15"]
[null,null,null,null,null,null,"2043-09-16"]
[null,null,null,null,null,null,"2043-09-17"]
[null,null,null,null,null,null,"2043-09-18"]
[null,null,null,null,null,null,"2043-09-19"]
[null,null,null,null,null,null,"2043-09-20"]
[null,null,null,null,null,null,"2043-09-21"]
[null,null,null,null,null,null,"2043-09-22"]
[null,null,null,null,null,null,"2043-09-23"]
[null,null,null,null,null,null,"2043-09-24"]
[null,null,null,null,null,null,"2043-09-25"]
[null,null,null,null,null,null,"2043-09-26"]
[null,null,null,null,null,null,"2043-09-27"]
[null,null,null,null,null,null,"2043-09-28"]
[null,null,null,null,null,null,"2043-09-29"]
[null,null,null,null,null,null,"2043-09-30"]
[null,null,null,null,null,null,"2043-10-01"]
[null,null,null,null,null,null,"2043-10-02"]
[null,null,null,null,null,null,"2043-10-03"]
[null,null,null,null,null,null,"2043-10-04"]
[null,null,null,null,null,null,"2043-10-05"]
[null,null,null,null,null,null,"2043-10-06"]
[null,null,null,null,null,null,"2043-10-07"]
[null,null,null,null,null,null,"2043-10-08"]
[null,null,null,null,null,null,"2043-10-09"]
[null,null,null,null,null,null,"2043-10-10"]
[null,null,null,null,null,null,"2043-10-11"]
[null,null,null,null,null,null,"2043-10-12"]
[null,null,null,null,null,null,"2043-10-13"]
[null,null,null,null,null,null,"2043-10-14"]
[null,null,null,null,null,null,"2043-10-15"]
[null,null,null,null,null,null,"2043-10-16"]
[null,null,null,null,null,null,"2043-10-17"]
[null,null,null,null,null,null,"2043-10-18"]
[null,null,null,null,null,null,"2043-10-19"]
[null,null,null,null,null,null,"2043-10-20"]
[null,null,null,null,null,null,"2043-10-21"]
[null,null,null,null,null,null,"2043-10-22"]
[null,null,null,null,null,null,"2043-10-23"]
[null,null,null,null,null,null,"2043-10-24"]
[null,null,null,null,null,null,{"$f":"G10435+1","v":"2043-10-25"}]
[null,null,null,null,null,null,"2043-10-26"]
[null,null,null,null,null,null,"2043-10-27"]
[null,null,null,null,null,null,"2043-10-28"]
[null,null,null,null,null,null,"2043-10-29"]
[null,null,null,null,null,null,"2043-10-30"]
[null,null,null,null,null,null,"2043-10-31"]
[null,null,null,null,null,null,"2043-11-01"]
[null,null,null,null,null,null,"2043-11-02"]
[null,null,null,null,null,null,"2043-11-03"]
[null,null,null,null,null,null,"2043-11-04"]
[null,null,null,null,null,null,"2043-11-05"]
[null,null,null,null,null,null,"2043-11-06"]
[null,null,null,null,null,null,"2043-11-07"]
[null,null,null,null,null,null,"2043-11-08"]
[null,null,null,null,null,null,"2043-11-09"]
[null,null,null,null,null,null,"2043-11-10"]
[null,null,null,null,null,null,"2043-11-11"]
[null,null,null,null,null,null,"2043-11-12"]
[null,null,null,null,null,null,"2043-11-13"]
[null,null,null,null,null,null,"2043-11-14"]
[null,null,null,null,null,null,"2043-11-15"]
[null,null,null,null,null,null,"2043-11-16"]
[null,null,null,null,null,null,"2043-11-17"]
[null,null,null,null,null,null,"2043-11-18"]
[null,null,null,null,null,null,"2043-11-19"]
[null,null,null,null,null,null,"2043-11-20"]
[null,null,null,null,null,null,"2043-11-21"]
[null,null,null,null,null,null,"2043-11-22"]
[null,null,null,null,null,null,"2043-11-23"]
[null,null,null,null,null,null,"2043-11-24"]
[null,null,null,null,null,null,"2043-11-25"]
[null,null,null,null,null,null,"2043-11-26"]
[null,null,null,null,null,null,"2043-11-27"]
[null,null,null,null,null,null,"2043-11-28"]
[null,null,null,null,null,null,"2043-11-29"]
[null,null,null,null,null,null,"2043-11-30"]
[null,null,null,null,null,null,"2043-12-01"]
[null,null,null,null,null,null,"2043-12-02"]
[null,null,null,null,null,null,"2043-12-03"]
[null,null,null,null,null,null,"2043-12-04"]
[null,null,null,null,null,null,"2043-12-05"]
[null,null,null,null,null,null,"2043-12-06"]
[null,null,null,null,null,null,"2043-12-07"]
[null,null,null,null,null,null,"2043-12-08"]
[null,null,null,null,null,null,"2043-12-09"]
[null,null,null,null,null,null,"2043-12-10"]
[null,null,null,null,null,null,"2043-12-11"]
[null,null,null,null,null,null,"2043-12-12"]
[null,null,null,null,null,null,"2043-12-13"]
[null,null,null,null,null,null,"2043-12-14"]
[null,null,null,null,null,null,"2043-12-15"]
[null,null,null,null,null,null,"2043-12-16"]
[null,null,null,null,null,null,"2043-12-17"]
[null,null,null,null,null,null,"2043-12-18"]
[null,null,null,null,null,null,"2043-12-19"]
[null,null,null,null,null,null,"2043-12-20"]
[null,null,null,null,null,null,"2043-12-21"]
[null,null,null,null,null,null,"2043-12-22"]
[null,null,null,null,null,null,"2043-12-23"]
[null,null,null,null,null,null,"2043-12-24"]
[null,null,null,null,null,null,"2043-12-25"]
[null,null,null,null,null,null,"2043-12-26"]
[null,null,null,null,null,null,"2043-12-27"]
[null,null,null,null,null,null,{"$f":"G10499+1","v":"2043-12-28"}]
[null,null,null,null,null,null,"2043-12-29"]
[null,null,null,null,null,null,"2043-12-30"]
[null,null,null,null,null,null,"2043-12-31"]
[null,null,null,null,null,null,"2044-01-01"]
[null,null,null,null,null,null,"2044-01-02"]
[null,null,null,null,null,null,"2044-01-03"]
[null,null,null,null,null,null,"2044-01-04"]
[null,null,null,null,null,null,"2044-01-05"]
[null,null,null,null,null,null,"2044-01-06"]
[null,null,null,null,null,null,"2044-01-07"]
[null,null,null,null,null,null,"2044-01-08"]
[null,null,null,null,null,null,"2044-01-09"]
[null,null,null,null,null,null,"2044-01-10"]
[null,null,null,null,null,null,"2044-01-11"]
[null,null,null,null,null,null,"2044-01-12"]
[null,null,null,null,null,null,"2044-01-13"]
[null,null,null,null,null,null,"2044-01-14"]
[null,null,null,null,null,null,"2044-01-15"]
[null,null,null,null,null,null,"2044-01-16"]
[null,null,null,null,null,null,"2044-01-17"]
[null,null,null,null,null,null,"2044-01-18"]
[null,null,null,null,null,null,"2044-01-19"]
[null,null,null,null,null,null,"2044-01-20"]
[null,null,null,null,null,null,"2044-01-21"]
[null,null,null,null,null,null,"2044-01-22"]
[null,null,null,null,null,null,"2044-01-23"]
[null,null,null,null,null,null,"2044-01-24"]
[null,null,null,null,null,null,"2044-01-25"]
[null,null,null,null,null,null,"2044-01-26"]
[null,null,null,null,null,null,"2044-01-27"]
[null,null,null,null,null,null,"2044-01-28"]
[null,null,null,null,null,null,"2044-01-29"]
[null,null,null,null,null,null,"2044-01-30"]
[null,null,null,null,null,null,"2044-01-31"]
[null,null,null,null,null,null,"2044-02-01"]
[null,null,null,null,null,null,"2044-02-02"]
[null,null,null,null,null,null,"2044-02-03"]
[null,null,null,null,null,null,"2044-02-04"]
[null,null,null,null,null,null,"2044-02-05"]
[null,null,null,null,null,null,"2044-02-06"]
[null,null,null,null,null,null,"2044-02-07"]
[null,null,null,null,null,null,"2044-02-08"]
[null,null,null,null,null,null,"2044-02-09"]
[null,null,null,null,null,null,"2044-02-10"]
[null,null,null,null,null,null,"2044-02-11"]
[null,null,null,null,null,null,"2044-02-12"]
[null,null,null,null,null,null,"2044-02-13"]
[null,null,null,null,null,null,"2044-02-14"]
[null,null,null,null,null,null,"2044-02-15"]
[null,null,null,null,null,null,"2044-02-16"]
[null,null,null,null,null,null,"2044-02-17"]
[null,null,null,null,null,null,"2044-02-18"]
[null,null,null,null,null,null,"2044-02-19"]
[null,null,null,null,null,null,"2044-02-20"]
[null,null,null,null,null,null,"2044-02-21"]
[null,null,null,null,null,null,"2044-02-22"]
[null,null,null,null,null,null,"2044-02-23"]
[null,null,null,null,null,null,"2044-02-24"]
[null,null,null,null,null,null,"2044-02-25"]
[null,null,null,null,null,null,"2044-02-26"]
[null,null,null,null,null,null,"2044-02-27"]
[null,null,null,null,null,null,"2044-02-28"]
[null,null,null,null,null,null,"2044-02-29"]
[null,null,null,null,null,null,{"$f":"G10563+1","v":"2044-03-01"}]
[null,null,null,null,null,null,"2044-03-02"]
[null,null,null,null,null,null,"2044-03-03"]
[null,null,null,null,null,null,"2044-03-04"]
[null,null,null,null,null,null,"2044-03-05"]
[null,null,null,null,null,null,"2044-03-06"]
[null,null,null,null,null,null,"2044-03-07"]
[null,null,null,null,null,null,"2044-03-08"]
[null,null,null,null,null,null,"2044-03-09"]
[null,null,null,null,null,null,"2044-03-10"]
[null,null,null,null,null,null,"2044-03-11"]
[null,null,null,null,null,null,"2044-03-12"]
[null,null,null,null,null,null,"2044-03-13"]
[null,null,null,null,null,null,"2044-03-14"]
[null,null,null,null,null,null,"2044-03-15"]
[null,null,null,null,null,null,"2044-03-16"]
[null,null,null,null,null,null,"2044-03-17"]
[null,null,null,null,null,null,"2044-03-18"]
[null,null,null,null,null,null,"2044-03-19"]
[null,null,null,null,null,null,"2044-03-20"]
[null,null,null,null,null,null,"2044-03-21"]
[null,null,null,null,null,null,"2044-03-22"]
[null,null,null,null,null,null,"2044-03-23"]
[null,null,null,null,null,null,"2044-03-24"]
[null,null,null,null,null,null,"2044-03-25"]
[null,null,null,null,null,null,"2044-03-26"]
[null,null,null,null,null,null,"2044-03-27"]
[null,null,null,null,null,null,"2044-03-28"]
[null,null,null,null,null,null,"2044-03-29"]
[null,null,null,null,null,null,"2044-03-30"]
[null,null,null,null,null,null,"2044-03-31"]
[null,null,null,null,null,null,"2044-04-01"]
[null,null,null,null,null,null,"2044-04-02"]
[null,null,null,null,null,null,"2044-04-03"]
[null,null,null,null,null,null,"2044-04-04"]
[null,null,null,null,null,null,"2044-04-05"]
[null,null,null,null,null,null,"2044-04-06"]
[null,null,null,null,null,null,"2044-04-07"]
[null,null,null,null,null,null,"2044-04-08"]
[null,null,null,null,null,null,"2044-04-09"]
[null,null,null,null,null,null,"2044-04-10"]
[null,null,null,null,null,null,"2044-04-11"]
[null,null,null,null,null,null,"2044-04-12"]
[null,null,null,null,null,null,"2044-04-13"]
[null,null,null,null,null,null,"2044-04-14"]
[null,null,null,null,null,null,"2044-04-15"]
[null,null,null,null,null,null,"2044-04-16"]
[null,null,null,null,null,null,"2044-04-17"]
[null,null,null,null,null,null,"2044-04-18"]
[null,null,null,null,null,null,"2044-04-19"]
[null,null,null,null,null,null,"2044-04-20"]
[null,null,null,null,null,null,"2044-04-21"]
[null,null,null,null,null,null,"2044-04-22"]
[null,null,null,null,null,null,"2044-04-23"]
[null,null,null,null,null,null,"2044-04-24"]
[null,null,null,null,null,null,"2044-04-25"]
[null,null,null,null,null,null,"2044-04-26"]
[null,null,null,null,null,null,"2044-04-27"]
[null,null,null,null,null,null,"2044-04-28"]
[null,null,null,null,null,null,"2044-04-29"]
[null,null,null,null,null,null,"2044-04-30"]
[null,null,null,null,null,null,"2044-05-01"]
[null,null,null,null,null,null,"2044-05-02"]
[null,null,null,null,null,null,"2044-05-03"]
[null,null,null,null,null,null,{"$f":"G10627+1","v":"2044-05-04"}]
[null,null,null,null,null,null,"2044-05-05"]
[null,null,null,null,null,null,"2044-05-06"]
[null,null,null,null,null,null,"2044-05-07"]
[null,null,null,null,null,null,"2044-05-08"]
[null,null,null,null,null,null,"2044-05-09"]
[null,null,null,null,null,null,"2044-05-10"]
[null,null,null,null,null,null,"2044-05-11"]
[null,null,null,null,null,null,"2044-05-12"]
[null,null,null,null,null,null,"2044-05-13"]
[null,null,null,null,null,null,"2044-05-14"]
[null,null,null,null,null,null,"2044-05-15"]
[null,null,null,null,null,null,"2044-05-16"]
[null,null,null,null,null,null,"2044-05-17"]
[null,null,null,null,null,null,"2044-05-18"]
[null,null,null,null,null,null,"2044-05-19"]
[null,null,null,null,null,null,"2044-05-20"]
[null,null,null,null,null,null,"2044-05-21"]
[null,null,null,null,null,null,"2044-05-22"]
[null,null,null,null,null,null,"2044-05-23"]
[null,null,null,null,null,null,"2044-05-24"]
[null,null,null,null,null,null,"2044-05-25"]
[null,null,null,null,null,null,"2044-05-26"]
[null,null,null,null,null,null,"2044-05-27"]
[null,null,null,null,null,null,"2044-05-28"]
[null,null,null,null,null,null,"2044-05-29"]
[null,null,null,null,null,null,"2044-05-30"]
[null,null,null,null,null,null,"2044-05-31"]
[null,null,null,null,null,null,"2044-06-01"]
[null,null,null,null,null,null,"2044-06-02"]
[null,null,null,null,null,null,"2044-06-03"]
[null,null,null,null,null,null,"2044-06-04"]
[null,null,null,null,null,null,"2044-06-05"]
[null,null,null,null,null,null,"2044-06-06"]
[null,null,null,null,null,null,"2044-06-07"]
[null,null,null,null,null,null,"2044-06-08"]
[null,null,null,null,null,null,"2044-06-09"]
[null,null,null,null,null,null,"2044-06-10"]
[null,null,null,null,null,null,"2044-06-11"]
[null,null,null,null,null,null,"2044-06-12"]
[null,null,null,null,null,null,"2044-06-13"]
[null,null,null,null,null,null,"2044-06-14"]
[null,null,null,null,null,null,"2044-06-15"]
[null,null,null,null,null,null,"2044-06-16"]
[null,null,null,null,null,null,"2044-06-17"]
[null,null,null,null,null,null,"2044-06-18"]
[null,null,null,null,null,null,"2044-06-19"]
[null,null,null,null,null,null,"2044-06-20"]
[null,null,null,null,null,null,"2044-06-21"]
[null,null,null,null,null,null,"2044-06-22"]
[null,null,null,null,null,null,"2044-06-23"]
[null,null,null,null,null,null,"2044-06-24"]
[null,null,null,null,null,null,"2044-06-25"]
[null,null,null,null,null,null,"2044-06-26"]
[null,null,null,null,null,null,"2044-06-27"]
[null,null,null,null,null,null,"2044-06-28"]
[null,null,null,null,null,null,"2044-06-29"]
[null,null,null,null,null,null,"2044-06-30"]
[null,null,null,null,null,null,"2044-07-01"]
[null,null,null,null,null,null,"2044-07-02"]
[null,null,null,null,null,null,"2044-07-03"]
[null,null,null,null,null,null,"2044-07-04"]
[null,null,null,null,null,null,"2044-07-05"]
[null,null,null,null,null,null,"2044-07-06"]
[null,null,null,null,null,null,{"$f":"G10691+1","v":"2044-07-07"}]
[null,null,null,null,null,null,"2044-07-08"]
[null,null,null,null,null,null,"2044-07-09"]
[null,null,null,null,null,null,"2044-07-10"]
[null,null,null,null,null,null,"2044-07-11"]
[null,null,null,null,null,null,"2044-07-12"]
[null,null,null,null,null,null,"2044-07-13"]
[null,null,null,null,null,null,"2044-07-14"]
[null,null,null,null,null,null,"2044-07-15"]
[null,null,null,null,null,null,"2044-07-16"]
[null,null,null,null,null,null,"2044-07-17"]
[null,null,null,null,null,null,"2044-07-18"]
[null,null,null,null,null,null,"2044-07-19"]
[null,null,null,null,null,null,"2044-07-20"]
[null,null,null,null,null,null,"2044-07-21"]
[null,null,null,null,null,null,"2044-07-22"]
[null,null,null,null,null,null,"2044-07-23"]
[null,null,null,null,null,null,"2044-07-24"]
[null,null,null,null,null,null,"2044-07-25"]
[null,null,null,null,null,null,"2044-07-26"]
[null,null,null,null,null,null,"2044-07-27"]
[null,null,null,null,null,null,"2044-07-28"]
[null,null,null,null,null,null,"2044-07-29"]
[null,null,null,null,null,null,"2044-07-30"]
[null,null,null,null,null,null,"2044-07-31"]
[null,null,null,null,null,null,"2044-08-01"]
[null,null,null,null,null,null,"2044-08-02"]
[null,null,null,null,null,null,"2044-08-03"]
[null,null,null,null,null,null,"2044-08-04"]
[null,null,null,null,null,null,"2044-08-05"]
[null,null,null,null,null,null,"2044-08-06"]
[null,null,null,null,null,null,"2044-08-07"]
[null,null,null,null,null,null,"2044-08-08"]
[null,null,null,null,null,null,"2044-08-09"]
[null,null,null,null,null,null,"2044-08-10"]
[null,null,null,null,null,null,"2044-08-11"]
[null,null,null,null,null,null,"2044-08-12"]
[null,null,null,null,null,null,"2044-08-13"]
[null,null,null,null,null,null,"2044-08-14"]
[null,null,null,null,null,null,"2044-08-15"]
[null,null,null,null,null,null,"2044-08-16"]
[null,null,null,null,null,null,"2044-08-17"]
[null,null,null,null,null,null,"2044-08-18"]
[null,null,null,null,null,null,"2044-08-19"]
[null,null,null,null,null,null,"2044-08-20"]
[null,null,null,null,null,null,"2044-08-21"]
[null,null,null,null,null,null,"2044-08-22"]
[null,null,null,null,null,null,"2044-08-23"]
[null,null,null,null,null,null,"2044-08-24"]
[null,null,null,null,null,null,"2044-08-25"]
[null,null,null,null,null,null,"2044-08-26"]
[null,null,null,null,null,null,"2044-08-27"]
[null,null,null,null,null,null,"2044-08-28"]
[null,null,null,null,null,null,"2044-08-29"]
[null,null,null,null,null,null,"2044-08-30"]
[null,null,null,null,null,null,"2044-08-31"]
[null,null,null,null,null,null,"2044-09-01"]
[null,null,null,null,null,null,"2044-09-02"]
[null,null,null,null,null,null,"2044-09-03"]
[null,null,null,null,null,null,"2044-09-04"]
[null,null,null,null,null,null,"2044-09-05"]
[null,null,null,null,null,null,"2044-09-06"]
[null,null,null,null,null,null,"2044-09-07"]
[null,null,null,null,null,null,"2044-09-08"]
[null,null,null,null,null,null,{"$f":"G10755+1","v":"2044-09-09"}]
[null,null,null,null,null,null,"2044-09-10"]
[null,null,null,null,null,null,"2044-09-11"]
[null,null,null,null,null,null,"2044-09-12"]
[null,null,null,null,null,null,"2044-09-13"]
[null,null,null,null,null,null,"2044-09-14"]
[null,null,null,null,null,null,"2044-09-15"]
[null,null,null,null,null,null,"2044-09-16"]
[null,null,null,null,null,null,"2044-09-17"]
[null,null,null,null,null,null,"2044-09-18"]
[null,null,null,null,null,null,"2044-09-19"]
[null,null,null,null,null,null,"2044-09-20"]
[null,null,null,null,null,null,"2044-09-21"]
[null,null,null,null,null,null,"2044-09-22"]
[null,null,null,null,null,null,"2044-09-23"]
[null,null,null,null,null,null,"2044-09-24"]
[null,null,null,null,null,null,"2044-09-25"]
[null,null,null,null,null,null,"2044-09-26"]
[null,null,null,null,null,null,"2044-09-27"]
[null,null,null,null,null,null,"2044-09-28"]
[null,null,null,null,null,null,"2044-09-29"]
[null,null,null,null,null,null,"2044-09-30"]
[null,null,null,null,null,null,"2044-10-01"]
[null,null,null,null,null,null,"2044-10-02"]
[null,null,null,null,null,null,"2044-10-03"]
[null,null,null,null,null,null,"2044-10-04"]
[null,null,null,null,null,null,"2044-10-05"]
[null,null,null,null,null,null,"2044-10-06"]
[null,null,null,null,null,null,"2044-10-07"]
[null,null,null,null,null,null,"2044-10-08"]
[null,null,null,null,null,null,"2044-10-09"]
[null,null,null,null,null,null,"2044-10-10"]
[null,null,null,null,null,null,"2044-10-11"]
[null,null,null,null,null,null,"2044-10-12"]
[null,null,null,null,null,null,"2044-10-13"]
[null,null,null,null,null,null,"2044-10-14"]
[null,null,null,null,null,null,"2044-10-15"]
[null,null,null,null,null,null,"2044-10-16"]
[null,null,null,null,null,null,"2044-10-17"]
[null,null,null,null,null,null,"2044-10-18"]
[null,null,null,null,null,null,"2044-10-19"]
[null,null,null,null,null,null,"2044-10-20"]
[null,null,null,null,null,null,"2044-10-21"]
[null,null,null,null,null,null,"2044-10-22"]
[null,null,null,null,null,null,"2044-10-23"]
[null,null,null,null,null,null,"2044-10-24"]
[null,null,null,null,null,null,"2044-10-25"]
[null,null,null,null,null,null,"2044-10-26"]
[null,null,null,null,null,null,"2044-10-27"]
[null,null,null,null,null,null,"2044-10-28"]
[null,null,null,null,null,null,"2044-10-29"]
[null,null,null,null,null,null,"2044-10-30"]
[null,null,null,null,null,null,"2044-10-31"]
[null,null,null,null,null,null,"2044-11-01"]
[null,null,null,null,null,null,"2044-11-02"]
[null,null,null,null,null,null,"2044-11-03"]
[null,null,null,null,null,null,"2044-11-04"]
[null,null,null,null,null,null,"2044-11-05"]
[null,null,null,null,null,null,"2044-11-06"]
[null,null,null,null,null,null,"2044-11-07"]
[null,null,null,null,null,null,"2044-11-08"]
[null,null,null,null,null,null,"2044-11-09"]
[null,null,null,null,null,null,"2044-11-10"]
[null,null,null,null,null,null,"2044-11-11"]
[null,null,null,null,null,null,{"$f":"G10819+1","v":"2044-11-12"}]
[null,null,null,null,null,null,"2044-11-13"]
[null,null,null,null,null,null,"2044-11-14"]
[null,null,null,null,null,null,"2044-11-15"]
[null,null,null,null,null,null,"2044-11-16"]
[null,null,null,null,null,null,"2044-11-17"]
[null,null,null,null,null,null,"2044-11-18"]
[null,null,null,null,null,null,"2044-11-19"]
[null,null,null,null,null,null,"2044-11-20"]
[null,null,null,null,null,null,"2044-11-21"]
[null,null,null,null,null,null,"2044-11-22"]
[null,null,null,null,null,null,"2044-11-23"]
[null,null,null,null,null,null,"2044-11-24"]
[null,null,null,null,null,null,"2044-11-25"]
[null,null,null,null,null,null,"2044-11-26"]
[null,null,null,null,null,null,"2044-11-27"]
[null,null,null,null,null,null,"2044-11-28"]
[null,null,null,null,null,null,"2044-11-29"]
[null,null,null,null,null,null,"2044-11-30"]
[null,null,null,null,null,null,"2044-12-01"]
[null,null,null,null,null,null,"2044-12-02"]
[null,null,null,null,null,null,"2044-12-03"]
[null,null,null,null,null,null,"2044-12-04"]
[null,null,null,null,null,null,"2044-12-05"]
[null,null,null,null,null,null,"2044-12-06"]
[null,null,null,null,null,null,"2044-12-07"]
[null,null,null,null,null,null,"2044-12-08"]
[null,null,null,null,null,null,"2044-12-09"]
[null,null,null,null,null,null,"2044-12-10"]
[null,null,null,null,null,null,"2044-12-11"]
[null,null,null,null,null,null,"2044-12-12"]
[null,null,null,null,null,null,"2044-12-13"]
[null,null,null,null,null,null,"2044-12-14"]
[null,null,null,null,null,null,"2044-12-15"]
[null,null,null,null,null,null,"2044-12-16"]
[null,null,null,null,null,null,"2044-12-17"]
[null,null,null,null,null,null,"2044-12-18"]
[null,null,null,null,null,null,"2044-12-19"]
[null,null,null,null,null,null,"2044-12-20"]
[null,null,null,null,null,null,"2044-12-21"]
[null,null,null,null,null,null,"2044-12-22"]
[null,null,null,null,null,null,"2044-12-23"]
[null,null,null,null,null,null,"2044-12-24"]
[null,null,null,null,null,null,"2044-12-25"]
[null,null,null,null,null,null,"2044-12-26"]
[null,null,null,null,null,null,"2044-12-27"]
[null,null,null,null,null,null,"2044-12-28"]
[null,null,null,null,null,null,"2044-12-29"]
[null,null,null,null,null,null,"2044-12-30"]
[null,null,null,null,null,null,"2044-12-31"]
[null,null,null,null,null,null,"2045-01-01"]
[null,null,null,null,null,null,"2045-01-02"]
[null,null,null,null,null,null,"2045-01-03"]
[null,null,null,null,null,null,"2045-01-04"]
[null,null,null,null,null,null,"2045-01-05"]
[null,null,null,null,null,null,"2045-01-06"]
[null,null,null,null,null,null,"2045-01-07"]
[null,null,null,null,null,null,"2045-01-08"]
[null,null,null,null,null,null,"2045-01-09"]
[null,null,null,null,null,null,"2045-01-10"]
[null,null,null,null,null,null,"2045-01-11"]
[null,null,null,null,null,null,"2045-01-12"]
[null,null,null,null,null,null,"2045-01-13"]
[null,null,null,null,null,null,"2045-01-14"]
[null,null,null,null,null,null,{"$f":"G10883+1","v":"2045-01-15"}]
[null,null,null,null,null,null,"2045-01-16"]
[null,null,null,null,null,null,"2045-01-17"]
[null,null,null,null,null,null,"2045-01-18"]
[null,null,null,null,null,null,"2045-01-19"]
[null,null,null,null,null,null,"2045-01-20"]
[null,null,null,null,null,null,"2045-01-21"]
[null,null,null,null,null,null,"2045-01-22"]
[null,null,null,null,null,null,"2045-01-23"]
[null,null,null,null,null,null,"2045-01-24"]
[null,null,null,null,null,null,"2045-01-25"]
[null,null,null,null,null,null,"2045-01-26"]
[null,null,null,null,null,null,"2045-01-27"]
[null,null,null,null,null,null,"2045-01-28"]
[null,null,null,null,null,null,"2045-01-29"]
[null,null,null,null,null,null,"2045-01-30"]
[null,null,null,null,null,null,"2045-01-31"]
[null,null,null,null,null,null,"2045-02-01"]
[null,null,null,null,null,null,"2045-02-02"]
[null,null,null,null,null,null,"2045-02-03"]
[null,null,null,null,null,null,"2045-02-04"]
[null,null,null,null,null,null,"2045-02-05"]
[null,null,null,null,null,null,"2045-02-06"]
[null,null,null,null,null,null,"2045-02-07"]
[null,null,null,null,null,null,"2045-02-08"]
[null,null,null,null,null,null,"2045-02-09"]
[null,null,null,null,null,null,"2045-02-10"]
[null,null,null,null,null,null,"2045-02-11"]
[null,null,null,null,null,null,"2045-02-12"]
[null,null,null,null,null,null,"2045-02-13"]
[null,null,null,null,null,null,"2045-02-14"]
[null,null,null,null,null,null,"2045-02-15"]
[null,null,null,null,null,null,"2045-02-16"]
[null,null,null,null,null,null,"2045-02-17"]
[null,null,null,null,null,null,"2045-02-18"]
[null,null,null,null,null,null,"2045-02-19"]
[null,null,null,null,null,null,"2045-02-20"]
[null,null,null,null,null,null,"2045-02-21"]
[null,null,null,null,null,null,"2045-02-22"]
[null,null,null,null,null,null,"2045-02-23"]
[null,null,null,null,null,null,"2045-02-24"]
[null,null,null,null,null,null,"2045-02-25"]
[null,null,null,null,null,null,"2045-02-26"]
[null,null,null,null,null,null,"2045-02-27"]
[null,null,null,null,null,null,"2045-02-28"]
[null,null,null,null,null,null,"2045-03-01"]
[null,null,null,null,null,null,"2045-03-02"]
[null,null,null,null,null,null,"2045-03-03"]
[null,null,null,null,null,null,"2045-03-04"]
[null,null,null,null,null,null,"2045-03-05"]
[null,null,null,null,null,null,"2045-03-06"]
[null,null,null,null,null,null,"2045-03-07"]
[null,null,null,null,null,null,"2045-03-08"]
[null,null,null,null,null,null,"2045-03-09"]
[null,null,null,null,null,null,"2045-03-10"]
[null,null,null,null,null,null,"2045-03-11"]
[null,null,null,null,null,null,"2045-03-12"]
[null,null,null,null,null,null,"2045-03-13"]
[null,null,null,null,null,null,"2045-03-14"]
[null,null,null,null,null,null,"2045-03-15"]
[null,null,null,null,null,null,"2045-03-16"]
[null,null,null,null,null,null,"2045-03-17"]
[null,null,null,null,null,null,"2045-03-18"]
[null,null,null,null,null,null,"2045-03-19"]
[null,null,null,null,null,null,{"$f":"G10947+1","v":"2045-03-20"}]
[null,null,null,null,null,null,"2045-03-21"]
[null,null,null,null,null,null,"2045-03-22"]
[null,null,null,null,null,null,"2045-03-23"]
[null,null,null,null,null,null,"2045-03-24"]
[null,null,null,null,null,null,"2045-03-25"]
[null,null,null,null,null,null,"2045-03-26"]
[null,null,null,null,null,null,"2045-03-27"]
[null,null,null,null,null,null,"2045-03-28"]
[null,null,null,null,null,null,"2045-03-29"]
[null,null,null,null,null,null,"2045-03-30"]
[null,null,null,null,null,null,"2045-03-31"]
[null,null,null,null,null,null,"2045-04-01"]
[null,null,null,null,null,null,"2045-04-02"]
[null,null,null,null,null,null,"2045-04-03"]
[null,null,null,null,null,null,"2045-04-04"]
[null,null,null,null,null,null,"2045-04-05"]
[null,null,null,null,null,null,"2045-04-06"]
[null,null,null,null,null,null,"2045-04-07"]
[null,null,null,null,null,null,"2045-04-08"]
[null,null,null,null,null,null,"2045-04-09"]
[null,null,null,null,null,null,"2045-04-10"]
[null,null,null,null,null,null,"2045-04-11"]
[null,null,null,null,null,null,"2045-04-12"]
[null,null,null,null,null,null,"2045-04-13"]
[null,null,null,null,null,null,"2045-04-14"]
[null,null,null,null,null,null,"2045-04-15"]
[null,null,null,null,null,null,"2045-04-16"]
[null,null,null,null,null,null,"2045-04-17"]
[null,null,null,null,null,null,"2045-04-18"]
[null,null,null,null,null,null,"2045-04-19"]
[null,null,null,null,null,null,"2045-04-20"]
[null,null,null,null,null,null,"2045-04-21"]
[null,null,null,null,null,null,"2045-04-22"]
[null,null,null,null,null,null,"2045-04-23"]
[null,null,null,null,null,null,"2045-04-24"]
[null,null,null,null,null,null,"2045-04-25"]
[null,null,null,null,null,null,"2045-04-26"]
[null,null,null,null,null,null,"2045-04-27"]
[null,null,null,null,null,null,"2045-04-28"]
[null,null,null,null,null,null,"2045-04-29"]
[null,null,null,null,null,null,"2045-04-30"]
[null,null,null,null,null,null,"2045-05-01"]
[null,null,null,null,null,null,"2045-05-02"]
[null,null,null,null,null,null,"2045-05-03"]
[null,null,null,null,null,null,"2045-05-04"]
[null,null,null,null,null,null,"2045-05-05"]
[null,null,null,null,null,null,"2045-05-06"]
[null,null,null,null,null,null,"2045-05-07"]
[null,null,null,null,null,null,"2045-05-08"]
[null,null,null,null,null,null,"2045-05-09"]
[null,null,null,null,null,null,"2045-05-10"]
[null,null,null,null,null,null,"2045-05-11"]
[null,null,null,null,null,null,"2045-05-12"]
[null,null,null,null,null,null,"2045-05-13"]
[null,null,null,null,null,null,"2045-05-14"]
[null,null,null,null,null,null,"2045-05-15"]
[null,null,null,null,null,null,"2045-05-16"]
[null,null,null,null,null,null,"2045-05-17"]
[null,null,null,null,null,null,"2045-05-18"]
[null,null,null,null,null,null,"2045-05-19"]
[null,null,null,null,null,null,"2045-05-20"]
[null,null,null,null,null,null,"2045-05-21"]
[null,null,null,null,null,null,"2045-05-22"]
[null,null,null,null,null,null,{"$f":"G11011+1","v":"2045-05-23"}]
[null,null,null,null,null,null,"2045-05-24"]
[null,null,null,null,null,null,"2045-05-25"]
[null,null,null,null,null,null,"2045-05-26"]
[null,null,null,null,null,null,"2045-05-27"]
[null,null,null,null,null,null,"2045-05-28"]
[null,null,null,null,null,null,"2045-05-29"]
[null,null,null,null,null,null,"2045-05-30"]
[null,null,null,null,null,null,"2045-05-31"]
[null,null,null,null,null,null,"2045-06-01"]
[null,null,null,null,null,null,"2045-06-02"]
[null,null,null,null,null,null,"2045-06-03"]
[null,null,null,null,null,null,"2045-06-04"]
[null,null,null,null,null,null,"2045-06-05"]
[null,null,null,null,null,null,"2045-06-06"]
[null,null,null,null,null,null,"2045-06-07"]
[null,null,null,null,null,null,"2045-06-08"]
[null,null,null,null,null,null,"2045-06-09"]
[null,null,null,null,null,null,"2045-06-10"]
[null,null,null,null,null,null,"2045-06-11"]
[null,null,null,null,null,null,"2045-06-12"]
[null,null,null,null,null,null,"2045-06-13"]
[null,null,null,null,null,null,"2045-06-14"]
[null,null,null,null,null,null,"2045-06-15"]
[null,null,null,null,null,null,"2045-06-16"]
[null,null,null,null,null,null,"2045-06-17"]
[null,null,null,null,null,null,"2045-06-18"]
[null,null,null,null,null,null,"2045-06-19"]
[null,null,null,null,null,null,"2045-06-20"]
[null,null,null,null,null,null,"2045-06-21"]
[null,null,null,null,null,null,"2045-06-22"]
[null,null,null,null,null,null,"2045-06-23"]
[null,null,null,null,null,null,"2045-06-24"]
[null,null,null,null,null,null,"2045-06-25"]
[null,null,null,null,null,null,"2045-06-26"]
[null,null,null,null,null,null,"2045-06-27"]
[null,null,null,null,null,null,"2045-06-28"]
[null,null,null,null,null,null,"2045-06-29"]
[null,null,null,null,null,null,"2045-06-30"]
[null,null,null,null,null,null,"2045-07-01"]
[null,null,null,null,null,null,"2045-07-02"]
[null,null,null,null,null,null,"2045-07-03"]
[null,null,null,null,null,null,"2045-07-04"]
[null,null,null,null,null,null,"2045-07-05"]
[null,null,null,null,null,null,"2045-07-06"]
[null,null,null,null,null,null,"2045-07-07"]
[null,null,null,null,null,null,"2045-07-08"]
[null,null,null,null,null,null,"2045-07-09"]
[null,null,null,null,null,null,"2045-07-10"]
[null,null,null,null,null,null,"2045-07-11"]
[null,null,null,null,null,null,"2045-07-12"]
[null,null,null,null,null,null,"2045-07-13"]
[null,null,null,null,null,null,"2045-07-14"]
[null,null,null,null,null,null,"2045-07-15"]
[null,null,null,null,null,null,"2045-07-16"]
[null,null,null,null,null,null,"2045-07-17"]
[null,null,null,null,null,null,"2045-07-18"]
[null,null,null,null,null,null,"2045-07-19"]
[null,null,null,null,null,null,"2045-07-20"]
[null,null,null,null,null,null,"2045-07-21"]
[null,null,null,null,null,null,"2045-07-22"]
[null,null,null,null,null,null,"2045-07-23"]
[null,null,null,null,null,null,"2045-07-24"]
[null,null,null,null,null,null,"2045-07-25"]
[null,null,null,null,null,null,{"$f":"G11075+1","v":"2045-07-26"}]
[null,null,null,null,null,null,"2045-07-27"]
[null,null,null,null,null,null,"2045-07-28"]
[null,null,null,null,null,null,"2045-07-29"]
[null,null,null,null,null,null,"2045-07-30"]
[null,null,null,null,null,null,"2045-07-31"]
[null,null,null,null,null,null,"2045-08-01"]
[null,null,null,null,null,null,"2045-08-02"]
[null,null,null,null,null,null,"2045-08-03"]
[null,null,null,null,null,null,"2045-08-04"]
[null,null,null,null,null,null,"2045-08-05"]
[null,null,null,null,null,null,"2045-08-06"]
[null,null,null,null,null,null,"2045-08-07"]
[null,null,null,null,null,null,"2045-08-08"]
[null,null,null,null,null,null,"2045-08-09"]
[null,null,null,null,null,null,"2045-08-10"]
[null,null,null,null,null,null,"2045-08-11"]
[null,null,null,null,null,null,"2045-08-12"]
[null,null,null,null,null,null,"2045-08-13"]
[null,null,null,null,null,null,"2045-08-14"]
[null,null,null,null,null,null,"2045-08-15"]
[null,null,null,null,null,null,"2045-08-16"]
[null,null,null,null,null,null,"2045-08-17"]
[null,null,null,null,null,null,"2045-08-18"]
[null,null,null,null,null,null,"2045-08-19"]
[null,null,null,null,null,null,"2045-08-20"]
[null,null,null,null,null,null,"2045-08-21"]
[null,null,null,null,null,null,"2045-08-22"]
[null,null,null,null,null,null,"2045-08-23"]
[null,null,null,null,null,null,"2045-08-24"]
[null,null,null,null,null,null,"2045-08-25"]
[null,null,null,null,null,null,"2045-08-26"]
[null,null,null,null,null,null,"2045-08-27"]
[null,null,null,null,null,null,"2045-08-28"]
[null,null,null,null,null,null,"2045-08-29"]
[null,null,null,null,null,null,"2045-08-30"]
[null,null,null,null,null,null,"2045-08-31"]
[null,null,null,null,null,null,"2045-09-01"]
[null,null,null,null,null,null,"2045-09-02"]
[null,null,null,null,null,null,"2045-09-03"]
[null,null,null,null,null,null,"2045-09-04"]
[null,null,null,null,null,null,"2045-09-05"]
[null,null,null,null,null,null,"2045-09-06"]
[null,null,null,null,null,null,"2045-09-07"]
[null,null,null,null,null,null,"2045-09-08"]
[null,null,null,null,null,null,"2045-09-09"]
[null,null,null,null,null,null,"2045-09-10"]
[null,null,null,null,null,null,"2045-09-11"]
[null,null,null,null,null,null,"2045-09-12"]
[null,null,null,null,null,null,"2045-09-13"]
[null,null,null,null,null,null,"2045-09-14"]
[null,null,null,null,null,null,"2045-09-15"]
[null,null,null,null,null,null,"2045-09-16"]
[null,null,null,null,null,null,"2045-09-17"]
[null,null,null,null,null,null,"2045-09-18"]
[null,null,null,null,null,null,"2045-09-19"]
[null,null,null,null,null,null,"2045-09-20"]
[null,null,null,null,null,null,"2045-09-21"]
[null,null,null,null,null,null,"2045-09-22"]
[null,null,null,null,null,null,"2045-09-23"]
[null,null,null,null,null,null,"2045-09-24"]
[null,null,null,null,null,null,"2045-09-25"]
[null,null,null,null,null,null,"2045-09-26"]
[null,null,null,null,null,null,"2045-09-27"]
[null,null,null,null,null,null,{"$f":"G11139+1","v":"2045-09-28"}]
[null,null,null,null,null,null,"2045-09-29"]
[null,null,null,null,null,null,"2045-09-30"]
[null,null,null,null,null,null,"2045-10-01"]
[null,null,null,null,null,null,"2045-10-02"]
[null,null,null,null,null,null,"2045-10-03"]
[null,null,null,null,null,null,"2045-10-04"]
[null,null,null,null,null,null,"2045-10-05"]
[null,null,null,null,null,null,"2045-10-06"]
[null,null,null,null,null,null,"2045-10-07"]
[null,null,null,null,null,null,"2045-10-08"]
[null,null,null,null,null,null,"2045-10-09"]
[null,null,null,null,null,null,"2045-10-10"]
[null,null,null,null,null,null,"2045-10-11"]
[null,null,null,null,null,null,"2045-10-12"]
[null,null,null,null,null,null,"2045-10-13"]
[null,null,null,null,null,null,"2045-10-14"]
[null,null,null,null,null,null,"2045-10-15"]
[null,null,null,null,null,null,"2045-10-16"]
[null,null,null,null,null,null,"2045-10-17"]
[null,null,null,null,null,null,"2045-10-18"]
[null,null,null,null,null,null,"2045-10-19"]
[null,null,null,null,null,null,"2045-10-20"]
[null,null,null,null,null,null,"2045-10-21"]
[null,null,null,null,null,null,"2045-10-22"]
[null,null,null,null,null,null,"2045-10-23"]
[null,null,null,null,null,null,"2045-10-24"]
[null,null,null,null,null,null,"2045-10-25"]
[null,null,null,null,null,null,"2045-10-26"]
[null,null,null,null,null,null,"2045-10-27"]
[null,null,null,null,null,null,"2045-10-28"]
[null,null,null,null,null,null,"2045-10-29"]
[null,null,null,null,null,null,"2045-10-30"]
[null,null,null,null,null,null,"2045-10-31"]
[null,null,null,null,null,null,"2045-11-01"]
[null,null,null,null,null,null,"2045-11-02"]
[null,null,null,null,null,null,"2045-11-03"]
[null,null,null,null,null,null,"2045-11-04"]
[null,null,null,null,null,null,"2045-11-05"]
[null,null,null,null,null,null,"2045-11-06"]
[null,null,null,null,null,null,"2045-11-07"]
[null,null,null,null,null,null,"2045-11-08"]
[null,null,null,null,null,null,"2045-11-09"]
[null,null,null,null,null,null,"2045-11-10"]
[null,null,null,null,null,null,"2045-11-11"]
[null,null,null,null,null,null,"2045-11-12"]
[null,null,null,null,null,null,"2045-11-13"]
[null,null,null,null,null,null,"2045-11-14"]
[null,null,null,null,null,null,"2045-11-15"]
[null,null,null,null,null,null,"2045-11-16"]
[null,null,null,null,null,null,"2045-11-17"]
[null,null,null,null,null,null,"2045-11-18"]
[null,null,null,null,null,null,"2045-11-19"]
[null,null,null,null,null,null,"2045-11-20"]
[null,null,null,null,null,null,"2045-11-21"]
[null,null,null,null,null,null,"2045-11-22"]
[null,null,null,null,null,null,"2045-11-23"]
[null,null,null,null,null,null,"2045-11-24"]
[null,null,null,null,null,null,"2045-11-25"]
[null,null,null,null,null,null,"2045-11-26"]
[null,null,null,null,null,null,"2045-11-27"]
[null,null,null,null,null,null,"2045-11-28"]
[null,null,null,null,null,null,"2045-11-29"]
[null,null,null,null,null,null,"2045-11-30"]
[null,null,null,null,null,null,{"$f":"G11203+1","v":"2045-12-01"}]
[null,null,null,null,null,null,"2045-12-02"]
[null,null,null,null,null,null,"2045-12-03"]
[null,null,null,null,null,null,"2045-12-04"]
[null,null,null,null,null,null,"2045-12-05"]
[null,null,null,null,null,null,"2045-12-06"]
[null,null,null,null,null,null,"2045-12-07"]
[null,null,null,null,null,null,"2045-12-08"]
[null,null,null,null,null,null,"2045-12-09"]
[null,null,null,null,null,null,"2045-12-10"]
[null,null,null,null,null,null,"2045-12-11"]
[null,null,null,null,null,null,"2045-12-12"]
[null,null,null,null,null,null,"2045-12-13"]
[null,null,null,null,null,null,"2045-12-14"]
[null,null,null,null,null,null,"2045-12-15"]
[null,null,null,null,null,null,"2045-12-16"]
[null,null,null,null,null,null,"2045-12-17"]
[null,null,null,null,null,null,"2045-12-18"]
[null,null,null,null,null,null,"2045-12-19"]
[null,null,null,null,null,null,"2045-12-20"]
[null,null,null,null,null,null,"2045-12-21"]
[null,null,null,null,null,null,"2045-12-22"]
[null,null,null,null,null,null,"2045-12-23"]
[null,null,null,null,null,null,"2045-12-24"]
[null,null,null,null,null,null,"2045-12-25"]
[null,null,null,null,null,null,"2045-12-26"]
[null,null,null,null,null,null,"2045-12-27"]
[null,null,null,null,null,null,"2045-12-28"]
[null,null,null,null,null,null,"2045-12-29"]
[null,null,null,null,null,null,"2045-12-30"]
[null,null,null,null,null,null,"2045-12-31"]
[null,null,null,null,null,null,"2046-01-01"]
[null,null,null,null,null,null,"2046-01-02"]
[null,null,null,null,null,null,"2046-01-03"]
[null,null,null,null,null,null,"2046-01-04"]
[null,null,null,null,null,null,"2046-01-05"]
[null,null,null,null,null,null,"2046-01-06"]
[null,null,null,null,null,null,"2046-01-07"]
[null,null,null,null,null,null,"2046-01-08"]
[null,null,null,null,null,null,"2046-01-09"]
[null,null,null,null,null,null,"2046-01-10"]
[null,null,null,null,null,null,"2046-01-11"]
[null,null,null,null,null,null,"2046-01-12"]
[null,null,null,null,null,null,"2046-01-13"]
[null,null,null,null,null,null,"2046-01-14"]
[null,null,null,null,null,null,"2046-01-15"]
[null,null,null,null,null,null,"2046-01-16"]
[null,null,null,null,null,null,"2046-01-17"]
[null,null,null,null,null,null,"2046-01-18"]
[null,null,null,null,null,null,"2046-01-19"]
[null,null,null,null,null,null,"2046-01-20"]
[null,null,null,null,null,null,"2046-01-21"]
[null,null,null,null,null,null,"2046-01-22"]
[null,null,null,null,null,null,"2046-01-23"]
[null,null,null,null,null,null,"2046-01-24"]
[null,null,null,null,null,null,"2046-01-25"]
[null,null,null,null,null,null,"2046-01-26"]
[null,null,null,null,null,null,"2046-01-27"]
[null,null,null,null,null,null,"2046-01-28"]
[null,null,null,null,null,null,"2046-01-29"]
[null,null,null,null,null,null,"2046-01-30"]
[null,null,null,null,null,null,"2046-01-31"]
[null,null,null,null,null,null,"2046-02-01"]
[null,null,null,null,null,null,"2046-02-02"]
[null,null,null,null,null,null,{"$f":"G11267+1","v":"2046-02-03"}]
[null,null,null,null,null,null,"2046-02-04"]
[null,null,null,null,null,null,"2046-02-05"]
[null,null,null,null,null,null,"2046-02-06"]
[null,null,null,null,null,null,"2046-02-07"]
[null,null,null,null,null,null,"2046-02-08"]
[null,null,null,null,null,null,"2046-02-09"]
[null,null,null,null,null,null,"2046-02-10"]
[null,null,null,null,null,null,"2046-02-11"]
[null,null,null,null,null,null,"2046-02-12"]
[null,null,null,null,null,null,"2046-02-13"]
[null,null,null,null,null,null,"2046-02-14"]
[null,null,null,null,null,null,"2046-02-15"]
[null,null,null,null,null,null,"2046-02-16"]
[null,null,null,null,null,null,"2046-02-17"]
[null,null,null,null,null,null,"2046-02-18"]
[null,null,null,null,null,null,"2046-02-19"]
[null,null,null,null,null,null,"2046-02-20"]
[null,null,null,null,null,null,"2046-02-21"]
[null,null,null,null,null,null,"2046-02-22"]
[null,null,null,null,null,null,"2046-02-23"]
[null,null,null,null,null,null,"2046-02-24"]
[null,null,null,null,null,null,"2046-02-25"]
[null,null,null,null,null,null,"2046-02-26"]
[null,null,null,null,null,null,"2046-02-27"]
[null,null,null,null,null,null,"2046-02-28"]
[null,null,null,null,null,null,"2046-03-01"]
[null,null,null,null,null,null,"2046-03-02"]
[null,null,null,null,null,null,"2046-03-03"]
[null,null,null,null,null,null,"2046-03-04"]
[null,null,null,null,null,null,"2046-03-05"]
[null,null,null,null,null,null,"2046-03-06"]
[null,null,null,null,null,null,"2046-03-07"]
[null,null,null,null,null,null,"2046-03-08"]
[null,null,null,null,null,null,"2046-03-09"]
[null,null,null,null,null,null,"2046-03-10"]
[null,null,null,null,null,null,"2046-03-11"]
[null,null,null,null,null,null,"2046-03-12"]
[null,null,null,null,null,null,"2046-03-13"]
[null,null,null,null,null,null,"2046-03-14"]
[null,null,null,null,null,null,"2046-03-15"]
[null,null,null,null,null,null,"2046-03-16"]
[null,null,null,null,null,null,"2046-03-17"]
[null,null,null,null,null,null,"2046-03-18"]
[null,null,null,null,null,null,"2046-03-19"]
[null,null,null,null,null,null,"2046-03-20"]
[null,null,null,null,null,null,"2046-03-21"]
[null,null,null,null,null,null,"2046-03-22"]
[null,null,null,null,null,null,"2046-03-23"]
[null,null,null,null,null,null,"2046-03-24"]
[null,null,null,null,null,null,"2046-03-25"]
[null,null,null,null,null,null,"2046-03-26"]
[null,null,null,null,null,null,"2046-03-27"]
[null,null,null,null,null,null,"2046-03-28"]
[null,null,null,null,null,null,"2046-03-29"]
[null,null,null,null,null,null,"2046-03-30"]
[null,null,null,null,null,null,"2046-03-31"]
[null,null,null,null,null,null,"2046-04-01"]
[null,null,null,null,null,null,"2046-04-02"]
[null,null,null,null,null,null,"2046-04-03"]
[null,null,null,null,null,null,"2046-04-04"]
[null,null,null,null,null,null,"2046-04-05"]
[null,null,null,null,null,null,"2046-04-06"]
[null,null,null,null,null,null,"2046-04-07"]
[null,null,null,null,null,null,{"$f":"G11331+1","v":"2046-04-08"}]
[null,null,null,null,null,null,"2046-04-09"]
[null,null,null,null,null,null,"2046-04-10"]
[null,null,null,null,null,null,"2046-04-11"]
[null,null,null,null,null,null,"2046-04-12"]
[null,null,null,null,null,null,"2046-04-13"]
[null,null,null,null,null,null,"2046-04-14"]
[null,null,null,null,null,null,"2046-04-15"]
[null,null,null,null,null,null,"2046-04-16"]
[null,null,null,null,null,null,"2046-04-17"]
[null,null,null,null,null,null,"2046-04-18"]
[null,null,null,null,null,null,"2046-04-19"]
[null,null,null,null,null,null,"2046-04-20"]
[null,null,null,null,null,null,"2046-04-21"]
[null,null,null,null,null,null,"2046-04-22"]
[null,null,null,null,null,null,"2046-04-23"]
[null,null,null,null,null,null,"2046-04-24"]
[null,null,null,null,null,null,"2046-04-25"]
[null,null,null,null,null,null,"2046-04-26"]
[null,null,null,null,null,null,"2046-04-27"]
[null,null,null,null,null,null,"2046-04-28"]
[null,null,null,null,null,null,"2046-04-29"]
[null,null,null,null,null,null,"2046-04-30"]
[null,null,null,null,null,null,"2046-05-01"]
[null,null,null,null,null,null,"2046-05-02"]
[null,null,null,null,null,null,"2046-05-03"]
[null,null,null,null,null,null,"2046-05-04"]
[null,null,null,null,null,null,"2046-05-05"]
[null,null,null,null,null,null,"2046-05-06"]
[null,null,null,null,null,null,"2046-05-07"]
[null,null,null,null,null,null,"2046-05-08"]
[null,null,null,null,null,null,"2046-05-09"]
[null,null,null,null,null,null,"2046-05-10"]
[null,null,null,null,null,null,"2046-05-11"]
[null,null,null,null,null,null,"2046-05-12"]
[null,null,null,null,null,null,"2046-05-13"]
[null,null,null,null,null,null,"2046-05-14"]
[null,null,null,null,null,null,"2046-05-15"]
[null,null,null,null,null,null,"2046-05-16"]
[null,null,null,null,null,null,"2046-05-17"]
[null,null,null,null,null,null,"2046-05-18"]
[null,null,null,null,null,null,"2046-05-19"]
[null,null,null,null,null,null,"2046-05-20"]
[null,null,null,null,null,null,"2046-05-21"]
[null,null,null,null,null,null,"2046-05-22"]
[null,null,null,null,null,null,"2046-05-23"]
[null,null,null,null,null,null,"2046-05-24"]
[null,null,null,null,null,null,"2046-05-25"]
[null,null,null,null,null,null,"2046-05-26"]
[null,null,null,null,null,null,"2046-05-27"]
[null,null,null,null,null,null,"2046-05-28"]
[null,null,null,null,null,null,"2046-05-29"]
[null,null,null,null,null,null,"2046-05-30"]
[null,null,null,null,null,null,"2046-05-31"]
[null,null,null,null,null,null,"2046-06-01"]
[null,null,null,null,null,null,"2046-06-02"]
[null,null,null,null,null,null,"2046-06-03"]
[null,null,null,null,null,null,"2046-06-04"]
[null,null,null,null,null,null,"2046-06-05"]
[null,null,null,null,null,null,"2046-06-06"]
[null,null,null,null,null,null,"2046-06-07"]
[null,null,null,null,null,null,"2046-06-08"]
[null,null,null,null,null,null,"2046-06-09"]
[null,null,null,null,null,null,"2046-06-10"]
[null,null,null,null,null,null,{"$f":"G11395+1","v":"2046-06-11"}]
[null,null,null,null,null,null,"2046-06-12"]
[null,null,null,null,null,null,"2046-06-13"]
[null,null,null,null,null,null,"2046-06-14"]
[null,null,null,null,null,null,"2046-06-15"]
[null,null,null,null,null,null,"2046-06-16"]
[null,null,null,null,null,null,"2046-06-17"]
[null,null,null,null,null,null,"2046-06-18"]
[null,null,null,null,null,null,"2046-06-19"]
[null,null,null,null,null,null,"2046-06-20"]
[null,null,null,null,null,null,"2046-06-21"]
[null,null,null,null,null,null,"2046-06-22"]
[null,null,null,null,null,null,"2046-06-23"]
[null,null,null,null,null,null,"2046-06-24"]
[null,null,null,null,null,null,"2046-06-25"]
[null,null,null,null,null,null,"2046-06-26"]
[null,null,null,null,null,null,"2046-06-27"]
[null,null,null,null,null,null,"2046-06-28"]
[null,null,null,null,null,null,"2046-06-29"]
[null,null,null,null,null,null,"2046-06-30"]
[null,null,null,null,null,null,"2046-07-01"]
[null,null,null,null,null,null,"2046-07-02"]
[null,null,null,null,null,null,"2046-07-03"]
[null,null,null,null,null,null,"2046-07-04"]
[null,null,null,null,null,null,"2046-07-05"]
[null,null,null,null,null,null,"2046-07-06"]
[null,null,null,null,null,null,"2046-07-07"]
[null,null,null,null,null,null,"2046-07-08"]
[null,null,null,null,null,null,"2046-07-09"]
[null,null,null,null,null,null,"2046-07-10"]
[null,null,null,null,null,null,"2046-07-11"]
[null,null,null,null,null,null,"2046-07-12"]
[null,null,null,null,null,null,"2046-07-13"]
[null,null,null,null,null,null,"2046-07-14"]
[null,null,null,null,null,null,"2046-07-15"]
[null,null,null,null,null,null,"2046-07-16"]
[null,null,null,null,null,null,"2046-07-17"]
[null,null,null,null,null,null,"2046-07-18"]
[null,null,null,null,null,null,"2046-07-19"]
[null,null,null,null,null,null,"2046-07-20"]
[null,null,null,null,null,null,"2046-07-21"]
[null,null,null,null,null,null,"2046-07-22"]
[null,null,null,null,null,null,"2046-07-23"]
[null,null,null,null,null,null,"2046-07-24"]
[null,null,null,null,null,null,"2046-07-25"]
[null,null,null,null,null,null,"2046-07-26"]
[null,null,null,null,null,null,"2046-07-27"]
[null,null,null,null,null,null,"2046-07-28"]
[null,null,null,null,null,null,"2046-07-29"]
[null,null,null,null,null,null,"2046-07-30"]
[null,null,null,null,null,null,"2046-07-31"]
[null,null,null,null,null,null,"2046-08-01"]
[null,null,null,null,null,null,"2046-08-02"]
[null,null,null,null,null,null,"2046-08-03"]
[null,null,null,null,null,null,"2046-08-04"]
[null,null,null,null,null,null,"2046-08-05"]
[null,null,null,null,null,null,"2046-08-06"]
[null,null,null,null,null,null,"2046-08-07"]
[null,null,null,null,null,null,"2046-08-08"]
[null,null,null,null,null,null,"2046-08-09"]
[null,null,null,null,null,null,"2046-08-10"]
[null,null,null,null,null,null,"2046-08-11"]
[null,null,null,null,null,null,"2046-08-12"]
[null,null,null,null,null,null,"2046-08-13"]
[null,null,null,null,null,null,{"$f":"G11459+1","v":"2046-08-14"}]
[null,null,null,null,null,null,"2046-08-15"]
[null,null,null,null,null,null,"2046-08-16"]
[null,null,null,null,null,null,"2046-08-17"]
[null,null,null,null,null,null,"2046-08-18"]
[null,null,null,null,null,null,"2046-08-19"]
[null,null,null,null,null,null,"2046-08-20"]
[null,null,null,null,null,null,"2046-08-21"]
[null,null,null,null,null,null,"2046-08-22"]
[null,null,null,null,null,null,"2046-08-23"]
[null,null,null,null,null,null,"2046-08-24"]
[null,null,null,null,null,null,"2046-08-25"]
[null,null,null,null,null,null,"2046-08-26"]
[null,null,null,null,null,null,"2046-08-27"]
[null,null,null,null,null,null,"2046-08-28"]
[null,null,null,null,null,null,"2046-08-29"]
[null,null,null,null,null,null,"2046-08-30"]
[null,null,null,null,null,null,"2046-08-31"]
[null,null,null,null,null,null,"2046-09-01"]
[null,null,null,null,null,null,"2046-09-02"]
[null,null,null,null,null,null,"2046-09-03"]
[null,null,null,null,null,null,"2046-09-04"]
[null,null,null,null,null,null,"2046-09-05"]
[null,null,null,null,null,null,"2046-09-06"]
[null,null,null,null,null,null,"2046-09-07"]
[null,null,null,null,null,null,"2046-09-08"]
[null,null,null,null,null,null,"2046-09-09"]
[null,null,null,null,null,null,"2046-09-10"]
[null,null,null,null,null,null,"2046-09-11"]
[null,null,null,null,null,null,"2046-09-12"]
[null,null,null,null,null,null,"2046-09-13"]
[null,null,null,null,null,null,"2046-09-14"]
[null,null,null,null,null,null,"2046-09-15"]
[null,null,null,null,null,null,"2046-09-16"]
[null,null,null,null,null,null,"2046-09-17"]
[null,null,null,null,null,null,"2046-09-18"]
[null,null,null,null,null,null,"2046-09-19"]
[null,null,null,null,null,null,"2046-09-20"]
[null,null,null,null,null,null,"2046-09-21"]
[null,null,null,null,null,null,"2046-09-22"]
[null,null,null,null,null,null,"2046-09-23"]
[null,null,null,null,null,null,"2046-09-24"]
[null,null,null,null,null,null,"2046-09-25"]
[null,null,null,null,null,null,"2046-09-26"]
[null,null,null,null,null,null,"2046-09-27"]
[null,null,null,null,null,null,"2046-09-28"]
[null,null,null,null,null,null,"2046-09-29"]
[null,null,null,null,null,null,"2046-09-30"]
[null,null,null,null,null,null,"2046-10-01"]
[null,null,null,null,null,null,"2046-10-02"]
[null,null,null,null,null,null,"2046-10-03"]
[null,null,null,null,null,null,"2046-10-04"]
[null,null,null,null,null,null,"2046-10-05"]
[null,null,null,null,null,null,"2046-10-06"]
[null,null,null,null,null,null,"2046-10-07"]
[null,null,null,null,null,null,"2046-10-08"]
[null,null,null,null,null,null,"2046-10-09"]
[null,null,null,null,null,null,"2046-10-10"]
[null,null,null,null,null,null,"2046-10-11"]
[null,null,null,null,null,null,"2046-10-12"]
[null,null,null,null,null,null,"2046-10-13"]
[null,null,null,null,null,null,"2046-10-14"]
[null,null,null,null,null,null,"2046-10-15"]
[null,null,null,null,null,null,"2046-10-16"]
[null,null,null,null,null,null,{"$f":"G11523+1","v":"2046-10-17"}]
[null,null,null,null,null,null,"2046-10-18"]
[null,null,null,null,null,null,"2046-10-19"]
[null,null,null,null,null,null,"2046-10-20"]
[null,null,null,null,null,null,"2046-10-21"]
[null,null,null,null,null,null,"2046-10-22"]
[null,null,null,null,null,null,"2046-10-23"]
[null,null,null,null,null,null,"2046-10-24"]
[null,null,null,null,null,null,"2046-10-25"]
[null,null,null,null,null,null,"2046-10-26"]
[null,null,null,null,null,null,"2046-10-27"]
[null,null,null,null,null,null,"2046-10-28"]
[null,null,null,null,null,null,"2046-10-29"]
[null,null,null,null,null,null,"2046-10-30"]
[null,null,null,null,null,null,"2046-10-31"]
[null,null,null,null,null,null,"2046-11-01"]
[null,null,null,null,null,null,"2046-11-02"]
[null,null,null,null,null,null,"2046-11-03"]
[null,null,null,null,null,null,"2046-11-04"]
[null,null,null,null,null,null,"2046-11-05"]
[null,null,null,null,null,null,"2046-11-06"]
[null,null,null,null,null,null,"2046-11-07"]
[null,null,null,null,null,null,"2046-11-08"]
[null,null,null,null,null,null,"2046-11-09"]
[null,null,null,null,null,null,"2046-11-10"]
[null,null,null,null,null,null,"2046-11-11"]
[null,null,null,null,null,null,"2046-11-12"]
[null,null,null,null,null,null,"2046-11-13"]
[null,null,null,null,null,null,"2046-11-14"]
[null,null,null,null,null,null,"2046-11-15"]
[null,null,null,null,null,null,"2046-11-16"]
[null,null,null,null,null,null,"2046-11-17"]
[null,null,null,null,null,null,"2046-11-18"]
[null,null,null,null,null,null,"2046-11-19"]
[null,null,null,null,null,null,"2046-11-20"]
[null,null,null,null,null,null,"2046-11-21"]
[null,null,null,null,null,null,"2046-11-22"]
[null,null,null,null,null,null,"2046-11-23"]
[null,null,null,null,null,null,"2046-11-24"]
[null,null,null,null,null,null,"2046-11-25"]
[null,null,null,null,null,null,"2046-11-26"]
[null,null,null,null,null,null,"2046-11-27"]
[null,null,null,null,null,null,"2046-11-28"]
[null,null,null,null,null,null,"2046-11-29"]
[null,null,null,null,null,null,"2046-11-30"]
[null,null,null,null,null,null,"2046-12-01"]
[null,null,null,null,null,null,"2046-12-02"]
[null,null,null,null,null,null,"2046-12-03"]
[null,null,null,null,null,null,"2046-12-04"]
[null,null,null,null,null,null,"2046-12-05"]
[null,null,null,null,null,null,"2046-12-06"]
[null,null,null,null,null,null,"2046-12-07"]
[null,null,null,null,null,null,"2046-12-08"]
[null,null,null,null,null,null,"2046-12-09"]
[null,null,null,null,null,null,"2046-12-10"]
[null,null,null,null,null,null,"2046-12-11"]
[null,null,null,null,null,null,"2046-12-12"]
[null,null,null,null,null,null,"2046-12-13"]
[null,null,null,null,null,null,"2046-12-14"]
[null,null,null,null,null,null,"2046-12-15"]
[null,null,null,null,null,null,"2046-12-16"]
[null,null,null,null,null,null,"2046-12-17"]
[null,null,null,null,null,null,"2046-12-18"]
[null,null,null,null,null,null,"2046-12-19"]
[null,null,null,null,null,null,{"$f":"G11587+1","v":"2046-12-20"}]
[null,null,null,null,null,null,"2046-12-21"]
[null,null,null,null,null,null,"2046-12-22"]
[null,null,null,null,null,null,"2046-12-23"]
[null,null,null,null,null,null,"2046-12-24"]
[null,null,null,null,null,null,"2046-12-25"]
[null,null,null,null,null,null,"2046-12-26"]
[null,null,null,null,null,null,"2046-12-27"]
[null,null,null,null,null,null,"2046-12-28"]
[null,null,null,null,null,null,"2046-12-29"]
[null,null,null,null,null,null,"2046-12-30"]
[null,null,null,null,null,null,"2046-12-31"]
[null,null,null,null,null,null,"2047-01-01"]
[null,null,null,null,null,null,"2047-01-02"]
[null,null,null,null,null,null,"2047-01-03"]
[null,null,null,null,null,null,"2047-01-04"]
[null,null,null,null,null,null,"2047-01-05"]
[null,null,null,null,null,null,"2047-01-06"]
[null,null,null,null,null,null,"2047-01-07"]
[null,null,null,null,null,null,"2047-01-08"]
[null,null,null,null,null,null,"2047-01-09"]
[null,null,null,null,null,null,"2047-01-10"]
[null,null,null,null,null,null,"2047-01-11"]
[null,null,null,null,null,null,"2047-01-12"]
[null,null,null,null,null,null,"2047-01-13"]
[null,null,null,null,null,null,"2047-01-14"]
[null,null,null,null,null,null,"2047-01-15"]
[null,null,null,null,null,null,"2047-01-16"]
[null,null,null,null,null,null,"2047-01-17"]
[null,null,null,null,null,null,"2047-01-18"]
[null,null,null,null,null,null,"2047-01-19"]
[null,null,null,null,null,null,"2047-01-20"]
[null,null,null,null,null,null,"2047-01-21"]
[null,null,null,null,null,null,"2047-01-22"]
[null,null,null,null,null,null,"2047-01-23"]
[null,null,null,null,null,null,"2047-01-24"]
[null,null,null,null,null,null,"2047-01-25"]
[null,null,null,null,null,null,"2047-01-26"]
[null,null,null,null,null,null,"2047-01-27"]
[null,null,null,null,null,null,"2047-01-28"]
[null,null,null,null,null,null,"2047-01-29"]
[null,null,null,null,null,null,"2047-01-30"]
[null,null,null,null,null,null,"2047-01-31"]
[null,null,null,null,null,null,"2047-02-01"]
[null,null,null,null,null,null,"2047-02-02"]
[null,null,null,null,null,null,"2047-02-03"]
[null,null,null,null,null,null,"2047-02-04"]
[null,null,null,null,null,null,"2047-02-05"]
[null,null,null,null,null,null,"2047-02-06"]
[null,null,null,null,null,null,"2047-02-07"]
[null,null,null,null,null,null,"2047-02-08"]
[null,null,null,null,null,null,"2047-02-09"]
[null,null,null,null,null,null,"2047-02-10"]
[null,null,null,null,null,null,"2047-02-11"]
[null,null,null,null,null,null,"2047-02-12"]
[null,null,null,null,null,null,"2047-02-13"]
[null,null,null,null,null,null,"2047-02-14"]
[null,null,null,null,null,null,"2047-02-15"]
[null,null,null,null,null,null,"2047-02-16"]
[null,null,null,null,null,null,"2047-02-17"]
[null,null,null,null,null,null,"2047-02-18"]
[null,null,null,null,null,null,"2047-02-19"]
[null,null,null,null,null,null,"2047-02-20"]
[null,null,null,null,null,null,"2047-02-21"]
[null,null,null,null,null,null,{"$f":"G11651+1","v":"2047-02-22"}]
[null,null,null,null,null,null,"2047-02-23"]
[null,null,null,null,null,null,"2047-02-24"]
[null,null,null,null,null,null,"2047-02-25"]
[null,null,null,null,null,null,"2047-02-26"]
[null,null,null,null,null,null,"2047-02-27"]
[null,null,null,null,null,null,"2047-02-28"]
[null,null,null,null,null,null,"2047-03-01"]
[null,null,null,null,null,null,"2047-03-02"]
[null,null,null,null,null,null,"2047-03-03"]
[null,null,null,null,null,null,"2047-03-04"]
[null,null,null,null,null,null,"2047-03-05"]
[null,null,null,null,null,null,"2047-03-06"]
[null,null,null,null,null,null,"2047-03-07"]
[null,null,null,null,null,null,"2047-03-08"]
[null,null,null,null,null,null,"2047-03-09"]
[null,null,null,null,null,null,"2047-03-10"]
[null,null,null,null,null,null,"2047-03-11"]
[null,null,null,null,null,null,"2047-03-12"]
[null,null,null,null,null,null,"2047-03-13"]
[null,null,null,null,null,null,"2047-03-14"]
[null,null,null,null,null,null,"2047-03-15"]
[null,null,null,null,null,null,"2047-03-16"]
[null,null,null,null,null,null,"2047-03-17"]
[null,null,null,null,null,null,"2047-03-18"]
[null,null,null,null,null,null,"2047-03-19"]
[null,null,null,null,null,null,"2047-03-20"]
[null,null,null,null,null,null,"2047-03-21"]
[null,null,null,null,null,null,"2047-03-22"]
[null,null,null,null,null,null,"2047-03-23"]
[null,null,null,null,null,null,"2047-03-24"]
[null,null,null,null,null,null,"2047-03-25"]
[null,null,null,null,null,null,"2047-03-26"]
[null,null,null,null,null,null,"2047-03-27"]
[null,null,null,null,null,null,"2047-03-28"]
[null,null,null,null,null,null,"2047-03-29"]
[null,null,null,null,null,null,"2047-03-30"]
[null,null,null,null,null,null,"2047-03-31"]
[null,null,null,null,null,null,"2047-04-01"]
[null,null,null,null,null,null,"2047-04-02"]
[null,null,null,null,null,null,"2047-04-03"]
[null,null,null,null,null,null,"2047-04-04"]
[null,null,null,null,null,null,"2047-04-05"]
[null,null,null,null,null,null,"2047-04-06"]
[null,null,null,null,null,null,"2047-04-07"]
[null,null,null,null,null,null,"2047-04-08"]
[null,null,null,null,null,null,"2047-04-09"]
[null,null,null,null,null,null,"2047-04-10"]
[null,null,null,null,null,null,"2047-04-11"]
[null,null,null,null,null,null,"2047-04-12"]
[null,null,null,null,null,null,"2047-04-13"]
[null,null,null,null,null,null,"2047-04-14"]
[null,null,null,null,null,null,"2047-04-15"]
[null,null,null,null,null,null,"2047-04-16"]
[null,null,null,null,null,null,"2047-04-17"]
[null,null,null,null,null,null,"2047-04-18"]
[null,null,null,null,null,null,"2047-04-19"]
[null,null,null,null,null,null,"2047-04-20"]
[null,null,null,null,null,null,"2047-04-21"]
[null,null,null,null,null,null,"2047-04-22"]
[null,null,null,null,null,null,"2047-04-23"]
[null,null,null,null,null,null,"2047-04-24"]
[null,null,null,null,null,null,"2047-04-25"]
[null,null,null,null,null,null,"2047-04-26"]
[null,null,null,null,null,null,{"$f":"G11715+1","v":"2047-04-27"}]
[null,null,null,null,null,null,"2047-04-28"]
[null,null,null,null,null,null,"2047-04-29"]
[null,null,null,null,null,null,"2047-04-30"]
[null,null,null,null,null,null,"2047-05-01"]
[null,null,null,null,null,null,"2047-05-02"]
[null,null,null,null,null,null,"2047-05-03"]
[null,null,null,null,null,null,"2047-05-04"]
[null,null,null,null,null,null,"2047-05-05"]
[null,null,null,null,null,null,"2047-05-06"]
[null,null,null,null,null,null,"2047-05-07"]
[null,null,null,null,null,null,"2047-05-08"]
[null,null,null,null,null,null,"2047-05-09"]
[null,null,null,null,null,null,"2047-05-10"]
[null,null,null,null,null,null,"2047-05-11"]
[null,null,null,null,null,null,"2047-05-12"]
[null,null,null,null,null,null,"2047-05-13"]
[null,null,null,null,null,null,"2047-05-14"]
[null,null,null,null,null,null,"2047-05-15"]
[null,null,null,null,null,null,"2047-05-16"]
[null,null,null,null,null,null,"2047-05-17"]
[null,null,null,null,null,null,"2047-05-18"]
[null,null,null,null,null,null,"2047-05-19"]
[null,null,null,null,null,null,"2047-05-20"]
[null,null,null,null,null,null,"2047-05-21"]
[null,null,null,null,null,null,"2047-05-22"]
[null,null,null,null,null,null,"2047-05-23"]
[null,null,null,null,null,null,"2047-05-24"]
[null,null,null,null,null,null,"2047-05-25"]
[null,null,null,null,null,null,"2047-05-26"]
[null,null,null,null,null,null,"2047-05-27"]
[null,null,null,null,null,null,"2047-05-28"]
[null,null,null,null,null,null,"2047-05-29"]
[null,null,null,null,null,null,"2047-05-30"]
[null,null,null,null,null,null,"2047-05-31"]
[null,null,null,null,null,null,"2047-06-01"]
[null,null,null,null,null,null,"2047-06-02"]
[null,null,null,null,null,null,"2047-06-03"]
[null,null,null,null,null,null,"2047-06-04"]
[null,null,null,null,null,null,"2047-06-05"]
[null,null,null,null,null,null,"2047-06-06"]
[null,null,null,null,null,null,"2047-06-07"]
[null,null,null,null,null,null,"2047-06-08"]
[null,null,null,null,null,null,"2047-06-09"]
[null,null,null,null,null,null,"2047-06-10"]
[null,null,null,null,null,null,"2047-06-11"]
[null,null,null,null,null,null,"2047-06-12"]
[null,null,null,null,null,null,"2047-06-13"]
[null,null,null,null,null,null,"2047-06-14"]
[null,null,null,null,null,null,"2047-06-15"]
[null,null,null,null,null,null,"2047-06-16"]
[null,null,null,null,null,null,"2047-06-17"]
[null,null,null,null,null,null,"2047-06-18"]
[null,null,null,null,null,null,"2047-06-19"]
[null,null,null,null,null,null,"2047-06-20"]
[null,null,null,null,null,null,"2047-06-21"]
[null,null,null,null,null,null,"2047-06-22"]
[null,null,null,null,null,null,"2047-06-23"]
[null,null,null,null,null,null,"2047-06-24"]
[null,null,null,null,null,null,"2047-06-25"]
[null,null,null,null,null,null,"2047-06-26"]
[null,null,null,null,null,null,"2047-06-27"]
[null,null,null,null,null,null,"2047-06-28"]
[null,null,null,null,null,null,"2047-06-29"]
[null,null,null,null,null,null,{"$f":"G11779+1","v":"2047-06-30"}]
[null,null,null,null,null,null,"2047-07-01"]
[null,null,null,null,null,null,"2047-07-02"]
[null,null,null,null,null,null,"2047-07-03"]
[null,null,null,null,null,null,"2047-07-04"]
[null,null,null,null,null,null,"2047-07-05"]
[null,null,null,null,null,null,"2047-07-06"]
[null,null,null,null,null,null,"2047-07-07"]
[null,null,null,null,null,null,"2047-07-08"]
[null,null,null,null,null,null,"2047-07-09"]
[null,null,null,null,null,null,"2047-07-10"]
[null,null,null,null,null,null,"2047-07-11"]
[null,null,null,null,null,null,"2047-07-12"]
[null,null,null,null,null,null,"2047-07-13"]
[null,null,null,null,null,null,"2047-07-14"]
[null,null,null,null,null,null,"2047-07-15"]
[null,null,null,null,null,null,"2047-07-16"]
[null,null,null,null,null,null,"2047-07-17"]
[null,null,null,null,null,null,"2047-07-18"]
[null,null,null,null,null,null,"2047-07-19"]
[null,null,null,null,null,null,"2047-07-20"]
[null,null,null,null,null,null,"2047-07-21"]
[null,null,null,null,null,null,"2047-07-22"]
[null,null,null,null,null,null,"2047-07-23"]
[null,null,null,null,null,null,"2047-07-24"]
[null,null,null,null,null,null,"2047-07-25"]
[null,null,null,null,null,null,"2047-07-26"]
[null,null,null,null,null,null,"2047-07-27"]
[null,null,null,null,null,null,"2047-07-28"]
[null,null,null,null,null,null,"2047-07-29"]
[null,null,null,null,null,null,"2047-07-30"]
[null,null,null,null,null,null,"2047-07-31"]
[null,null,null,null,null,null,"2047-08-01"]
[null,null,null,null,null,null,"2047-08-02"]
[null,null,null,null,null,null,"2047-08-03"]
[null,null,null,null,null,null,"2047-08-04"]
[null,null,null,null,null,null,"2047-08-05"]
[null,null,null,null,null,null,"2047-08-06"]
[null,null,null,null,null,null,"2047-08-07"]
[null,null,null,null,null,null,"2047-08-08"]
[null,null,null,null,null,null,"2047-08-09"]
[null,null,null,null,null,null,"2047-08-10"]
[null,null,null,null,null,null,"2047-08-11"]
[null,null,null,null,null,null,"2047-08-12"]
[null,null,null,null,null,null,"2047-08-13"]
[null,null,null,null,null,null,"2047-08-14"]
[null,null,null,null,null,null,"2047-08-15"]
[null,null,null,null,null,null,"2047-08-16"]
[null,null,null,null,null,null,"2047-08-17"]
[null,null,null,null,null,null,"2047-08-18"]
[null,null,null,null,null,null,"2047-08-19"]
[null,null,null,null,null,null,"2047-08-20"]
[null,null,null,null,null,null,"2047-08-21"]
[null,null,null,null,null,null,"2047-08-22"]
[null,null,null,null,null,null,"2047-08-23"]
[null,null,null,null,null,null,"2047-08-24"]
[null,null,null,null,null,null,"2047-08-25"]
[null,null,null,null,null,null,"2047-08-26"]
[null,null,null,null,null,null,"2047-08-27"]
[null,null,null,null,null,null,"2047-08-28"]
[null,null,null,null,null,null,"2047-08-29"]
[null,null,null,null,null,null,"2047-08-30"]
[null,null,null,null,null,null,"2047-08-31"]
[null,null,null,null,null,null,"2047-09-01"]
[null,null,null,null,null,null,{"$f":"G11843+1","v":"2047-09-02"}]
[null,null,null,null,null,null,"2047-09-03"]
[null,null,null,null,null,null,"2047-09-04"]
[null,null,null,null,null,null,"2047-09-05"]
[null,null,null,null,null,null,"2047-09-06"]
[null,null,null,null,null,null,"2047-09-07"]
[null,null,null,null,null,null,"2047-09-08"]
[null,null,null,null,null,null,"2047-09-09"]
[null,null,null,null,null,null,"2047-09-10"]
[null,null,null,null,null,null,"2047-09-11"]
[null,null,null,null,null,null,"2047-09-12"]
[null,null,null,null,null,null,"2047-09-13"]
[null,null,null,null,null,null,"2047-09-14"]
[null,null,null,null,null,null,"2047-09-15"]
[null,null,null,null,null,null,"2047-09-16"]
[null,null,null,null,null,null,"2047-09-17"]
[null,null,null,null,null,null,"2047-09-18"]
[null,null,null,null,null,null,"2047-09-19"]
[null,null,null,null,null,null,"2047-09-20"]
[null,null,null,null,null,null,"2047-09-21"]
[null,null,null,null,null,null,"2047-09-22"]
[null,null,null,null,null,null,"2047-09-23"]
[null,null,null,null,null,null,"2047-09-24"]
[null,null,null,null,null,null,"2047-09-25"]
[null,null,null,null,null,null,"2047-09-26"]
[null,null,null,null,null,null,"2047-09-27"]
[null,null,null,null,null,null,"2047-09-28"]
[null,null,null,null,null,null,"2047-09-29"]
[null,null,null,null,null,null,"2047-09-30"]
[null,null,null,null,null,null,"2047-10-01"]
[null,null,null,null,null,null,"2047-10-02"]
[null,null,null,null,null,null,"2047-10-03"]
[null,null,null,null,null,null,"2047-10-04"]
[null,null,null,null,null,null,"2047-10-05"]
[null,null,null,null,null,null,"2047-10-06"]
[null,null,null,null,null,null,"2047-10-07"]
[null,null,null,null,null,null,"2047-10-08"]
[null,null,null,null,null,null,"2047-10-09"]
[null,null,null,null,null,null,"2047-10-10"]
[null,null,null,null,null,null,"2047-10-11"]
[null,null,null,null,null,null,"2047-10-12"]
[null,null,null,null,null,null,"2047-10-13"]
[null,null,null,null,null,null,"2047-10-14"]
[null,null,null,null,null,null,"2047-10-15"]
[null,null,null,null,null,null,"2047-10-16"]
[null,null,null,null,null,null,"2047-10-17"]
[null,null,null,null,null,null,"2047-10-18"]
[null,null,null,null,null,null,"2047-10-19"]
[null,null,null,null,null,null,"2047-10-20"]
[null,null,null,null,null,null,"2047-10-21"]
[null,null,null,null,null,null,"2047-10-22"]
[null,null,null,null,null,null,"2047-10-23"]
[null,null,null,null,null,null,"2047-10-24"]
[null,null,null,null,null,null,"2047-10-25"]
[null,null,null,null,null,null,"2047-10-26"]
[null,null,null,null,null,null,"2047-10-27"]
[null,null,null,null,null,null,"2047-10-28"]
[null,null,null,null,null,null,"2047-10-29"]
[null,null,null,null,null,null,"2047-10-30"]
[null,null,null,null,null,null,"2047-10-31"]
[null,null,null,null,null,null,"2047-11-01"]
[null,null,null,null,null,null,"2047-11-02"]
[null,null,null,null,null,null,"2047-11-03"]
[null,null,null,null,null,null,"2047-11-04"]
[null,null,null,null,null,null,{"$f":"G11907+1","v":"2047-11-05"}]
[null,null,null,null,null,null,"2047-11-06"]
[null,null,null,null,null,null,"2047-11-07"]
[null,null,null,null,null,null,"2047-11-08"]
[null,null,null,null,null,null,"2047-11-09"]
[null,null,null,null,null,null,"2047-11-10"]
[null,null,null,null,null,null,"2047-11-11"]
[null,null,null,null,null,null,"2047-11-12"]
[null,null,null,null,null,null,"2047-11-13"]
[null,null,null,null,null,null,"2047-11-14"]
[null,null,null,null,null,null,"2047-11-15"]
[null,null,null,null,null,null,"2047-11-16"]
[null,null,null,null,null,null,"2047-11-17"]
[null,null,null,null,null,null,"2047-11-18"]
[null,null,null,null,null,null,"2047-11-19"]
[null,null,null,null,null,null,"2047-11-20"]
[null,null,null,null,null,null,"2047-11-21"]
[null,null,null,null,null,null,"2047-11-22"]
[null,null,null,null,null,null,"2047-11-23"]
[null,null,null,null,null,null,"2047-11-24"]
[null,null,null,null,null,null,"2047-11-25"]
[null,null,null,null,null,null,"2047-11-26"]
[null,null,null,null,null,null,"2047-11-27"]
[null,null,null,null,null,null,"2047-11-28"]
[null,null,null,null,null,null,"2047-11-29"]
[null,null,null,null,null,null,"2047-11-30"]
[null,null,null,null,null,null,"2047-12-01"]
[null,null,null,null,null,null,"2047-12-02"]
[null,null,null,null,null,null,"2047-12-03"]
[null,null,null,null,null,null,"2047-12-04"]
[null,null,null,null,null,null,"2047-12-05"]
[null,null,null,null,null,null,"2047-12-06"]
[null,null,null,null,null,null,"2047-12-07"]
[null,null,null,null,null,null,"2047-12-08"]
[null,null,null,null,null,null,"2047-12-09"]
[null,null,null,null,null,null,"2047-12-10"]
[null,null,null,null,null,null,"2047-12-11"]
[null,null,null,null,null,null,"2047-12-12"]
[null,null,null,null,null,null,"2047-12-13"]
[null,null,null,null,null,null,"2047-12-14"]
[null,null,null,null,null,null,"2047-12-15"]
[null,null,null,null,null,null,"2047-12-16"]
[null,null,null,null,null,null,"2047-12-17"]
[null,null,null,null,null,null,"2047-12-18"]
[null,null,null,null,null,null,"2047-12-19"]
[null,null,null,null,null,null,"2047-12-20"]
[null,null,null,null,null,null,"2047-12-21"]
[null,null,null,null,null,null,"2047-12-22"]
[null,null,null,null,null,null,"2047-12-23"]
[null,null,null,null,null,null,"2047-12-24"]
[null,null,null,null,null,null,"2047-12-25"]
[null,null,null,null,null,null,"2047-12-26"]
[null,null,null,null,null,null,"2047-12-27"]
[null,null,null,null,null,null,"2047-12-28"]
[null,null,null,null,null,null,"2047-12-29"]
[null,null,null,null,null,null,"2047-12-30"]
[null,null,null,null,null,null,"2047-12-31"]
[null,null,null,null,null,null,"2048-01-01"]
[null,null,null,null,null,null,"2048-01-02"]
[null,null,null,null,null,null,"2048-01-03"]
[null,null,null,null,null,null,"2048-01-04"]
[null,null,null,null,null,null,"2048-01-05"]
[null,null,null,null,null,null,"2048-01-06"]
[null,null,null,null,null,null,"2048-01-07"]
[null,null,null,null,null,null,{"$f":"G11971+1","v":"2048-01-08"}]
[null,null,null,null,null,null,"2048-01-09"]
[null,null,null,null,null,null,"2048-01-10"]
[null,null,null,null,null,null,"2048-01-11"]
[null,null,null,null,null,null,"2048-01-12"]
[null,null,null,null,null,null,"2048-01-13"]
[null,null,null,null,null,null,"2048-01-14"]
[null,null,null,null,null,null,"2048-01-15"]
[null,null,null,null,null,null,"2048-01-16"]
[null,null,null,null,null,null,"2048-01-17"]
[null,null,null,null,null,null,"2048-01-18"]
[null,null,null,null,null,null,"2048-01-19"]
[null,null,null,null,null,null,"2048-01-20"]
[null,null,null,null,null,null,"2048-01-21"]
[null,null,null,null,null,null,"2048-01-22"]
[null,null,null,null,null,null,"2048-01-23"]
[null,null,null,null,null,null,"2048-01-24"]
[null,null,null,null,null,null,"2048-01-25"]
[null,null,null,null,null,null,"2048-01-26"]
[null,null,null,null,null,null,"2048-01-27"]
[null,null,null,null,null,null,"2048-01-28"]
[null,null,null,null,null,null,"2048-01-29"]
[null,null,null,null,null,null,"2048-01-30"]
[null,null,null,null,null,null,"2048-01-31"]
[null,null,null,null,null,null,"2048-02-01"]
[null,null,null,null,null,null,"2048-02-02"]
[null,null,null,null,null,null,"2048-02-03"]
[null,null,null,null,null,null,"2048-02-04"]
[null,null,null,null,null,null,"2048-02-05"]
[null,null,null,null,null,null,"2048-02-06"]
[null,null,null,null,null,null,"2048-02-07"]
[null,null,null,null,null,null,"2048-02-08"]
[null,null,null,null,null,null,"2048-02-09"]
[null,null,null,null,null,null,"2048-02-10"]
[null,null,null,null,null,null,"2048-02-11"]
[null,null,null,null,null,null,"2048-02-12"]
[null,null,null,null,null,null,"2048-02-13"]
[null,null,null,null,null,null,"2048-02-14"]
[null,null,null,null,null,null,"2048-02-15"]
[null,null,null,null,null,null,"2048-02-16"]
[null,null,null,null,null,null,"2048-02-17"]
[null,null,null,null,null,null,"2048-02-18"]
[null,null,null,null,null,null,"2048-02-19"]
[null,null,null,null,null,null,"2048-02-20"]
[null,null,null,null,null,null,"2048-02-21"]
[null,null,null,null,null,null,"2048-02-22"]
[null,null,null,null,null,null,"2048-02-23"]
[null,null,null,null,null,null,"2048-02-24"]
[null,null,null,null,null,null,"2048-02-25"]
[null,null,null,null,null,null,"2048-02-26"]
[null,null,null,null,null,null,"2048-02-27"]
[null,null,null,null,null,null,"2048-02-28"]
[null,null,null,null,null,null,"2048-02-29"]
[null,null,null,null,null,null,"2048-03-01"]
[null,null,null,null,null,null,"2048-03-02"]
[null,null,null,null,null,null,"2048-03-03"]
[null,null,null,null,null,null,"2048-03-04"]
[null,null,null,null,null,null,"2048-03-05"]
[null,null,null,null,null,null,"2048-03-06"]
[null,null,null,null,null,null,"2048-03-07"]
[null,null,null,null,null,null,"2048-03-08"]
[null,null,null,null,null,null,"2048-03-09"]
[null,null,null,null,null,null,"2048-03-10"]
[null,null,null,null,null,null,"2048-03-11"]
[null,null,null,null,null,null,{"$f":"G12035+1","v":"2048-03-12"}]
[null,null,null,null,null,null,"2048-03-13"]
[null,null,null,null,null,null,"2048-03-14"]
[null,null,null,null,null,null,"2048-03-15"]
[null,null,null,null,null,null,"2048-03-16"]
[null,null,null,null,null,null,"2048-03-17"]
[null,null,null,null,null,null,"2048-03-18"]
[null,null,null,null,null,null,"2048-03-19"]
[null,null,null,null,null,null,"2048-03-20"]
[null,null,null,null,null,null,"2048-03-21"]
[null,null,null,null,null,null,"2048-03-22"]
[null,null,null,null,null,null,"2048-03-23"]
[null,null,null,null,null,null,"2048-03-24"]
[null,null,null,null,null,null,"2048-03-25"]
[null,null,null,null,null,null,"2048-03-26"]
[null,null,null,null,null,null,"2048-03-27"]
[null,null,null,null,null,null,"2048-03-28"]
[null,null,null,null,null,null,"2048-03-29"]
[null,null,null,null,null,null,"2048-03-30"]
[null,null,null,null,null,null,"2048-03-31"]
[null,null,null,null,null,null,"2048-04-01"]
[null,null,null,null,null,null,"2048-04-02"]
[null,null,null,null,null,null,"2048-04-03"]
[null,null,null,null,null,null,"2048-04-04"]
[null,null,null,null,null,null,"2048-04-05"]
[null,null,null,null,null,null,"2048-04-06"]
[null,null,null,null,null,null,"2048-04-07"]
[null,null,null,null,null,null,"2048-04-08"]
[null,null,null,null,null,null,"2048-04-09"]
[null,null,null,null,null,null,"2048-04-10"]
[null,null,null,null,null,null,"2048-04-11"]
[null,null,null,null,null,null,"2048-04-12"]
[null,null,null,null,null,null,"2048-04-13"]
[null,null,null,null,null,null,"2048-04-14"]
[null,null,null,null,null,null,"2048-04-15"]
[null,null,null,null,null,null,"2048-04-16"]
[null,null,null,null,null,null,"2048-04-17"]
[null,null,null,null,null,null,"2048-04-18"]
[null,null,null,null,null,null,"2048-04-19"]
[null,null,null,null,null,null,"2048-04-20"]
[null,null,null,null,null,null,"2048-04-21"]
[null,null,null,null,null,null,"2048-04-22"]
[null,null,null,null,null,null,"2048-04-23"]
[null,null,null,null,null,null,"2048-04-24"]
[null,null,null,null,null,null,"2048-04-25"]
[null,null,null,null,null,null,"2048-04-26"]
[null,null,null,null,null,null,"2048-04-27"]
[null,null,null,null,null,null,"2048-04-28"]
[null,null,null,null,null,null,"2048-04-29"]
[null,null,null,null,null,null,"2048-04-30"]
[null,null,null,null,null,null,"2048-05-01"]
[null,null,null,null,null,null,"2048-05-02"]
[null,null,null,null,null,null,"2048-05-03"]
[null,null,null,null,null,null,"2048-05-04"]
[null,null,null,null,null,null,"2048-05-05"]
[null,null,null,null,null,null,"2048-05-06"]
[null,null,null,null,null,null,"2048-05-07"]
[null,null,null,null,null,null,"2048-05-08"]
[null,null,null,null,null,null,"2048-05-09"]
[null,null,null,null,null,null,"2048-05-10"]
[null,null,null,null,null,null,"2048-05-11"]
[null,null,null,null,null,null,"2048-05-12"]
[null,null,null,null,null,null,"2048-05-13"]
[null,null,null,null,null,null,"2048-05-14"]
[null,null,null,null,null,null,{"$f":"G12099+1","v":"2048-05-15"}]
[null,null,null,null,null,null,"2048-05-16"]
[null,null,null,null,null,null,"2048-05-17"]
[null,null,null,null,null,null,"2048-05-18"]
[null,null,null,null,null,null,"2048-05-19"]
[null,null,null,null,null,null,"2048-05-20"]
[null,null,null,null,null,null,"2048-05-21"]
[null,null,null,null,null,null,"2048-05-22"]
[null,null,null,null,null,null,"2048-05-23"]
[null,null,null,null,null,null,"2048-05-24"]
[null,null,null,null,null,null,"2048-05-25"]
[null,null,null,null,null,null,"2048-05-26"]
[null,null,null,null,null,null,"2048-05-27"]
[null,null,null,null,null,null,"2048-05-28"]
[null,null,null,null,null,null,"2048-05-29"]
[null,null,null,null,null,null,"2048-05-30"]
[null,null,null,null,null,null,"2048-05-31"]
[null,null,null,null,null,null,"2048-06-01"]
[null,null,null,null,null,null,"2048-06-02"]
[null,null,null,null,null,null,"2048-06-03"]
[null,null,null,null,null,null,"2048-06-04"]
[null,null,null,null,null,null,"2048-06-05"]
[null,null,null,null,null,null,"2048-06-06"]
[null,null,null,null,null,null,"2048-06-07"]
[null,null,null,null,null,null,"2048-06-08"]
[null,null,null,null,null,null,"2048-06-09"]
[null,null,null,null,null,null,"2048-06-10"]
[null,null,null,null,null,null,"2048-06-11"]
[null,null,null,null,null,null,"2048-06-12"]
[null,null,null,null,null,null,"2048-06-13"]
[null,null,null,null,null,null,"2048-06-14"]
[null,null,null,null,null,null,"2048-06-15"]
[null,null,null,null,null,null,"2048-06-16"]
[null,null,null,null,null,null,"2048-06-17"]
[null,null,null,null,null,null,"2048-06-18"]
[null,null,null,null,null,null,"2048-06-19"]
[null,null,null,null,null,null,"2048-06-20"]
[null,null,null,null,null,null,"2048-06-21"]
[null,null,null,null,null,null,"2048-06-22"]
[null,null,null,null,null,null,"2048-06-23"]
[null,null,null,null,null,null,"2048-06-24"]
[null,null,null,null,null,null,"2048-06-25"]
[null,null,null,null,null,null,"2048-06-26"]
[null,null,null,null,null,null,"2048-06-27"]
[null,null,null,null,null,null,"2048-06-28"]
[null,null,null,null,null,null,"2048-06-29"]
[null,null,null,null,null,null,"2048-06-30"]
[null,null,null,null,null,null,"2048-07-01"]
[null,null,null,null,null,null,"2048-07-02"]
[null,null,null,null,null,null,"2048-07-03"]
[null,null,null,null,null,null,"2048-07-04"]
[null,null,null,null,null,null,"2048-07-05"]
[null,null,null,null,null,null,"2048-07-06"]
[null,null,null,null,null,null,"2048-07-07"]
[null,null,null,null,null,null,"2048-07-08"]
[null,null,null,null,null,null,"2048-07-09"]
[null,null,null,null,null,null,"2048-07-10"]
[null,null,null,null,null,null,"2048-07-11"]
[null,null,null,null,null,null,"2048-07-12"]
[null,null,null,null,null,null,"2048-07-13"]
[null,null,null,null,null,null,"2048-07-14"]
[null,null,null,null,null,null,"2048-07-15"]
[null,null,null,null,null,null,"2048-07-16"]
[null,null,null,null,null,null,"2048-07-17"]
[null,null,null,null,null,null,{"$f":"G12163+1","v":"2048-07-18"}]
[null,null,null,null,null,null,"2048-07-19"]
[null,null,null,null,null,null,"2048-07-20"]
[null,null,null,null,null,null,"2048-07-21"]
[null,null,null,null,null,null,"2048-07-22"]
[null,null,null,null,null,null,"2048-07-23"]
[null,null,null,null,null,null,"2048-07-24"]
[null,null,null,null,null,null,"2048-07-25"]
[null,null,null,null,null,null,"2048-07-26"]
[null,null,null,null,null,null,"2048-07-27"]
[null,null,null,null,null,null,"2048-07-28"]
[null,null,null,null,null,null,"2048-07-29"]
[null,null,null,null,null,null,"2048-07-30"]
[null,null,null,null,null,null,"2048-07-31"]
[null,null,null,null,null,null,"2048-08-01"]
[null,null,null,null,null,null,"2048-08-02"]
[null,null,null,null,null,null,"2048-08-03"]
[null,null,null,null,null,null,"2048-08-04"]
[null,null,null,null,null,null,"2048-08-05"]
[null,null,null,null,null,null,"2048-08-06"]
[null,null,null,null,null,null,"2048-08-07"]
[null,null,null,null,null,null,"2048-08-08"]
[null,null,null,null,null,null,"2048-08-09"]
[null,null,null,null,null,null,"2048-08-10"]
[null,null,null,null,null,null,"2048-08-11"]
[null,null,null,null,null,null,"2048-08-12"]
[null,null,null,null,null,null,"2048-08-13"]
[null,null,null,null,null,null,"2048-08-14"]
[null,null,null,null,null,null,"2048-08-15"]
[null,null,null,null,null,null,"2048-08-16"]
[null,null,null,null,null,null,"2048-08-17"]
[null,null,null,null,null,null,"2048-08-18"]
[null,null,null,null,null,null,"2048-08-19"]
[null,null,null,null,null,null,"2048-08-20"]
[null,null,null,null,null,null,"2048-08-21"]
[null,null,null,null,null,null,"2048-08-22"]
[null,null,null,null,null,null,"2048-08-23"]
[null,null,null,null,null,null,"2048-08-24"]
[null,null,null,null,null,null,"2048-08-25"]
[null,null,null,null,null,null,"2048-08-26"]
[null,null,null,null,null,null,"2048-08-27"]
[null,null,null,null,null,null,"2048-08-28"]
[null,null,null,null,null,null,"2048-08-29"]
[null,null,null,null,null,null,"2048-08-30"]
[null,null,null,null,null,null,"2048-08-31"]
[null,null,null,null,null,null,"2048-09-01"]
[null,null,null,null,null,null,"2048-09-02"]
[null,null,null,null,null,null,"2048-09-03"]
[null,null,null,null,null,null,"2048-09-04"]
[null,null,null,null,null,null,"2048-09-05"]
[null,null,null,null,null,null,"2048-09-06"]
[null,null,null,null,null,null,"2048-09-07"]
[null,null,null,null,null,null,"2048-09-08"]
[null,null,null,null,null,null,"2048-09-09"]
[null,null,null,null,null,null,"2048-09-10"]
[null,null,null,null,null,null,"2048-09-11"]
[null,null,null,null,null,null,"2048-09-12"]
[null,null,null,null,null,null,"2048-09-13"]
[null,null,null,null,null,null,"2048-09-14"]
[null,null,null,null,null,null,"2048-09-15"]
[null,null,null,null,null,null,"2048-09-16"]
[null,null,null,null,null,null,"2048-09-17"]
[null,null,null,null,null,null,"2048-09-18"]
[null,null,null,null,null,null,"2048-09-19"]
[null,null,null,null,null,null,{"$f":"G12227+1","v":"2048-09-20"}]
[null,null,null,null,null,null,"2048-09-21"]
[null,null,null,null,null,null,"2048-09-22"]
[null,null,null,null,null,null,"2048-09-23"]
[null,null,null,null,null,null,"2048-09-24"]
[null,null,null,null,null,null,"2048-09-25"]
[null,null,null,null,null,null,"2048-09-26"]
[null,null,null,null,null,null,"2048-09-27"]
[null,null,null,null,null,null,"2048-09-28"]
[null,null,null,null,null,null,"2048-09-29"]
[null,null,null,null,null,null,"2048-09-30"]
[null,null,null,null,null,null,"2048-10-01"]
[null,null,null,null,null,null,"2048-10-02"]
[null,null,null,null,null,null,"2048-10-03"]
[null,null,null,null,null,null,"2048-10-04"]
[null,null,null,null,null,null,"2048-10-05"]
[null,null,null,null,null,null,"2048-10-06"]
[null,null,null,null,null,null,"2048-10-07"]
[null,null,null,null,null,null,"2048-10-08"]
[null,null,null,null,null,null,"2048-10-09"]
[null,null,null,null,null,null,"2048-10-10"]
[null,null,null,null,null,null,"2048-10-11"]
[null,null,null,null,null,null,"2048-10-12"]
[null,null,null,null,null,null,"2048-10-13"]
[null,null,null,null,null,null,"2048-10-14"]
[null,null,null,null,null,null,"2048-10-15"]
[null,null,null,null,null,null,"2048-10-16"]
[null,null,null,null,null,null,"2048-10-17"]
[null,null,null,null,null,null,"2048-10-18"]
[null,null,null,null,null,null,"2048-10-19"]
[null,null,null,null,null,null,"2048-10-20"]
[null,null,null,null,null,null,"2048-10-21"]
[null,null,null,null,null,null,"2048-10-22"]
[null,null,null,null,null,null,"2048-10-23"]
[null,null,null,null,null,null,"2048-10-24"]
[null,null,null,null,null,null,"2048-10-25"]
[null,null,null,null,null,null,"2048-10-26"]
[null,null,null,null,null,null,"2048-10-27"]
[null,null,null,null,null,null,"2048-10-28"]
[null,null,null,null,null,null,"2048-10-29"]
[null,null,null,null,null,null,"2048-10-30"]
[null,null,null,null,null,null,"2048-10-31"]
[null,null,null,null,null,null,"2048-11-01"]
[null,null,null,null,null,null,"2048-11-02"]
[null,null,null,null,null,null,"2048-11-03"]
[null,null,null,null,null,null,"2048-11-04"]
[null,null,null,null,null,null,"2048-11-05"]
[null,null,null,null,null,null,"2048-11-06"]
[null,null,null,null,null,null,"2048-11-07"]
[null,null,null,null,null,null,"2048-11-08"]
[null,null,null,null,null,null,"2048-11-09"]
[null,null,null,null,null,null,"2048-11-10"]
[null,null,null,null,null,null,"2048-11-11"]
[null,null,null,null,null,null,"2048-11-12"]
[null,null,null,null,null,null,"2048-11-13"]
[null,null,null,null,null,null,"2048-11-14"]
[null,null,null,null,null,null,"2048-11-15"]
[null,null,null,null,null,null,"2048-11-16"]
[null,null,null,null,null,null,"2048-11-17"]
[null,null,null,null,null,null,"2048-11-18"]
[null,null,null,null,null,null,"2048-11-19"]
[null,null,null,null,null,null,"2048-11-20"]
[null,null,null,null,null,null,"2048-11-21"]
[null,null,null,null,null,null,"2048-11-22"]
[null,null,null,null,null,null,{"$f":"G12291+1","v":"2048-11-23"}]
[null,null,null,null,null,null,"2048-11-24"]
[null,null,null,null,null,null,"2048-11-25"]
[null,null,null,null,null,null,"2048-11-26"]
[null,null,null,null,null,null,"2048-11-27"]
[null,null,null,null,null,null,"2048-11-28"]
[null,null,null,null,null,null,"2048-11-29"]
[null,null,null,null,null,null,"2048-11-30"]
[null,null,null,null,null,null,"2048-12-01"]
[null,null,null,null,null,null,"2048-12-02"]
[null,null,null,null,null,null,"2048-12-03"]
[null,null,null,null,null,null,"2048-12-04"]
[null,null,null,null,null,null,"2048-12-05"]
[null,null,null,null,null,null,"2048-12-06"]
[null,null,null,null,null,null,"2048-12-07"]
[null,null,null,null,null,null,"2048-12-08"]
[null,null,null,null,null,null,"2048-12-09"]
[null,null,null,null,null,null,"2048-12-10"]
[null,null,null,null,null,null,"2048-12-11"]
[null,null,null,null,null,null,"2048-12-12"]
[null,null,null,null,null,null,"2048-12-13"]
[null,null,null,null,null,null,"2048-12-14"]
[null,null,null,null,null,null,"2048-12-15"]
[null,null,null,null,null,null,"2048-12-16"]
[null,null,null,null,null,null,"2048-12-17"]
[null,null,null,null,null,null,"2048-12-18"]
[null,null,null,null,null,null,"2048-12-19"]
[null,null,null,null,null,null,"2048-12-20"]
[null,null,null,null,null,null,"2048-12-21"]
[null,null,null,null,null,null,"2048-12-22"]
[null,null,null,null,null,null,"2048-12-23"]
[null,null,null,null,null,null,"2048-12-24"]
[null,null,null,null,null,null,"2048-12-25"]
[null,null,null,null,null,null,"2048-12-26"]
[null,null,null,null,null,null,"2048-12-27"]
[null,null,null,null,null,null,"2048-12-28"]
[null,null,null,null,null,null,"2048-12-29"]
[null,null,null,null,null,null,"2048-12-30"]
[null,null,null,null,null,null,"2048-12-31"]
[null,null,null,null,null,null,"2049-01-01"]
[null,null,null,null,null,null,"2049-01-02"]
[null,null,null,null,null,null,"2049-01-03"]
[null,null,null,null,null,null,"2049-01-04"]
[null,null,null,null,null,null,"2049-01-05"]
[null,null,null,null,null,null,"2049-01-06"]
[null,null,null,null,null,null,"2049-01-07"]
[null,null,null,null,null,null,"2049-01-08"]
[null,null,null,null,null,null,"2049-01-09"]
[null,null,null,null,null,null,"2049-01-10"]
[null,null,null,null,null,null,"2049-01-11"]
[null,null,null,null,null,null,"2049-01-12"]
[null,null,null,null,null,null,"2049-01-13"]
[null,null,null,null,null,null,"2049-01-14"]
[null,null,null,null,null,null,"2049-01-15"]
[null,null,null,null,null,null,"2049-01-16"]
[null,null,null,null,null,null,"2049-01-17"]
[null,null,null,null,null,null,"2049-01-18"]
[null,null,null,null,null,null,"2049-01-19"]
[null,null,null,null,null,null,"2049-01-20"]
[null,null,null,null,null,null,"2049-01-21"]
[null,null,null,null,null,null,"2049-01-22"]
[null,null,null,null,null,null,"2049-01-23"]
[null,null,null,null,null,null,"2049-01-24"]
[null,null,null,null,null,null,"2049-01-25"]
[null,null,null,null,null,null,{"$f":"G12355+1","v":"2049-01-26"}]
[null,null,null,null,null,null,"2049-01-27"]
[null,null,null,null,null,null,"2049-01-28"]
[null,null,null,null,null,null,"2049-01-29"]
[null,null,null,null,null,null,"2049-01-30"]
[null,null,null,null,null,null,"2049-01-31"]
[null,null,null,null,null,null,"2049-02-01"]
[null,null,null,null,null,null,"2049-02-02"]
[null,null,null,null,null,null,"2049-02-03"]
[null,null,null,null,null,null,"2049-02-04"]
[null,null,null,null,null,null,"2049-02-05"]
[null,null,null,null,null,null,"2049-02-06"]
[null,null,null,null,null,null,"2049-02-07"]
[null,null,null,null,null,null,"2049-02-08"]
[null,null,null,null,null,null,"2049-02-09"]
[null,null,null,null,null,null,"2049-02-10"]
[null,null,null,null,null,null,"2049-02-11"]
[null,null,null,null,null,null,"2049-02-12"]
[null,null,null,null,null,null,"2049-02-13"]
[null,null,null,null,null,null,"2049-02-14"]
[null,null,null,null,null,null,"2049-02-15"]
[null,null,null,null,null,null,"2049-02-16"]
[null,null,null,null,null,null,"2049-02-17"]
[null,null,null,null,null,null,"2049-02-18"]
[null,null,null,null,null,null,"2049-02-19"]
[null,null,null,null,null,null,"2049-02-20"]
[null,null,null,null,null,null,"2049-02-21"]
[null,null,null,null,null,null,"2049-02-22"]
[null,null,null,null,null,null,"2049-02-23"]
[null,null,null,null,null,null,"2049-02-24"]
[null,null,null,null,null,null,"2049-02-25"]
[null,null,null,null,null,null,"2049-02-26"]
[null,null,null,null,null,null,"2049-02-27"]
[null,null,null,null,null,null,"2049-02-28"]
[null,null,null,null,null,null,"2049-03-01"]
[null,null,null,null,null,null,"2049-03-02"]
[null,null,null,null,null,null,"2049-03-03"]
[null,null,null,null,null,null,"2049-03-04"]
[null,null,null,null,null,null,"2049-03-05"]
[null,null,null,null,null,null,"2049-03-06"]
[null,null,null,null,null,null,"2049-03-07"]
[null,null,null,null,null,null,"2049-03-08"]
[null,null,null,null,null,null,"2049-03-09"]
[null,null,null,null,null,null,"2049-03-10"]
[null,null,null,null,null,null,"2049-03-11"]
[null,null,null,null,null,null,"2049-03-12"]
[null,null,null,null,null,null,"2049-03-13"]
[null,null,null,null,null,null,"2049-03-14"]
[null,null,null,null,null,null,"2049-03-15"]
[null,null,null,null,null,null,"2049-03-16"]
[null,null,null,null,null,null,"2049-03-17"]
[null,null,null,null,null,null,"2049-03-18"]
[null,null,null,null,null,null,"2049-03-19"]
[null,null,null,null,null,null,"2049-03-20"]
[null,null,null,null,null,null,"2049-03-21"]
[null,null,null,null,null,null,"2049-03-22"]
[null,null,null,null,null,null,"2049-03-23"]
[null,null,null,null,null,null,"2049-03-24"]
[null,null,null,null,null,null,"2049-03-25"]
[null,null,null,null,null,null,"2049-03-26"]
[null,null,null,null,null,null,"2049-03-27"]
[null,null,null,null,null,null,"2049-03-28"]
[null,null,null,null,null,null,"2049-03-29"]
[null,null,null,null,null,null,"2049-03-30"]
[null,null,null,null,null,null,{"$f":"G12419+1","v":"2049-03-31"}]
[null,null,null,null,null,null,"2049-04-01"]
[null,null,null,null,null,null,"2049-04-02"]
[null,null,null,null,null,null,"2049-04-03"]
[null,null,null,null,null,null,"2049-04-04"]
[null,null,null,null,null,null,"2049-04-05"]
[null,null,null,null,null,null,"2049-04-06"]
[null,null,null,null,null,null,"2049-04-07"]
[null,null,null,null,null,null,"2049-04-08"]
[null,null,null,null,null,null,"2049-04-09"]
[null,null,null,null,null,null,"2049-04-10"]
[null,null,null,null,null,null,"2049-04-11"]
[null,null,null,null,null,null,"2049-04-12"]
[null,null,null,null,null,null,"2049-04-13"]
[null,null,null,null,null,null,"2049-04-14"]
[null,null,null,null,null,null,"2049-04-15"]
[null,null,null,null,null,null,"2049-04-16"]
[null,null,null,null,null,null,"2049-04-17"]
[null,null,null,null,null,null,"2049-04-18"]
[null,null,null,null,null,null,"2049-04-19"]
[null,null,null,null,null,null,"2049-04-20"]
[null,null,null,null,null,null,"2049-04-21"]
[null,null,null,null,null,null,"2049-04-22"]
[null,null,null,null,null,null,"2049-04-23"]
[null,null,null,null,null,null,"2049-04-24"]
[null,null,null,null,null,null,"2049-04-25"]
[null,null,null,null,null,null,"2049-04-26"]
[null,null,null,null,null,null,"2049-04-27"]
[null,null,null,null,null,null,"2049-04-28"]
[null,null,null,null,null,null,"2049-04-29"]
[null,null,null,null,null,null,"2049-04-30"]
[null,null,null,null,null,null,"2049-05-01"]
[null,null,null,null,null,null,"2049-05-02"]
[null,null,null,null,null,null,"2049-05-03"]
[null,null,null,null,null,null,"2049-05-04"]
[null,null,null,null,null,null,"2049-05-05"]
[null,null,null,null,null,null,"2049-05-06"]
[null,null,null,null,null,null,"2049-05-07"]
[null,null,null,null,null,null,"2049-05-08"]
[null,null,null,null,null,null,"2049-05-09"]
[null,null,null,null,null,null,"2049-05-10"]
[null,null,null,null,null,null,"2049-05-11"]
[null,null,null,null,null,null,"2049-05-12"]
[null,null,null,null,null,null,"2049-05-13"]
[null,null,null,null,null,null,"2049-05-14"]
[null,null,null,null,null,null,"2049-05-15"]
[null,null,null,null,null,null,"2049-05-16"]
[null,null,null,null,null,null,"2049-05-17"]
[null,null,null,null,null,null,"2049-05-18"]
[null,null,null,null,null,null,"2049-05-19"]
[null,null,null,null,null,null,"2049-05-20"]
[null,null,null,null,null,null,"2049-05-21"]
[null,null,null,null,null,null,"2049-05-22"]
[null,null,null,null,null,null,"2049-05-23"]
[null,null,null,null,null,null,"2049-05-24"]
[null,null,null,null,null,null,"2049-05-25"]
[null,null,null,null,null,null,"2049-05-26"]
[null,null,null,null,null,null,"2049-05-27"]
[null,null,null,null,null,null,"2049-05-28"]
[null,null,null,null,null,null,"2049-05-29"]
[null,null,null,null,null,null,"2049-05-30"]
[null,null,null,null,null,null,"2049-05-31"]
[null,null,null,null,null,null,"2049-06-01"]
[null,null,null,null,null,null,"2049-06-02"]
[null,null,null,null,null,null,{"$f":"G12483+1","v":"2049-06-03"}]
[null,null,null,null,null,null,"2049-06-04"]
[null,null,null,null,null,null,"2049-06-05"]
[null,null,null,null,null,null,"2049-06-06"]
[null,null,null,null,null,null,"2049-06-07"]
[null,null,null,null,null,null,"2049-06-08"]
[null,null,null,null,null,null,"2049-06-09"]
[null,null,null,null,null,null,"2049-06-10"]
[null,null,null,null,null,null,"2049-06-11"]
[null,null,null,null,null,null,"2049-06-12"]
[null,null,null,null,null,null,"2049-06-13"]
[null,null,null,null,null,null,"2049-06-14"]
[null,null,null,null,null,null,{"$f":"G12495+1","v":"2049-06-15"}]
[null,null,null,null,null,null,{"$f":"G12496+1","v":"2049-06-16"}]
[null,null,null,null,null,null,"2049-06-17"]
[null,null,null,null,null,null,"2049-06-18"]
[null,null,null,null,null,null,"2049-06-19"]
[null,null,null,null,null,null,"2049-06-20"]
[null,null,null,null,null,null,"2049-06-21"]
[null,null,null,null,null,null,"2049-06-22"]
[null,null,null,null,null,null,"2049-06-23"]
[null,null,null,null,null,null,"2049-06-24"]
[null,null,null,null,null,null,"2049-06-25"]
[null,null,null,null,null,null,"2049-06-26"]
[null,null,null,null,null,null,"2049-06-27"]
[null,null,null,null,null,null,"2049-06-28"]

{"sheet":"TA STOCK AVAILABLE","index":8,"n_rows":195,"n_cols":11,"rows_kept":195,"cut":false,"hidden":false,"merged":[]}
["UPRN","Description","Bedrooms","Postcode","SG Accommodation Type","Date Deleted","HASH UPRN","AVAILABLE","LIST",{"$f":"C1","v":"Bedrooms"},{"$f":"D1","v":"Postcode"}]
["FLAT2/10/AB11AA","Flat 2, 10 Any Street, Any Town, AB1 1AA - Bedrooms: 2",2,"AB1 1AA","LA ordinary dwelling",null,"35A5CCBE F3662184 EB1B201D 175AFD4F 23748DAD",0,{"$f":"IF(H2=1,B2,\"\")","v":""},{"$f":"C2","v":2},{"$f":"D2","v":"AB1 1AA"}]
["FLAT3/10/AB11AA","Flat 3, 10 Any Street, Any Town, AB1 1AA - Bedrooms: 3",3,"AB1 1AA","LA ordinary dwelling",null,"F968614F 18180083 09931E12 B9E76994 8E77A2C5",1,{"$f":"IF(H3=1,B3,\"\")","v":"Flat 3, 10 Any Street, Any Town, AB1 1AA - Bedrooms: 3"},3,"AB1 1AA"]
["FLAT4/10/AB11AA","Flat 4, 10 Any Street, Any Town, AB1 1AA - Bedrooms: 4",4,"AB1 1AA","LA ordinary dwelling",null,"EDF01372 4BEC6AC1 96CA8A9B 1596F95E C13AB976",1,"Flat 4, 10 Any Street, Any Town, AB1 1AA - Bedrooms: 4",4,"AB1 1AA"]
["FLAT5/10/AB11AA","Flat 5, 10 Any Street, Any Town, AB1 1AA - Bedrooms: 1",1,"AB1 1AA","LA ordinary dwelling",null,"8EB54AD0 4EEF7B0F 1270893C 5044AA7D 66AD3474",1,"Flat 5, 10 Any Street, Any Town, AB1 1AA - Bedrooms: 1",1,"AB1 1AA"]
["FLAT6/10/AB11AA","Flat 6, 10 Any Street, Any Town, AB1 1AA - Bedrooms: 2",2,"AB1 1AA","LA ordinary dwelling",null,"1F702448 CE7EA45F D9BD37DA 6CC168CF BF2640B0",1,"Flat 6, 10 Any Street, Any Town, AB1 1AA - Bedrooms: 2",2,"AB1 1AA"]
["FLAT7/10/AB11AA","Flat 7, 10 Any Street, Any Town, AB1 1AA - Bedrooms: 3",3,"AB1 1AA","LA ordinary dwelling",null,"2C83FE9A 6F533A54 0DB7DFEF 4A721A77 D68FA270",1,"Flat 7, 10 Any Street, Any Town, AB1 1AA - Bedrooms: 3",3,"AB1 1AA"]
["FLAT8/10/AB11AA","Flat 8, 10 Any Street, Any Town, AB1 1AA - Bedrooms: 4",4,"AB1 1AA","LA ordinary dwelling",null,"FEDA389E EA8DFA90 AA191060 2FE30C50 BCC95545",1,"Flat 8, 10 Any Street, Any Town, AB1 1AA - Bedrooms: 4",4,"AB1 1AA"]
["FLAT9/10/AB11AA","Flat 9, 10 Any Street, Any Town, AB1 1AA - Bedrooms: 1",1,"AB1 1AA","LA ordinary dwelling",null,"B17E37F1 40F1EC86 096031B7 B5E37A68 29AC5B77",1,"Flat 9, 10 Any Street, Any Town, AB1 1AA - Bedrooms: 1",1,"AB1 1AA"]
["FLAT10/10/AB11AA","Flat 10, 10 Any Street, Any Town, AB1 1AA - Bedrooms: 2",2,"AB1 1AA","LA ordinary dwelling",null,"3F990DA8 CCB395D5 793B270C 5FCE9D23 2F853B8F",1,"Flat 10, 10 Any Street, Any Town, AB1 1AA - Bedrooms: 2",2,"AB1 1AA"]
["/18/AB22ER","18 Any Street, Any Town, AB2 2ER - Bedrooms: 2",2,"AB2 2ER","LA ordinary dwelling",null,"0828AFF8 5599DF25 5202B653 6A8B32B3 CF1FD70C",1,"18 Any Street, Any Town, AB2 2ER - Bedrooms: 2",2,"AB2 2ER"]
["FLAT17/26/AB34ET","Flat 17, 26 Any Street, Any Town, AB3 4ET - Bedrooms: 1",1,"AB3 4ET","LA ordinary dwelling",null,"69135487 564EB7E5 39CFDF0F 69CBAE37 E18A8ADF",1,"Flat 17, 26 Any Street, Any Town, AB3 4ET - Bedrooms: 1",1,"AB3 4ET"]
["FLAT18/27/AB34ET","Flat 18, 27 Any Street, Any Town, AB3 4ET - Bedrooms: 1",1,"AB3 4ET","LA ordinary dwelling",null,"5325837A 8AA4F9E8 68F97908 524A251C D17D11BF",1,"Flat 18, 27 Any Street, Any Town, AB3 4ET - Bedrooms: 1",1,"AB3 4ET"]
["FLAT19/28/AB34ET","Flat 19, 28 Any Street, Any Town, AB3 4ET - Bedrooms: 1",1,"AB3 4ET","LA ordinary dwelling",null,"2EA30FD9 3CF9BD72 4D7DF1C7 42DE91BE D6E3E7CB",1,"Flat 19, 28 Any Street, Any Town, AB3 4ET - Bedrooms: 1",1,"AB3 4ET"]
["FLAT20/29/AB34ET","Flat 20, 29 Any Street, Any Town, AB3 4ET - Bedrooms: 2",2,"AB3 4ET","LA ordinary dwelling",null,"81A5B36E A9CB0718 082796C4 1B252C7F 8A978519",1,"Flat 20, 29 Any Street, Any Town, AB3 4ET - Bedrooms: 2",2,"AB3 4ET"]
["FLAT21/30/AB34ET","Flat 21, 30 Any Street, Any Town, AB3 4ET - Bedrooms: 1",1,"AB3 4ET","LA ordinary dwelling",null,"9F87523A 82ED4FA3 30320CB1 102ACDE6 A2B70317",1,"Flat 21, 30 Any Street, Any Town, AB3 4ET - Bedrooms: 1",1,"AB3 4ET"]
["FLAT23/32/AB34ET","Flat 23, 32 Any Street, Any Town, AB3 4ET - Bedrooms: 1",1,"AB3 4ET","LA ordinary dwelling",null,"DE27226C 41517541 121B5C78 22EAD753 BFF00683",1,"Flat 23, 32 Any Street, Any Town, AB3 4ET - Bedrooms: 1",1,"AB3 4ET"]
["FLAT24/33/AB34ET","Flat 24, 33 Any Street, Any Town, AB3 4ET - Bedrooms: 2",2,"AB3 4ET","LA ordinary dwelling",null,"C69A3DD9 A599C002 3207F680 853788FD 9E5F00B5",1,"Flat 24, 33 Any Street, Any Town, AB3 4ET - Bedrooms: 2",2,"AB3 4ET"]
["FLAT25/34/AB34ET","Flat 25, 34 Any Street, Any Town, AB3 4ET - Bedrooms: 1",1,"AB3 4ET","LA ordinary dwelling",null,"6D183205 6B46EDD1 557D73D5 4A342D5A 01058D8D",1,"Flat 25, 34 Any Street, Any Town, AB3 4ET - Bedrooms: 1",1,"AB3 4ET"]
["FLAT26/35/AB34ET","Flat 26, 35 Any Street, Any Town, AB3 4ET - Bedrooms: 1",1,"AB3 4ET","LA ordinary dwelling",null,"9CA3015A F49B9CBE 808E45EA 92FB4827 9ACFD28A",1,"Flat 26, 35 Any Street, Any Town, AB3 4ET - Bedrooms: 1",1,"AB3 4ET"]
["FLAT27/36/AB34ET","Flat 27, 36 Any Street, Any Town, AB3 4ET - Bedrooms: 1",1,"AB3 4ET","LA ordinary dwelling",null,"8F31EDE9 3CCBCA8C EC2DA67D 7A29F771 FAA2DC63",1,"Flat 27, 36 Any Street, Any Town, AB3 4ET - Bedrooms: 1",1,"AB3 4ET"]
["FLAT28/37/AB34ET","Flat 28, 37 Any Street, Any Town, AB3 4ET - Bedrooms: 2",2,"AB3 4ET","LA ordinary dwelling",null,"3DC06E09 5EE8D53F B9A71578 27B1CCC4 AEE455D2",1,"Flat 28, 37 Any Street, Any Town, AB3 4ET - Bedrooms: 2",2,"AB3 4ET"]
["FLAT29/38/AB34ET","Flat 29, 38 Any Street, Any Town, AB3 4ET - Bedrooms: 1",1,"AB3 4ET","LA ordinary dwelling",null,"D60D4344 DA1E3BC2 54C8E95C 43C8111E 5B68756C",1,"Flat 29, 38 Any Street, Any Town, AB3 4ET - Bedrooms: 1",1,"AB3 4ET"]
["FLAT30/39/AB34ET","Flat 30, 39 Any Street, Any Town, AB3 4ET - Bedrooms: 1",1,"AB3 4ET","LA ordinary dwelling",null,"AC1C41B6 A538E624 0DE2E481 412B917A 056FCA4D",1,"Flat 30, 39 Any Street, Any Town, AB3 4ET - Bedrooms: 1",1,"AB3 4ET"]
["FLAT31/40/AB34ET","Flat 31, 40 Any Street, Any Town, AB3 4ET - Bedrooms: 1",1,"AB3 4ET","LA ordinary dwelling",null,"4051F1FD E4650DBD E2D078A1 87F05AB5 50B248AE",1,"Flat 31, 40 Any Street, Any Town, AB3 4ET - Bedrooms: 1",1,"AB3 4ET"]
["FLAT32/41/AB34ET","Flat 32, 41 Any Street, Any Town, AB3 4ET - Bedrooms: 2",2,"AB3 4ET","LA ordinary dwelling",null,"34B5C258 3B4703EB EF4AD09C 69C1D2C8 D241013D",1,"Flat 32, 41 Any Street, Any Town, AB3 4ET - Bedrooms: 2",2,"AB3 4ET"]
["FLAT33/42/AB34ET","Flat 33, 42 Any Street, Any Town, AB3 4ET - Bedrooms: 1",1,"AB3 4ET","LA ordinary dwelling",null,"2DB650A9 1AA08E1D 487C7184 E2F4764A F69B84CF",1,"Flat 33, 42 Any Street, Any Town, AB3 4ET - Bedrooms: 1",1,"AB3 4ET"]
["FLAT34/43/AB34ET","Flat 34, 43 Any Street, Any Town, AB3 4ET - Bedrooms: 1",1,"AB3 4ET","LA ordinary dwelling",null,"9E037104 20580E21 DC15B7C3 D54B20C9 E70F5ACD",1,"Flat 34, 43 Any Street, Any Town, AB3 4ET - Bedrooms: 1",1,"AB3 4ET"]
["FLAT35/44/AB34ET","Flat 35, 44 Any Street, Any Town, AB3 4ET - Bedrooms: 1",1,"AB3 4ET","LA ordinary dwelling",null,"39881619 7B6F2F3E E840C4D5 9B2A700D 9B63170D",1,"Flat 35, 44 Any Street, Any Town, AB3 4ET - Bedrooms: 1",1,"AB3 4ET"]
["FLAT36/45/AB34ET","Flat 36, 45 Any Street, Any Town, AB3 4ET - Bedrooms: 2",2,"AB3 4ET","LA ordinary dwelling",null,"0EAF3FD9 1B76E25E 1E968348 4107A63A B0F4C21C",1,"Flat 36, 45 Any Street, Any Town, AB3 4ET - Bedrooms: 2",2,"AB3 4ET"]
["FLAT37/46/AB34ET","Flat 37, 46 Any Street, Any Town, AB3 4ET - Bedrooms: 1",1,"AB3 4ET","LA ordinary dwelling",null,"D4C4F4B9 EC4B26A0 C62B8DF3 D6FBAA98 FE72EAEA",1,"Flat 37, 46 Any Street, Any Town, AB3 4ET - Bedrooms: 1",1,"AB3 4ET"]
["FLAT38/47/AB34ET","Flat 38, 47 Any Street, Any Town, AB3 4ET - Bedrooms: 1",1,"AB3 4ET","LA ordinary dwelling",null,"7768856D 674BD432 E9E26CF2 082A193C 7924A329",1,"Flat 38, 47 Any Street, Any Town, AB3 4ET - Bedrooms: 1",1,"AB3 4ET"]
["FLAT39/48/AB34ET","Flat 39, 48 Any Street, Any Town, AB3 4ET - Bedrooms: 1",1,"AB3 4ET","LA ordinary dwelling",null,"2FA132DA 2368E8E6 2ADCA224 BBD1D796 C40942CE",1,"Flat 39, 48 Any Street, Any Town, AB3 4ET - Bedrooms: 1",1,"AB3 4ET"]
["FLAT40/49/AB34ET","Flat 40, 49 Any Street, Any Town, AB3 4ET - Bedrooms: 2",2,"AB3 4ET","LA ordinary dwelling",null,"741A432B EC10830A 93FFEB47 DD998C3B CE13AB8F",1,"Flat 40, 49 Any Street, Any Town, AB3 4ET - Bedrooms: 2",2,"AB3 4ET"]
["FLAT41/50/AB34ET","Flat 41, 50 Any Street, Any Town, AB3 4ET - Bedrooms: 1",1,"AB3 4ET","LA ordinary dwelling",null,"08B91E2B E5325458 94B503C7 99C898C0 DB4D600F",1,"Flat 41, 50 Any Street, Any Town, AB3 4ET - Bedrooms: 1",1,"AB3 4ET"]
["FLAT42/51/AB34ET","Flat 42, 51 Any Street, Any Town, AB3 4ET - Bedrooms: 1",1,"AB3 4ET","LA ordinary dwelling",null,"42BA5696 7866278E 63337AB4 81CB175D B834A91F",1,"Flat 42, 51 Any Street, Any Town, AB3 4ET - Bedrooms: 1",1,"AB3 4ET"]
["FLAT43/52/AB34ET","Flat 43, 52 Any Street, Any Town, AB3 4ET - Bedrooms: 1",1,"AB3 4ET","LA ordinary dwelling",null,"828DE9BE C15F3797 7EB6EAB2 144E8CF0 6C0E9DC5",1,"Flat 43, 52 Any Street, Any Town, AB3 4ET - Bedrooms: 1",1,"AB3 4ET"]
["FLAT44/53/AB34ET","Flat 44, 53 Any Street, Any Town, AB3 4ET - Bedrooms: 2",2,"AB3 4ET","LA ordinary dwelling",null,"25655140 1D4EC647 6D2579A5 7CA91EEF 044DE243",1,"Flat 44, 53 Any Street, Any Town, AB3 4ET - Bedrooms: 2",2,"AB3 4ET"]
["FLAT45/54/AB34ET","Flat 45, 54 Any Street, Any Town, AB3 4ET - Bedrooms: 1",1,"AB3 4ET","LA ordinary dwelling",null,"C174DC8A 3BC668B1 D34B2504 C53F1A4E 91BFB07B",1,"Flat 45, 54 Any Street, Any Town, AB3 4ET - Bedrooms: 1",1,"AB3 4ET"]
["FLAT46/55/AB34ET","Flat 46, 55 Any Street, Any Town, AB3 4ET - Bedrooms: 1",1,"AB3 4ET","LA ordinary dwelling",null,"F86390E4 AF17820F 19282670 B2BEFA1C 243F4E1A",1,"Flat 46, 55 Any Street, Any Town, AB3 4ET - Bedrooms: 1",1,"AB3 4ET"]
["FLAT47/56/AB34ET","Flat 47, 56 Any Street, Any Town, AB3 4ET - Bedrooms: 1",1,"AB3 4ET","LA ordinary dwelling",null,"9E27A52D 936308C7 B0C04D2E 6E28491C 3FFD2A1F",1,"Flat 47, 56 Any Street, Any Town, AB3 4ET - Bedrooms: 1",1,"AB3 4ET"]
["FLAT48/57/AB34ET","Flat 48, 57 Any Street, Any Town, AB3 4ET - Bedrooms: 2",2,"AB3 4ET","LA ordinary dwelling",null,"C96496EA B49A3930 0F5B478E 98064686 AD3B13F0",1,"Flat 48, 57 Any Street, Any Town, AB3 4ET - Bedrooms: 2",2,"AB3 4ET"]
["FLAT49/58/AB34ET","Flat 49, 58 Any Street, Any Town, AB3 4ET - Bedrooms: 1",1,"AB3 4ET","LA ordinary dwelling",null,"72E4E3FA DE66ABDF 3A29185C C5509299 4BAFA9B5",1,"Flat 49, 58 Any Street, Any Town, AB3 4ET - Bedrooms: 1",1,"AB3 4ET"]
["FLAT50/59/AB34ET","Flat 50, 59 Any Street, Any Town, AB3 4ET - Bedrooms: 1",1,"AB3 4ET","LA ordinary dwelling",null,"418F2659 07EB84CF AD2FD7ED B90EE109 1197AAD7",1,"Flat 50, 59 Any Street, Any Town, AB3 4ET - Bedrooms: 1",1,"AB3 4ET"]
["FLAT51/60/AB34ET","Flat 51, 60 Any Street, Any Town, AB3 4ET - Bedrooms: 1",1,"AB3 4ET","LA ordinary dwelling",null,"68397851 5808299B 7E11CD5C ADF2E356 5E0E4A6F",1,"Flat 51, 60 Any Street, Any Town, AB3 4ET - Bedrooms: 1",1,"AB3 4ET"]
["FLAT52/61/AB34ET","Flat 52, 61 Any Street, Any Town, AB3 4ET - Bedrooms: 2",2,"AB3 4ET","LA ordinary dwelling",null,"584FA5FE D1B42F63 30E000DF 71B167EF 149AF2DC",1,"Flat 52, 61 Any Street, Any Town, AB3 4ET - Bedrooms: 2",2,"AB3 4ET"]
["FLAT53/62/AB34ET","Flat 53, 62 Any Street, Any Town, AB3 4ET - Bedrooms: 1",1,"AB3 4ET","LA ordinary dwelling",null,"EB4B4BCF 69EF4E5E D7F61FD4 42EFBEBF 551E1034",1,"Flat 53, 62 Any Street, Any Town, AB3 4ET - Bedrooms: 1",1,"AB3 4ET"]
["FLAT54/63/AB34ET","Flat 54, 63 Any Street, Any Town, AB3 4ET - Bedrooms: 1",1,"AB3 4ET","LA ordinary dwelling",null,"1CF6B52A FF68EAB9 FC6D71FB 46B61BE8 C1035D16",1,"Flat 54, 63 Any Street, Any Town, AB3 4ET - Bedrooms: 1",1,"AB3 4ET"]
["FLAT55/64/AB34ET","Flat 55, 64 Any Street, Any Town, AB3 4ET - Bedrooms: 1",1,"AB3 4ET","LA ordinary dwelling",null,"EFFD713B 2FC6667E 78F02331 54B297A3 5E04C4A8",1,"Flat 55, 64 Any Street, Any Town, AB3 4ET - Bedrooms: 1",1,"AB3 4ET"]
["FLAT56/65/AB34ET","Flat 56, 65 Any Street, Any Town, AB3 4ET - Bedrooms: 2",2,"AB3 4ET","LA ordinary dwelling",null,"6DA0E64D 24D19177 321CE55D 3D713CA6 8656822E",1,"Flat 56, 65 Any Street, Any Town, AB3 4ET - Bedrooms: 2",2,"AB3 4ET"]
["FLAT57/66/AB34ET","Flat 57, 66 Any Street, Any Town, AB3 4ET - Bedrooms: 1",1,"AB3 4ET","LA ordinary dwelling",null,"16A38160 DB2EC8B1 7059478B 21F6D52D 51A74D1A",1,"Flat 57, 66 Any Street, Any Town, AB3 4ET - Bedrooms: 1",1,"AB3 4ET"]
["FLAT58/67/AB34ET","Flat 58, 67 Any Street, Any Town, AB3 4ET - Bedrooms: 1",1,"AB3 4ET","LA ordinary dwelling",null,"D5B85E33 65724930 511520D6 D9F26038 E191203D",1,"Flat 58, 67 Any Street, Any Town, AB3 4ET - Bedrooms: 1",1,"AB3 4ET"]
["FLAT59/68/AB34ET","Flat 59, 68 Any Street, Any Town, AB3 4ET - Bedrooms: 1",1,"AB3 4ET","LA ordinary dwelling",null,"6AA97243 0F0FA7C8 5E0D7DF1 EB72357C D82250E1",1,"Flat 59, 68 Any Street, Any Town, AB3 4ET - Bedrooms: 1",1,"AB3 4ET"]
["FLAT60/69/AB34ET","Flat 60, 69 Any Street, Any Town, AB3 4ET - Bedrooms: 2",2,"AB3 4ET","LA ordinary dwelling",null,"E9B15A71 87AE70D3 06A4016E 37136F0A 29C1FDA6",1,"Flat 60, 69 Any Street, Any Town, AB3 4ET - Bedrooms: 2",2,"AB3 4ET"]
["FLAT61/70/AB34ET","Flat 61, 70 Any Street, Any Town, AB3 4ET - Bedrooms: 1",1,"AB3 4ET","LA ordinary dwelling",null,"AFA37B92 938AE12B 2CC99F85 23FFE08F 289C1933",1,"Flat 61, 70 Any Street, Any Town, AB3 4ET - Bedrooms: 1",1,"AB3 4ET"]
["FLAT62/71/AB34ET","Flat 62, 71 Any Street, Any Town, AB3 4ET - Bedrooms: 1",1,"AB3 4ET","LA ordinary dwelling",null,"6D8323A8 98E6FA07 00F8F899 C8C0EDC2 708B67E2",1,"Flat 62, 71 Any Street, Any Town, AB3 4ET - Bedrooms: 1",1,"AB3 4ET"]
["FLAT63/72/AB34ET","Flat 63, 72 Any Street, Any Town, AB3 4ET - Bedrooms: 1",1,"AB3 4ET","LA ordinary dwelling",null,"B97578C9 24E5E11C 6A0D195A 41803F7C 2F2D6873",1,"Flat 63, 72 Any Street, Any Town, AB3 4ET - Bedrooms: 1",1,"AB3 4ET"]
["FLAT64/73/AB34ET","Flat 64, 73 Any Street, Any Town, AB3 4ET - Bedrooms: 2",2,"AB3 4ET","LA ordinary dwelling",null,"76BE670E EDA03E2F 7866A354 7BFE1E63 769F5255",1,"Flat 64, 73 Any Street, Any Town, AB3 4ET - Bedrooms: 2",2,"AB3 4ET"]
["FLAT65/74/AB34ET","Flat 65, 74 Any Street, Any Town, AB3 4ET - Bedrooms: 1",1,"AB3 4ET","LA ordinary dwelling",null,"F6A44B69 801B30FB 60239CB0 2B69C567 4DE89BAF",1,"Flat 65, 74 Any Street, Any Town, AB3 4ET - Bedrooms: 1",1,"AB3 4ET"]
["FLAT66/75/AB34ET","Flat 66, 75 Any Street, Any Town, AB3 4ET - Bedrooms: 1",1,"AB3 4ET","LA ordinary dwelling",null,"F90CFDD1 895F8F0E 4026E741 8CAAC194 B41B1FF9",1,"Flat 66, 75 Any Street, Any Town, AB3 4ET - Bedrooms: 1",1,"AB3 4ET"]
["FLAT67/76/AB34ET","Flat 67, 76 Any Street, Any Town, AB3 4ET - Bedrooms: 1",1,"AB3 4ET","LA ordinary dwelling",null,"AF2204D9 0AEE22E0 5731429A A7FC448B A6452A79",1,"Flat 67, 76 Any Street, Any Town, AB3 4ET - Bedrooms: 1",1,"AB3 4ET"]
["FLAT68/77/AB34ET","Flat 68, 77 Any Street, Any Town, AB3 4ET - Bedrooms: 2",2,"AB3 4ET","LA ordinary dwelling",null,"6C7C3818 949CE4F9 F28136ED 120F834F 2A62503A",1,"Flat 68, 77 Any Street, Any Town, AB3 4ET - Bedrooms: 2",2,"AB3 4ET"]
["FLAT69/78/AB34ET","Flat 69, 78 Any Street, Any Town, AB3 4ET - Bedrooms: 1",1,"AB3 4ET","LA ordinary dwelling",null,"37B8685D ABB1E0B1 20EA5159 4DF0B30D 90D83AEE",1,"Flat 69, 78 Any Street, Any Town, AB3 4ET - Bedrooms: 1",1,"AB3 4ET"]
["FLAT70/79/AB34ET","Flat 70, 79 Any Street, Any Town, AB3 4ET - Bedrooms: 1",1,"AB3 4ET","LA ordinary dwelling",null,"9EA2A90E B19E005A D92D61A8 2A082920 79960261",1,"Flat 70, 79 Any Street, Any Town, AB3 4ET - Bedrooms: 1",1,"AB3 4ET"]
["FLAT71/80/AB34ET","Flat 71, 80 Any Street, Any Town, AB3 4ET - Bedrooms: 1",1,"AB3 4ET","LA ordinary dwelling",null,"7AA81FCC 47A6D73A BA1E675D 10063577 946CEB6E",1,"Flat 71, 80 Any Street, Any Town, AB3 4ET - Bedrooms: 1",1,"AB3 4ET"]
["FLAT72/81/AB34ET","Flat 72, 81 Any Street, Any Town, AB3 4ET - Bedrooms: 2",2,"AB3 4ET","LA ordinary dwelling",null,"C55BDF7E 524208D2 8206BA28 3B95F64E A66ACEFC",1,"Flat 72, 81 Any Street, Any Town, AB3 4ET - Bedrooms: 2",{"$f":"C66","v":2},{"$f":"D66","v":"AB3 4ET"}]
["FLAT73/82/AB34ET","Flat 73, 82 Any Street, Any Town, AB3 4ET - Bedrooms: 1",1,"AB3 4ET","LA ordinary dwelling",null,"15A33D95 96529E06 9C2B7A4F 37C10B96 E9BBA80D",1,{"$f":"IF(H67=1,B67,\"\")","v":"Flat 73, 82 Any Street, Any Town, AB3 4ET - Bedrooms: 1"},1,"AB3 4ET"]
["FLAT74/83/AB34ET","Flat 74, 83 Any Street, Any Town, AB3 4ET - Bedrooms: 1",1,"AB3 4ET","LA ordinary dwelling",null,"C154895C 8DEC7622 83E5B750 3E49CDDF FB67877E",1,"Flat 74, 83 Any Street, Any Town, AB3 4ET - Bedrooms: 1",1,"AB3 4ET"]
["FLAT75/84/AB34ET","Flat 75, 84 Any Street, Any Town, AB3 4ET - Bedrooms: 1",1,"AB3 4ET","LA ordinary dwelling",null,"9E94019A 7F5D8868 02162F72 6193068E 791AA640",1,"Flat 75, 84 Any Street, Any Town, AB3 4ET - Bedrooms: 1",1,"AB3 4ET"]
["FLAT76/85/AB34ET","Flat 76, 85 Any Street, Any Town, AB3 4ET - Bedrooms: 2",2,"AB3 4ET","LA ordinary dwelling",null,"A9F753C1 BC65E6BE 9F49F2A9 D296F6A0 48D21CBB",1,"Flat 76, 85 Any Street, Any Town, AB3 4ET - Bedrooms: 2",2,"AB3 4ET"]
["FLAT77/86/AB34ET","Flat 77, 86 Any Street, Any Town, AB3 4ET - Bedrooms: 1",1,"AB3 4ET","LA ordinary dwelling",null,"8196EB71 848CD6D7 AFC42E44 B9440BEC 9DC42D05",1,"Flat 77, 86 Any Street, Any Town, AB3 4ET - Bedrooms: 1",1,"AB3 4ET"]
["FLAT78/87/AB34ET","Flat 78, 87 Any Street, Any Town, AB3 4ET - Bedrooms: 1",1,"AB3 4ET","LA ordinary dwelling",null,"E85F7BB6 11D49D78 900DCB26 A305E587 16A8B286",1,"Flat 78, 87 Any Street, Any Town, AB3 4ET - Bedrooms: 1",1,"AB3 4ET"]
["FLAT79/88/AB34ET","Flat 79, 88 Any Street, Any Town, AB3 4ET - Bedrooms: 1",1,"AB3 4ET","LA ordinary dwelling",null,"8752180F 237F164D 8CB1CA32 4308091B EE792D38",1,"Flat 79, 88 Any Street, Any Town, AB3 4ET - Bedrooms: 1",1,"AB3 4ET"]
["FLAT80/89/AB34ET","Flat 80, 89 Any Street, Any Town, AB3 4ET - Bedrooms: 2",2,"AB3 4ET","LA ordinary dwelling",null,"90D17A5C 2A41C4F0 794B0158 3A18A430 F3EDB26D",1,"Flat 80, 89 Any Street, Any Town, AB3 4ET - Bedrooms: 2",2,"AB3 4ET"]
["FLAT81/90/AB34ET","Flat 81, 90 Any Street, Any Town, AB3 4ET - Bedrooms: 1",1,"AB3 4ET","LA ordinary dwelling",null,"558C9566 9134A78C A5EC986D 3FCEA587 D06BDEC6",1,"Flat 81, 90 Any Street, Any Town, AB3 4ET - Bedrooms: 1",1,"AB3 4ET"]
["FLAT82/91/AB34ET","Flat 82, 91 Any Street, Any Town, AB3 4ET - Bedrooms: 1",1,"AB3 4ET","LA ordinary dwelling",null,"07F419FC 57EB1849 385021D1 CFE898C9 CB3FE4AE",1,"Flat 82, 91 Any Street, Any Town, AB3 4ET - Bedrooms: 1",1,"AB3 4ET"]
["FLAT83/92/AB34ET","Flat 83, 92 Any Street, Any Town, AB3 4ET - Bedrooms: 1",1,"AB3 4ET","LA ordinary dwelling",null,"03FBFEA8 811E1C92 685622ED 2B2EFB3A 0FE657E6",1,"Flat 83, 92 Any Street, Any Town, AB3 4ET - Bedrooms: 1",1,"AB3 4ET"]
["FLAT84/93/AB34ET","Flat 84, 93 Any Street, Any Town, AB3 4ET - Bedrooms: 2",2,"AB3 4ET","LA ordinary dwelling",null,"D1F363CF 3A9C9150 814B485B 1AF704DF 1DA7FC2C",1,"Flat 84, 93 Any Street, Any Town, AB3 4ET - Bedrooms: 2",2,"AB3 4ET"]
["FLAT85/94/AB34ET","Flat 85, 94 Any Street, Any Town, AB3 4ET - Bedrooms: 1",1,"AB3 4ET","LA ordinary dwelling",null,"7AD07394 8C7CE2F5 888EFCB3 04BD2160 2E3A52D7",1,"Flat 85, 94 Any Street, Any Town, AB3 4ET - Bedrooms: 1",1,"AB3 4ET"]
["FLAT86/95/AB34ET","Flat 86, 95 Any Street, Any Town, AB3 4ET - Bedrooms: 1",1,"AB3 4ET","LA ordinary dwelling",null,"BB858466 B3899E95 CB872951 39FE42E1 9B3969A7",1,"Flat 86, 95 Any Street, Any Town, AB3 4ET - Bedrooms: 1",1,"AB3 4ET"]
["FLAT87/96/AB34ET","Flat 87, 96 Any Street, Any Town, AB3 4ET - Bedrooms: 1",1,"AB3 4ET","LA ordinary dwelling",null,"6914CC87 DA28CD31 EC9DA5CC 32184D97 8100E5D8",1,"Flat 87, 96 Any Street, Any Town, AB3 4ET - Bedrooms: 1",1,"AB3 4ET"]
["FLAT88/97/AB34ET","Flat 88, 97 Any Street, Any Town, AB3 4ET - Bedrooms: 2",2,"AB3 4ET","LA ordinary dwelling",null,"E008CB8A CDB42D62 E19A9F48 E1416028 4094E317",1,"Flat 88, 97 Any Street, Any Town, AB3 4ET - Bedrooms: 2",2,"AB3 4ET"]
["FLAT89/98/AB34ET","Flat 89, 98 Any Street, Any Town, AB3 4ET - Bedrooms: 1",1,"AB3 4ET","LA ordinary dwelling",null,"DE8A7341 09024DA9 71A34DEC 2380E1AB 72C75142",1,"Flat 89, 98 Any Street, Any Town, AB3 4ET - Bedrooms: 1",1,"AB3 4ET"]
["FLAT90/99/AB34ET","Flat 90, 99 Any Street, Any Town, AB3 4ET - Bedrooms: 1",1,"AB3 4ET","LA ordinary dwelling",null,"423A5563 35C364B8 7862F807 F491B051 6CFAD3B7",1,"Flat 90, 99 Any Street, Any Town, AB3 4ET - Bedrooms: 1",1,"AB3 4ET"]
["FLAT91/100/AB34ET","Flat 91, 100 Any Street, Any Town, AB3 4ET - Bedrooms: 1",1,"AB3 4ET","LA ordinary dwelling",null,"D44CEFAC 2A8E3BCB F1059C54 AB5FEF45 2746B71C",1,"Flat 91, 100 Any Street, Any Town, AB3 4ET - Bedrooms: 1",1,"AB3 4ET"]
["FLAT92/101/AB34ET","Flat 92, 101 Any Street, Any Town, AB3 4ET - Bedrooms: 2",2,"AB3 4ET","LA ordinary dwelling",null,"673E94C7 37BDBFDC CD3EF70C 52B05F3B 17BAC3A8",1,"Flat 92, 101 Any Street, Any Town, AB3 4ET - Bedrooms: 2",2,"AB3 4ET"]
["FLAT93/102/AB34ET","Flat 93, 102 Any Street, Any Town, AB3 4ET - Bedrooms: 1",1,"AB3 4ET","LA ordinary dwelling",null,"B125E720 B2F6809C ED7A774F A5F83CF1 27570432",1,"Flat 93, 102 Any Street, Any Town, AB3 4ET - Bedrooms: 1",1,"AB3 4ET"]
["FLAT94/103/AB34ET","Flat 94, 103 Any Street, Any Town, AB3 4ET - Bedrooms: 1",1,"AB3 4ET","LA ordinary dwelling",null,"2DDE0B6F 730937E9 B32DFD61 81BA62C4 1B39F0B4",1,"Flat 94, 103 Any Street, Any Town, AB3 4ET - Bedrooms: 1",1,"AB3 4ET"]
["FLAT95/104/AB34ET","Flat 95, 104 Any Street, Any Town, AB3 4ET - Bedrooms: 1",1,"AB3 4ET","LA ordinary dwelling",null,"90D51595 ED110D40 E470BAFB 193DC4E2 3C503A3A",1,"Flat 95, 104 Any Street, Any Town, AB3 4ET - Bedrooms: 1",1,"AB3 4ET"]
["FLAT96/105/AB34ET","Flat 96, 105 Any Street, Any Town, AB3 4ET - Bedrooms: 2",2,"AB3 4ET","LA ordinary dwelling",null,"EC22D993 EA3E5AB5 B8D2B5D7 85CC48CD 5C1C47E6",1,"Flat 96, 105 Any Street, Any Town, AB3 4ET - Bedrooms: 2",2,"AB3 4ET"]
["FLAT97/106/AB34ET","Flat 97, 106 Any Street, Any Town, AB3 4ET - Bedrooms: 1",1,"AB3 4ET","LA ordinary dwelling",null,"482F3690 D678BFA4 181EF449 E2FC57C3 AE9A9A5C",1,"Flat 97, 106 Any Street, Any Town, AB3 4ET - Bedrooms: 1",1,"AB3 4ET"]
["FLAT98/107/AB34ET","Flat 98, 107 Any Street, Any Town, AB3 4ET - Bedrooms: 1",1,"AB3 4ET","LA ordinary dwelling",null,"9F2E8F87 70EB0435 8A9C2E90 CC603BB1 4C7BE44C",1,"Flat 98, 107 Any Street, Any Town, AB3 4ET - Bedrooms: 1",1,"AB3 4ET"]
["FLAT99/108/AB34ET","Flat 99, 108 Any Street, Any Town, AB3 4ET - Bedrooms: 1",1,"AB3 4ET","LA ordinary dwelling",null,"6DA858B0 E2CB4B7C FEACC594 9307FF4B 6DF0AB29",1,"Flat 99, 108 Any Street, Any Town, AB3 4ET - Bedrooms: 1",1,"AB3 4ET"]
["FLAT100/109/AB34ET","Flat 100, 109 Any Street, Any Town, AB3 4ET - Bedrooms: 2",2,"AB3 4ET","LA ordinary dwelling",null,"84956FA7 B422DFA0 E706D6C3 38041E0D 3F1BAF09",1,"Flat 100, 109 Any Street, Any Town, AB3 4ET - Bedrooms: 2",2,"AB3 4ET"]
["FLAT101/110/AB34ET","Flat 101, 110 Any Street, Any Town, AB3 4ET - Bedrooms: 1",1,"AB3 4ET","LA ordinary dwelling",null,"787957CB AE8EE8B4 52B7C3D1 9476E9F2 28054DAF",1,"Flat 101, 110 Any Street, Any Town, AB3 4ET - Bedrooms: 1",1,"AB3 4ET"]
["FLAT102/111/AB34ET","Flat 102, 111 Any Street, Any Town, AB3 4ET - Bedrooms: 1",1,"AB3 4ET","LA ordinary dwelling",null,"62101FF0 5984F8E1 29347552 504983A4 147736C0",1,"Flat 102, 111 Any Street, Any Town, AB3 4ET - Bedrooms: 1",1,"AB3 4ET"]
["FLAT103/112/AB34ET","Flat 103, 112 Any Street, Any Town, AB3 4ET - Bedrooms: 1",1,"AB3 4ET","LA ordinary dwelling",null,"E50F0DDB 85C6E158 34BF2FB0 505CF027 4B85D8C3",1,"Flat 103, 112 Any Street, Any Town, AB3 4ET - Bedrooms: 1",1,"AB3 4ET"]
["FLAT104/113/AB34ET","Flat 104, 113 Any Street, Any Town, AB3 4ET - Bedrooms: 2",2,"AB3 4ET","LA ordinary dwelling",null,"23BF946C DC63F855 239D10AD 41B0E6CA 4DEFD242",1,"Flat 104, 113 Any Street, Any Town, AB3 4ET - Bedrooms: 2",2,"AB3 4ET"]
["FLAT105/114/AB34ET","Flat 105, 114 Any Street, Any Town, AB3 4ET - Bedrooms: 1",1,"AB3 4ET","LA ordinary dwelling",null,"BE135C55 3369458B 3AFC3250 02AFE652 21A8BCEE",1,"Flat 105, 114 Any Street, Any Town, AB3 4ET - Bedrooms: 1",1,"AB3 4ET"]
["FLAT106/115/AB34ET","Flat 106, 115 Any Street, Any Town, AB3 4ET - Bedrooms: 1",1,"AB3 4ET","LA ordinary dwelling",null,"F432520E E9C1AF3A 92713BAC CE3118B8 D124D673",1,"Flat 106, 115 Any Street, Any Town, AB3 4ET - Bedrooms: 1",1,"AB3 4ET"]
["FLAT107/116/AB34ET","Flat 107, 116 Any Street, Any Town, AB3 4ET - Bedrooms: 1",1,"AB3 4ET","LA ordinary dwelling",null,"CE357AF8 9FC9DDD9 04781978 F54C6209 7BC05D87",1,"Flat 107, 116 Any Street, Any Town, AB3 4ET - Bedrooms: 1",1,"AB3 4ET"]
["FLAT108/117/AB34ET","Flat 108, 117 Any Street, Any Town, AB3 4ET - Bedrooms: 2",2,"AB3 4ET","LA ordinary dwelling",null,"3E671DE8 0D23C595 DB5A59AB 6E36AD42 D600DC0C",1,"Flat 108, 117 Any Street, Any Town, AB3 4ET - Bedrooms: 2",2,"AB3 4ET"]
["FLAT109/118/AB34ET","Flat 109, 118 Any Street, Any Town, AB3 4ET - Bedrooms: 1",1,"AB3 4ET","LA ordinary dwelling",null,"B8AD4F95 2B5DC557 9E753B90 AEBD7750 716449A0",1,"Flat 109, 118 Any Street, Any Town, AB3 4ET - Bedrooms: 1",1,"AB3 4ET"]
["FLAT110/119/AB34ET","Flat 110, 119 Any Street, Any Town, AB3 4ET - Bedrooms: 1",1,"AB3 4ET","LA ordinary dwelling",null,"B2681771 3276CF66 284B3672 3C83B19E 9B917B7C",1,"Flat 110, 119 Any Street, Any Town, AB3 4ET - Bedrooms: 1",1,"AB3 4ET"]
["FLAT111/120/AB34ET","Flat 111, 120 Any Street, Any Town, AB3 4ET - Bedrooms: 1",1,"AB3 4ET","LA ordinary dwelling",null,"92DB87DC 047A599F 233BD37B 155EE2D4 DDF3C22A",1,"Flat 111, 120 Any Street, Any Town, AB3 4ET - Bedrooms: 1",1,"AB3 4ET"]
["FLAT112/121/AB34ET","Flat 112, 121 Any Street, Any Town, AB3 4ET - Bedrooms: 2",2,"AB3 4ET","LA ordinary dwelling",null,"8489738F D8A1CDF3 8D337A7C 226986EB B380A9CC",1,"Flat 112, 121 Any Street, Any Town, AB3 4ET - Bedrooms: 2",2,"AB3 4ET"]
["FLAT113/122/AB34ET","Flat 113, 122 Any Street, Any Town, AB3 4ET - Bedrooms: 1",1,"AB3 4ET","LA ordinary dwelling",null,"E8137FAE 26C7F35F DA8863A9 1A89B371 FC356D76",1,"Flat 113, 122 Any Street, Any Town, AB3 4ET - Bedrooms: 1",1,"AB3 4ET"]
["FLAT114/123/AB34ET","Flat 114, 123 Any Street, Any Town, AB3 4ET - Bedrooms: 1",1,"AB3 4ET","LA ordinary dwelling",null,"6048DE5A F18786E0 0DCBEABA 19F16F96 FD315E8C",1,"Flat 114, 123 Any Street, Any Town, AB3 4ET - Bedrooms: 1",1,"AB3 4ET"]
["FLAT115/124/AB34ET","Flat 115, 124 Any Street, Any Town, AB3 4ET - Bedrooms: 1",1,"AB3 4ET","LA ordinary dwelling",null,"935677AD 221E6005 A062C649 1EF1B584 D55735C8",1,"Flat 115, 124 Any Street, Any Town, AB3 4ET - Bedrooms: 1",1,"AB3 4ET"]
["FLAT116/125/AB34ET","Flat 116, 125 Any Street, Any Town, AB3 4ET - Bedrooms: 2",2,"AB3 4ET","LA ordinary dwelling",null,"44C5CFCB 9BEC0189 0809E074 6F270039 7930F779",1,"Flat 116, 125 Any Street, Any Town, AB3 4ET - Bedrooms: 2",2,"AB3 4ET"]
["FLAT117/126/AB34ET","Flat 117, 126 Any Street, Any Town, AB3 4ET - Bedrooms: 1",1,"AB3 4ET","LA ordinary dwelling",null,"0F963637 1D9ED950 51B165B4 82CDF39F 8191AA4A",1,"Flat 117, 126 Any Street, Any Town, AB3 4ET - Bedrooms: 1",1,"AB3 4ET"]
["FLAT118/127/AB34ET","Flat 118, 127 Any Street, Any Town, AB3 4ET - Bedrooms: 1",1,"AB3 4ET","LA ordinary dwelling",null,"8601548F C7A02E1D DADD3AB9 DE835B9A 70B0EF3F",1,"Flat 118, 127 Any Street, Any Town, AB3 4ET - Bedrooms: 1",1,"AB3 4ET"]
["FLAT119/128/AB34ET","Flat 119, 128 Any Street, Any Town, AB3 4ET - Bedrooms: 1",1,"AB3 4ET","LA ordinary dwelling",null,"F2582875 18A11680 1FBAFEA0 5E29AA0B C19F1474",1,"Flat 119, 128 Any Street, Any Town, AB3 4ET - Bedrooms: 1",1,"AB3 4ET"]
["FLAT120/129/AB34ET","Flat 120, 129 Any Street, Any Town, AB3 4ET - Bedrooms: 2",2,"AB3 4ET","LA ordinary dwelling",null,"6A416B00 E7DC89DD 2D2051FF 1A885EA9 25168C4D",1,"Flat 120, 129 Any Street, Any Town, AB3 4ET - Bedrooms: 2",2,"AB3 4ET"]
["FLAT121/130/AB34ET","Flat 121, 130 Any Street, Any Town, AB3 4ET - Bedrooms: 1",1,"AB3 4ET","LA ordinary dwelling",null,"96E8B753 2B156918 E237279C BB33664E CFEF520C",1,"Flat 121, 130 Any Street, Any Town, AB3 4ET - Bedrooms: 1",1,"AB3 4ET"]
["FLAT122/131/AB34ET","Flat 122, 131 Any Street, Any Town, AB3 4ET - Bedrooms: 1",1,"AB3 4ET","LA ordinary dwelling",null,"18CB060B D0482668 911A898B 5C0B9736 0A5CD1DE",1,"Flat 122, 131 Any Street, Any Town, AB3 4ET - Bedrooms: 1",1,"AB3 4ET"]
["FLAT123/132/AB34ET","Flat 123, 132 Any Street, Any Town, AB3 4ET - Bedrooms: 1",1,"AB3 4ET","LA ordinary dwelling",null,"9C4E19FD FE0E44CE 51B829E2 359937E2 5F1F1723",1,"Flat 123, 132 Any Street, Any Town, AB3 4ET - Bedrooms: 1",1,"AB3 4ET"]
["FLAT124/133/AB34ET","Flat 124, 133 Any Street, Any Town, AB3 4ET - Bedrooms: 2",2,"AB3 4ET","LA ordinary dwelling",null,"3FB758A4 96995EB2 7F33611D 779B57A9 C9BD578B",1,"Flat 124, 133 Any Street, Any Town, AB3 4ET - Bedrooms: 2",2,"AB3 4ET"]
["FLAT125/134/AB34ET","Flat 125, 134 Any Street, Any Town, AB3 4ET - Bedrooms: 1",1,"AB3 4ET","LA ordinary dwelling",null,"FC9585F2 BD70C6DC 6215DD85 83F26032 63AB2C04",1,"Flat 125, 134 Any Street, Any Town, AB3 4ET - Bedrooms: 1",1,"AB3 4ET"]
["FLAT126/135/AB34ET","Flat 126, 135 Any Street, Any Town, AB3 4ET - Bedrooms: 1",1,"AB3 4ET","LA ordinary dwelling",null,"94B2F1EF 6BF293B8 8189BB93 22041193 911FBE9A",1,"Flat 126, 135 Any Street, Any Town, AB3 4ET - Bedrooms: 1",1,"AB3 4ET"]
["FLAT127/136/AB34ET","Flat 127, 136 Any Street, Any Town, AB3 4ET - Bedrooms: 1",1,"AB3 4ET","LA ordinary dwelling",null,"8265693C 3B4B00C9 CF7EB6D7 8417DE7C E1E46378",1,"Flat 127, 136 Any Street, Any Town, AB3 4ET - Bedrooms: 1",1,"AB3 4ET"]
["FLAT128/137/AB34ET","Flat 128, 137 Any Street, Any Town, AB3 4ET - Bedrooms: 2",2,"AB3 4ET","LA ordinary dwelling",null,"7E78AA43 190926FF 448065A2 E2186731 4F4586CD",1,"Flat 128, 137 Any Street, Any Town, AB3 4ET - Bedrooms: 2",2,"AB3 4ET"]
["FLAT129/138/AB34ET","Flat 129, 138 Any Street, Any Town, AB3 4ET - Bedrooms: 1",1,"AB3 4ET","LA ordinary dwelling",null,"F9FD2AB3 D95D1191 29E4042F 12AB1CBA 86CA6A2A",1,"Flat 129, 138 Any Street, Any Town, AB3 4ET - Bedrooms: 1",1,"AB3 4ET"]
["FLAT130/139/AB34ET","Flat 130, 139 Any Street, Any Town, AB3 4ET - Bedrooms: 1",1,"AB3 4ET","LA ordinary dwelling",null,"3B58042D 92CD08E8 23CF24D1 442683A9 6DD09DF6",1,"Flat 130, 139 Any Street, Any Town, AB3 4ET - Bedrooms: 1",1,"AB3 4ET"]
["FLAT131/140/AB34ET","Flat 131, 140 Any Street, Any Town, AB3 4ET - Bedrooms: 1",1,"AB3 4ET","LA ordinary dwelling",null,"0CACF2A3 171C11A0 98BBFAAD EA69221A 77076A54",1,"Flat 131, 140 Any Street, Any Town, AB3 4ET - Bedrooms: 1",1,"AB3 4ET"]
["FLAT132/141/AB34ET","Flat 132, 141 Any Street, Any Town, AB3 4ET - Bedrooms: 2",2,"AB3 4ET","LA ordinary dwelling",null,"604A7E56 42D81045 76E47430 7B037FD0 22D2A85C",1,"Flat 132, 141 Any Street, Any Town, AB3 4ET - Bedrooms: 2",2,"AB3 4ET"]
["FLAT133/142/AB34ET","Flat 133, 142 Any Street, Any Town, AB3 4ET - Bedrooms: 1",1,"AB3 4ET","LA ordinary dwelling",null,"8E4C1275 C4F3BC52 E34B61D6 A6F7F965 4C5F5B86",1,"Flat 133, 142 Any Street, Any Town, AB3 4ET - Bedrooms: 1",1,"AB3 4ET"]
["FLAT134/143/AB34ET","Flat 134, 143 Any Street, Any Town, AB3 4ET - Bedrooms: 1",1,"AB3 4ET","LA ordinary dwelling",null,"8AD07F05 87E96E15 97A5C830 9CA816A6 F2295895",1,"Flat 134, 143 Any Street, Any Town, AB3 4ET - Bedrooms: 1",1,"AB3 4ET"]
["FLAT135/144/AB34ET","Flat 135, 144 Any Street, Any Town, AB3 4ET - Bedrooms: 1",1,"AB3 4ET","LA ordinary dwelling",null,"F28941F3 8D396212 8ABFA4BE 33EDA24B AC65B2E1",1,"Flat 135, 144 Any Street, Any Town, AB3 4ET - Bedrooms: 1",1,"AB3 4ET"]
["FLAT136/145/AB34ET","Flat 136, 145 Any Street, Any Town, AB3 4ET - Bedrooms: 2",2,"AB3 4ET","LA ordinary dwelling",null,"D014C5DA 948595CA A97AFB5A F6769147 78A18EE1",1,"Flat 136, 145 Any Street, Any Town, AB3 4ET - Bedrooms: 2",{"$f":"C130","v":2},{"$f":"D130","v":"AB3 4ET"}]
["FLAT137/146/AB34ET","Flat 137, 146 Any Street, Any Town, AB3 4ET - Bedrooms: 1",1,"AB3 4ET","LA ordinary dwelling",null,"C558554C 7E18EC94 A2272DF3 1D074BC9 06CA293B",1,{"$f":"IF(H131=1,B131,\"\")","v":"Flat 137, 146 Any Street, Any Town, AB3 4ET - Bedrooms: 1"},1,"AB3 4ET"]
["FLAT138/147/AB34ET","Flat 138, 147 Any Street, Any Town, AB3 4ET - Bedrooms: 1",1,"AB3 4ET","LA ordinary dwelling",null,"98EAD85D FD8D4989 AACD0FF8 2C58CAC6 12068DF6",1,"Flat 138, 147 Any Street, Any Town, AB3 4ET - Bedrooms: 1",1,"AB3 4ET"]
["FLAT139/148/AB34ET","Flat 139, 148 Any Street, Any Town, AB3 4ET - Bedrooms: 1",1,"AB3 4ET","LA ordinary dwelling",null,"65537FEE D35808E7 1A2FBDC3 220AA2DB 2AF237FC",1,"Flat 139, 148 Any Street, Any Town, AB3 4ET - Bedrooms: 1",1,"AB3 4ET"]
["FLAT140/149/AB34ET","Flat 140, 149 Any Street, Any Town, AB3 4ET - Bedrooms: 2",2,"AB3 4ET","LA ordinary dwelling",null,"ACE85E88 0AC8FDB9 1436A636 42A0FBAB 604082FC",1,"Flat 140, 149 Any Street, Any Town, AB3 4ET - Bedrooms: 2",2,"AB3 4ET"]
["FLAT141/150/AB34ET","Flat 141, 150 Any Street, Any Town, AB3 4ET - Bedrooms: 1",1,"AB3 4ET","LA ordinary dwelling",null,"0D309517 DC04CDBA 3ED01E95 29064079 8E53BC86",1,"Flat 141, 150 Any Street, Any Town, AB3 4ET - Bedrooms: 1",1,"AB3 4ET"]
["FLAT142/151/AB34ET","Flat 142, 151 Any Street, Any Town, AB3 4ET - Bedrooms: 1",1,"AB3 4ET","LA ordinary dwelling",null,"B25B42DE 5932FB23 CB345569 BB77E85E 7892FFB5",1,"Flat 142, 151 Any Street, Any Town, AB3 4ET - Bedrooms: 1",1,"AB3 4ET"]
["FLAT143/152/AB34ET","Flat 143, 152 Any Street, Any Town, AB3 4ET - Bedrooms: 1",1,"AB3 4ET","LA ordinary dwelling",null,"A6D84633 FF1DCA5B 9970B664 9EF1A576 E0CFA8DB",1,"Flat 143, 152 Any Street, Any Town, AB3 4ET - Bedrooms: 1",1,"AB3 4ET"]
["FLAT144/153/AB34ET","Flat 144, 153 Any Street, Any Town, AB3 4ET - Bedrooms: 2",2,"AB3 4ET","LA ordinary dwelling",null,"6EDED1FB BCCB0E7F C56F87C6 5A926AA0 46A9D4E1",1,"Flat 144, 153 Any Street, Any Town, AB3 4ET - Bedrooms: 2",2,"AB3 4ET"]
["FLAT145/154/AB34ET","Flat 145, 154 Any Street, Any Town, AB3 4ET - Bedrooms: 1",1,"AB3 4ET","LA ordinary dwelling",null,"0A31AF7C 8362EC87 FFB74BFE C5223A4D 00CFE46C",1,"Flat 145, 154 Any Street, Any Town, AB3 4ET - Bedrooms: 1",1,"AB3 4ET"]
["FLAT146/155/AB34ET","Flat 146, 155 Any Street, Any Town, AB3 4ET - Bedrooms: 1",1,"AB3 4ET","LA ordinary dwelling",null,"3836BC1B 7800579A DCA72B42 E7256E9D E6238A1E",1,"Flat 146, 155 Any Street, Any Town, AB3 4ET - Bedrooms: 1",1,"AB3 4ET"]
["FLAT147/156/AB34ET","Flat 147, 156 Any Street, Any Town, AB3 4ET - Bedrooms: 1",1,"AB3 4ET","LA ordinary dwelling",null,"2EAE1304 DC5BB0E6 771EE076 D3502E1A 93F22E54",1,"Flat 147, 156 Any Street, Any Town, AB3 4ET - Bedrooms: 1",1,"AB3 4ET"]
["FLAT148/157/AB34ET","Flat 148, 157 Any Street, Any Town, AB3 4ET - Bedrooms: 2",2,"AB3 4ET","LA ordinary dwelling",null,"CD0AF8D3 8AFB87B6 EFB194FA FF065CE1 D4118869",1,"Flat 148, 157 Any Street, Any Town, AB3 4ET - Bedrooms: 2",2,"AB3 4ET"]
["FLAT149/158/AB34ET","Flat 149, 158 Any Street, Any Town, AB3 4ET - Bedrooms: 1",1,"AB3 4ET","LA ordinary dwelling",null,"5EFCD2F2 FD335ADD FF748AFF 0A67ED05 BFED6849",1,"Flat 149, 158 Any Street, Any Town, AB3 4ET - Bedrooms: 1",1,"AB3 4ET"]
["FLAT150/159/AB34ET","Flat 150, 159 Any Street, Any Town, AB3 4ET - Bedrooms: 1",1,"AB3 4ET","LA ordinary dwelling",null,"40DEDA99 35FD91FC 470E3A4D 110E9F7A 8AAC7587",1,"Flat 150, 159 Any Street, Any Town, AB3 4ET - Bedrooms: 1",1,"AB3 4ET"]
["FLAT151/160/AB34ET","Flat 151, 160 Any Street, Any Town, AB3 4ET - Bedrooms: 1",1,"AB3 4ET","LA ordinary dwelling",null,"85D73ACD 21085639 C3715F1F F47D2EC9 FDEB69C7",1,"Flat 151, 160 Any Street, Any Town, AB3 4ET - Bedrooms: 1",1,"AB3 4ET"]
["FLAT152/161/AB34ET","Flat 152, 161 Any Street, Any Town, AB3 4ET - Bedrooms: 2",2,"AB3 4ET","LA ordinary dwelling",null,"5B4CBB5F 983F286A 5C5183C6 39404BF5 E3FC9E8B",1,"Flat 152, 161 Any Street, Any Town, AB3 4ET - Bedrooms: 2",2,"AB3 4ET"]
["FLAT153/162/AB34ET","Flat 153, 162 Any Street, Any Town, AB3 4ET - Bedrooms: 1",1,"AB3 4ET","LA ordinary dwelling",null,"6A5470B6 99F1B1F6 4CAFCADE ACA2EEA3 FE3F616F",1,"Flat 153, 162 Any Street, Any Town, AB3 4ET - Bedrooms: 1",1,"AB3 4ET"]
["FLAT154/163/AB34ET","Flat 154, 163 Any Street, Any Town, AB3 4ET - Bedrooms: 1",1,"AB3 4ET","LA ordinary dwelling",null,"92319F0D 3D1157BA 3C93ED56 9CAC5696 E37FE41F",1,"Flat 154, 163 Any Street, Any Town, AB3 4ET - Bedrooms: 1",1,"AB3 4ET"]
["FLAT155/164/AB34ET","Flat 155, 164 Any Street, Any Town, AB3 4ET - Bedrooms: 1",1,"AB3 4ET","LA ordinary dwelling",null,"ADB42465 03EE6ACB D48D777E 2E239296 09497F87",1,"Flat 155, 164 Any Street, Any Town, AB3 4ET - Bedrooms: 1",1,"AB3 4ET"]
["FLAT156/165/AB34ET","Flat 156, 165 Any Street, Any Town, AB3 4ET - Bedrooms: 2",2,"AB3 4ET","LA ordinary dwelling",null,"831574A4 52A49861 5F173443 AC2C5635 2BDEA1D0",1,"Flat 156, 165 Any Street, Any Town, AB3 4ET - Bedrooms: 2",2,"AB3 4ET"]
["FLAT157/166/AB34ET","Flat 157, 166 Any Street, Any Town, AB3 4ET - Bedrooms: 1",1,"AB3 4ET","LA ordinary dwelling",null,"C9BE9C3B C14E6FFE CCE55CE6 8BED18FB 0EC6DFC3",1,"Flat 157, 166 Any Street, Any Town, AB3 4ET - Bedrooms: 1",1,"AB3 4ET"]
["FLAT158/167/AB34ET","Flat 158, 167 Any Street, Any Town, AB3 4ET - Bedrooms: 1",1,"AB3 4ET","LA ordinary dwelling",null,"00C32626 CAEB9A2C 32066AF5 8AED76A4 D8B3911D",1,"Flat 158, 167 Any Street, Any Town, AB3 4ET - Bedrooms: 1",1,"AB3 4ET"]
["FLAT159/168/AB34ET","Flat 159, 168 Any Street, Any Town, AB3 4ET - Bedrooms: 1",1,"AB3 4ET","LA ordinary dwelling",null,"169E0322 EEE057B6 CB810E7C CF86E6A9 4CEA7C93",1,"Flat 159, 168 Any Street, Any Town, AB3 4ET - Bedrooms: 1",1,"AB3 4ET"]
["FLAT160/169/AB34ET","Flat 160, 169 Any Street, Any Town, AB3 4ET - Bedrooms: 2",2,"AB3 4ET","LA ordinary dwelling",null,"55FFDC1D AB81AC70 FE8CCD84 A82393F4 263A8393",1,"Flat 160, 169 Any Street, Any Town, AB3 4ET - Bedrooms: 2",2,"AB3 4ET"]
["FLAT161/170/AB34ET","Flat 161, 170 Any Street, Any Town, AB3 4ET - Bedrooms: 1",1,"AB3 4ET","LA ordinary dwelling",null,"A0B12F51 4724BF4A A70968B9 2864FFA2 31342604",1,"Flat 161, 170 Any Street, Any Town, AB3 4ET - Bedrooms: 1",1,"AB3 4ET"]
["FLAT162/171/AB34ET","Flat 162, 171 Any Street, Any Town, AB3 4ET - Bedrooms: 1",1,"AB3 4ET","LA ordinary dwelling",null,"B0E2E718 AAA9A0CA 71829912 2330C674 286CEB18",1,"Flat 162, 171 Any Street, Any Town, AB3 4ET - Bedrooms: 1",1,"AB3 4ET"]
["FLAT163/172/AB34ET","Flat 163, 172 Any Street, Any Town, AB3 4ET - Bedrooms: 1",1,"AB3 4ET","LA ordinary dwelling",null,"3E31822B D891BB0C 4C1ACCB6 9517CBD8 39D5F16A",1,"Flat 163, 172 Any Street, Any Town, AB3 4ET - Bedrooms: 1",1,"AB3 4ET"]
["FLAT164/173/AB34ET","Flat 164, 173 Any Street, Any Town, AB3 4ET - Bedrooms: 2",2,"AB3 4ET","LA ordinary dwelling",null,"07FEB1BA A1115962 0933B1E4 C0DD867A 2BA70AF6",1,"Flat 164, 173 Any Street, Any Town, AB3 4ET - Bedrooms: 2",2,"AB3 4ET"]
["FLAT165/174/AB34ET","Flat 165, 174 Any Street, Any Town, AB3 4ET - Bedrooms: 1",1,"AB3 4ET","LA ordinary dwelling",null,"FF1FBE31 56FD418A C21BB477 50CC4DCC 5A25479B",1,"Flat 165, 174 Any Street, Any Town, AB3 4ET - Bedrooms: 1",1,"AB3 4ET"]
["FLAT166/175/AB34ET","Flat 166, 175 Any Street, Any Town, AB3 4ET - Bedrooms: 1",1,"AB3 4ET","LA ordinary dwelling",null,"F2EDBF8E B8E2253C EAF96767 BAE58535 CBB402BA",1,"Flat 166, 175 Any Street, Any Town, AB3 4ET - Bedrooms: 1",1,"AB3 4ET"]
["FLAT167/176/AB34ET","Flat 167, 176 Any Street, Any Town, AB3 4ET - Bedrooms: 1",1,"AB3 4ET","LA ordinary dwelling",null,"EB3FD67D 89A44D67 3B2276F5 D3A37D1E 2A490555",1,"Flat 167, 176 Any Street, Any Town, AB3 4ET - Bedrooms: 1",1,"AB3 4ET"]
["FLAT168/177/AB34ET","Flat 168, 177 Any Street, Any Town, AB3 4ET - Bedrooms: 2",2,"AB3 4ET","LA ordinary dwelling",null,"C8629D6E 99305E7B 23037474 A765D2BC 21F1F60A",1,"Flat 168, 177 Any Street, Any Town, AB3 4ET - Bedrooms: 2",2,"AB3 4ET"]
["FLAT169/178/AB34ET","Flat 169, 178 Any Street, Any Town, AB3 4ET - Bedrooms: 1",1,"AB3 4ET","LA ordinary dwelling",null,"2499D187 0FFFD3D2 F5D1908B B511FB7F 756BAA37",1,"Flat 169, 178 Any Street, Any Town, AB3 4ET - Bedrooms: 1",1,"AB3 4ET"]
["FLAT170/179/AB34ET","Flat 170, 179 Any Street, Any Town, AB3 4ET - Bedrooms: 1",1,"AB3 4ET","LA ordinary dwelling",null,"8C453B4D 8F1FFBDF A861ACFF 094B0DE1 78C4DE56",1,"Flat 170, 179 Any Street, Any Town, AB3 4ET - Bedrooms: 1",1,"AB3 4ET"]
["FLAT171/180/AB34ET","Flat 171, 180 Any Street, Any Town, AB3 4ET - Bedrooms: 1",1,"AB3 4ET","LA ordinary dwelling",null,"B384D98F C1E94511 19DCE78B D89B1FA2 16623283",1,"Flat 171, 180 Any Street, Any Town, AB3 4ET - Bedrooms: 1",1,"AB3 4ET"]
["FLAT172/181/AB34ET","Flat 172, 181 Any Street, Any Town, AB3 4ET - Bedrooms: 2",2,"AB3 4ET","LA ordinary dwelling",null,"D17D208B 6EB8C4C4 76594A3F 567EC7F6 078AE169",1,"Flat 172, 181 Any Street, Any Town, AB3 4ET - Bedrooms: 2",2,"AB3 4ET"]
["FLAT173/182/AB34ET","Flat 173, 182 Any Street, Any Town, AB3 4ET - Bedrooms: 1",1,"AB3 4ET","LA ordinary dwelling",null,"0B7596C7 8BB38305 70904AAF BBCD47ED 9AA25B66",1,"Flat 173, 182 Any Street, Any Town, AB3 4ET - Bedrooms: 1",1,"AB3 4ET"]
["FLAT174/183/AB34ET","Flat 174, 183 Any Street, Any Town, AB3 4ET - Bedrooms: 1",1,"AB3 4ET","LA ordinary dwelling",null,"4078DAD6 7381E403 CF973D4A 35A00B51 843CD195",1,"Flat 174, 183 Any Street, Any Town, AB3 4ET - Bedrooms: 1",1,"AB3 4ET"]
["FLAT175/184/AB34ET","Flat 175, 184 Any Street, Any Town, AB3 4ET - Bedrooms: 1",1,"AB3 4ET","LA ordinary dwelling",null,"73164E8B 773E7BED 9503FAE3 518CBB5C AFDB4365",1,"Flat 175, 184 Any Street, Any Town, AB3 4ET - Bedrooms: 1",1,"AB3 4ET"]
["FLAT176/185/AB34ET","Flat 176, 185 Any Street, Any Town, AB3 4ET - Bedrooms: 2",2,"AB3 4ET","LA ordinary dwelling",null,"BEF9D064 DFBECDF5 0C046B4E 74160250 3BB369E6",1,"Flat 176, 185 Any Street, Any Town, AB3 4ET - Bedrooms: 2",2,"AB3 4ET"]
["FLAT177/186/AB34ET","Flat 177, 186 Any Street, Any Town, AB3 4ET - Bedrooms: 1",1,"AB3 4ET","LA ordinary dwelling",null,"E2C68403 C776F1B3 717A61CB B0F3BABB 48802F61",1,"Flat 177, 186 Any Street, Any Town, AB3 4ET - Bedrooms: 1",1,"AB3 4ET"]
["FLAT178/187/AB34ET","Flat 178, 187 Any Street, Any Town, AB3 4ET - Bedrooms: 1",1,"AB3 4ET","LA ordinary dwelling",null,"3AFAB098 CB5D2F6B 0910580C 7222D301 030F48B1",1,"Flat 178, 187 Any Street, Any Town, AB3 4ET - Bedrooms: 1",1,"AB3 4ET"]
["FLAT179/188/AB34ET","Flat 179, 188 Any Street, Any Town, AB3 4ET - Bedrooms: 1",1,"AB3 4ET","LA ordinary dwelling",null,"8F58E2A1 CF3B7F3F AC20CC0C 10A8194E 44DCE5D4",1,"Flat 179, 188 Any Street, Any Town, AB3 4ET - Bedrooms: 1",1,"AB3 4ET"]
["FLAT180/189/AB34ET","Flat 180, 189 Any Street, Any Town, AB3 4ET - Bedrooms: 2",2,"AB3 4ET","LA ordinary dwelling",null,"2F67D5B2 58C2D957 0273E1FA 9109621A 3F01872D",1,"Flat 180, 189 Any Street, Any Town, AB3 4ET - Bedrooms: 2",2,"AB3 4ET"]
["FLAT181/190/AB34ET","Flat 181, 190 Any Street, Any Town, AB3 4ET - Bedrooms: 1",1,"AB3 4ET","LA ordinary dwelling",null,"112E411B 3B24BD62 2235CE85 024D5357 47483382",1,"Flat 181, 190 Any Street, Any Town, AB3 4ET - Bedrooms: 1",1,"AB3 4ET"]
["FLAT182/191/AB34ET","Flat 182, 191 Any Street, Any Town, AB3 4ET - Bedrooms: 1",1,"AB3 4ET","LA ordinary dwelling",null,"36A4D847 E014A24A 655A8C7D 5CE53E3D F659238C",1,"Flat 182, 191 Any Street, Any Town, AB3 4ET - Bedrooms: 1",1,"AB3 4ET"]
["FLAT183/192/AB34ET","Flat 183, 192 Any Street, Any Town, AB3 4ET - Bedrooms: 1",1,"AB3 4ET","LA ordinary dwelling",null,"536C59F2 3DF2E00D 2EB8CF1E 205F12E6 7284429A",1,"Flat 183, 192 Any Street, Any Town, AB3 4ET - Bedrooms: 1",1,"AB3 4ET"]
["FLAT184/193/AB34ET","Flat 184, 193 Any Street, Any Town, AB3 4ET - Bedrooms: 2",2,"AB3 4ET","LA ordinary dwelling",null,"B3D1775F 130B780B 8C52CF6F A8A29BA4 03144820",1,"Flat 184, 193 Any Street, Any Town, AB3 4ET - Bedrooms: 2",2,"AB3 4ET"]
["FLAT185/194/AB34ET","Flat 185, 194 Any Street, Any Town, AB3 4ET - Bedrooms: 1",1,"AB3 4ET","LA ordinary dwelling",null,"CAD4CBD5 F1BBE99E 4835AD1C 5B3C8C4F F820DA83",1,"Flat 185, 194 Any Street, Any Town, AB3 4ET - Bedrooms: 1",1,"AB3 4ET"]
["FLAT186/195/AB34ET","Flat 186, 195 Any Street, Any Town, AB3 4ET - Bedrooms: 1",1,"AB3 4ET","LA ordinary dwelling",null,"A1CA0A41 0AC7CAFB E671338C 595A458A ED0891C4",1,"Flat 186, 195 Any Street, Any Town, AB3 4ET - Bedrooms: 1",1,"AB3 4ET"]
["FLAT187/196/AB34ET","Flat 187, 196 Any Street, Any Town, AB3 4ET - Bedrooms: 1",1,"AB3 4ET","LA ordinary dwelling",null,"8E0EE487 85FE8AE5 A78B96EE 7F54754C AE909D7B",1,"Flat 187, 196 Any Street, Any Town, AB3 4ET - Bedrooms: 1",1,"AB3 4ET"]
["FLAT188/197/AB34ET","Flat 188, 197 Any Street, Any Town, AB3 4ET - Bedrooms: 2",2,"AB3 4ET","LA ordinary dwelling",null,"C8ECAA99 6C209BCA 1E036F9B DD9F5267 0463A6F2",1,"Flat 188, 197 Any Street, Any Town, AB3 4ET - Bedrooms: 2",2,"AB3 4ET"]
["FLAT189/198/AB34ET","Flat 189, 198 Any Street, Any Town, AB3 4ET - Bedrooms: 1",1,"AB3 4ET","LA ordinary dwelling",null,"0BA57374 41B5FDA7 83D2EFF0 4DFBD401 34B8F50A",1,"Flat 189, 198 Any Street, Any Town, AB3 4ET - Bedrooms: 1",1,"AB3 4ET"]
["FLAT190/199/AB34ET","Flat 190, 199 Any Street, Any Town, AB3 4ET - Bedrooms: 1",1,"AB3 4ET","LA ordinary dwelling",null,"EEE522B4 B76AE147 57772A54 DAC18B37 027630EE",1,"Flat 190, 199 Any Street, Any Town, AB3 4ET - Bedrooms: 1",1,"AB3 4ET"]
["FLAT191/200/AB34ET","Flat 191, 200 Any Street, Any Town, AB3 4ET - Bedrooms: 1",1,"AB3 4ET","LA ordinary dwelling",null,"ACB027E8 2C856936 50B694DC BCF6DCEC BA68233C",1,"Flat 191, 200 Any Street, Any Town, AB3 4ET - Bedrooms: 1",1,"AB3 4ET"]
["FLAT192/201/AB34ET","Flat 192, 201 Any Street, Any Town, AB3 4ET - Bedrooms: 2",2,"AB3 4ET","LA ordinary dwelling",null,"E9402D4A F832557C 7C84077A 7314C969 7E569DED",1,"Flat 192, 201 Any Street, Any Town, AB3 4ET - Bedrooms: 2",2,"AB3 4ET"]
["FLAT193/202/AB34ET","Flat 193, 202 Any Street, Any Town, AB3 4ET - Bedrooms: 1",1,"AB3 4ET","LA ordinary dwelling",null,"40276576 1246F74A ADD285B5 8599F125 A96A0978",1,"Flat 193, 202 Any Street, Any Town, AB3 4ET - Bedrooms: 1",1,"AB3 4ET"]
["FLAT194/203/AB34ET","Flat 194, 203 Any Street, Any Town, AB3 4ET - Bedrooms: 1",1,"AB3 4ET","LA ordinary dwelling",null,"8DBBFFDE 16638B72 80902198 894EB654 7173C197",1,"Flat 194, 203 Any Street, Any Town, AB3 4ET - Bedrooms: 1",1,"AB3 4ET"]
["FLAT195/204/AB34ET","Flat 195, 204 Any Street, Any Town, AB3 4ET - Bedrooms: 1",1,"AB3 4ET","LA ordinary dwelling",null,"177ABF50 835F9D61 A0A51559 E058BF21 875DE075",1,"Flat 195, 204 Any Street, Any Town, AB3 4ET - Bedrooms: 1",1,"AB3 4ET"]
["FLAT196/205/AB34ET","Flat 196, 205 Any Street, Any Town, AB3 4ET - Bedrooms: 2",2,"AB3 4ET","LA ordinary dwelling",null,"AAEA86DD 293FD9B8 F4F08F6B 73311988 81B58ECA",1,"Flat 196, 205 Any Street, Any Town, AB3 4ET - Bedrooms: 2",2,"AB3 4ET"]
["FLAT197/206/AB34ET","Flat 197, 206 Any Street, Any Town, AB3 4ET - Bedrooms: 1",1,"AB3 4ET","LA ordinary dwelling",null,"CD320AD6 5494DF39 38E56C8D C4E40FE4 1846CCF9",1,"Flat 197, 206 Any Street, Any Town, AB3 4ET - Bedrooms: 1",1,"AB3 4ET"]
["FLAT198/207/AB34ET","Flat 198, 207 Any Street, Any Town, AB3 4ET - Bedrooms: 1",1,"AB3 4ET","LA ordinary dwelling",null,"C922CE72 4AA8372E 5862D521 3EBBD4CD 403BE541",1,"Flat 198, 207 Any Street, Any Town, AB3 4ET - Bedrooms: 1",1,"AB3 4ET"]
["FLAT199/208/AB34ET","Flat 199, 208 Any Street, Any Town, AB3 4ET - Bedrooms: 1",1,"AB3 4ET","LA ordinary dwelling",null,"A2D2244B 886D179D BBFBCE35 3135D0F1 324C7D23",1,"Flat 199, 208 Any Street, Any Town, AB3 4ET - Bedrooms: 1",1,"AB3 4ET"]
["ROOM1/1/AB12NE","Room 1, 1 New Property Street, New Town, AB1 2NE - Bedrooms: 1",1,"AB1 2NE","Bed and breakfast",null,"24CEBC6C AE33ACBE C139ECA6 4F18BF9F F9A2CC14",1,"Room 1, 1 New Property Street, New Town, AB1 2NE - Bedrooms: 1",{"$f":"C194","v":1},{"$f":"D194","v":"AB1 2NE"}]
["10/1/EH75QF","10, 1 Albion Gardnes, Edinburgh, EH7 5QF - Bedrooms: 2",2,"EH7 5QF","Bed and breakfast",null,"85973DA2 8A7B4B72 750AAD20 2852A38F F5B4C0E2",1,{"$f":"IF(H195=1,B195,\"\")","v":"10, 1 Albion Gardnes, Edinburgh, EH7 5QF - Bedrooms: 2"},2,"EH7 5QF"]

{"sheet":"TA STOCK LOOKUP","index":9,"n_rows":202,"n_cols":3,"rows_kept":202,"cut":false,"hidden":false,"merged":[]}
["Description","SG Accommodation Type","HASH UPRN"]
["10, 1 Albion Gardnes, Edinburgh, EH7 5QF - Bedrooms: 2","Bed and breakfast","85973DA2 8A7B4B72 750AAD20 2852A38F F5B4C0E2"]
["18 Any Street, Any Town, AB2 2ER - Bedrooms: 2","LA ordinary dwelling","0828AFF8 5599DF25 5202B653 6A8B32B3 CF1FD70C"]
["Flat 1, 10 Any Street, Any Town, AB1 1AA - Bedrooms: 1","Housing association / RSL dwelling","24BC8AAA 0198AA6E 0CF087CE D29E39D8 E4763435"]
["Flat 10, 10 Any Street, Any Town, AB1 1AA - Bedrooms: 2","LA ordinary dwelling","3F990DA8 CCB395D5 793B270C 5FCE9D23 2F853B8F"]
["Flat 100, 109 Any Street, Any Town, AB3 4ET - Bedrooms: 2","LA ordinary dwelling","84956FA7 B422DFA0 E706D6C3 38041E0D 3F1BAF09"]
["Flat 101, 110 Any Street, Any Town, AB3 4ET - Bedrooms: 1","LA ordinary dwelling","787957CB AE8EE8B4 52B7C3D1 9476E9F2 28054DAF"]
["Flat 102, 111 Any Street, Any Town, AB3 4ET - Bedrooms: 1","LA ordinary dwelling","62101FF0 5984F8E1 29347552 504983A4 147736C0"]
["Flat 103, 112 Any Street, Any Town, AB3 4ET - Bedrooms: 1","LA ordinary dwelling","E50F0DDB 85C6E158 34BF2FB0 505CF027 4B85D8C3"]
["Flat 104, 113 Any Street, Any Town, AB3 4ET - Bedrooms: 2","LA ordinary dwelling","23BF946C DC63F855 239D10AD 41B0E6CA 4DEFD242"]
["Flat 105, 114 Any Street, Any Town, AB3 4ET - Bedrooms: 1","LA ordinary dwelling","BE135C55 3369458B 3AFC3250 02AFE652 21A8BCEE"]
["Flat 106, 115 Any Street, Any Town, AB3 4ET - Bedrooms: 1","LA ordinary dwelling","F432520E E9C1AF3A 92713BAC CE3118B8 D124D673"]
["Flat 107, 116 Any Street, Any Town, AB3 4ET - Bedrooms: 1","LA ordinary dwelling","CE357AF8 9FC9DDD9 04781978 F54C6209 7BC05D87"]
["Flat 108, 117 Any Street, Any Town, AB3 4ET - Bedrooms: 2","LA ordinary dwelling","3E671DE8 0D23C595 DB5A59AB 6E36AD42 D600DC0C"]
["Flat 109, 118 Any Street, Any Town, AB3 4ET - Bedrooms: 1","LA ordinary dwelling","B8AD4F95 2B5DC557 9E753B90 AEBD7750 716449A0"]
["Flat 110, 119 Any Street, Any Town, AB3 4ET - Bedrooms: 1","LA ordinary dwelling","B2681771 3276CF66 284B3672 3C83B19E 9B917B7C"]
["Flat 111, 120 Any Street, Any Town, AB3 4ET - Bedrooms: 1","LA ordinary dwelling","92DB87DC 047A599F 233BD37B 155EE2D4 DDF3C22A"]
["Flat 112, 121 Any Street, Any Town, AB3 4ET - Bedrooms: 2","LA ordinary dwelling","8489738F D8A1CDF3 8D337A7C 226986EB B380A9CC"]
["Flat 113, 122 Any Street, Any Town, AB3 4ET - Bedrooms: 1","LA ordinary dwelling","E8137FAE 26C7F35F DA8863A9 1A89B371 FC356D76"]
["Flat 114, 123 Any Street, Any Town, AB3 4ET - Bedrooms: 1","LA ordinary dwelling","6048DE5A F18786E0 0DCBEABA 19F16F96 FD315E8C"]
["Flat 115, 124 Any Street, Any Town, AB3 4ET - Bedrooms: 1","LA ordinary dwelling","935677AD 221E6005 A062C649 1EF1B584 D55735C8"]
["Flat 116, 125 Any Street, Any Town, AB3 4ET - Bedrooms: 2","LA ordinary dwelling","44C5CFCB 9BEC0189 0809E074 6F270039 7930F779"]
["Flat 117, 126 Any Street, Any Town, AB3 4ET - Bedrooms: 1","LA ordinary dwelling","0F963637 1D9ED950 51B165B4 82CDF39F 8191AA4A"]
["Flat 118, 127 Any Street, Any Town, AB3 4ET - Bedrooms: 1","LA ordinary dwelling","8601548F C7A02E1D DADD3AB9 DE835B9A 70B0EF3F"]
["Flat 119, 128 Any Street, Any Town, AB3 4ET - Bedrooms: 1","LA ordinary dwelling","F2582875 18A11680 1FBAFEA0 5E29AA0B C19F1474"]
["Flat 120, 129 Any Street, Any Town, AB3 4ET - Bedrooms: 2","LA ordinary dwelling","6A416B00 E7DC89DD 2D2051FF 1A885EA9 25168C4D"]
["Flat 121, 130 Any Street, Any Town, AB3 4ET - Bedrooms: 1","LA ordinary dwelling","96E8B753 2B156918 E237279C BB33664E CFEF520C"]
["Flat 122, 131 Any Street, Any Town, AB3 4ET - Bedrooms: 1","LA ordinary dwelling","18CB060B D0482668 911A898B 5C0B9736 0A5CD1DE"]
["Flat 123, 132 Any Street, Any Town, AB3 4ET - Bedrooms: 1","LA ordinary dwelling","9C4E19FD FE0E44CE 51B829E2 359937E2 5F1F1723"]
["Flat 124, 133 Any Street, Any Town, AB3 4ET - Bedrooms: 2","LA ordinary dwelling","3FB758A4 96995EB2 7F33611D 779B57A9 C9BD578B"]
["Flat 125, 134 Any Street, Any Town, AB3 4ET - Bedrooms: 1","LA ordinary dwelling","FC9585F2 BD70C6DC 6215DD85 83F26032 63AB2C04"]
["Flat 126, 135 Any Street, Any Town, AB3 4ET - Bedrooms: 1","LA ordinary dwelling","94B2F1EF 6BF293B8 8189BB93 22041193 911FBE9A"]
["Flat 127, 136 Any Street, Any Town, AB3 4ET - Bedrooms: 1","LA ordinary dwelling","8265693C 3B4B00C9 CF7EB6D7 8417DE7C E1E46378"]
["Flat 128, 137 Any Street, Any Town, AB3 4ET - Bedrooms: 2","LA ordinary dwelling","7E78AA43 190926FF 448065A2 E2186731 4F4586CD"]
["Flat 129, 138 Any Street, Any Town, AB3 4ET - Bedrooms: 1","LA ordinary dwelling","F9FD2AB3 D95D1191 29E4042F 12AB1CBA 86CA6A2A"]
["Flat 130, 139 Any Street, Any Town, AB3 4ET - Bedrooms: 1","LA ordinary dwelling","3B58042D 92CD08E8 23CF24D1 442683A9 6DD09DF6"]
["Flat 131, 140 Any Street, Any Town, AB3 4ET - Bedrooms: 1","LA ordinary dwelling","0CACF2A3 171C11A0 98BBFAAD EA69221A 77076A54"]
["Flat 132, 141 Any Street, Any Town, AB3 4ET - Bedrooms: 2","LA ordinary dwelling","604A7E56 42D81045 76E47430 7B037FD0 22D2A85C"]
["Flat 133, 142 Any Street, Any Town, AB3 4ET - Bedrooms: 1","LA ordinary dwelling","8E4C1275 C4F3BC52 E34B61D6 A6F7F965 4C5F5B86"]
["Flat 134, 143 Any Street, Any Town, AB3 4ET - Bedrooms: 1","LA ordinary dwelling","8AD07F05 87E96E15 97A5C830 9CA816A6 F2295895"]
["Flat 135, 144 Any Street, Any Town, AB3 4ET - Bedrooms: 1","LA ordinary dwelling","F28941F3 8D396212 8ABFA4BE 33EDA24B AC65B2E1"]
["Flat 136, 145 Any Street, Any Town, AB3 4ET - Bedrooms: 2","LA ordinary dwelling","D014C5DA 948595CA A97AFB5A F6769147 78A18EE1"]
["Flat 137, 146 Any Street, Any Town, AB3 4ET - Bedrooms: 1","LA ordinary dwelling","C558554C 7E18EC94 A2272DF3 1D074BC9 06CA293B"]
["Flat 138, 147 Any Street, Any Town, AB3 4ET - Bedrooms: 1","LA ordinary dwelling","98EAD85D FD8D4989 AACD0FF8 2C58CAC6 12068DF6"]
["Flat 139, 148 Any Street, Any Town, AB3 4ET - Bedrooms: 1","LA ordinary dwelling","65537FEE D35808E7 1A2FBDC3 220AA2DB 2AF237FC"]
["Flat 140, 149 Any Street, Any Town, AB3 4ET - Bedrooms: 2","LA ordinary dwelling","ACE85E88 0AC8FDB9 1436A636 42A0FBAB 604082FC"]
["Flat 141, 150 Any Street, Any Town, AB3 4ET - Bedrooms: 1","LA ordinary dwelling","0D309517 DC04CDBA 3ED01E95 29064079 8E53BC86"]
["Flat 142, 151 Any Street, Any Town, AB3 4ET - Bedrooms: 1","LA ordinary dwelling","B25B42DE 5932FB23 CB345569 BB77E85E 7892FFB5"]
["Flat 143, 152 Any Street, Any Town, AB3 4ET - Bedrooms: 1","LA ordinary dwelling","A6D84633 FF1DCA5B 9970B664 9EF1A576 E0CFA8DB"]
["Flat 144, 153 Any Street, Any Town, AB3 4ET - Bedrooms: 2","LA ordinary dwelling","6EDED1FB BCCB0E7F C56F87C6 5A926AA0 46A9D4E1"]
["Flat 145, 154 Any Street, Any Town, AB3 4ET - Bedrooms: 1","LA ordinary dwelling","0A31AF7C 8362EC87 FFB74BFE C5223A4D 00CFE46C"]
["Flat 146, 155 Any Street, Any Town, AB3 4ET - Bedrooms: 1","LA ordinary dwelling","3836BC1B 7800579A DCA72B42 E7256E9D E6238A1E"]
["Flat 147, 156 Any Street, Any Town, AB3 4ET - Bedrooms: 1","LA ordinary dwelling","2EAE1304 DC5BB0E6 771EE076 D3502E1A 93F22E54"]
["Flat 148, 157 Any Street, Any Town, AB3 4ET - Bedrooms: 2","LA ordinary dwelling","CD0AF8D3 8AFB87B6 EFB194FA FF065CE1 D4118869"]
["Flat 149, 158 Any Street, Any Town, AB3 4ET - Bedrooms: 1","LA ordinary dwelling","5EFCD2F2 FD335ADD FF748AFF 0A67ED05 BFED6849"]
["Flat 150, 159 Any Street, Any Town, AB3 4ET - Bedrooms: 1","LA ordinary dwelling","40DEDA99 35FD91FC 470E3A4D 110E9F7A 8AAC7587"]
["Flat 151, 160 Any Street, Any Town, AB3 4ET - Bedrooms: 1","LA ordinary dwelling","85D73ACD 21085639 C3715F1F F47D2EC9 FDEB69C7"]
["Flat 152, 161 Any Street, Any Town, AB3 4ET - Bedrooms: 2","LA ordinary dwelling","5B4CBB5F 983F286A 5C5183C6 39404BF5 E3FC9E8B"]
["Flat 153, 162 Any Street, Any Town, AB3 4ET - Bedrooms: 1","LA ordinary dwelling","6A5470B6 99F1B1F6 4CAFCADE ACA2EEA3 FE3F616F"]
["Flat 154, 163 Any Street, Any Town, AB3 4ET - Bedrooms: 1","LA ordinary dwelling","92319F0D 3D1157BA 3C93ED56 9CAC5696 E37FE41F"]
["Flat 155, 164 Any Street, Any Town, AB3 4ET - Bedrooms: 1","LA ordinary dwelling","ADB42465 03EE6ACB D48D777E 2E239296 09497F87"]
["Flat 156, 165 Any Street, Any Town, AB3 4ET - Bedrooms: 2","LA ordinary dwelling","831574A4 52A49861 5F173443 AC2C5635 2BDEA1D0"]
["Flat 157, 166 Any Street, Any Town, AB3 4ET - Bedrooms: 1","LA ordinary dwelling","C9BE9C3B C14E6FFE CCE55CE6 8BED18FB 0EC6DFC3"]
["Flat 158, 167 Any Street, Any Town, AB3 4ET - Bedrooms: 1","LA ordinary dwelling","00C32626 CAEB9A2C 32066AF5 8AED76A4 D8B3911D"]
["Flat 159, 168 Any Street, Any Town, AB3 4ET - Bedrooms: 1","LA ordinary dwelling","169E0322 EEE057B6 CB810E7C CF86E6A9 4CEA7C93"]
["Flat 160, 169 Any Street, Any Town, AB3 4ET - Bedrooms: 2","LA ordinary dwelling","55FFDC1D AB81AC70 FE8CCD84 A82393F4 263A8393"]
["Flat 161, 170 Any Street, Any Town, AB3 4ET - Bedrooms: 1","LA ordinary dwelling","A0B12F51 4724BF4A A70968B9 2864FFA2 31342604"]
["Flat 162, 171 Any Street, Any Town, AB3 4ET - Bedrooms: 1","LA ordinary dwelling","B0E2E718 AAA9A0CA 71829912 2330C674 286CEB18"]
["Flat 163, 172 Any Street, Any Town, AB3 4ET - Bedrooms: 1","LA ordinary dwelling","3E31822B D891BB0C 4C1ACCB6 9517CBD8 39D5F16A"]
["Flat 164, 173 Any Street, Any Town, AB3 4ET - Bedrooms: 2","LA ordinary dwelling","07FEB1BA A1115962 0933B1E4 C0DD867A 2BA70AF6"]
["Flat 165, 174 Any Street, Any Town, AB3 4ET - Bedrooms: 1","LA ordinary dwelling","FF1FBE31 56FD418A C21BB477 50CC4DCC 5A25479B"]
["Flat 166, 175 Any Street, Any Town, AB3 4ET - Bedrooms: 1","LA ordinary dwelling","F2EDBF8E B8E2253C EAF96767 BAE58535 CBB402BA"]
["Flat 167, 176 Any Street, Any Town, AB3 4ET - Bedrooms: 1","LA ordinary dwelling","EB3FD67D 89A44D67 3B2276F5 D3A37D1E 2A490555"]
["Flat 168, 177 Any Street, Any Town, AB3 4ET - Bedrooms: 2","LA ordinary dwelling","C8629D6E 99305E7B 23037474 A765D2BC 21F1F60A"]
["Flat 169, 178 Any Street, Any Town, AB3 4ET - Bedrooms: 1","LA ordinary dwelling","2499D187 0FFFD3D2 F5D1908B B511FB7F 756BAA37"]
["Flat 17, 26 Any Street, Any Town, AB3 4ET - Bedrooms: 1","LA ordinary dwelling","69135487 564EB7E5 39CFDF0F 69CBAE37 E18A8ADF"]
["Flat 170, 179 Any Street, Any Town, AB3 4ET - Bedrooms: 1","LA ordinary dwelling","8C453B4D 8F1FFBDF A861ACFF 094B0DE1 78C4DE56"]
["Flat 171, 180 Any Street, Any Town, AB3 4ET - Bedrooms: 1","LA ordinary dwelling","B384D98F C1E94511 19DCE78B D89B1FA2 16623283"]
["Flat 172, 181 Any Street, Any Town, AB3 4ET - Bedrooms: 2","LA ordinary dwelling","D17D208B 6EB8C4C4 76594A3F 567EC7F6 078AE169"]
["Flat 173, 182 Any Street, Any Town, AB3 4ET - Bedrooms: 1","LA ordinary dwelling","0B7596C7 8BB38305 70904AAF BBCD47ED 9AA25B66"]
["Flat 174, 183 Any Street, Any Town, AB3 4ET - Bedrooms: 1","LA ordinary dwelling","4078DAD6 7381E403 CF973D4A 35A00B51 843CD195"]
["Flat 175, 184 Any Street, Any Town, AB3 4ET - Bedrooms: 1","LA ordinary dwelling","73164E8B 773E7BED 9503FAE3 518CBB5C AFDB4365"]
["Flat 176, 185 Any Street, Any Town, AB3 4ET - Bedrooms: 2","LA ordinary dwelling","BEF9D064 DFBECDF5 0C046B4E 74160250 3BB369E6"]
["Flat 177, 186 Any Street, Any Town, AB3 4ET - Bedrooms: 1","LA ordinary dwelling","E2C68403 C776F1B3 717A61CB B0F3BABB 48802F61"]
["Flat 178, 187 Any Street, Any Town, AB3 4ET - Bedrooms: 1","LA ordinary dwelling","3AFAB098 CB5D2F6B 0910580C 7222D301 030F48B1"]
["Flat 179, 188 Any Street, Any Town, AB3 4ET - Bedrooms: 1","LA ordinary dwelling","8F58E2A1 CF3B7F3F AC20CC0C 10A8194E 44DCE5D4"]
["Flat 18, 27 Any Street, Any Town, AB3 4ET - Bedrooms: 1","LA ordinary dwelling","5325837A 8AA4F9E8 68F97908 524A251C D17D11BF"]
["Flat 180, 189 Any Street, Any Town, AB3 4ET - Bedrooms: 2","LA ordinary dwelling","2F67D5B2 58C2D957 0273E1FA 9109621A 3F01872D"]
["Flat 181, 190 Any Street, Any Town, AB3 4ET - Bedrooms: 1","LA ordinary dwelling","112E411B 3B24BD62 2235CE85 024D5357 47483382"]
["Flat 182, 191 Any Street, Any Town, AB3 4ET - Bedrooms: 1","LA ordinary dwelling","36A4D847 E014A24A 655A8C7D 5CE53E3D F659238C"]
["Flat 183, 192 Any Street, Any Town, AB3 4ET - Bedrooms: 1","LA ordinary dwelling","536C59F2 3DF2E00D 2EB8CF1E 205F12E6 7284429A"]
["Flat 184, 193 Any Street, Any Town, AB3 4ET - Bedrooms: 2","LA ordinary dwelling","B3D1775F 130B780B 8C52CF6F A8A29BA4 03144820"]
["Flat 185, 194 Any Street, Any Town, AB3 4ET - Bedrooms: 1","LA ordinary dwelling","CAD4CBD5 F1BBE99E 4835AD1C 5B3C8C4F F820DA83"]
["Flat 186, 195 Any Street, Any Town, AB3 4ET - Bedrooms: 1","LA ordinary dwelling","A1CA0A41 0AC7CAFB E671338C 595A458A ED0891C4"]
["Flat 187, 196 Any Street, Any Town, AB3 4ET - Bedrooms: 1","LA ordinary dwelling","8E0EE487 85FE8AE5 A78B96EE 7F54754C AE909D7B"]
["Flat 188, 197 Any Street, Any Town, AB3 4ET - Bedrooms: 2","LA ordinary dwelling","C8ECAA99 6C209BCA 1E036F9B DD9F5267 0463A6F2"]
["Flat 189, 198 Any Street, Any Town, AB3 4ET - Bedrooms: 1","LA ordinary dwelling","0BA57374 41B5FDA7 83D2EFF0 4DFBD401 34B8F50A"]
["Flat 19, 28 Any Street, Any Town, AB3 4ET - Bedrooms: 1","LA ordinary dwelling","2EA30FD9 3CF9BD72 4D7DF1C7 42DE91BE D6E3E7CB"]
["Flat 190, 199 Any Street, Any Town, AB3 4ET - Bedrooms: 1","LA ordinary dwelling","EEE522B4 B76AE147 57772A54 DAC18B37 027630EE"]
["Flat 191, 200 Any Street, Any Town, AB3 4ET - Bedrooms: 1","LA ordinary dwelling","ACB027E8 2C856936 50B694DC BCF6DCEC BA68233C"]
["Flat 192, 201 Any Street, Any Town, AB3 4ET - Bedrooms: 2","LA ordinary dwelling","E9402D4A F832557C 7C84077A 7314C969 7E569DED"]
["Flat 193, 202 Any Street, Any Town, AB3 4ET - Bedrooms: 1","LA ordinary dwelling","40276576 1246F74A ADD285B5 8599F125 A96A0978"]
["Flat 194, 203 Any Street, Any Town, AB3 4ET - Bedrooms: 1","LA ordinary dwelling","8DBBFFDE 16638B72 80902198 894EB654 7173C197"]
["Flat 195, 204 Any Street, Any Town, AB3 4ET - Bedrooms: 1","LA ordinary dwelling","177ABF50 835F9D61 A0A51559 E058BF21 875DE075"]
["Flat 196, 205 Any Street, Any Town, AB3 4ET - Bedrooms: 2","LA ordinary dwelling","AAEA86DD 293FD9B8 F4F08F6B 73311988 81B58ECA"]
["Flat 197, 206 Any Street, Any Town, AB3 4ET - Bedrooms: 1","LA ordinary dwelling","CD320AD6 5494DF39 38E56C8D C4E40FE4 1846CCF9"]
["Flat 198, 207 Any Street, Any Town, AB3 4ET - Bedrooms: 1","LA ordinary dwelling","C922CE72 4AA8372E 5862D521 3EBBD4CD 403BE541"]
["Flat 199, 208 Any Street, Any Town, AB3 4ET - Bedrooms: 1","LA ordinary dwelling","A2D2244B 886D179D BBFBCE35 3135D0F1 324C7D23"]
["Flat 2, 10 Any Street, Any Town, AB1 1AA - Bedrooms: 2","LA ordinary dwelling","35A5CCBE F3662184 EB1B201D 175AFD4F 23748DAD"]
["Flat 20, 29 Any Street, Any Town, AB3 4ET - Bedrooms: 2","LA ordinary dwelling","81A5B36E A9CB0718 082796C4 1B252C7F 8A978519"]
["Flat 21, 30 Any Street, Any Town, AB3 4ET - Bedrooms: 1","LA ordinary dwelling","9F87523A 82ED4FA3 30320CB1 102ACDE6 A2B70317"]
["Flat 22, 31 Any Street, Any Town, AB3 4ET - Bedrooms: 1","LA ordinary dwelling","82538F16 D856B8DE 3D2FA943 F4C2C4D5 DBA97B68"]
["Flat 23, 32 Any Street, Any Town, AB3 4ET - Bedrooms: 1","LA ordinary dwelling","DE27226C 41517541 121B5C78 22EAD753 BFF00683"]
["Flat 24, 33 Any Street, Any Town, AB3 4ET - Bedrooms: 2","LA ordinary dwelling","C69A3DD9 A599C002 3207F680 853788FD 9E5F00B5"]
["Flat 25, 34 Any Street, Any Town, AB3 4ET - Bedrooms: 1","LA ordinary dwelling","6D183205 6B46EDD1 557D73D5 4A342D5A 01058D8D"]
["Flat 26, 35 Any Street, Any Town, AB3 4ET - Bedrooms: 1","LA ordinary dwelling","9CA3015A F49B9CBE 808E45EA 92FB4827 9ACFD28A"]
["Flat 27, 36 Any Street, Any Town, AB3 4ET - Bedrooms: 1","LA ordinary dwelling","8F31EDE9 3CCBCA8C EC2DA67D 7A29F771 FAA2DC63"]
["Flat 28, 37 Any Street, Any Town, AB3 4ET - Bedrooms: 2","LA ordinary dwelling","3DC06E09 5EE8D53F B9A71578 27B1CCC4 AEE455D2"]
["Flat 29, 38 Any Street, Any Town, AB3 4ET - Bedrooms: 1","LA ordinary dwelling","D60D4344 DA1E3BC2 54C8E95C 43C8111E 5B68756C"]
["Flat 3, 10 Any Street, Any Town, AB1 1AA - Bedrooms: 3","LA ordinary dwelling","F968614F 18180083 09931E12 B9E76994 8E77A2C5"]
["Flat 30, 39 Any Street, Any Town, AB3 4ET - Bedrooms: 1","LA ordinary dwelling","AC1C41B6 A538E624 0DE2E481 412B917A 056FCA4D"]
["Flat 31, 40 Any Street, Any Town, AB3 4ET - Bedrooms: 1","LA ordinary dwelling","4051F1FD E4650DBD E2D078A1 87F05AB5 50B248AE"]
["Flat 32, 41 Any Street, Any Town, AB3 4ET - Bedrooms: 2","LA ordinary dwelling","34B5C258 3B4703EB EF4AD09C 69C1D2C8 D241013D"]
["Flat 33, 42 Any Street, Any Town, AB3 4ET - Bedrooms: 1","LA ordinary dwelling","2DB650A9 1AA08E1D 487C7184 E2F4764A F69B84CF"]
["Flat 34, 43 Any Street, Any Town, AB3 4ET - Bedrooms: 1","LA ordinary dwelling","9E037104 20580E21 DC15B7C3 D54B20C9 E70F5ACD"]
["Flat 35, 44 Any Street, Any Town, AB3 4ET - Bedrooms: 1","LA ordinary dwelling","39881619 7B6F2F3E E840C4D5 9B2A700D 9B63170D"]
["Flat 36, 45 Any Street, Any Town, AB3 4ET - Bedrooms: 2","LA ordinary dwelling","0EAF3FD9 1B76E25E 1E968348 4107A63A B0F4C21C"]
["Flat 37, 46 Any Street, Any Town, AB3 4ET - Bedrooms: 1","LA ordinary dwelling","D4C4F4B9 EC4B26A0 C62B8DF3 D6FBAA98 FE72EAEA"]
["Flat 38, 47 Any Street, Any Town, AB3 4ET - Bedrooms: 1","LA ordinary dwelling","7768856D 674BD432 E9E26CF2 082A193C 7924A329"]
["Flat 39, 48 Any Street, Any Town, AB3 4ET - Bedrooms: 1","LA ordinary dwelling","2FA132DA 2368E8E6 2ADCA224 BBD1D796 C40942CE"]
["Flat 4, 10 Any Street, Any Town, AB1 1AA - Bedrooms: 4","LA ordinary dwelling","EDF01372 4BEC6AC1 96CA8A9B 1596F95E C13AB976"]
["Flat 40, 49 Any Street, Any Town, AB3 4ET - Bedrooms: 2","LA ordinary dwelling","741A432B EC10830A 93FFEB47 DD998C3B CE13AB8F"]
["Flat 41, 50 Any Street, Any Town, AB3 4ET - Bedrooms: 1","LA ordinary dwelling","08B91E2B E5325458 94B503C7 99C898C0 DB4D600F"]
["Flat 42, 51 Any Street, Any Town, AB3 4ET - Bedrooms: 1","LA ordinary dwelling","42BA5696 7866278E 63337AB4 81CB175D B834A91F"]
["Flat 43, 52 Any Street, Any Town, AB3 4ET - Bedrooms: 1","LA ordinary dwelling","828DE9BE C15F3797 7EB6EAB2 144E8CF0 6C0E9DC5"]
["Flat 44, 53 Any Street, Any Town, AB3 4ET - Bedrooms: 2","LA ordinary dwelling","25655140 1D4EC647 6D2579A5 7CA91EEF 044DE243"]
["Flat 45, 54 Any Street, Any Town, AB3 4ET - Bedrooms: 1","LA ordinary dwelling","C174DC8A 3BC668B1 D34B2504 C53F1A4E 91BFB07B"]
["Flat 46, 55 Any Street, Any Town, AB3 4ET - Bedrooms: 1","LA ordinary dwelling","F86390E4 AF17820F 19282670 B2BEFA1C 243F4E1A"]
["Flat 47, 56 Any Street, Any Town, AB3 4ET - Bedrooms: 1","LA ordinary dwelling","9E27A52D 936308C7 B0C04D2E 6E28491C 3FFD2A1F"]
["Flat 48, 57 Any Street, Any Town, AB3 4ET - Bedrooms: 2","LA ordinary dwelling","C96496EA B49A3930 0F5B478E 98064686 AD3B13F0"]
["Flat 49, 58 Any Street, Any Town, AB3 4ET - Bedrooms: 1","LA ordinary dwelling","72E4E3FA DE66ABDF 3A29185C C5509299 4BAFA9B5"]
["Flat 5, 10 Any Street, Any Town, AB1 1AA - Bedrooms: 1","LA ordinary dwelling","8EB54AD0 4EEF7B0F 1270893C 5044AA7D 66AD3474"]
["Flat 50, 59 Any Street, Any Town, AB3 4ET - Bedrooms: 1","LA ordinary dwelling","418F2659 07EB84CF AD2FD7ED B90EE109 1197AAD7"]
["Flat 51, 60 Any Street, Any Town, AB3 4ET - Bedrooms: 1","LA ordinary dwelling","68397851 5808299B 7E11CD5C ADF2E356 5E0E4A6F"]
["Flat 52, 61 Any Street, Any Town, AB3 4ET - Bedrooms: 2","LA ordinary dwelling","584FA5FE D1B42F63 30E000DF 71B167EF 149AF2DC"]
["Flat 53, 62 Any Street, Any Town, AB3 4ET - Bedrooms: 1","LA ordinary dwelling","EB4B4BCF 69EF4E5E D7F61FD4 42EFBEBF 551E1034"]
["Flat 54, 63 Any Street, Any Town, AB3 4ET - Bedrooms: 1","LA ordinary dwelling","1CF6B52A FF68EAB9 FC6D71FB 46B61BE8 C1035D16"]
["Flat 55, 64 Any Street, Any Town, AB3 4ET - Bedrooms: 1","LA ordinary dwelling","EFFD713B 2FC6667E 78F02331 54B297A3 5E04C4A8"]
["Flat 56, 65 Any Street, Any Town, AB3 4ET - Bedrooms: 2","LA ordinary dwelling","6DA0E64D 24D19177 321CE55D 3D713CA6 8656822E"]
["Flat 57, 66 Any Street, Any Town, AB3 4ET - Bedrooms: 1","LA ordinary dwelling","16A38160 DB2EC8B1 7059478B 21F6D52D 51A74D1A"]
["Flat 58, 67 Any Street, Any Town, AB3 4ET - Bedrooms: 1","LA ordinary dwelling","D5B85E33 65724930 511520D6 D9F26038 E191203D"]
["Flat 59, 68 Any Street, Any Town, AB3 4ET - Bedrooms: 1","LA ordinary dwelling","6AA97243 0F0FA7C8 5E0D7DF1 EB72357C D82250E1"]
["Flat 6, 10 Any Street, Any Town, AB1 1AA - Bedrooms: 2","LA ordinary dwelling","1F702448 CE7EA45F D9BD37DA 6CC168CF BF2640B0"]
["Flat 60, 69 Any Street, Any Town, AB3 4ET - Bedrooms: 2","LA ordinary dwelling","E9B15A71 87AE70D3 06A4016E 37136F0A 29C1FDA6"]
["Flat 61, 70 Any Street, Any Town, AB3 4ET - Bedrooms: 1","LA ordinary dwelling","AFA37B92 938AE12B 2CC99F85 23FFE08F 289C1933"]
["Flat 62, 71 Any Street, Any Town, AB3 4ET - Bedrooms: 1","LA ordinary dwelling","6D8323A8 98E6FA07 00F8F899 C8C0EDC2 708B67E2"]
["Flat 63, 72 Any Street, Any Town, AB3 4ET - Bedrooms: 1","LA ordinary dwelling","B97578C9 24E5E11C 6A0D195A 41803F7C 2F2D6873"]
["Flat 64, 73 Any Street, Any Town, AB3 4ET - Bedrooms: 2","LA ordinary dwelling","76BE670E EDA03E2F 7866A354 7BFE1E63 769F5255"]
["Flat 65, 74 Any Street, Any Town, AB3 4ET - Bedrooms: 1","LA ordinary dwelling","F6A44B69 801B30FB 60239CB0 2B69C567 4DE89BAF"]
["Flat 66, 75 Any Street, Any Town, AB3 4ET - Bedrooms: 1","LA ordinary dwelling","F90CFDD1 895F8F0E 4026E741 8CAAC194 B41B1FF9"]
["Flat 67, 76 Any Street, Any Town, AB3 4ET - Bedrooms: 1","LA ordinary dwelling","AF2204D9 0AEE22E0 5731429A A7FC448B A6452A79"]
["Flat 68, 77 Any Street, Any Town, AB3 4ET - Bedrooms: 2","LA ordinary dwelling","6C7C3818 949CE4F9 F28136ED 120F834F 2A62503A"]
["Flat 69, 78 Any Street, Any Town, AB3 4ET - Bedrooms: 1","LA ordinary dwelling","37B8685D ABB1E0B1 20EA5159 4DF0B30D 90D83AEE"]
["Flat 7, 10 Any Street, Any Town, AB1 1AA - Bedrooms: 3","LA ordinary dwelling","2C83FE9A 6F533A54 0DB7DFEF 4A721A77 D68FA270"]
["Flat 70, 79 Any Street, Any Town, AB3 4ET - Bedrooms: 1","LA ordinary dwelling","9EA2A90E B19E005A D92D61A8 2A082920 79960261"]
["Flat 71, 80 Any Street, Any Town, AB3 4ET - Bedrooms: 1","LA ordinary dwelling","7AA81FCC 47A6D73A BA1E675D 10063577 946CEB6E"]
["Flat 72, 81 Any Street, Any Town, AB3 4ET - Bedrooms: 2","LA ordinary dwelling","C55BDF7E 524208D2 8206BA28 3B95F64E A66ACEFC"]
["Flat 73, 82 Any Street, Any Town, AB3 4ET - Bedrooms: 1","LA ordinary dwelling","15A33D95 96529E06 9C2B7A4F 37C10B96 E9BBA80D"]
["Flat 74, 83 Any Street, Any Town, AB3 4ET - Bedrooms: 1","LA ordinary dwelling","C154895C 8DEC7622 83E5B750 3E49CDDF FB67877E"]
["Flat 75, 84 Any Street, Any Town, AB3 4ET - Bedrooms: 1","LA ordinary dwelling","9E94019A 7F5D8868 02162F72 6193068E 791AA640"]
["Flat 76, 85 Any Street, Any Town, AB3 4ET - Bedrooms: 2","LA ordinary dwelling","A9F753C1 BC65E6BE 9F49F2A9 D296F6A0 48D21CBB"]
["Flat 77, 86 Any Street, Any Town, AB3 4ET - Bedrooms: 1","LA ordinary dwelling","8196EB71 848CD6D7 AFC42E44 B9440BEC 9DC42D05"]
["Flat 78, 87 Any Street, Any Town, AB3 4ET - Bedrooms: 1","LA ordinary dwelling","E85F7BB6 11D49D78 900DCB26 A305E587 16A8B286"]
["Flat 79, 88 Any Street, Any Town, AB3 4ET - Bedrooms: 1","LA ordinary dwelling","8752180F 237F164D 8CB1CA32 4308091B EE792D38"]
["Flat 8, 10 Any Street, Any Town, AB1 1AA - Bedrooms: 4","LA ordinary dwelling","FEDA389E EA8DFA90 AA191060 2FE30C50 BCC95545"]
["Flat 80, 89 Any Street, Any Town, AB3 4ET - Bedrooms: 2","LA ordinary dwelling","90D17A5C 2A41C4F0 794B0158 3A18A430 F3EDB26D"]
["Flat 81, 90 Any Street, Any Town, AB3 4ET - Bedrooms: 1","LA ordinary dwelling","558C9566 9134A78C A5EC986D 3FCEA587 D06BDEC6"]
["Flat 82, 91 Any Street, Any Town, AB3 4ET - Bedrooms: 1","LA ordinary dwelling","07F419FC 57EB1849 385021D1 CFE898C9 CB3FE4AE"]
["Flat 83, 92 Any Street, Any Town, AB3 4ET - Bedrooms: 1","LA ordinary dwelling","03FBFEA8 811E1C92 685622ED 2B2EFB3A 0FE657E6"]
["Flat 84, 93 Any Street, Any Town, AB3 4ET - Bedrooms: 2","LA ordinary dwelling","D1F363CF 3A9C9150 814B485B 1AF704DF 1DA7FC2C"]
["Flat 85, 94 Any Street, Any Town, AB3 4ET - Bedrooms: 1","LA ordinary dwelling","7AD07394 8C7CE2F5 888EFCB3 04BD2160 2E3A52D7"]
["Flat 86, 95 Any Street, Any Town, AB3 4ET - Bedrooms: 1","LA ordinary dwelling","BB858466 B3899E95 CB872951 39FE42E1 9B3969A7"]
["Flat 87, 96 Any Street, Any Town, AB3 4ET - Bedrooms: 1","LA ordinary dwelling","6914CC87 DA28CD31 EC9DA5CC 32184D97 8100E5D8"]
["Flat 88, 97 Any Street, Any Town, AB3 4ET - Bedrooms: 2","LA ordinary dwelling","E008CB8A CDB42D62 E19A9F48 E1416028 4094E317"]
["Flat 89, 98 Any Street, Any Town, AB3 4ET - Bedrooms: 1","LA ordinary dwelling","DE8A7341 09024DA9 71A34DEC 2380E1AB 72C75142"]
["Flat 9, 10 Any Street, Any Town, AB1 1AA - Bedrooms: 1","LA ordinary dwelling","B17E37F1 40F1EC86 096031B7 B5E37A68 29AC5B77"]
["Flat 90, 99 Any Street, Any Town, AB3 4ET - Bedrooms: 1","LA ordinary dwelling","423A5563 35C364B8 7862F807 F491B051 6CFAD3B7"]
["Flat 91, 100 Any Street, Any Town, AB3 4ET - Bedrooms: 1","LA ordinary dwelling","D44CEFAC 2A8E3BCB F1059C54 AB5FEF45 2746B71C"]
["Flat 92, 101 Any Street, Any Town, AB3 4ET - Bedrooms: 2","LA ordinary dwelling","673E94C7 37BDBFDC CD3EF70C 52B05F3B 17BAC3A8"]
["Flat 93, 102 Any Street, Any Town, AB3 4ET - Bedrooms: 1","LA ordinary dwelling","B125E720 B2F6809C ED7A774F A5F83CF1 27570432"]
["Flat 94, 103 Any Street, Any Town, AB3 4ET - Bedrooms: 1","LA ordinary dwelling","2DDE0B6F 730937E9 B32DFD61 81BA62C4 1B39F0B4"]
["Flat 95, 104 Any Street, Any Town, AB3 4ET - Bedrooms: 1","LA ordinary dwelling","90D51595 ED110D40 E470BAFB 193DC4E2 3C503A3A"]
["Flat 96, 105 Any Street, Any Town, AB3 4ET - Bedrooms: 2","LA ordinary dwelling","EC22D993 EA3E5AB5 B8D2B5D7 85CC48CD 5C1C47E6"]
["Flat 97, 106 Any Street, Any Town, AB3 4ET - Bedrooms: 1","LA ordinary dwelling","482F3690 D678BFA4 181EF449 E2FC57C3 AE9A9A5C"]
["Flat 98, 107 Any Street, Any Town, AB3 4ET - Bedrooms: 1","LA ordinary dwelling","9F2E8F87 70EB0435 8A9C2E90 CC603BB1 4C7BE44C"]
["Flat 99, 108 Any Street, Any Town, AB3 4ET - Bedrooms: 1","LA ordinary dwelling","6DA858B0 E2CB4B7C FEACC594 9307FF4B 6DF0AB29"]
["Room 1, 1 New Property Street, New Town, AB1 2NE - Bedrooms: 1","Bed and breakfast","24CEBC6C AE33ACBE C139ECA6 4F18BF9F F9A2CC14"]
["Room 1, 20 Any Street, Any Town, AB2 2ER - Bedrooms: 1","Hostel - RSL","5BA4CCA9 408E216E 65162B2C DEE1657C FB8E7B83"]
["Room 2, 20 Any Street, Any Town, AB2 2ER - Bedrooms: 1","Hostel - RSL","4D59AAAA FF5AF722 B2CA7001 1CCE9BDD 6457D4E5"]
["Room 3, 20 Any Street, Any Town, AB2 2ER - Bedrooms: 1","Hostel - RSL","CB6A0583 7BEFAB21 B99D5AA6 E6F85706 2C784994"]
["Room 4, 20 Any Street, Any Town, AB2 2ER - Bedrooms: 1","Hostel - RSL","A974B358 21C7BAE6 ECFB22BE 12A0042E EEE89001"]
["Room 5, 20 Any Street, Any Town, AB2 2ER - Bedrooms: 1","Hostel - RSL","A30C71BE 9BB514C2 D1C33A35 E2E1F90A E120A076"]

{"sheet":"TA STOCK LIST","index":10,"n_rows":196,"n_cols":4,"rows_kept":196,"cut":false,"hidden":false,"merged":[]}
["AVAILABLE","LIST","Bedrooms","Postcode"]
[null,"No temporary accommodation offered"]
[1,"Flat 5, 10 Any Street, Any Town, AB1 1AA - Bedrooms: 1",1,"AB1 1AA"]
[1,"Flat 9, 10 Any Street, Any Town, AB1 1AA - Bedrooms: 1",1,"AB1 1AA"]
[1,"Flat 6, 10 Any Street, Any Town, AB1 1AA - Bedrooms: 2",2,"AB1 1AA"]
[1,"Flat 10, 10 Any Street, Any Town, AB1 1AA - Bedrooms: 2",2,"AB1 1AA"]
[1,"Flat 3, 10 Any Street, Any Town, AB1 1AA - Bedrooms: 3",3,"AB1 1AA"]
[1,"Flat 7, 10 Any Street, Any Town, AB1 1AA - Bedrooms: 3",3,"AB1 1AA"]
[1,"Flat 4, 10 Any Street, Any Town, AB1 1AA - Bedrooms: 4",4,"AB1 1AA"]
[1,"Flat 8, 10 Any Street, Any Town, AB1 1AA - Bedrooms: 4",4,"AB1 1AA"]
[1,"Room 1, 1 New Property Street, New Town, AB1 2NE - Bedrooms: 1",1,"AB1 2NE"]
[1,"18 Any Street, Any Town, AB2 2ER - Bedrooms: 2",2,"AB2 2ER"]
[1,"Flat 17, 26 Any Street, Any Town, AB3 4ET - Bedrooms: 1",1,"AB3 4ET"]
[1,"Flat 18, 27 Any Street, Any Town, AB3 4ET - Bedrooms: 1",1,"AB3 4ET"]
[1,"Flat 19, 28 Any Street, Any Town, AB3 4ET - Bedrooms: 1",1,"AB3 4ET"]
[1,"Flat 21, 30 Any Street, Any Town, AB3 4ET - Bedrooms: 1",1,"AB3 4ET"]
[1,"Flat 23, 32 Any Street, Any Town, AB3 4ET - Bedrooms: 1",1,"AB3 4ET"]
[1,"Flat 25, 34 Any Street, Any Town, AB3 4ET - Bedrooms: 1",1,"AB3 4ET"]
[1,"Flat 26, 35 Any Street, Any Town, AB3 4ET - Bedrooms: 1",1,"AB3 4ET"]
[1,"Flat 27, 36 Any Street, Any Town, AB3 4ET - Bedrooms: 1",1,"AB3 4ET"]
[1,"Flat 29, 38 Any Street, Any Town, AB3 4ET - Bedrooms: 1",1,"AB3 4ET"]
[1,"Flat 30, 39 Any Street, Any Town, AB3 4ET - Bedrooms: 1",1,"AB3 4ET"]
[1,"Flat 31, 40 Any Street, Any Town, AB3 4ET - Bedrooms: 1",1,"AB3 4ET"]
[1,"Flat 33, 42 Any Street, Any Town, AB3 4ET - Bedrooms: 1",1,"AB3 4ET"]
[1,"Flat 34, 43 Any Street, Any Town, AB3 4ET - Bedrooms: 1",1,"AB3 4ET"]
[1,"Flat 35, 44 Any Street, Any Town, AB3 4ET - Bedrooms: 1",1,"AB3 4ET"]
[1,"Flat 37, 46 Any Street, Any Town, AB3 4ET - Bedrooms: 1",1,"AB3 4ET"]
[1,"Flat 38, 47 Any Street, Any Town, AB3 4ET - Bedrooms: 1",1,"AB3 4ET"]
[1,"Flat 39, 48 Any Street, Any Town, AB3 4ET - Bedrooms: 1",1,"AB3 4ET"]
[1,"Flat 41, 50 Any Street, Any Town, AB3 4ET - Bedrooms: 1",1,"AB3 4ET"]
[1,"Flat 42, 51 Any Street, Any Town, AB3 4ET - Bedrooms: 1",1,"AB3 4ET"]
[1,"Flat 43, 52 Any Street, Any Town, AB3 4ET - Bedrooms: 1",1,"AB3 4ET"]
[1,"Flat 45, 54 Any Street, Any Town, AB3 4ET - Bedrooms: 1",1,"AB3 4ET"]
[1,"Flat 46, 55 Any Street, Any Town, AB3 4ET - Bedrooms: 1",1,"AB3 4ET"]
[1,"Flat 47, 56 Any Street, Any Town, AB3 4ET - Bedrooms: 1",1,"AB3 4ET"]
[1,"Flat 49, 58 Any Street, Any Town, AB3 4ET - Bedrooms: 1",1,"AB3 4ET"]
[1,"Flat 50, 59 Any Street, Any Town, AB3 4ET - Bedrooms: 1",1,"AB3 4ET"]
[1,"Flat 51, 60 Any Street, Any Town, AB3 4ET - Bedrooms: 1",1,"AB3 4ET"]
[1,"Flat 53, 62 Any Street, Any Town, AB3 4ET - Bedrooms: 1",1,"AB3 4ET"]
[1,"Flat 54, 63 Any Street, Any Town, AB3 4ET - Bedrooms: 1",1,"AB3 4ET"]
[1,"Flat 55, 64 Any Street, Any Town, AB3 4ET - Bedrooms: 1",1,"AB3 4ET"]
[1,"Flat 57, 66 Any Street, Any Town, AB3 4ET - Bedrooms: 1",1,"AB3 4ET"]
[1,"Flat 58, 67 Any Street, Any Town, AB3 4ET - Bedrooms: 1",1,"AB3 4ET"]
[1,"Flat 59, 68 Any Street, Any Town, AB3 4ET - Bedrooms: 1",1,"AB3 4ET"]
[1,"Flat 61, 70 Any Street, Any Town, AB3 4ET - Bedrooms: 1",1,"AB3 4ET"]
[1,"Flat 62, 71 Any Street, Any Town, AB3 4ET - Bedrooms: 1",1,"AB3 4ET"]
[1,"Flat 63, 72 Any Street, Any Town, AB3 4ET - Bedrooms: 1",1,"AB3 4ET"]
[1,"Flat 65, 74 Any Street, Any Town, AB3 4ET - Bedrooms: 1",1,"AB3 4ET"]
[1,"Flat 66, 75 Any Street, Any Town, AB3 4ET - Bedrooms: 1",1,"AB3 4ET"]
[1,"Flat 67, 76 Any Street, Any Town, AB3 4ET - Bedrooms: 1",1,"AB3 4ET"]
[1,"Flat 69, 78 Any Street, Any Town, AB3 4ET - Bedrooms: 1",1,"AB3 4ET"]
[1,"Flat 70, 79 Any Street, Any Town, AB3 4ET - Bedrooms: 1",1,"AB3 4ET"]
[1,"Flat 71, 80 Any Street, Any Town, AB3 4ET - Bedrooms: 1",1,"AB3 4ET"]
[1,"Flat 73, 82 Any Street, Any Town, AB3 4ET - Bedrooms: 1",1,"AB3 4ET"]
[1,"Flat 74, 83 Any Street, Any Town, AB3 4ET - Bedrooms: 1",1,"AB3 4ET"]
[1,"Flat 75, 84 Any Street, Any Town, AB3 4ET - Bedrooms: 1",1,"AB3 4ET"]
[1,"Flat 77, 86 Any Street, Any Town, AB3 4ET - Bedrooms: 1",1,"AB3 4ET"]
[1,"Flat 78, 87 Any Street, Any Town, AB3 4ET - Bedrooms: 1",1,"AB3 4ET"]
[1,"Flat 79, 88 Any Street, Any Town, AB3 4ET - Bedrooms: 1",1,"AB3 4ET"]
[1,"Flat 81, 90 Any Street, Any Town, AB3 4ET - Bedrooms: 1",1,"AB3 4ET"]
[1,"Flat 82, 91 Any Street, Any Town, AB3 4ET - Bedrooms: 1",1,"AB3 4ET"]
[1,"Flat 83, 92 Any Street, Any Town, AB3 4ET - Bedrooms: 1",1,"AB3 4ET"]
[1,"Flat 85, 94 Any Street, Any Town, AB3 4ET - Bedrooms: 1",1,"AB3 4ET"]
[1,"Flat 86, 95 Any Street, Any Town, AB3 4ET - Bedrooms: 1",1,"AB3 4ET"]
[1,"Flat 87, 96 Any Street, Any Town, AB3 4ET - Bedrooms: 1",1,"AB3 4ET"]
[1,"Flat 89, 98 Any Street, Any Town, AB3 4ET - Bedrooms: 1",1,"AB3 4ET"]
[1,"Flat 90, 99 Any Street, Any Town, AB3 4ET - Bedrooms: 1",1,"AB3 4ET"]
[1,"Flat 91, 100 Any Street, Any Town, AB3 4ET - Bedrooms: 1",1,"AB3 4ET"]
[1,"Flat 93, 102 Any Street, Any Town, AB3 4ET - Bedrooms: 1",1,"AB3 4ET"]
[1,"Flat 94, 103 Any Street, Any Town, AB3 4ET - Bedrooms: 1",1,"AB3 4ET"]
[1,"Flat 95, 104 Any Street, Any Town, AB3 4ET - Bedrooms: 1",1,"AB3 4ET"]
[1,"Flat 97, 106 Any Street, Any Town, AB3 4ET - Bedrooms: 1",1,"AB3 4ET"]
[1,"Flat 98, 107 Any Street, Any Town, AB3 4ET - Bedrooms: 1",1,"AB3 4ET"]
[1,"Flat 99, 108 Any Street, Any Town, AB3 4ET - Bedrooms: 1",1,"AB3 4ET"]
[1,"Flat 101, 110 Any Street, Any Town, AB3 4ET - Bedrooms: 1",1,"AB3 4ET"]
[1,"Flat 102, 111 Any Street, Any Town, AB3 4ET - Bedrooms: 1",1,"AB3 4ET"]
[1,"Flat 103, 112 Any Street, Any Town, AB3 4ET - Bedrooms: 1",1,"AB3 4ET"]
[1,"Flat 105, 114 Any Street, Any Town, AB3 4ET - Bedrooms: 1",1,"AB3 4ET"]
[1,"Flat 106, 115 Any Street, Any Town, AB3 4ET - Bedrooms: 1",1,"AB3 4ET"]
[1,"Flat 107, 116 Any Street, Any Town, AB3 4ET - Bedrooms: 1",1,"AB3 4ET"]
[1,"Flat 109, 118 Any Street, Any Town, AB3 4ET - Bedrooms: 1",1,"AB3 4ET"]
[1,"Flat 110, 119 Any Street, Any Town, AB3 4ET - Bedrooms: 1",1,"AB3 4ET"]
[1,"Flat 111, 120 Any Street, Any Town, AB3 4ET - Bedrooms: 1",1,"AB3 4ET"]
[1,"Flat 113, 122 Any Street, Any Town, AB3 4ET - Bedrooms: 1",1,"AB3 4ET"]
[1,"Flat 114, 123 Any Street, Any Town, AB3 4ET - Bedrooms: 1",1,"AB3 4ET"]
[1,"Flat 115, 124 Any Street, Any Town, AB3 4ET - Bedrooms: 1",1,"AB3 4ET"]
[1,"Flat 117, 126 Any Street, Any Town, AB3 4ET - Bedrooms: 1",1,"AB3 4ET"]
[1,"Flat 118, 127 Any Street, Any Town, AB3 4ET - Bedrooms: 1",1,"AB3 4ET"]
[1,"Flat 119, 128 Any Street, Any Town, AB3 4ET - Bedrooms: 1",1,"AB3 4ET"]
[1,"Flat 121, 130 Any Street, Any Town, AB3 4ET - Bedrooms: 1",1,"AB3 4ET"]
[1,"Flat 122, 131 Any Street, Any Town, AB3 4ET - Bedrooms: 1",1,"AB3 4ET"]
[1,"Flat 123, 132 Any Street, Any Town, AB3 4ET - Bedrooms: 1",1,"AB3 4ET"]
[1,"Flat 125, 134 Any Street, Any Town, AB3 4ET - Bedrooms: 1",1,"AB3 4ET"]
[1,"Flat 126, 135 Any Street, Any Town, AB3 4ET - Bedrooms: 1",1,"AB3 4ET"]
[1,"Flat 127, 136 Any Street, Any Town, AB3 4ET - Bedrooms: 1",1,"AB3 4ET"]
[1,"Flat 129, 138 Any Street, Any Town, AB3 4ET - Bedrooms: 1",1,"AB3 4ET"]
[1,"Flat 130, 139 Any Street, Any Town, AB3 4ET - Bedrooms: 1",1,"AB3 4ET"]
[1,"Flat 131, 140 Any Street, Any Town, AB3 4ET - Bedrooms: 1",1,"AB3 4ET"]
[1,"Flat 133, 142 Any Street, Any Town, AB3 4ET - Bedrooms: 1",1,"AB3 4ET"]
[1,"Flat 134, 143 Any Street, Any Town, AB3 4ET - Bedrooms: 1",1,"AB3 4ET"]
[1,"Flat 135, 144 Any Street, Any Town, AB3 4ET - Bedrooms: 1",1,"AB3 4ET"]
[1,"Flat 137, 146 Any Street, Any Town, AB3 4ET - Bedrooms: 1",1,"AB3 4ET"]
[1,"Flat 138, 147 Any Street, Any Town, AB3 4ET - Bedrooms: 1",1,"AB3 4ET"]
[1,"Flat 139, 148 Any Street, Any Town, AB3 4ET - Bedrooms: 1",1,"AB3 4ET"]
[1,"Flat 141, 150 Any Street, Any Town, AB3 4ET - Bedrooms: 1",1,"AB3 4ET"]
[1,"Flat 142, 151 Any Street, Any Town, AB3 4ET - Bedrooms: 1",1,"AB3 4ET"]
[1,"Flat 143, 152 Any Street, Any Town, AB3 4ET - Bedrooms: 1",1,"AB3 4ET"]
[1,"Flat 145, 154 Any Street, Any Town, AB3 4ET - Bedrooms: 1",1,"AB3 4ET"]
[1,"Flat 146, 155 Any Street, Any Town, AB3 4ET - Bedrooms: 1",1,"AB3 4ET"]
[1,"Flat 147, 156 Any Street, Any Town, AB3 4ET - Bedrooms: 1",1,"AB3 4ET"]
[1,"Flat 149, 158 Any Street, Any Town, AB3 4ET - Bedrooms: 1",1,"AB3 4ET"]
[1,"Flat 150, 159 Any Street, Any Town, AB3 4ET - Bedrooms: 1",1,"AB3 4ET"]
[1,"Flat 151, 160 Any Street, Any Town, AB3 4ET - Bedrooms: 1",1,"AB3 4ET"]
[1,"Flat 153, 162 Any Street, Any Town, AB3 4ET - Bedrooms: 1",1,"AB3 4ET"]
[1,"Flat 154, 163 Any Street, Any Town, AB3 4ET - Bedrooms: 1",1,"AB3 4ET"]
[1,"Flat 155, 164 Any Street, Any Town, AB3 4ET - Bedrooms: 1",1,"AB3 4ET"]
[1,"Flat 157, 166 Any Street, Any Town, AB3 4ET - Bedrooms: 1",1,"AB3 4ET"]
[1,"Flat 158, 167 Any Street, Any Town, AB3 4ET - Bedrooms: 1",1,"AB3 4ET"]
[1,"Flat 159, 168 Any Street, Any Town, AB3 4ET - Bedrooms: 1",1,"AB3 4ET"]
[1,"Flat 161, 170 Any Street, Any Town, AB3 4ET - Bedrooms: 1",1,"AB3 4ET"]
[1,"Flat 162, 171 Any Street, Any Town, AB3 4ET - Bedrooms: 1",1,"AB3 4ET"]
[1,"Flat 163, 172 Any Street, Any Town, AB3 4ET - Bedrooms: 1",1,"AB3 4ET"]
[1,"Flat 165, 174 Any Street, Any Town, AB3 4ET - Bedrooms: 1",1,"AB3 4ET"]
[1,"Flat 166, 175 Any Street, Any Town, AB3 4ET - Bedrooms: 1",1,"AB3 4ET"]
[1,"Flat 167, 176 Any Street, Any Town, AB3 4ET - Bedrooms: 1",1,"AB3 4ET"]
[1,"Flat 169, 178 Any Street, Any Town, AB3 4ET - Bedrooms: 1",1,"AB3 4ET"]
[1,"Flat 170, 179 Any Street, Any Town, AB3 4ET - Bedrooms: 1",1,"AB3 4ET"]
[1,"Flat 171, 180 Any Street, Any Town, AB3 4ET - Bedrooms: 1",1,"AB3 4ET"]
[1,"Flat 173, 182 Any Street, Any Town, AB3 4ET - Bedrooms: 1",1,"AB3 4ET"]
[1,"Flat 174, 183 Any Street, Any Town, AB3 4ET - Bedrooms: 1",1,"AB3 4ET"]
[1,"Flat 175, 184 Any Street, Any Town, AB3 4ET - Bedrooms: 1",1,"AB3 4ET"]
[1,"Flat 177, 186 Any Street, Any Town, AB3 4ET - Bedrooms: 1",1,"AB3 4ET"]
[1,"Flat 178, 187 Any Street, Any Town, AB3 4ET - Bedrooms: 1",1,"AB3 4ET"]
[1,"Flat 179, 188 Any Street, Any Town, AB3 4ET - Bedrooms: 1",1,"AB3 4ET"]
[1,"Flat 181, 190 Any Street, Any Town, AB3 4ET - Bedrooms: 1",1,"AB3 4ET"]
[1,"Flat 182, 191 Any Street, Any Town, AB3 4ET - Bedrooms: 1",1,"AB3 4ET"]
[1,"Flat 183, 192 Any Street, Any Town, AB3 4ET - Bedrooms: 1",1,"AB3 4ET"]
[1,"Flat 185, 194 Any Street, Any Town, AB3 4ET - Bedrooms: 1",1,"AB3 4ET"]
[1,"Flat 186, 195 Any Street, Any Town, AB3 4ET - Bedrooms: 1",1,"AB3 4ET"]
[1,"Flat 187, 196 Any Street, Any Town, AB3 4ET - Bedrooms: 1",1,"AB3 4ET"]
[1,"Flat 189, 198 Any Street, Any Town, AB3 4ET - Bedrooms: 1",1,"AB3 4ET"]
[1,"Flat 190, 199 Any Street, Any Town, AB3 4ET - Bedrooms: 1",1,"AB3 4ET"]
[1,"Flat 191, 200 Any Street, Any Town, AB3 4ET - Bedrooms: 1",1,"AB3 4ET"]
[1,"Flat 193, 202 Any Street, Any Town, AB3 4ET - Bedrooms: 1",1,"AB3 4ET"]
[1,"Flat 194, 203 Any Street, Any Town, AB3 4ET - Bedrooms: 1",1,"AB3 4ET"]
[1,"Flat 195, 204 Any Street, Any Town, AB3 4ET - Bedrooms: 1",1,"AB3 4ET"]
[1,"Flat 197, 206 Any Street, Any Town, AB3 4ET - Bedrooms: 1",1,"AB3 4ET"]
[1,"Flat 198, 207 Any Street, Any Town, AB3 4ET - Bedrooms: 1",1,"AB3 4ET"]
[1,"Flat 199, 208 Any Street, Any Town, AB3 4ET - Bedrooms: 1",1,"AB3 4ET"]
[1,"Flat 20, 29 Any Street, Any Town, AB3 4ET - Bedrooms: 2",2,"AB3 4ET"]
[1,"Flat 24, 33 Any Street, Any Town, AB3 4ET - Bedrooms: 2",2,"AB3 4ET"]
[1,"Flat 28, 37 Any Street, Any Town, AB3 4ET - Bedrooms: 2",2,"AB3 4ET"]
[1,"Flat 32, 41 Any Street, Any Town, AB3 4ET - Bedrooms: 2",2,"AB3 4ET"]
[1,"Flat 36, 45 Any Street, Any Town, AB3 4ET - Bedrooms: 2",2,"AB3 4ET"]
[1,"Flat 40, 49 Any Street, Any Town, AB3 4ET - Bedrooms: 2",2,"AB3 4ET"]
[1,"Flat 44, 53 Any Street, Any Town, AB3 4ET - Bedrooms: 2",2,"AB3 4ET"]
[1,"Flat 48, 57 Any Street, Any Town, AB3 4ET - Bedrooms: 2",2,"AB3 4ET"]
[1,"Flat 52, 61 Any Street, Any Town, AB3 4ET - Bedrooms: 2",2,"AB3 4ET"]
[1,"Flat 56, 65 Any Street, Any Town, AB3 4ET - Bedrooms: 2",2,"AB3 4ET"]
[1,"Flat 60, 69 Any Street, Any Town, AB3 4ET - Bedrooms: 2",2,"AB3 4ET"]
[1,"Flat 64, 73 Any Street, Any Town, AB3 4ET - Bedrooms: 2",2,"AB3 4ET"]
[1,"Flat 68, 77 Any Street, Any Town, AB3 4ET - Bedrooms: 2",2,"AB3 4ET"]
[1,"Flat 72, 81 Any Street, Any Town, AB3 4ET - Bedrooms: 2",2,"AB3 4ET"]
[1,"Flat 76, 85 Any Street, Any Town, AB3 4ET - Bedrooms: 2",2,"AB3 4ET"]
[1,"Flat 80, 89 Any Street, Any Town, AB3 4ET - Bedrooms: 2",2,"AB3 4ET"]
[1,"Flat 84, 93 Any Street, Any Town, AB3 4ET - Bedrooms: 2",2,"AB3 4ET"]
[1,"Flat 88, 97 Any Street, Any Town, AB3 4ET - Bedrooms: 2",2,"AB3 4ET"]
[1,"Flat 92, 101 Any Street, Any Town, AB3 4ET - Bedrooms: 2",2,"AB3 4ET"]
[1,"Flat 96, 105 Any Street, Any Town, AB3 4ET - Bedrooms: 2",2,"AB3 4ET"]
[1,"Flat 100, 109 Any Street, Any Town, AB3 4ET - Bedrooms: 2",2,"AB3 4ET"]
[1,"Flat 104, 113 Any Street, Any Town, AB3 4ET - Bedrooms: 2",2,"AB3 4ET"]
[1,"Flat 108, 117 Any Street, Any Town, AB3 4ET - Bedrooms: 2",2,"AB3 4ET"]
[1,"Flat 112, 121 Any Street, Any Town, AB3 4ET - Bedrooms: 2",2,"AB3 4ET"]
[1,"Flat 116, 125 Any Street, Any Town, AB3 4ET - Bedrooms: 2",2,"AB3 4ET"]
[1,"Flat 120, 129 Any Street, Any Town, AB3 4ET - Bedrooms: 2",2,"AB3 4ET"]
[1,"Flat 124, 133 Any Street, Any Town, AB3 4ET - Bedrooms: 2",2,"AB3 4ET"]
[1,"Flat 128, 137 Any Street, Any Town, AB3 4ET - Bedrooms: 2",2,"AB3 4ET"]
[1,"Flat 132, 141 Any Street, Any Town, AB3 4ET - Bedrooms: 2",2,"AB3 4ET"]
[1,"Flat 136, 145 Any Street, Any Town, AB3 4ET - Bedrooms: 2",2,"AB3 4ET"]
[1,"Flat 140, 149 Any Street, Any Town, AB3 4ET - Bedrooms: 2",2,"AB3 4ET"]
[1,"Flat 144, 153 Any Street, Any Town, AB3 4ET - Bedrooms: 2",2,"AB3 4ET"]
[1,"Flat 148, 157 Any Street, Any Town, AB3 4ET - Bedrooms: 2",2,"AB3 4ET"]
[1,"Flat 152, 161 Any Street, Any Town, AB3 4ET - Bedrooms: 2",2,"AB3 4ET"]
[1,"Flat 156, 165 Any Street, Any Town, AB3 4ET - Bedrooms: 2",2,"AB3 4ET"]
[1,"Flat 160, 169 Any Street, Any Town, AB3 4ET - Bedrooms: 2",2,"AB3 4ET"]
[1,"Flat 164, 173 Any Street, Any Town, AB3 4ET - Bedrooms: 2",2,"AB3 4ET"]
[1,"Flat 168, 177 Any Street, Any Town, AB3 4ET - Bedrooms: 2",2,"AB3 4ET"]
[1,"Flat 172, 181 Any Street, Any Town, AB3 4ET - Bedrooms: 2",2,"AB3 4ET"]
[1,"Flat 176, 185 Any Street, Any Town, AB3 4ET - Bedrooms: 2",2,"AB3 4ET"]
[1,"Flat 180, 189 Any Street, Any Town, AB3 4ET - Bedrooms: 2",2,"AB3 4ET"]
[1,"Flat 184, 193 Any Street, Any Town, AB3 4ET - Bedrooms: 2",2,"AB3 4ET"]
[1,"Flat 188, 197 Any Street, Any Town, AB3 4ET - Bedrooms: 2",2,"AB3 4ET"]
[1,"Flat 192, 201 Any Street, Any Town, AB3 4ET - Bedrooms: 2",2,"AB3 4ET"]
[1,"Flat 196, 205 Any Street, Any Town, AB3 4ET - Bedrooms: 2",2,"AB3 4ET"]
[1,"10, 1 Albion Gardnes, Edinburgh, EH7 5QF - Bedrooms: 2",2,"EH7 5QF"]
[0,"",2,"AB1 1AA"]